{"text_format":"1","workbook":"xlsx","n_sheets":25,"sheets":["目录","有效性","审核记录","资产重要事项描述","汇总表","固定资产核对","底稿原值折旧","底稿调整数据","固定资产审核明细表","资产原值核对表","累计折旧核对表","累计折旧费用分配表","累计折旧费用分配差异明细表","累计调整数衔接核对表","原值变动核对表","资产变动台账","未投入使用资产折旧明细","未启用非建筑固定资产","福利费折旧入账凭证","研发支出折旧入账凭证","固定资产清理分录","无形资产审核明细表","长期待摊费用审核明细表","使用权资产审核明细表","资产信息变动单卡片折旧测算分析表"],"not_rendered":{"charts":0,"images":0,"macros":1,"external_links":0,"defined_names":30,"comments":2,"pivot_tables":0},"unopened":[],"bounds":{"document_bytes":16777216,"sheet_cells":100000,"rows_first":2000,"rows_last":500,"rows_between":2000,"halvings":0,"cell_chars":16384,"cell_head_chars":4096},"cells_cut":0,"cells_raw":0,"read":"whole","date_system":"1900"}

{"sheet":"目录","index":0,"n_rows":24,"n_cols":1,"rows_kept":24,"cut":false,"hidden":false,"merged":[]}
[]
["审核结论"]
["有效性"]
["资产重要事项描述"]
["需要粘贴入底稿的调整数据"]
["汇总表"]
["固定资产审核明细表"]
["资产原值核对表"]
["累计折旧核对表"]
["累计折旧费用分配表"]
["累计折旧费用分配差异明细表"]
["累计调整数衔接核对表"]
["原值变动核对表"]
["资产变动台账"]
["未投入使用资产折旧明细"]
["未启用非建筑固定资产"]
["福利费折旧入账凭证"]
["福利资产"]
["研发支出折旧入账凭证"]
["固定资产清理分录"]
["无形资产审核明细表"]
["长期待摊费用审核明细表"]
["使用权资产审核明细表"]
["资产信息变动单卡片折旧测算分析表"]

{"sheet":"有效性","index":1,"n_rows":58,"n_cols":6,"rows_kept":58,"cut":false,"hidden":false,"merged":[]}
["核算单位","名称","固定资产","固定资产税法类别",null,"加速折旧类型"]
["分支机构1","引用","A00.无税会差异","（一）房屋、建筑物",20,"加速折旧类型1"]
["分支机构1","引用","AA1.计税基础差异-试运行收入调整","（二）飞机、火车、轮船、机器、机械和其他生产设备",10,"加速折旧类型2"]
["分支机构2","引用","AA2.计税基础差异-融资租入固定资产","（三）与生产经营活动有关的器具、工具、家具等",5,"加速折旧类型3"]
["分支机构3","引用","AA3.计税基础差异-不合规票据","（四）飞机、火车、轮船以外的运输工具",4,"加速折旧类型4"]
["分支机构4","引用","AA4.计税基础差异-超过12个月未取得发票","（五）电子设备",3,"加速折旧类型5"]
["分支机构5","引用","AA5.计税基础差异-减值准备","（六）其他",null,"加速折旧类型6"]
["分支机构6","引用","AB1.折旧年限差异-一般资产",null,null,"加速折旧类型7"]
["分支机构7","引用","AB2.折旧年限差异-安全生产设备（税法未一次性扣除）"]
["分支机构7","引用","AC1.加速折旧-本年新增500万元以下一次性扣除本年调减"]
["分支机构8","引用","AC2.加速折旧-本年新增重要行业缩短年限60%本年调减"]
["分支机构9","引用","AC3.加速折旧-本年新增研发设备缩短年限60%本年调减"]
["分支机构10","引用","AC4.加速折旧-以前年度500万元以下一次性扣除本年调增"]
[null,"引用","AC5.加速折旧-以前年度重要行业缩短年限60%本年调整"]
[null,"引用","AC6.加速折旧-以前年度研发设备缩短年限60%本年调整"]
[null,"引用","AC7.加速折旧-以前年度5000元以下一次性扣除本年调增"]
[null,"引用","AC8.加速折旧-以前年度研发设备100万元以下一次性扣除本年调增"]
[null,"引用","AC9.加速折旧-以前年度研发设备100万元以上缩短年限60%本年调整"]
[null,"引用","AC10.加速折旧-以前年度制药行业缩短年限60%本年调整"]
[null,"引用","AC11.加速折旧-由于技术进步，产品更新换代较快的"]
[null,"引用","AC12.加速折旧-常年处于强震动、高腐蚀状态的"]
[null,"引用","AD1.不得扣除折旧资产-与取得收入无关的资产"]
[null,"引用","AD2.不得扣除折旧资产-未启用的非建筑物资产"]
[null,"引用","AD3.不得扣除折旧资产-关联单位无偿占用的资产"]
[null,"引用","AD4.不得扣除折旧资产-以经营租赁方式租入的固定资产"]
[null,"引用","AD5.不得扣除折旧资产-以融资租赁方式租出的固定资产"]
[null,"引用","AD6.不得扣除折旧资产-已足额提取折旧仍继续使用的固定资产"]
[null,"引用","AD7.不得扣除折旧资产-单独估价作为固定资产入账的土地"]
[null,"引用","AD8.不得扣除折旧资产-自定义1"]
[null,"引用","AD9.不得扣除折旧资产-自定义2"]
[null,"引用","AE1.自定义1"]
[null,"引用","AE2.自定义2"]
[null,"引用","AE2.自定义3"]
[null,"名称","无形资产","无形资产税法类别"]
[null,"引用","BA1.计税基础差异-不合规票据","（一）专利权",10]
[null,"引用","BA2.计税基础差异-自定义","（二）商标权",10]
[null,"引用","BB1.摊销年限差异","（三）著作权",10]
[null,"引用","BC1.企业外购软件加速摊销","（四）土地使用权",10]
[null,"引用","BC2.自定义","（五）非专利技术",10]
[null,"引用","BD1.不得扣除摊销资产-与取得收入无关的资产","（六）特许权使用费",10]
[null,"引用","BD2.不得扣除摊销资产-关联单位无偿占用的资产","（七）软件",10]
[null,"引用","BD2.不得扣除摊销资产-自定义1","（八）其他",10]
[null,"引用","BD2.不得扣除摊销资产-自定义2"]
[null,"引用","BD2.不得扣除摊销资产-自定义3"]
[null,"引用","BD2.不得扣除摊销资产-自定义4"]
[null,"名称","长期待摊费用","长期待摊费用税法类别"]
[null,"引用","CA1.计税基础差异-不合规票据","（一）已足额提取折旧的固定资产的改建支出"]
[null,"引用","CA2.计税基础差异-自定义","（二）租入固定资产的改建支出"]
[null,"引用","CB1.摊销年限差异","（三）固定资产的大修理支出"]
[null,"引用","CC1.不得扣除摊销资产-与取得收入无关的资产","（四）开办费"]
[null,"引用","CC2.不得扣除摊销资产-关联单位无偿占用的资产","（五）其他"]
[null,"引用","CC2.不得扣除摊销资产-自定义"]
[null,"名称","使用权资产","使用权资产税法类别"]
[null,"引用","DA1.计税基础差异-正常税会差异","（一）经营租赁"]
[null,"引用","DA2.计税基础差异-不合规票据","（二）融资租赁"]
[null,"引用","DB1.不得扣除折旧资产-与取得收入无关的资产"]
[null,"引用","DB2.不得扣除折旧资产-关联单位无偿占用的资产"]
[null,"引用","DB3.不得扣除折旧资产-自定义"]

{"sheet":"审核记录","index":2,"n_rows":12,"n_cols":4,"rows_kept":12,"cut":false,"hidden":false,"merged":[[0,0,0,3]]}
["审核记录"]
["序号","事项","描述","涉及表格"]
[1,"核对报表","报表金额XXXX元，余额表XXXX元"]
[2]
[3]
[4]
[5]
[6]
[7]
[8]
[9]
[10]

{"sheet":"资产重要事项描述","index":3,"n_rows":9,"n_cols":3,"rows_kept":9,"cut":false,"hidden":false,"merged":[]}
["序号","事项","说明"]
[1]
[2]
[3]
[4]
[5]
[6]
[7]
[8]

{"sheet":"汇总表","index":4,"n_rows":22,"n_cols":14,"rows_kept":22,"cut":false,"hidden":false,"merged":[[0,0,0,13]]}
["折旧、摊销差异汇总表"]
["序号","核算单位","资产类别","资产类别","调整类别","计税基础差异","期初累计折旧/摊销调整","本年调增","本年调减","本年折旧/摊销\n调整","期末累计折旧/摊销调整","福利性资产折旧","折旧摊销测算差异","备注"]
[{"$f":"ROW()-2","v":1},null,null,null,null,{"$f":"IF($B3=\"\",\"\",IF($C3=\"固定资产\",SUMIFS(固定资产审核明细表!AE:AE,固定资产审核明细表!$C:$C,$B3,固定资产审核明细表!$Z:$Z,$D3,固定资产审核明细表!$AA:$AA,$E3),IF($C3=\"无形资产\",SUMIFS(无形资产审核明细表!X:X,无形资产审核明细表!$B:$B,$B3,无形资产审核明细表!$T:$T,$D3,无形资产审核明细表!$U:$U,$E3),IF($C3=\"长期待摊费用\",SUMIFS(长期待摊费用审核明细表!X:X,长期待摊费用审核明细表!$B:$B,$B3,长期待摊费用审核明细表!$T:$T,$D3,长期待摊费用审核明细表!$U:$U,$E3),IF($C3=\"使用权资产\",SUMIFS(使用权资产审核明细表!Z:Z,使用权资产审核明细表!$B:$B,$B3,使用权资产审核明细表!$U:$U,$D3,使用权资产审核明细表!$V:$V,$E3),0)))))","v":""},{"$f":"IF($B3=\"\",\"\",IF($C3=\"固定资产\",SUMIFS(固定资产审核明细表!BF:BF,固定资产审核明细表!$C:$C,$B3,固定资产审核明细表!$Z:$Z,$D3,固定资产审核明细表!$AA:$AA,$E3),IF($C3=\"无形资产\",SUMIFS(无形资产审核明细表!AV:AV,无形资产审核明细表!$B:$B,$B3,无形资产审核明细表!$T:$T,$D3,无形资产审核明细表!$U:$U,$E3),IF($C3=\"长期待摊费用\",SUMIFS(长期待摊费用审核明细表!AN:AN,长期待摊费用审核明细表!$B:$B,$B3,长期待摊费用审核明细表!$T:$T,$D3,长期待摊费用审核明细表!$U:$U,$E3),IF($C3=\"使用权资产\",SUMIFS(使用权资产审核明细表!AI:AI,使用权资产审核明细表!$B:$B,$B3,使用权资产审核明细表!$U:$U,$D3,使用权资产审核明细表!$V:$V,$E3),0)))))","v":""},{"$f":"IF($B3=\"\",\"\",IF($C3=\"固定资产\",SUMIFS(固定资产审核明细表!$BI:$BI,固定资产审核明细表!$C:$C,$B3,固定资产审核明细表!$Z:$Z,$D3,固定资产审核明细表!$AA:$AA,$E3,固定资产审核明细表!$BK:$BK,H$2),IF($C3=\"无形资产\",SUMIFS(无形资产审核明细表!$AW:$AW,无形资产审核明细表!$B:$B,$B3,无形资产审核明细表!$T:$T,$D3,无形资产审核明细表!$U:$U,$E3),IF($C3=\"长期待摊费用\",SUMIFS(长期待摊费用审核明细表!$AO:$AO,长期待摊费用审核明细表!$B:$B,$B3,长期待摊费用审核明细表!$T:$T,$D3,长期待摊费用审核明细表!$U:$U,$E3),IF($C3=\"使用权资产\",SUMIFS(使用权资产审核明细表!$AJ:$AJ,使用权资产审核明细表!$B:$B,$B3,使用权资产审核明细表!$U:$U,$D3,使用权资产审核明细表!$V:$V,$E3),0)))))","v":""},{"$f":"IF($B3=\"\",\"\",IF($C3=\"固定资产\",SUMIFS(固定资产审核明细表!$BI:$BI,固定资产审核明细表!$C:$C,$B3,固定资产审核明细表!$Z:$Z,$D3,固定资产审核明细表!$AA:$AA,$E3,固定资产审核明细表!$BK:$BK,I$2),IF($C3=\"无形资产\",SUMIFS(无形资产审核明细表!$AW:$AW,无形资产审核明细表!$B:$B,$B3,无形资产审核明细表!$T:$T,$D3,无形资产审核明细表!$U:$U,$E3),IF($C3=\"长期待摊费用\",SUMIFS(长期待摊费用审核明细表!$AO:$AO,长期待摊费用审核明细表!$B:$B,$B3,长期待摊费用审核明细表!$T:$T,$D3,长期待摊费用审核明细表!$U:$U,$E3),IF($C3=\"使用权资产\",SUMIFS(使用权资产审核明细表!$AJ:$AJ,使用权资产审核明细表!$B:$B,$B3,使用权资产审核明细表!$U:$U,$D3,使用权资产审核明细表!$V:$V,$E3),0)))))","v":""},{"$f":"H3+I3","v":{"$error":"#VALUE!"}},{"$f":"IF($B3=\"\",\"\",IF($C3=\"固定资产\",SUMIFS(固定资产审核明细表!BJ:BJ,固定资产审核明细表!$C:$C,$B3,固定资产审核明细表!$Z:$Z,$D3,固定资产审核明细表!$AA:$AA,$E3),IF($C3=\"无形资产\",SUMIFS(无形资产审核明细表!AX:AX,无形资产审核明细表!$B:$B,$B3,无形资产审核明细表!$T:$T,$D3,无形资产审核明细表!$U:$U,$E3),IF($C3=\"长期待摊费用\",SUMIFS(长期待摊费用审核明细表!AP:AP,长期待摊费用审核明细表!$B:$B,$B3,长期待摊费用审核明细表!$T:$T,$D3,长期待摊费用审核明细表!$U:$U,$E3),IF($C3=\"使用权资产\",SUMIFS(使用权资产审核明细表!AK:AK,使用权资产审核明细表!$B:$B,$B3,使用权资产审核明细表!$U:$U,$D3,使用权资产审核明细表!$V:$V,$E3),0)))))","v":""},{"$f":"IF($B3=\"\",\"\",IF($C3=\"固定资产\",IF(COUNTIF($D$3:$D3,$D3)=1,SUMIFS(固定资产审核明细表!BE:BE,固定资产审核明细表!$C:$C,$B3,固定资产审核明细表!$Z:$Z,$D3,固定资产审核明细表!$AC:$AC,\"是\"),0),IF($C3=\"无形资产\",SUMIFS(无形资产审核明细表!AV:AV,无形资产审核明细表!$B:$B,$B3,无形资产审核明细表!$T:$T,$D3,无形资产审核明细表!$U:$U,$E3),IF($C3=\"长期待摊费用\",SUMIFS(长期待摊费用审核明细表!AN:AN,长期待摊费用审核明细表!$B:$B,$B3,长期待摊费用审核明细表!$T:$T,$D3,长期待摊费用审核明细表!$U:$U,$E3),IF($C3=\"使用权资产\",SUMIFS(使用权资产审核明细表!AI:AI,使用权资产审核明细表!$B:$B,$B3,使用权资产审核明细表!$U:$U,$D3,使用权资产审核明细表!$V:$V,$E3),0)))))","v":""},{"$f":"IF($B3=\"\",\"\",IF($C3=\"固定资产\",SUMIFS(固定资产审核明细表!W:W,固定资产审核明细表!$C:$C,$B3,固定资产审核明细表!$Z:$Z,$D3,固定资产审核明细表!$AA:$AA,$E3),IF($C3=\"无形资产\",SUMIFS(无形资产审核明细表!R:R,无形资产审核明细表!$B:$B,$B3,无形资产审核明细表!$T:$T,$D3,无形资产审核明细表!$U:$U,$E3),IF($C3=\"长期待摊费用\",SUMIFS(长期待摊费用审核明细表!R:R,长期待摊费用审核明细表!$B:$B,$B3,长期待摊费用审核明细表!$T:$T,$D3,长期待摊费用审核明细表!$U:$U,$E3),IF($C3=\"使用权资产\",SUMIFS(使用权资产审核明细表!Q:Q,使用权资产审核明细表!$B:$B,$B3,使用权资产审核明细表!$U:$U,$D3,使用权资产审核明细表!$V:$V,$E3),0)))))","v":""}]
[2,null,null,null,null,{"$f":"IF($B4=\"\",\"\",IF($C4=\"固定资产\",SUMIFS(固定资产审核明细表!AE:AE,固定资产审核明细表!$C:$C,$B4,固定资产审核明细表!$Z:$Z,$D4,固定资产审核明细表!$AA:$AA,$E4),IF($C4=\"无形资产\",SUMIFS(无形资产审核明细表!X:X,无形资产审核明细表!$B:$B,$B4,无形资产审核明细表!$T:$T,$D4,无形资产审核明细表!$U:$U,$E4),IF($C4=\"长期待摊费用\",SUMIFS(长期待摊费用审核明细表!X:X,长期待摊费用审核明细表!$B:$B,$B4,长期待摊费用审核明细表!$T:$T,$D4,长期待摊费用审核明细表!$U:$U,$E4),IF($C4=\"使用权资产\",SUMIFS(使用权资产审核明细表!Z:Z,使用权资产审核明细表!$B:$B,$B4,使用权资产审核明细表!$U:$U,$D4,使用权资产审核明细表!$V:$V,$E4),0)))))","v":""},{"$f":"IF($B4=\"\",\"\",IF($C4=\"固定资产\",SUMIFS(固定资产审核明细表!BF:BF,固定资产审核明细表!$C:$C,$B4,固定资产审核明细表!$Z:$Z,$D4,固定资产审核明细表!$AA:$AA,$E4),IF($C4=\"无形资产\",SUMIFS(无形资产审核明细表!AV:AV,无形资产审核明细表!$B:$B,$B4,无形资产审核明细表!$T:$T,$D4,无形资产审核明细表!$U:$U,$E4),IF($C4=\"长期待摊费用\",SUMIFS(长期待摊费用审核明细表!AN:AN,长期待摊费用审核明细表!$B:$B,$B4,长期待摊费用审核明细表!$T:$T,$D4,长期待摊费用审核明细表!$U:$U,$E4),IF($C4=\"使用权资产\",SUMIFS(使用权资产审核明细表!AI:AI,使用权资产审核明细表!$B:$B,$B4,使用权资产审核明细表!$U:$U,$D4,使用权资产审核明细表!$V:$V,$E4),0)))))","v":""},{"$f":"IF($B4=\"\",\"\",IF($C4=\"固定资产\",SUMIFS(固定资产审核明细表!$BI:$BI,固定资产审核明细表!$C:$C,$B4,固定资产审核明细表!$Z:$Z,$D4,固定资产审核明细表!$AA:$AA,$E4,固定资产审核明细表!$BK:$BK,H$2),IF($C4=\"无形资产\",SUMIFS(无形资产审核明细表!$AW:$AW,无形资产审核明细表!$B:$B,$B4,无形资产审核明细表!$T:$T,$D4,无形资产审核明细表!$U:$U,$E4),IF($C4=\"长期待摊费用\",SUMIFS(长期待摊费用审核明细表!$AO:$AO,长期待摊费用审核明细表!$B:$B,$B4,长期待摊费用审核明细表!$T:$T,$D4,长期待摊费用审核明细表!$U:$U,$E4),IF($C4=\"使用权资产\",SUMIFS(使用权资产审核明细表!$AJ:$AJ,使用权资产审核明细表!$B:$B,$B4,使用权资产审核明细表!$U:$U,$D4,使用权资产审核明细表!$V:$V,$E4),0)))))","v":""},{"$f":"IF($B4=\"\",\"\",IF($C4=\"固定资产\",SUMIFS(固定资产审核明细表!$BI:$BI,固定资产审核明细表!$C:$C,$B4,固定资产审核明细表!$Z:$Z,$D4,固定资产审核明细表!$AA:$AA,$E4,固定资产审核明细表!$BK:$BK,I$2),IF($C4=\"无形资产\",SUMIFS(无形资产审核明细表!$AW:$AW,无形资产审核明细表!$B:$B,$B4,无形资产审核明细表!$T:$T,$D4,无形资产审核明细表!$U:$U,$E4),IF($C4=\"长期待摊费用\",SUMIFS(长期待摊费用审核明细表!$AO:$AO,长期待摊费用审核明细表!$B:$B,$B4,长期待摊费用审核明细表!$T:$T,$D4,长期待摊费用审核明细表!$U:$U,$E4),IF($C4=\"使用权资产\",SUMIFS(使用权资产审核明细表!$AJ:$AJ,使用权资产审核明细表!$B:$B,$B4,使用权资产审核明细表!$U:$U,$D4,使用权资产审核明细表!$V:$V,$E4),0)))))","v":""},{"$error":"#VALUE!"},{"$f":"IF($B4=\"\",\"\",IF($C4=\"固定资产\",SUMIFS(固定资产审核明细表!BJ:BJ,固定资产审核明细表!$C:$C,$B4,固定资产审核明细表!$Z:$Z,$D4,固定资产审核明细表!$AA:$AA,$E4),IF($C4=\"无形资产\",SUMIFS(无形资产审核明细表!AX:AX,无形资产审核明细表!$B:$B,$B4,无形资产审核明细表!$T:$T,$D4,无形资产审核明细表!$U:$U,$E4),IF($C4=\"长期待摊费用\",SUMIFS(长期待摊费用审核明细表!AP:AP,长期待摊费用审核明细表!$B:$B,$B4,长期待摊费用审核明细表!$T:$T,$D4,长期待摊费用审核明细表!$U:$U,$E4),IF($C4=\"使用权资产\",SUMIFS(使用权资产审核明细表!AK:AK,使用权资产审核明细表!$B:$B,$B4,使用权资产审核明细表!$U:$U,$D4,使用权资产审核明细表!$V:$V,$E4),0)))))","v":""},{"$f":"IF($B4=\"\",\"\",IF($C4=\"固定资产\",IF(COUNTIF($D$3:$D4,$D4)=1,SUMIFS(固定资产审核明细表!BE:BE,固定资产审核明细表!$C:$C,$B4,固定资产审核明细表!$Z:$Z,$D4,固定资产审核明细表!$AC:$AC,\"是\"),0),IF($C4=\"无形资产\",SUMIFS(无形资产审核明细表!AV:AV,无形资产审核明细表!$B:$B,$B4,无形资产审核明细表!$T:$T,$D4,无形资产审核明细表!$U:$U,$E4),IF($C4=\"长期待摊费用\",SUMIFS(长期待摊费用审核明细表!AN:AN,长期待摊费用审核明细表!$B:$B,$B4,长期待摊费用审核明细表!$T:$T,$D4,长期待摊费用审核明细表!$U:$U,$E4),IF($C4=\"使用权资产\",SUMIFS(使用权资产审核明细表!AI:AI,使用权资产审核明细表!$B:$B,$B4,使用权资产审核明细表!$U:$U,$D4,使用权资产审核明细表!$V:$V,$E4),0)))))","v":""},{"$f":"IF($B4=\"\",\"\",IF($C4=\"固定资产\",SUMIFS(固定资产审核明细表!W:W,固定资产审核明细表!$C:$C,$B4,固定资产审核明细表!$Z:$Z,$D4,固定资产审核明细表!$AA:$AA,$E4),IF($C4=\"无形资产\",SUMIFS(无形资产审核明细表!R:R,无形资产审核明细表!$B:$B,$B4,无形资产审核明细表!$T:$T,$D4,无形资产审核明细表!$U:$U,$E4),IF($C4=\"长期待摊费用\",SUMIFS(长期待摊费用审核明细表!R:R,长期待摊费用审核明细表!$B:$B,$B4,长期待摊费用审核明细表!$T:$T,$D4,长期待摊费用审核明细表!$U:$U,$E4),IF($C4=\"使用权资产\",SUMIFS(使用权资产审核明细表!Q:Q,使用权资产审核明细表!$B:$B,$B4,使用权资产审核明细表!$U:$U,$D4,使用权资产审核明细表!$V:$V,$E4),0)))))","v":""}]
[3,null,null,null,null,{"$f":"IF($B5=\"\",\"\",IF($C5=\"固定资产\",SUMIFS(固定资产审核明细表!AE:AE,固定资产审核明细表!$C:$C,$B5,固定资产审核明细表!$Z:$Z,$D5,固定资产审核明细表!$AA:$AA,$E5),IF($C5=\"无形资产\",SUMIFS(无形资产审核明细表!X:X,无形资产审核明细表!$B:$B,$B5,无形资产审核明细表!$T:$T,$D5,无形资产审核明细表!$U:$U,$E5),IF($C5=\"长期待摊费用\",SUMIFS(长期待摊费用审核明细表!X:X,长期待摊费用审核明细表!$B:$B,$B5,长期待摊费用审核明细表!$T:$T,$D5,长期待摊费用审核明细表!$U:$U,$E5),IF($C5=\"使用权资产\",SUMIFS(使用权资产审核明细表!Z:Z,使用权资产审核明细表!$B:$B,$B5,使用权资产审核明细表!$U:$U,$D5,使用权资产审核明细表!$V:$V,$E5),0)))))","v":""},{"$f":"IF($B5=\"\",\"\",IF($C5=\"固定资产\",SUMIFS(固定资产审核明细表!BF:BF,固定资产审核明细表!$C:$C,$B5,固定资产审核明细表!$Z:$Z,$D5,固定资产审核明细表!$AA:$AA,$E5),IF($C5=\"无形资产\",SUMIFS(无形资产审核明细表!AV:AV,无形资产审核明细表!$B:$B,$B5,无形资产审核明细表!$T:$T,$D5,无形资产审核明细表!$U:$U,$E5),IF($C5=\"长期待摊费用\",SUMIFS(长期待摊费用审核明细表!AN:AN,长期待摊费用审核明细表!$B:$B,$B5,长期待摊费用审核明细表!$T:$T,$D5,长期待摊费用审核明细表!$U:$U,$E5),IF($C5=\"使用权资产\",SUMIFS(使用权资产审核明细表!AI:AI,使用权资产审核明细表!$B:$B,$B5,使用权资产审核明细表!$U:$U,$D5,使用权资产审核明细表!$V:$V,$E5),0)))))","v":""},{"$f":"IF($B5=\"\",\"\",IF($C5=\"固定资产\",SUMIFS(固定资产审核明细表!$BI:$BI,固定资产审核明细表!$C:$C,$B5,固定资产审核明细表!$Z:$Z,$D5,固定资产审核明细表!$AA:$AA,$E5,固定资产审核明细表!$BK:$BK,H$2),IF($C5=\"无形资产\",SUMIFS(无形资产审核明细表!$AW:$AW,无形资产审核明细表!$B:$B,$B5,无形资产审核明细表!$T:$T,$D5,无形资产审核明细表!$U:$U,$E5),IF($C5=\"长期待摊费用\",SUMIFS(长期待摊费用审核明细表!$AO:$AO,长期待摊费用审核明细表!$B:$B,$B5,长期待摊费用审核明细表!$T:$T,$D5,长期待摊费用审核明细表!$U:$U,$E5),IF($C5=\"使用权资产\",SUMIFS(使用权资产审核明细表!$AJ:$AJ,使用权资产审核明细表!$B:$B,$B5,使用权资产审核明细表!$U:$U,$D5,使用权资产审核明细表!$V:$V,$E5),0)))))","v":""},{"$f":"IF($B5=\"\",\"\",IF($C5=\"固定资产\",SUMIFS(固定资产审核明细表!$BI:$BI,固定资产审核明细表!$C:$C,$B5,固定资产审核明细表!$Z:$Z,$D5,固定资产审核明细表!$AA:$AA,$E5,固定资产审核明细表!$BK:$BK,I$2),IF($C5=\"无形资产\",SUMIFS(无形资产审核明细表!$AW:$AW,无形资产审核明细表!$B:$B,$B5,无形资产审核明细表!$T:$T,$D5,无形资产审核明细表!$U:$U,$E5),IF($C5=\"长期待摊费用\",SUMIFS(长期待摊费用审核明细表!$AO:$AO,长期待摊费用审核明细表!$B:$B,$B5,长期待摊费用审核明细表!$T:$T,$D5,长期待摊费用审核明细表!$U:$U,$E5),IF($C5=\"使用权资产\",SUMIFS(使用权资产审核明细表!$AJ:$AJ,使用权资产审核明细表!$B:$B,$B5,使用权资产审核明细表!$U:$U,$D5,使用权资产审核明细表!$V:$V,$E5),0)))))","v":""},{"$error":"#VALUE!"},{"$f":"IF($B5=\"\",\"\",IF($C5=\"固定资产\",SUMIFS(固定资产审核明细表!BJ:BJ,固定资产审核明细表!$C:$C,$B5,固定资产审核明细表!$Z:$Z,$D5,固定资产审核明细表!$AA:$AA,$E5),IF($C5=\"无形资产\",SUMIFS(无形资产审核明细表!AX:AX,无形资产审核明细表!$B:$B,$B5,无形资产审核明细表!$T:$T,$D5,无形资产审核明细表!$U:$U,$E5),IF($C5=\"长期待摊费用\",SUMIFS(长期待摊费用审核明细表!AP:AP,长期待摊费用审核明细表!$B:$B,$B5,长期待摊费用审核明细表!$T:$T,$D5,长期待摊费用审核明细表!$U:$U,$E5),IF($C5=\"使用权资产\",SUMIFS(使用权资产审核明细表!AK:AK,使用权资产审核明细表!$B:$B,$B5,使用权资产审核明细表!$U:$U,$D5,使用权资产审核明细表!$V:$V,$E5),0)))))","v":""},{"$f":"IF($B5=\"\",\"\",IF($C5=\"固定资产\",IF(COUNTIF($D$3:$D5,$D5)=1,SUMIFS(固定资产审核明细表!BE:BE,固定资产审核明细表!$C:$C,$B5,固定资产审核明细表!$Z:$Z,$D5,固定资产审核明细表!$AC:$AC,\"是\"),0),IF($C5=\"无形资产\",SUMIFS(无形资产审核明细表!AV:AV,无形资产审核明细表!$B:$B,$B5,无形资产审核明细表!$T:$T,$D5,无形资产审核明细表!$U:$U,$E5),IF($C5=\"长期待摊费用\",SUMIFS(长期待摊费用审核明细表!AN:AN,长期待摊费用审核明细表!$B:$B,$B5,长期待摊费用审核明细表!$T:$T,$D5,长期待摊费用审核明细表!$U:$U,$E5),IF($C5=\"使用权资产\",SUMIFS(使用权资产审核明细表!AI:AI,使用权资产审核明细表!$B:$B,$B5,使用权资产审核明细表!$U:$U,$D5,使用权资产审核明细表!$V:$V,$E5),0)))))","v":""},{"$f":"IF($B5=\"\",\"\",IF($C5=\"固定资产\",SUMIFS(固定资产审核明细表!W:W,固定资产审核明细表!$C:$C,$B5,固定资产审核明细表!$Z:$Z,$D5,固定资产审核明细表!$AA:$AA,$E5),IF($C5=\"无形资产\",SUMIFS(无形资产审核明细表!R:R,无形资产审核明细表!$B:$B,$B5,无形资产审核明细表!$T:$T,$D5,无形资产审核明细表!$U:$U,$E5),IF($C5=\"长期待摊费用\",SUMIFS(长期待摊费用审核明细表!R:R,长期待摊费用审核明细表!$B:$B,$B5,长期待摊费用审核明细表!$T:$T,$D5,长期待摊费用审核明细表!$U:$U,$E5),IF($C5=\"使用权资产\",SUMIFS(使用权资产审核明细表!Q:Q,使用权资产审核明细表!$B:$B,$B5,使用权资产审核明细表!$U:$U,$D5,使用权资产审核明细表!$V:$V,$E5),0)))))","v":""}]
[4,null,null,null,null,{"$f":"IF($B6=\"\",\"\",IF($C6=\"固定资产\",SUMIFS(固定资产审核明细表!AE:AE,固定资产审核明细表!$C:$C,$B6,固定资产审核明细表!$Z:$Z,$D6,固定资产审核明细表!$AA:$AA,$E6),IF($C6=\"无形资产\",SUMIFS(无形资产审核明细表!X:X,无形资产审核明细表!$B:$B,$B6,无形资产审核明细表!$T:$T,$D6,无形资产审核明细表!$U:$U,$E6),IF($C6=\"长期待摊费用\",SUMIFS(长期待摊费用审核明细表!X:X,长期待摊费用审核明细表!$B:$B,$B6,长期待摊费用审核明细表!$T:$T,$D6,长期待摊费用审核明细表!$U:$U,$E6),IF($C6=\"使用权资产\",SUMIFS(使用权资产审核明细表!Z:Z,使用权资产审核明细表!$B:$B,$B6,使用权资产审核明细表!$U:$U,$D6,使用权资产审核明细表!$V:$V,$E6),0)))))","v":""},{"$f":"IF($B6=\"\",\"\",IF($C6=\"固定资产\",SUMIFS(固定资产审核明细表!BF:BF,固定资产审核明细表!$C:$C,$B6,固定资产审核明细表!$Z:$Z,$D6,固定资产审核明细表!$AA:$AA,$E6),IF($C6=\"无形资产\",SUMIFS(无形资产审核明细表!AV:AV,无形资产审核明细表!$B:$B,$B6,无形资产审核明细表!$T:$T,$D6,无形资产审核明细表!$U:$U,$E6),IF($C6=\"长期待摊费用\",SUMIFS(长期待摊费用审核明细表!AN:AN,长期待摊费用审核明细表!$B:$B,$B6,长期待摊费用审核明细表!$T:$T,$D6,长期待摊费用审核明细表!$U:$U,$E6),IF($C6=\"使用权资产\",SUMIFS(使用权资产审核明细表!AI:AI,使用权资产审核明细表!$B:$B,$B6,使用权资产审核明细表!$U:$U,$D6,使用权资产审核明细表!$V:$V,$E6),0)))))","v":""},{"$f":"IF($B6=\"\",\"\",IF($C6=\"固定资产\",SUMIFS(固定资产审核明细表!$BI:$BI,固定资产审核明细表!$C:$C,$B6,固定资产审核明细表!$Z:$Z,$D6,固定资产审核明细表!$AA:$AA,$E6,固定资产审核明细表!$BK:$BK,H$2),IF($C6=\"无形资产\",SUMIFS(无形资产审核明细表!$AW:$AW,无形资产审核明细表!$B:$B,$B6,无形资产审核明细表!$T:$T,$D6,无形资产审核明细表!$U:$U,$E6),IF($C6=\"长期待摊费用\",SUMIFS(长期待摊费用审核明细表!$AO:$AO,长期待摊费用审核明细表!$B:$B,$B6,长期待摊费用审核明细表!$T:$T,$D6,长期待摊费用审核明细表!$U:$U,$E6),IF($C6=\"使用权资产\",SUMIFS(使用权资产审核明细表!$AJ:$AJ,使用权资产审核明细表!$B:$B,$B6,使用权资产审核明细表!$U:$U,$D6,使用权资产审核明细表!$V:$V,$E6),0)))))","v":""},{"$f":"IF($B6=\"\",\"\",IF($C6=\"固定资产\",SUMIFS(固定资产审核明细表!$BI:$BI,固定资产审核明细表!$C:$C,$B6,固定资产审核明细表!$Z:$Z,$D6,固定资产审核明细表!$AA:$AA,$E6,固定资产审核明细表!$BK:$BK,I$2),IF($C6=\"无形资产\",SUMIFS(无形资产审核明细表!$AW:$AW,无形资产审核明细表!$B:$B,$B6,无形资产审核明细表!$T:$T,$D6,无形资产审核明细表!$U:$U,$E6),IF($C6=\"长期待摊费用\",SUMIFS(长期待摊费用审核明细表!$AO:$AO,长期待摊费用审核明细表!$B:$B,$B6,长期待摊费用审核明细表!$T:$T,$D6,长期待摊费用审核明细表!$U:$U,$E6),IF($C6=\"使用权资产\",SUMIFS(使用权资产审核明细表!$AJ:$AJ,使用权资产审核明细表!$B:$B,$B6,使用权资产审核明细表!$U:$U,$D6,使用权资产审核明细表!$V:$V,$E6),0)))))","v":""},{"$error":"#VALUE!"},{"$f":"IF($B6=\"\",\"\",IF($C6=\"固定资产\",SUMIFS(固定资产审核明细表!BJ:BJ,固定资产审核明细表!$C:$C,$B6,固定资产审核明细表!$Z:$Z,$D6,固定资产审核明细表!$AA:$AA,$E6),IF($C6=\"无形资产\",SUMIFS(无形资产审核明细表!AX:AX,无形资产审核明细表!$B:$B,$B6,无形资产审核明细表!$T:$T,$D6,无形资产审核明细表!$U:$U,$E6),IF($C6=\"长期待摊费用\",SUMIFS(长期待摊费用审核明细表!AP:AP,长期待摊费用审核明细表!$B:$B,$B6,长期待摊费用审核明细表!$T:$T,$D6,长期待摊费用审核明细表!$U:$U,$E6),IF($C6=\"使用权资产\",SUMIFS(使用权资产审核明细表!AK:AK,使用权资产审核明细表!$B:$B,$B6,使用权资产审核明细表!$U:$U,$D6,使用权资产审核明细表!$V:$V,$E6),0)))))","v":""},{"$f":"IF($B6=\"\",\"\",IF($C6=\"固定资产\",IF(COUNTIF($D$3:$D6,$D6)=1,SUMIFS(固定资产审核明细表!BE:BE,固定资产审核明细表!$C:$C,$B6,固定资产审核明细表!$Z:$Z,$D6,固定资产审核明细表!$AC:$AC,\"是\"),0),IF($C6=\"无形资产\",SUMIFS(无形资产审核明细表!AV:AV,无形资产审核明细表!$B:$B,$B6,无形资产审核明细表!$T:$T,$D6,无形资产审核明细表!$U:$U,$E6),IF($C6=\"长期待摊费用\",SUMIFS(长期待摊费用审核明细表!AN:AN,长期待摊费用审核明细表!$B:$B,$B6,长期待摊费用审核明细表!$T:$T,$D6,长期待摊费用审核明细表!$U:$U,$E6),IF($C6=\"使用权资产\",SUMIFS(使用权资产审核明细表!AI:AI,使用权资产审核明细表!$B:$B,$B6,使用权资产审核明细表!$U:$U,$D6,使用权资产审核明细表!$V:$V,$E6),0)))))","v":""},{"$f":"IF($B6=\"\",\"\",IF($C6=\"固定资产\",SUMIFS(固定资产审核明细表!W:W,固定资产审核明细表!$C:$C,$B6,固定资产审核明细表!$Z:$Z,$D6,固定资产审核明细表!$AA:$AA,$E6),IF($C6=\"无形资产\",SUMIFS(无形资产审核明细表!R:R,无形资产审核明细表!$B:$B,$B6,无形资产审核明细表!$T:$T,$D6,无形资产审核明细表!$U:$U,$E6),IF($C6=\"长期待摊费用\",SUMIFS(长期待摊费用审核明细表!R:R,长期待摊费用审核明细表!$B:$B,$B6,长期待摊费用审核明细表!$T:$T,$D6,长期待摊费用审核明细表!$U:$U,$E6),IF($C6=\"使用权资产\",SUMIFS(使用权资产审核明细表!Q:Q,使用权资产审核明细表!$B:$B,$B6,使用权资产审核明细表!$U:$U,$D6,使用权资产审核明细表!$V:$V,$E6),0)))))","v":""}]
[5,null,null,null,null,{"$f":"IF($B7=\"\",\"\",IF($C7=\"固定资产\",SUMIFS(固定资产审核明细表!AE:AE,固定资产审核明细表!$C:$C,$B7,固定资产审核明细表!$Z:$Z,$D7,固定资产审核明细表!$AA:$AA,$E7),IF($C7=\"无形资产\",SUMIFS(无形资产审核明细表!X:X,无形资产审核明细表!$B:$B,$B7,无形资产审核明细表!$T:$T,$D7,无形资产审核明细表!$U:$U,$E7),IF($C7=\"长期待摊费用\",SUMIFS(长期待摊费用审核明细表!X:X,长期待摊费用审核明细表!$B:$B,$B7,长期待摊费用审核明细表!$T:$T,$D7,长期待摊费用审核明细表!$U:$U,$E7),IF($C7=\"使用权资产\",SUMIFS(使用权资产审核明细表!Z:Z,使用权资产审核明细表!$B:$B,$B7,使用权资产审核明细表!$U:$U,$D7,使用权资产审核明细表!$V:$V,$E7),0)))))","v":""},{"$f":"IF($B7=\"\",\"\",IF($C7=\"固定资产\",SUMIFS(固定资产审核明细表!BF:BF,固定资产审核明细表!$C:$C,$B7,固定资产审核明细表!$Z:$Z,$D7,固定资产审核明细表!$AA:$AA,$E7),IF($C7=\"无形资产\",SUMIFS(无形资产审核明细表!AV:AV,无形资产审核明细表!$B:$B,$B7,无形资产审核明细表!$T:$T,$D7,无形资产审核明细表!$U:$U,$E7),IF($C7=\"长期待摊费用\",SUMIFS(长期待摊费用审核明细表!AN:AN,长期待摊费用审核明细表!$B:$B,$B7,长期待摊费用审核明细表!$T:$T,$D7,长期待摊费用审核明细表!$U:$U,$E7),IF($C7=\"使用权资产\",SUMIFS(使用权资产审核明细表!AI:AI,使用权资产审核明细表!$B:$B,$B7,使用权资产审核明细表!$U:$U,$D7,使用权资产审核明细表!$V:$V,$E7),0)))))","v":""},{"$f":"IF($B7=\"\",\"\",IF($C7=\"固定资产\",SUMIFS(固定资产审核明细表!$BI:$BI,固定资产审核明细表!$C:$C,$B7,固定资产审核明细表!$Z:$Z,$D7,固定资产审核明细表!$AA:$AA,$E7,固定资产审核明细表!$BK:$BK,H$2),IF($C7=\"无形资产\",SUMIFS(无形资产审核明细表!$AW:$AW,无形资产审核明细表!$B:$B,$B7,无形资产审核明细表!$T:$T,$D7,无形资产审核明细表!$U:$U,$E7),IF($C7=\"长期待摊费用\",SUMIFS(长期待摊费用审核明细表!$AO:$AO,长期待摊费用审核明细表!$B:$B,$B7,长期待摊费用审核明细表!$T:$T,$D7,长期待摊费用审核明细表!$U:$U,$E7),IF($C7=\"使用权资产\",SUMIFS(使用权资产审核明细表!$AJ:$AJ,使用权资产审核明细表!$B:$B,$B7,使用权资产审核明细表!$U:$U,$D7,使用权资产审核明细表!$V:$V,$E7),0)))))","v":""},{"$f":"IF($B7=\"\",\"\",IF($C7=\"固定资产\",SUMIFS(固定资产审核明细表!$BI:$BI,固定资产审核明细表!$C:$C,$B7,固定资产审核明细表!$Z:$Z,$D7,固定资产审核明细表!$AA:$AA,$E7,固定资产审核明细表!$BK:$BK,I$2),IF($C7=\"无形资产\",SUMIFS(无形资产审核明细表!$AW:$AW,无形资产审核明细表!$B:$B,$B7,无形资产审核明细表!$T:$T,$D7,无形资产审核明细表!$U:$U,$E7),IF($C7=\"长期待摊费用\",SUMIFS(长期待摊费用审核明细表!$AO:$AO,长期待摊费用审核明细表!$B:$B,$B7,长期待摊费用审核明细表!$T:$T,$D7,长期待摊费用审核明细表!$U:$U,$E7),IF($C7=\"使用权资产\",SUMIFS(使用权资产审核明细表!$AJ:$AJ,使用权资产审核明细表!$B:$B,$B7,使用权资产审核明细表!$U:$U,$D7,使用权资产审核明细表!$V:$V,$E7),0)))))","v":""},{"$error":"#VALUE!"},{"$f":"IF($B7=\"\",\"\",IF($C7=\"固定资产\",SUMIFS(固定资产审核明细表!BJ:BJ,固定资产审核明细表!$C:$C,$B7,固定资产审核明细表!$Z:$Z,$D7,固定资产审核明细表!$AA:$AA,$E7),IF($C7=\"无形资产\",SUMIFS(无形资产审核明细表!AX:AX,无形资产审核明细表!$B:$B,$B7,无形资产审核明细表!$T:$T,$D7,无形资产审核明细表!$U:$U,$E7),IF($C7=\"长期待摊费用\",SUMIFS(长期待摊费用审核明细表!AP:AP,长期待摊费用审核明细表!$B:$B,$B7,长期待摊费用审核明细表!$T:$T,$D7,长期待摊费用审核明细表!$U:$U,$E7),IF($C7=\"使用权资产\",SUMIFS(使用权资产审核明细表!AK:AK,使用权资产审核明细表!$B:$B,$B7,使用权资产审核明细表!$U:$U,$D7,使用权资产审核明细表!$V:$V,$E7),0)))))","v":""},{"$f":"IF($B7=\"\",\"\",IF($C7=\"固定资产\",IF(COUNTIF($D$3:$D7,$D7)=1,SUMIFS(固定资产审核明细表!BE:BE,固定资产审核明细表!$C:$C,$B7,固定资产审核明细表!$Z:$Z,$D7,固定资产审核明细表!$AC:$AC,\"是\"),0),IF($C7=\"无形资产\",SUMIFS(无形资产审核明细表!AV:AV,无形资产审核明细表!$B:$B,$B7,无形资产审核明细表!$T:$T,$D7,无形资产审核明细表!$U:$U,$E7),IF($C7=\"长期待摊费用\",SUMIFS(长期待摊费用审核明细表!AN:AN,长期待摊费用审核明细表!$B:$B,$B7,长期待摊费用审核明细表!$T:$T,$D7,长期待摊费用审核明细表!$U:$U,$E7),IF($C7=\"使用权资产\",SUMIFS(使用权资产审核明细表!AI:AI,使用权资产审核明细表!$B:$B,$B7,使用权资产审核明细表!$U:$U,$D7,使用权资产审核明细表!$V:$V,$E7),0)))))","v":""},{"$f":"IF($B7=\"\",\"\",IF($C7=\"固定资产\",SUMIFS(固定资产审核明细表!W:W,固定资产审核明细表!$C:$C,$B7,固定资产审核明细表!$Z:$Z,$D7,固定资产审核明细表!$AA:$AA,$E7),IF($C7=\"无形资产\",SUMIFS(无形资产审核明细表!R:R,无形资产审核明细表!$B:$B,$B7,无形资产审核明细表!$T:$T,$D7,无形资产审核明细表!$U:$U,$E7),IF($C7=\"长期待摊费用\",SUMIFS(长期待摊费用审核明细表!R:R,长期待摊费用审核明细表!$B:$B,$B7,长期待摊费用审核明细表!$T:$T,$D7,长期待摊费用审核明细表!$U:$U,$E7),IF($C7=\"使用权资产\",SUMIFS(使用权资产审核明细表!Q:Q,使用权资产审核明细表!$B:$B,$B7,使用权资产审核明细表!$U:$U,$D7,使用权资产审核明细表!$V:$V,$E7),0)))))","v":""}]
[6,null,null,null,null,null,{"$f":"IF($B8=\"\",\"\",IF($C8=\"固定资产\",SUMIFS(固定资产审核明细表!BF:BF,固定资产审核明细表!$C:$C,$B8,固定资产审核明细表!$Z:$Z,$D8,固定资产审核明细表!$AA:$AA,$E8),IF($C8=\"无形资产\",SUMIFS(无形资产审核明细表!AV:AV,无形资产审核明细表!$B:$B,$B8,无形资产审核明细表!$T:$T,$D8,无形资产审核明细表!$U:$U,$E8),IF($C8=\"长期待摊费用\",SUMIFS(长期待摊费用审核明细表!AN:AN,长期待摊费用审核明细表!$B:$B,$B8,长期待摊费用审核明细表!$T:$T,$D8,长期待摊费用审核明细表!$U:$U,$E8),IF($C8=\"使用权资产\",SUMIFS(使用权资产审核明细表!AI:AI,使用权资产审核明细表!$B:$B,$B8,使用权资产审核明细表!$U:$U,$D8,使用权资产审核明细表!$V:$V,$E8),0)))))","v":""},{"$f":"IF($B8=\"\",\"\",IF($C8=\"固定资产\",SUMIFS(固定资产审核明细表!$BI:$BI,固定资产审核明细表!$C:$C,$B8,固定资产审核明细表!$Z:$Z,$D8,固定资产审核明细表!$AA:$AA,$E8,固定资产审核明细表!$BK:$BK,H$2),IF($C8=\"无形资产\",SUMIFS(无形资产审核明细表!$AW:$AW,无形资产审核明细表!$B:$B,$B8,无形资产审核明细表!$T:$T,$D8,无形资产审核明细表!$U:$U,$E8),IF($C8=\"长期待摊费用\",SUMIFS(长期待摊费用审核明细表!$AO:$AO,长期待摊费用审核明细表!$B:$B,$B8,长期待摊费用审核明细表!$T:$T,$D8,长期待摊费用审核明细表!$U:$U,$E8),IF($C8=\"使用权资产\",SUMIFS(使用权资产审核明细表!$AJ:$AJ,使用权资产审核明细表!$B:$B,$B8,使用权资产审核明细表!$U:$U,$D8,使用权资产审核明细表!$V:$V,$E8),0)))))","v":""},{"$f":"IF($B8=\"\",\"\",IF($C8=\"固定资产\",SUMIFS(固定资产审核明细表!$BI:$BI,固定资产审核明细表!$C:$C,$B8,固定资产审核明细表!$Z:$Z,$D8,固定资产审核明细表!$AA:$AA,$E8,固定资产审核明细表!$BK:$BK,I$2),IF($C8=\"无形资产\",SUMIFS(无形资产审核明细表!$AW:$AW,无形资产审核明细表!$B:$B,$B8,无形资产审核明细表!$T:$T,$D8,无形资产审核明细表!$U:$U,$E8),IF($C8=\"长期待摊费用\",SUMIFS(长期待摊费用审核明细表!$AO:$AO,长期待摊费用审核明细表!$B:$B,$B8,长期待摊费用审核明细表!$T:$T,$D8,长期待摊费用审核明细表!$U:$U,$E8),IF($C8=\"使用权资产\",SUMIFS(使用权资产审核明细表!$AJ:$AJ,使用权资产审核明细表!$B:$B,$B8,使用权资产审核明细表!$U:$U,$D8,使用权资产审核明细表!$V:$V,$E8),0)))))","v":""},{"$error":"#VALUE!"},{"$f":"IF($B8=\"\",\"\",IF($C8=\"固定资产\",SUMIFS(固定资产审核明细表!BJ:BJ,固定资产审核明细表!$C:$C,$B8,固定资产审核明细表!$Z:$Z,$D8,固定资产审核明细表!$AA:$AA,$E8),IF($C8=\"无形资产\",SUMIFS(无形资产审核明细表!AX:AX,无形资产审核明细表!$B:$B,$B8,无形资产审核明细表!$T:$T,$D8,无形资产审核明细表!$U:$U,$E8),IF($C8=\"长期待摊费用\",SUMIFS(长期待摊费用审核明细表!AP:AP,长期待摊费用审核明细表!$B:$B,$B8,长期待摊费用审核明细表!$T:$T,$D8,长期待摊费用审核明细表!$U:$U,$E8),IF($C8=\"使用权资产\",SUMIFS(使用权资产审核明细表!AK:AK,使用权资产审核明细表!$B:$B,$B8,使用权资产审核明细表!$U:$U,$D8,使用权资产审核明细表!$V:$V,$E8),0)))))","v":""},{"$f":"IF($B8=\"\",\"\",IF($C8=\"固定资产\",IF(COUNTIF($D$3:$D8,$D8)=1,SUMIFS(固定资产审核明细表!BE:BE,固定资产审核明细表!$C:$C,$B8,固定资产审核明细表!$Z:$Z,$D8,固定资产审核明细表!$AC:$AC,\"是\"),0),IF($C8=\"无形资产\",SUMIFS(无形资产审核明细表!AV:AV,无形资产审核明细表!$B:$B,$B8,无形资产审核明细表!$T:$T,$D8,无形资产审核明细表!$U:$U,$E8),IF($C8=\"长期待摊费用\",SUMIFS(长期待摊费用审核明细表!AN:AN,长期待摊费用审核明细表!$B:$B,$B8,长期待摊费用审核明细表!$T:$T,$D8,长期待摊费用审核明细表!$U:$U,$E8),IF($C8=\"使用权资产\",SUMIFS(使用权资产审核明细表!AI:AI,使用权资产审核明细表!$B:$B,$B8,使用权资产审核明细表!$U:$U,$D8,使用权资产审核明细表!$V:$V,$E8),0)))))","v":""},{"$f":"IF($B8=\"\",\"\",IF($C8=\"固定资产\",SUMIFS(固定资产审核明细表!W:W,固定资产审核明细表!$C:$C,$B8,固定资产审核明细表!$Z:$Z,$D8,固定资产审核明细表!$AA:$AA,$E8),IF($C8=\"无形资产\",SUMIFS(无形资产审核明细表!R:R,无形资产审核明细表!$B:$B,$B8,无形资产审核明细表!$T:$T,$D8,无形资产审核明细表!$U:$U,$E8),IF($C8=\"长期待摊费用\",SUMIFS(长期待摊费用审核明细表!R:R,长期待摊费用审核明细表!$B:$B,$B8,长期待摊费用审核明细表!$T:$T,$D8,长期待摊费用审核明细表!$U:$U,$E8),IF($C8=\"使用权资产\",SUMIFS(使用权资产审核明细表!Q:Q,使用权资产审核明细表!$B:$B,$B8,使用权资产审核明细表!$U:$U,$D8,使用权资产审核明细表!$V:$V,$E8),0)))))","v":""}]
[7,null,null,null,null,{"$f":"IF($B9=\"\",\"\",IF($C9=\"固定资产\",SUMIFS(固定资产审核明细表!AE:AE,固定资产审核明细表!$C:$C,$B9,固定资产审核明细表!$Z:$Z,$D9,固定资产审核明细表!$AA:$AA,$E9),IF($C9=\"无形资产\",SUMIFS(无形资产审核明细表!X:X,无形资产审核明细表!$B:$B,$B9,无形资产审核明细表!$T:$T,$D9,无形资产审核明细表!$U:$U,$E9),IF($C9=\"长期待摊费用\",SUMIFS(长期待摊费用审核明细表!X:X,长期待摊费用审核明细表!$B:$B,$B9,长期待摊费用审核明细表!$T:$T,$D9,长期待摊费用审核明细表!$U:$U,$E9),IF($C9=\"使用权资产\",SUMIFS(使用权资产审核明细表!Z:Z,使用权资产审核明细表!$B:$B,$B9,使用权资产审核明细表!$U:$U,$D9,使用权资产审核明细表!$V:$V,$E9),0)))))","v":""},{"$f":"IF($B9=\"\",\"\",IF($C9=\"固定资产\",SUMIFS(固定资产审核明细表!BF:BF,固定资产审核明细表!$C:$C,$B9,固定资产审核明细表!$Z:$Z,$D9,固定资产审核明细表!$AA:$AA,$E9),IF($C9=\"无形资产\",SUMIFS(无形资产审核明细表!AV:AV,无形资产审核明细表!$B:$B,$B9,无形资产审核明细表!$T:$T,$D9,无形资产审核明细表!$U:$U,$E9),IF($C9=\"长期待摊费用\",SUMIFS(长期待摊费用审核明细表!AN:AN,长期待摊费用审核明细表!$B:$B,$B9,长期待摊费用审核明细表!$T:$T,$D9,长期待摊费用审核明细表!$U:$U,$E9),IF($C9=\"使用权资产\",SUMIFS(使用权资产审核明细表!AI:AI,使用权资产审核明细表!$B:$B,$B9,使用权资产审核明细表!$U:$U,$D9,使用权资产审核明细表!$V:$V,$E9),0)))))","v":""},{"$f":"IF($B9=\"\",\"\",IF($C9=\"固定资产\",SUMIFS(固定资产审核明细表!$BI:$BI,固定资产审核明细表!$C:$C,$B9,固定资产审核明细表!$Z:$Z,$D9,固定资产审核明细表!$AA:$AA,$E9,固定资产审核明细表!$BK:$BK,H$2),IF($C9=\"无形资产\",SUMIFS(无形资产审核明细表!$AW:$AW,无形资产审核明细表!$B:$B,$B9,无形资产审核明细表!$T:$T,$D9,无形资产审核明细表!$U:$U,$E9),IF($C9=\"长期待摊费用\",SUMIFS(长期待摊费用审核明细表!$AO:$AO,长期待摊费用审核明细表!$B:$B,$B9,长期待摊费用审核明细表!$T:$T,$D9,长期待摊费用审核明细表!$U:$U,$E9),IF($C9=\"使用权资产\",SUMIFS(使用权资产审核明细表!$AJ:$AJ,使用权资产审核明细表!$B:$B,$B9,使用权资产审核明细表!$U:$U,$D9,使用权资产审核明细表!$V:$V,$E9),0)))))","v":""},{"$f":"IF($B9=\"\",\"\",IF($C9=\"固定资产\",SUMIFS(固定资产审核明细表!$BI:$BI,固定资产审核明细表!$C:$C,$B9,固定资产审核明细表!$Z:$Z,$D9,固定资产审核明细表!$AA:$AA,$E9,固定资产审核明细表!$BK:$BK,I$2),IF($C9=\"无形资产\",SUMIFS(无形资产审核明细表!$AW:$AW,无形资产审核明细表!$B:$B,$B9,无形资产审核明细表!$T:$T,$D9,无形资产审核明细表!$U:$U,$E9),IF($C9=\"长期待摊费用\",SUMIFS(长期待摊费用审核明细表!$AO:$AO,长期待摊费用审核明细表!$B:$B,$B9,长期待摊费用审核明细表!$T:$T,$D9,长期待摊费用审核明细表!$U:$U,$E9),IF($C9=\"使用权资产\",SUMIFS(使用权资产审核明细表!$AJ:$AJ,使用权资产审核明细表!$B:$B,$B9,使用权资产审核明细表!$U:$U,$D9,使用权资产审核明细表!$V:$V,$E9),0)))))","v":""},{"$error":"#VALUE!"},{"$f":"IF($B9=\"\",\"\",IF($C9=\"固定资产\",SUMIFS(固定资产审核明细表!BJ:BJ,固定资产审核明细表!$C:$C,$B9,固定资产审核明细表!$Z:$Z,$D9,固定资产审核明细表!$AA:$AA,$E9),IF($C9=\"无形资产\",SUMIFS(无形资产审核明细表!AX:AX,无形资产审核明细表!$B:$B,$B9,无形资产审核明细表!$T:$T,$D9,无形资产审核明细表!$U:$U,$E9),IF($C9=\"长期待摊费用\",SUMIFS(长期待摊费用审核明细表!AP:AP,长期待摊费用审核明细表!$B:$B,$B9,长期待摊费用审核明细表!$T:$T,$D9,长期待摊费用审核明细表!$U:$U,$E9),IF($C9=\"使用权资产\",SUMIFS(使用权资产审核明细表!AK:AK,使用权资产审核明细表!$B:$B,$B9,使用权资产审核明细表!$U:$U,$D9,使用权资产审核明细表!$V:$V,$E9),0)))))","v":""},{"$f":"IF($B9=\"\",\"\",IF($C9=\"固定资产\",IF(COUNTIF($D$3:$D9,$D9)=1,SUMIFS(固定资产审核明细表!BE:BE,固定资产审核明细表!$C:$C,$B9,固定资产审核明细表!$Z:$Z,$D9,固定资产审核明细表!$AC:$AC,\"是\"),0),IF($C9=\"无形资产\",SUMIFS(无形资产审核明细表!AV:AV,无形资产审核明细表!$B:$B,$B9,无形资产审核明细表!$T:$T,$D9,无形资产审核明细表!$U:$U,$E9),IF($C9=\"长期待摊费用\",SUMIFS(长期待摊费用审核明细表!AN:AN,长期待摊费用审核明细表!$B:$B,$B9,长期待摊费用审核明细表!$T:$T,$D9,长期待摊费用审核明细表!$U:$U,$E9),IF($C9=\"使用权资产\",SUMIFS(使用权资产审核明细表!AI:AI,使用权资产审核明细表!$B:$B,$B9,使用权资产审核明细表!$U:$U,$D9,使用权资产审核明细表!$V:$V,$E9),0)))))","v":""},{"$f":"IF($B9=\"\",\"\",IF($C9=\"固定资产\",SUMIFS(固定资产审核明细表!W:W,固定资产审核明细表!$C:$C,$B9,固定资产审核明细表!$Z:$Z,$D9,固定资产审核明细表!$AA:$AA,$E9),IF($C9=\"无形资产\",SUMIFS(无形资产审核明细表!R:R,无形资产审核明细表!$B:$B,$B9,无形资产审核明细表!$T:$T,$D9,无形资产审核明细表!$U:$U,$E9),IF($C9=\"长期待摊费用\",SUMIFS(长期待摊费用审核明细表!R:R,长期待摊费用审核明细表!$B:$B,$B9,长期待摊费用审核明细表!$T:$T,$D9,长期待摊费用审核明细表!$U:$U,$E9),IF($C9=\"使用权资产\",SUMIFS(使用权资产审核明细表!Q:Q,使用权资产审核明细表!$B:$B,$B9,使用权资产审核明细表!$U:$U,$D9,使用权资产审核明细表!$V:$V,$E9),0)))))","v":""}]
[8,null,null,null,null,{"$f":"IF($B10=\"\",\"\",IF($C10=\"固定资产\",SUMIFS(固定资产审核明细表!AE:AE,固定资产审核明细表!$C:$C,$B10,固定资产审核明细表!$Z:$Z,$D10,固定资产审核明细表!$AA:$AA,$E10),IF($C10=\"无形资产\",SUMIFS(无形资产审核明细表!X:X,无形资产审核明细表!$B:$B,$B10,无形资产审核明细表!$T:$T,$D10,无形资产审核明细表!$U:$U,$E10),IF($C10=\"长期待摊费用\",SUMIFS(长期待摊费用审核明细表!X:X,长期待摊费用审核明细表!$B:$B,$B10,长期待摊费用审核明细表!$T:$T,$D10,长期待摊费用审核明细表!$U:$U,$E10),IF($C10=\"使用权资产\",SUMIFS(使用权资产审核明细表!Z:Z,使用权资产审核明细表!$B:$B,$B10,使用权资产审核明细表!$U:$U,$D10,使用权资产审核明细表!$V:$V,$E10),0)))))","v":""},{"$f":"IF($B10=\"\",\"\",IF($C10=\"固定资产\",SUMIFS(固定资产审核明细表!BF:BF,固定资产审核明细表!$C:$C,$B10,固定资产审核明细表!$Z:$Z,$D10,固定资产审核明细表!$AA:$AA,$E10),IF($C10=\"无形资产\",SUMIFS(无形资产审核明细表!AV:AV,无形资产审核明细表!$B:$B,$B10,无形资产审核明细表!$T:$T,$D10,无形资产审核明细表!$U:$U,$E10),IF($C10=\"长期待摊费用\",SUMIFS(长期待摊费用审核明细表!AN:AN,长期待摊费用审核明细表!$B:$B,$B10,长期待摊费用审核明细表!$T:$T,$D10,长期待摊费用审核明细表!$U:$U,$E10),IF($C10=\"使用权资产\",SUMIFS(使用权资产审核明细表!AI:AI,使用权资产审核明细表!$B:$B,$B10,使用权资产审核明细表!$U:$U,$D10,使用权资产审核明细表!$V:$V,$E10),0)))))","v":""},{"$f":"IF($B10=\"\",\"\",IF($C10=\"固定资产\",SUMIFS(固定资产审核明细表!$BI:$BI,固定资产审核明细表!$C:$C,$B10,固定资产审核明细表!$Z:$Z,$D10,固定资产审核明细表!$AA:$AA,$E10,固定资产审核明细表!$BK:$BK,H$2),IF($C10=\"无形资产\",SUMIFS(无形资产审核明细表!$AW:$AW,无形资产审核明细表!$B:$B,$B10,无形资产审核明细表!$T:$T,$D10,无形资产审核明细表!$U:$U,$E10),IF($C10=\"长期待摊费用\",SUMIFS(长期待摊费用审核明细表!$AO:$AO,长期待摊费用审核明细表!$B:$B,$B10,长期待摊费用审核明细表!$T:$T,$D10,长期待摊费用审核明细表!$U:$U,$E10),IF($C10=\"使用权资产\",SUMIFS(使用权资产审核明细表!$AJ:$AJ,使用权资产审核明细表!$B:$B,$B10,使用权资产审核明细表!$U:$U,$D10,使用权资产审核明细表!$V:$V,$E10),0)))))","v":""},{"$f":"IF($B10=\"\",\"\",IF($C10=\"固定资产\",SUMIFS(固定资产审核明细表!$BI:$BI,固定资产审核明细表!$C:$C,$B10,固定资产审核明细表!$Z:$Z,$D10,固定资产审核明细表!$AA:$AA,$E10,固定资产审核明细表!$BK:$BK,I$2),IF($C10=\"无形资产\",SUMIFS(无形资产审核明细表!$AW:$AW,无形资产审核明细表!$B:$B,$B10,无形资产审核明细表!$T:$T,$D10,无形资产审核明细表!$U:$U,$E10),IF($C10=\"长期待摊费用\",SUMIFS(长期待摊费用审核明细表!$AO:$AO,长期待摊费用审核明细表!$B:$B,$B10,长期待摊费用审核明细表!$T:$T,$D10,长期待摊费用审核明细表!$U:$U,$E10),IF($C10=\"使用权资产\",SUMIFS(使用权资产审核明细表!$AJ:$AJ,使用权资产审核明细表!$B:$B,$B10,使用权资产审核明细表!$U:$U,$D10,使用权资产审核明细表!$V:$V,$E10),0)))))","v":""},{"$error":"#VALUE!"},{"$f":"IF($B10=\"\",\"\",IF($C10=\"固定资产\",SUMIFS(固定资产审核明细表!BJ:BJ,固定资产审核明细表!$C:$C,$B10,固定资产审核明细表!$Z:$Z,$D10,固定资产审核明细表!$AA:$AA,$E10),IF($C10=\"无形资产\",SUMIFS(无形资产审核明细表!AX:AX,无形资产审核明细表!$B:$B,$B10,无形资产审核明细表!$T:$T,$D10,无形资产审核明细表!$U:$U,$E10),IF($C10=\"长期待摊费用\",SUMIFS(长期待摊费用审核明细表!AP:AP,长期待摊费用审核明细表!$B:$B,$B10,长期待摊费用审核明细表!$T:$T,$D10,长期待摊费用审核明细表!$U:$U,$E10),IF($C10=\"使用权资产\",SUMIFS(使用权资产审核明细表!AK:AK,使用权资产审核明细表!$B:$B,$B10,使用权资产审核明细表!$U:$U,$D10,使用权资产审核明细表!$V:$V,$E10),0)))))","v":""},{"$f":"IF($B10=\"\",\"\",IF($C10=\"固定资产\",IF(COUNTIF($D$3:$D10,$D10)=1,SUMIFS(固定资产审核明细表!BE:BE,固定资产审核明细表!$C:$C,$B10,固定资产审核明细表!$Z:$Z,$D10,固定资产审核明细表!$AC:$AC,\"是\"),0),IF($C10=\"无形资产\",SUMIFS(无形资产审核明细表!AV:AV,无形资产审核明细表!$B:$B,$B10,无形资产审核明细表!$T:$T,$D10,无形资产审核明细表!$U:$U,$E10),IF($C10=\"长期待摊费用\",SUMIFS(长期待摊费用审核明细表!AN:AN,长期待摊费用审核明细表!$B:$B,$B10,长期待摊费用审核明细表!$T:$T,$D10,长期待摊费用审核明细表!$U:$U,$E10),IF($C10=\"使用权资产\",SUMIFS(使用权资产审核明细表!AI:AI,使用权资产审核明细表!$B:$B,$B10,使用权资产审核明细表!$U:$U,$D10,使用权资产审核明细表!$V:$V,$E10),0)))))","v":""},{"$f":"IF($B10=\"\",\"\",IF($C10=\"固定资产\",SUMIFS(固定资产审核明细表!W:W,固定资产审核明细表!$C:$C,$B10,固定资产审核明细表!$Z:$Z,$D10,固定资产审核明细表!$AA:$AA,$E10),IF($C10=\"无形资产\",SUMIFS(无形资产审核明细表!R:R,无形资产审核明细表!$B:$B,$B10,无形资产审核明细表!$T:$T,$D10,无形资产审核明细表!$U:$U,$E10),IF($C10=\"长期待摊费用\",SUMIFS(长期待摊费用审核明细表!R:R,长期待摊费用审核明细表!$B:$B,$B10,长期待摊费用审核明细表!$T:$T,$D10,长期待摊费用审核明细表!$U:$U,$E10),IF($C10=\"使用权资产\",SUMIFS(使用权资产审核明细表!Q:Q,使用权资产审核明细表!$B:$B,$B10,使用权资产审核明细表!$U:$U,$D10,使用权资产审核明细表!$V:$V,$E10),0)))))","v":""}]
[9,null,null,null,null,{"$f":"IF($B11=\"\",\"\",IF($C11=\"固定资产\",SUMIFS(固定资产审核明细表!AE:AE,固定资产审核明细表!$C:$C,$B11,固定资产审核明细表!$Z:$Z,$D11,固定资产审核明细表!$AA:$AA,$E11),IF($C11=\"无形资产\",SUMIFS(无形资产审核明细表!X:X,无形资产审核明细表!$B:$B,$B11,无形资产审核明细表!$T:$T,$D11,无形资产审核明细表!$U:$U,$E11),IF($C11=\"长期待摊费用\",SUMIFS(长期待摊费用审核明细表!X:X,长期待摊费用审核明细表!$B:$B,$B11,长期待摊费用审核明细表!$T:$T,$D11,长期待摊费用审核明细表!$U:$U,$E11),IF($C11=\"使用权资产\",SUMIFS(使用权资产审核明细表!Z:Z,使用权资产审核明细表!$B:$B,$B11,使用权资产审核明细表!$U:$U,$D11,使用权资产审核明细表!$V:$V,$E11),0)))))","v":""},{"$f":"IF($B11=\"\",\"\",IF($C11=\"固定资产\",SUMIFS(固定资产审核明细表!BF:BF,固定资产审核明细表!$C:$C,$B11,固定资产审核明细表!$Z:$Z,$D11,固定资产审核明细表!$AA:$AA,$E11),IF($C11=\"无形资产\",SUMIFS(无形资产审核明细表!AV:AV,无形资产审核明细表!$B:$B,$B11,无形资产审核明细表!$T:$T,$D11,无形资产审核明细表!$U:$U,$E11),IF($C11=\"长期待摊费用\",SUMIFS(长期待摊费用审核明细表!AN:AN,长期待摊费用审核明细表!$B:$B,$B11,长期待摊费用审核明细表!$T:$T,$D11,长期待摊费用审核明细表!$U:$U,$E11),IF($C11=\"使用权资产\",SUMIFS(使用权资产审核明细表!AI:AI,使用权资产审核明细表!$B:$B,$B11,使用权资产审核明细表!$U:$U,$D11,使用权资产审核明细表!$V:$V,$E11),0)))))","v":""},{"$f":"IF($B11=\"\",\"\",IF($C11=\"固定资产\",SUMIFS(固定资产审核明细表!$BI:$BI,固定资产审核明细表!$C:$C,$B11,固定资产审核明细表!$Z:$Z,$D11,固定资产审核明细表!$AA:$AA,$E11,固定资产审核明细表!$BK:$BK,H$2),IF($C11=\"无形资产\",SUMIFS(无形资产审核明细表!$AW:$AW,无形资产审核明细表!$B:$B,$B11,无形资产审核明细表!$T:$T,$D11,无形资产审核明细表!$U:$U,$E11),IF($C11=\"长期待摊费用\",SUMIFS(长期待摊费用审核明细表!$AO:$AO,长期待摊费用审核明细表!$B:$B,$B11,长期待摊费用审核明细表!$T:$T,$D11,长期待摊费用审核明细表!$U:$U,$E11),IF($C11=\"使用权资产\",SUMIFS(使用权资产审核明细表!$AJ:$AJ,使用权资产审核明细表!$B:$B,$B11,使用权资产审核明细表!$U:$U,$D11,使用权资产审核明细表!$V:$V,$E11),0)))))","v":""},{"$f":"IF($B11=\"\",\"\",IF($C11=\"固定资产\",SUMIFS(固定资产审核明细表!$BI:$BI,固定资产审核明细表!$C:$C,$B11,固定资产审核明细表!$Z:$Z,$D11,固定资产审核明细表!$AA:$AA,$E11,固定资产审核明细表!$BK:$BK,I$2),IF($C11=\"无形资产\",SUMIFS(无形资产审核明细表!$AW:$AW,无形资产审核明细表!$B:$B,$B11,无形资产审核明细表!$T:$T,$D11,无形资产审核明细表!$U:$U,$E11),IF($C11=\"长期待摊费用\",SUMIFS(长期待摊费用审核明细表!$AO:$AO,长期待摊费用审核明细表!$B:$B,$B11,长期待摊费用审核明细表!$T:$T,$D11,长期待摊费用审核明细表!$U:$U,$E11),IF($C11=\"使用权资产\",SUMIFS(使用权资产审核明细表!$AJ:$AJ,使用权资产审核明细表!$B:$B,$B11,使用权资产审核明细表!$U:$U,$D11,使用权资产审核明细表!$V:$V,$E11),0)))))","v":""},{"$error":"#VALUE!"},{"$f":"IF($B11=\"\",\"\",IF($C11=\"固定资产\",SUMIFS(固定资产审核明细表!BJ:BJ,固定资产审核明细表!$C:$C,$B11,固定资产审核明细表!$Z:$Z,$D11,固定资产审核明细表!$AA:$AA,$E11),IF($C11=\"无形资产\",SUMIFS(无形资产审核明细表!AX:AX,无形资产审核明细表!$B:$B,$B11,无形资产审核明细表!$T:$T,$D11,无形资产审核明细表!$U:$U,$E11),IF($C11=\"长期待摊费用\",SUMIFS(长期待摊费用审核明细表!AP:AP,长期待摊费用审核明细表!$B:$B,$B11,长期待摊费用审核明细表!$T:$T,$D11,长期待摊费用审核明细表!$U:$U,$E11),IF($C11=\"使用权资产\",SUMIFS(使用权资产审核明细表!AK:AK,使用权资产审核明细表!$B:$B,$B11,使用权资产审核明细表!$U:$U,$D11,使用权资产审核明细表!$V:$V,$E11),0)))))","v":""},{"$f":"IF($B11=\"\",\"\",IF($C11=\"固定资产\",IF(COUNTIF($D$3:$D11,$D11)=1,SUMIFS(固定资产审核明细表!BE:BE,固定资产审核明细表!$C:$C,$B11,固定资产审核明细表!$Z:$Z,$D11,固定资产审核明细表!$AC:$AC,\"是\"),0),IF($C11=\"无形资产\",SUMIFS(无形资产审核明细表!AV:AV,无形资产审核明细表!$B:$B,$B11,无形资产审核明细表!$T:$T,$D11,无形资产审核明细表!$U:$U,$E11),IF($C11=\"长期待摊费用\",SUMIFS(长期待摊费用审核明细表!AN:AN,长期待摊费用审核明细表!$B:$B,$B11,长期待摊费用审核明细表!$T:$T,$D11,长期待摊费用审核明细表!$U:$U,$E11),IF($C11=\"使用权资产\",SUMIFS(使用权资产审核明细表!AI:AI,使用权资产审核明细表!$B:$B,$B11,使用权资产审核明细表!$U:$U,$D11,使用权资产审核明细表!$V:$V,$E11),0)))))","v":""},{"$f":"IF($B11=\"\",\"\",IF($C11=\"固定资产\",SUMIFS(固定资产审核明细表!W:W,固定资产审核明细表!$C:$C,$B11,固定资产审核明细表!$Z:$Z,$D11,固定资产审核明细表!$AA:$AA,$E11),IF($C11=\"无形资产\",SUMIFS(无形资产审核明细表!R:R,无形资产审核明细表!$B:$B,$B11,无形资产审核明细表!$T:$T,$D11,无形资产审核明细表!$U:$U,$E11),IF($C11=\"长期待摊费用\",SUMIFS(长期待摊费用审核明细表!R:R,长期待摊费用审核明细表!$B:$B,$B11,长期待摊费用审核明细表!$T:$T,$D11,长期待摊费用审核明细表!$U:$U,$E11),IF($C11=\"使用权资产\",SUMIFS(使用权资产审核明细表!Q:Q,使用权资产审核明细表!$B:$B,$B11,使用权资产审核明细表!$U:$U,$D11,使用权资产审核明细表!$V:$V,$E11),0)))))","v":""}]
[10,null,null,null,null,{"$f":"IF($B12=\"\",\"\",IF($C12=\"固定资产\",SUMIFS(固定资产审核明细表!AE:AE,固定资产审核明细表!$C:$C,$B12,固定资产审核明细表!$Z:$Z,$D12,固定资产审核明细表!$AA:$AA,$E12),IF($C12=\"无形资产\",SUMIFS(无形资产审核明细表!X:X,无形资产审核明细表!$B:$B,$B12,无形资产审核明细表!$T:$T,$D12,无形资产审核明细表!$U:$U,$E12),IF($C12=\"长期待摊费用\",SUMIFS(长期待摊费用审核明细表!X:X,长期待摊费用审核明细表!$B:$B,$B12,长期待摊费用审核明细表!$T:$T,$D12,长期待摊费用审核明细表!$U:$U,$E12),IF($C12=\"使用权资产\",SUMIFS(使用权资产审核明细表!Z:Z,使用权资产审核明细表!$B:$B,$B12,使用权资产审核明细表!$U:$U,$D12,使用权资产审核明细表!$V:$V,$E12),0)))))","v":""},{"$f":"IF($B12=\"\",\"\",IF($C12=\"固定资产\",SUMIFS(固定资产审核明细表!BF:BF,固定资产审核明细表!$C:$C,$B12,固定资产审核明细表!$Z:$Z,$D12,固定资产审核明细表!$AA:$AA,$E12),IF($C12=\"无形资产\",SUMIFS(无形资产审核明细表!AV:AV,无形资产审核明细表!$B:$B,$B12,无形资产审核明细表!$T:$T,$D12,无形资产审核明细表!$U:$U,$E12),IF($C12=\"长期待摊费用\",SUMIFS(长期待摊费用审核明细表!AN:AN,长期待摊费用审核明细表!$B:$B,$B12,长期待摊费用审核明细表!$T:$T,$D12,长期待摊费用审核明细表!$U:$U,$E12),IF($C12=\"使用权资产\",SUMIFS(使用权资产审核明细表!AI:AI,使用权资产审核明细表!$B:$B,$B12,使用权资产审核明细表!$U:$U,$D12,使用权资产审核明细表!$V:$V,$E12),0)))))","v":""},{"$f":"IF($B12=\"\",\"\",IF($C12=\"固定资产\",SUMIFS(固定资产审核明细表!$BI:$BI,固定资产审核明细表!$C:$C,$B12,固定资产审核明细表!$Z:$Z,$D12,固定资产审核明细表!$AA:$AA,$E12,固定资产审核明细表!$BK:$BK,H$2),IF($C12=\"无形资产\",SUMIFS(无形资产审核明细表!$AW:$AW,无形资产审核明细表!$B:$B,$B12,无形资产审核明细表!$T:$T,$D12,无形资产审核明细表!$U:$U,$E12),IF($C12=\"长期待摊费用\",SUMIFS(长期待摊费用审核明细表!$AO:$AO,长期待摊费用审核明细表!$B:$B,$B12,长期待摊费用审核明细表!$T:$T,$D12,长期待摊费用审核明细表!$U:$U,$E12),IF($C12=\"使用权资产\",SUMIFS(使用权资产审核明细表!$AJ:$AJ,使用权资产审核明细表!$B:$B,$B12,使用权资产审核明细表!$U:$U,$D12,使用权资产审核明细表!$V:$V,$E12),0)))))","v":""},{"$f":"IF($B12=\"\",\"\",IF($C12=\"固定资产\",SUMIFS(固定资产审核明细表!$BI:$BI,固定资产审核明细表!$C:$C,$B12,固定资产审核明细表!$Z:$Z,$D12,固定资产审核明细表!$AA:$AA,$E12,固定资产审核明细表!$BK:$BK,I$2),IF($C12=\"无形资产\",SUMIFS(无形资产审核明细表!$AW:$AW,无形资产审核明细表!$B:$B,$B12,无形资产审核明细表!$T:$T,$D12,无形资产审核明细表!$U:$U,$E12),IF($C12=\"长期待摊费用\",SUMIFS(长期待摊费用审核明细表!$AO:$AO,长期待摊费用审核明细表!$B:$B,$B12,长期待摊费用审核明细表!$T:$T,$D12,长期待摊费用审核明细表!$U:$U,$E12),IF($C12=\"使用权资产\",SUMIFS(使用权资产审核明细表!$AJ:$AJ,使用权资产审核明细表!$B:$B,$B12,使用权资产审核明细表!$U:$U,$D12,使用权资产审核明细表!$V:$V,$E12),0)))))","v":""},{"$error":"#VALUE!"},{"$f":"IF($B12=\"\",\"\",IF($C12=\"固定资产\",SUMIFS(固定资产审核明细表!BJ:BJ,固定资产审核明细表!$C:$C,$B12,固定资产审核明细表!$Z:$Z,$D12,固定资产审核明细表!$AA:$AA,$E12),IF($C12=\"无形资产\",SUMIFS(无形资产审核明细表!AX:AX,无形资产审核明细表!$B:$B,$B12,无形资产审核明细表!$T:$T,$D12,无形资产审核明细表!$U:$U,$E12),IF($C12=\"长期待摊费用\",SUMIFS(长期待摊费用审核明细表!AP:AP,长期待摊费用审核明细表!$B:$B,$B12,长期待摊费用审核明细表!$T:$T,$D12,长期待摊费用审核明细表!$U:$U,$E12),IF($C12=\"使用权资产\",SUMIFS(使用权资产审核明细表!AK:AK,使用权资产审核明细表!$B:$B,$B12,使用权资产审核明细表!$U:$U,$D12,使用权资产审核明细表!$V:$V,$E12),0)))))","v":""},{"$f":"IF($B12=\"\",\"\",IF($C12=\"固定资产\",IF(COUNTIF($D$3:$D12,$D12)=1,SUMIFS(固定资产审核明细表!BE:BE,固定资产审核明细表!$C:$C,$B12,固定资产审核明细表!$Z:$Z,$D12,固定资产审核明细表!$AC:$AC,\"是\"),0),IF($C12=\"无形资产\",SUMIFS(无形资产审核明细表!AV:AV,无形资产审核明细表!$B:$B,$B12,无形资产审核明细表!$T:$T,$D12,无形资产审核明细表!$U:$U,$E12),IF($C12=\"长期待摊费用\",SUMIFS(长期待摊费用审核明细表!AN:AN,长期待摊费用审核明细表!$B:$B,$B12,长期待摊费用审核明细表!$T:$T,$D12,长期待摊费用审核明细表!$U:$U,$E12),IF($C12=\"使用权资产\",SUMIFS(使用权资产审核明细表!AI:AI,使用权资产审核明细表!$B:$B,$B12,使用权资产审核明细表!$U:$U,$D12,使用权资产审核明细表!$V:$V,$E12),0)))))","v":""},{"$f":"IF($B12=\"\",\"\",IF($C12=\"固定资产\",SUMIFS(固定资产审核明细表!W:W,固定资产审核明细表!$C:$C,$B12,固定资产审核明细表!$Z:$Z,$D12,固定资产审核明细表!$AA:$AA,$E12),IF($C12=\"无形资产\",SUMIFS(无形资产审核明细表!R:R,无形资产审核明细表!$B:$B,$B12,无形资产审核明细表!$T:$T,$D12,无形资产审核明细表!$U:$U,$E12),IF($C12=\"长期待摊费用\",SUMIFS(长期待摊费用审核明细表!R:R,长期待摊费用审核明细表!$B:$B,$B12,长期待摊费用审核明细表!$T:$T,$D12,长期待摊费用审核明细表!$U:$U,$E12),IF($C12=\"使用权资产\",SUMIFS(使用权资产审核明细表!Q:Q,使用权资产审核明细表!$B:$B,$B12,使用权资产审核明细表!$U:$U,$D12,使用权资产审核明细表!$V:$V,$E12),0)))))","v":""}]
[11,null,null,null,null,{"$f":"IF($B13=\"\",\"\",IF($C13=\"固定资产\",SUMIFS(固定资产审核明细表!AE:AE,固定资产审核明细表!$C:$C,$B13,固定资产审核明细表!$Z:$Z,$D13,固定资产审核明细表!$AA:$AA,$E13),IF($C13=\"无形资产\",SUMIFS(无形资产审核明细表!X:X,无形资产审核明细表!$B:$B,$B13,无形资产审核明细表!$T:$T,$D13,无形资产审核明细表!$U:$U,$E13),IF($C13=\"长期待摊费用\",SUMIFS(长期待摊费用审核明细表!X:X,长期待摊费用审核明细表!$B:$B,$B13,长期待摊费用审核明细表!$T:$T,$D13,长期待摊费用审核明细表!$U:$U,$E13),IF($C13=\"使用权资产\",SUMIFS(使用权资产审核明细表!Z:Z,使用权资产审核明细表!$B:$B,$B13,使用权资产审核明细表!$U:$U,$D13,使用权资产审核明细表!$V:$V,$E13),0)))))","v":""},{"$f":"IF($B13=\"\",\"\",IF($C13=\"固定资产\",SUMIFS(固定资产审核明细表!BF:BF,固定资产审核明细表!$C:$C,$B13,固定资产审核明细表!$Z:$Z,$D13,固定资产审核明细表!$AA:$AA,$E13),IF($C13=\"无形资产\",SUMIFS(无形资产审核明细表!AV:AV,无形资产审核明细表!$B:$B,$B13,无形资产审核明细表!$T:$T,$D13,无形资产审核明细表!$U:$U,$E13),IF($C13=\"长期待摊费用\",SUMIFS(长期待摊费用审核明细表!AN:AN,长期待摊费用审核明细表!$B:$B,$B13,长期待摊费用审核明细表!$T:$T,$D13,长期待摊费用审核明细表!$U:$U,$E13),IF($C13=\"使用权资产\",SUMIFS(使用权资产审核明细表!AI:AI,使用权资产审核明细表!$B:$B,$B13,使用权资产审核明细表!$U:$U,$D13,使用权资产审核明细表!$V:$V,$E13),0)))))","v":""},{"$f":"IF($B13=\"\",\"\",IF($C13=\"固定资产\",SUMIFS(固定资产审核明细表!$BI:$BI,固定资产审核明细表!$C:$C,$B13,固定资产审核明细表!$Z:$Z,$D13,固定资产审核明细表!$AA:$AA,$E13,固定资产审核明细表!$BK:$BK,H$2),IF($C13=\"无形资产\",SUMIFS(无形资产审核明细表!$AW:$AW,无形资产审核明细表!$B:$B,$B13,无形资产审核明细表!$T:$T,$D13,无形资产审核明细表!$U:$U,$E13),IF($C13=\"长期待摊费用\",SUMIFS(长期待摊费用审核明细表!$AO:$AO,长期待摊费用审核明细表!$B:$B,$B13,长期待摊费用审核明细表!$T:$T,$D13,长期待摊费用审核明细表!$U:$U,$E13),IF($C13=\"使用权资产\",SUMIFS(使用权资产审核明细表!$AJ:$AJ,使用权资产审核明细表!$B:$B,$B13,使用权资产审核明细表!$U:$U,$D13,使用权资产审核明细表!$V:$V,$E13),0)))))","v":""},{"$f":"IF($B13=\"\",\"\",IF($C13=\"固定资产\",SUMIFS(固定资产审核明细表!$BI:$BI,固定资产审核明细表!$C:$C,$B13,固定资产审核明细表!$Z:$Z,$D13,固定资产审核明细表!$AA:$AA,$E13,固定资产审核明细表!$BK:$BK,I$2),IF($C13=\"无形资产\",SUMIFS(无形资产审核明细表!$AW:$AW,无形资产审核明细表!$B:$B,$B13,无形资产审核明细表!$T:$T,$D13,无形资产审核明细表!$U:$U,$E13),IF($C13=\"长期待摊费用\",SUMIFS(长期待摊费用审核明细表!$AO:$AO,长期待摊费用审核明细表!$B:$B,$B13,长期待摊费用审核明细表!$T:$T,$D13,长期待摊费用审核明细表!$U:$U,$E13),IF($C13=\"使用权资产\",SUMIFS(使用权资产审核明细表!$AJ:$AJ,使用权资产审核明细表!$B:$B,$B13,使用权资产审核明细表!$U:$U,$D13,使用权资产审核明细表!$V:$V,$E13),0)))))","v":""},{"$error":"#VALUE!"},{"$f":"IF($B13=\"\",\"\",IF($C13=\"固定资产\",SUMIFS(固定资产审核明细表!BJ:BJ,固定资产审核明细表!$C:$C,$B13,固定资产审核明细表!$Z:$Z,$D13,固定资产审核明细表!$AA:$AA,$E13),IF($C13=\"无形资产\",SUMIFS(无形资产审核明细表!AX:AX,无形资产审核明细表!$B:$B,$B13,无形资产审核明细表!$T:$T,$D13,无形资产审核明细表!$U:$U,$E13),IF($C13=\"长期待摊费用\",SUMIFS(长期待摊费用审核明细表!AP:AP,长期待摊费用审核明细表!$B:$B,$B13,长期待摊费用审核明细表!$T:$T,$D13,长期待摊费用审核明细表!$U:$U,$E13),IF($C13=\"使用权资产\",SUMIFS(使用权资产审核明细表!AK:AK,使用权资产审核明细表!$B:$B,$B13,使用权资产审核明细表!$U:$U,$D13,使用权资产审核明细表!$V:$V,$E13),0)))))","v":""},{"$f":"IF($B13=\"\",\"\",IF($C13=\"固定资产\",IF(COUNTIF($D$3:$D13,$D13)=1,SUMIFS(固定资产审核明细表!BE:BE,固定资产审核明细表!$C:$C,$B13,固定资产审核明细表!$Z:$Z,$D13,固定资产审核明细表!$AC:$AC,\"是\"),0),IF($C13=\"无形资产\",SUMIFS(无形资产审核明细表!AV:AV,无形资产审核明细表!$B:$B,$B13,无形资产审核明细表!$T:$T,$D13,无形资产审核明细表!$U:$U,$E13),IF($C13=\"长期待摊费用\",SUMIFS(长期待摊费用审核明细表!AN:AN,长期待摊费用审核明细表!$B:$B,$B13,长期待摊费用审核明细表!$T:$T,$D13,长期待摊费用审核明细表!$U:$U,$E13),IF($C13=\"使用权资产\",SUMIFS(使用权资产审核明细表!AI:AI,使用权资产审核明细表!$B:$B,$B13,使用权资产审核明细表!$U:$U,$D13,使用权资产审核明细表!$V:$V,$E13),0)))))","v":""},{"$f":"IF($B13=\"\",\"\",IF($C13=\"固定资产\",SUMIFS(固定资产审核明细表!W:W,固定资产审核明细表!$C:$C,$B13,固定资产审核明细表!$Z:$Z,$D13,固定资产审核明细表!$AA:$AA,$E13),IF($C13=\"无形资产\",SUMIFS(无形资产审核明细表!R:R,无形资产审核明细表!$B:$B,$B13,无形资产审核明细表!$T:$T,$D13,无形资产审核明细表!$U:$U,$E13),IF($C13=\"长期待摊费用\",SUMIFS(长期待摊费用审核明细表!R:R,长期待摊费用审核明细表!$B:$B,$B13,长期待摊费用审核明细表!$T:$T,$D13,长期待摊费用审核明细表!$U:$U,$E13),IF($C13=\"使用权资产\",SUMIFS(使用权资产审核明细表!Q:Q,使用权资产审核明细表!$B:$B,$B13,使用权资产审核明细表!$U:$U,$D13,使用权资产审核明细表!$V:$V,$E13),0)))))","v":""}]
[12,null,null,null,null,{"$f":"IF($B14=\"\",\"\",IF($C14=\"固定资产\",SUMIFS(固定资产审核明细表!AE:AE,固定资产审核明细表!$C:$C,$B14,固定资产审核明细表!$Z:$Z,$D14,固定资产审核明细表!$AA:$AA,$E14),IF($C14=\"无形资产\",SUMIFS(无形资产审核明细表!X:X,无形资产审核明细表!$B:$B,$B14,无形资产审核明细表!$T:$T,$D14,无形资产审核明细表!$U:$U,$E14),IF($C14=\"长期待摊费用\",SUMIFS(长期待摊费用审核明细表!X:X,长期待摊费用审核明细表!$B:$B,$B14,长期待摊费用审核明细表!$T:$T,$D14,长期待摊费用审核明细表!$U:$U,$E14),IF($C14=\"使用权资产\",SUMIFS(使用权资产审核明细表!Z:Z,使用权资产审核明细表!$B:$B,$B14,使用权资产审核明细表!$U:$U,$D14,使用权资产审核明细表!$V:$V,$E14),0)))))","v":""},{"$f":"IF($B14=\"\",\"\",IF($C14=\"固定资产\",SUMIFS(固定资产审核明细表!BF:BF,固定资产审核明细表!$C:$C,$B14,固定资产审核明细表!$Z:$Z,$D14,固定资产审核明细表!$AA:$AA,$E14),IF($C14=\"无形资产\",SUMIFS(无形资产审核明细表!AV:AV,无形资产审核明细表!$B:$B,$B14,无形资产审核明细表!$T:$T,$D14,无形资产审核明细表!$U:$U,$E14),IF($C14=\"长期待摊费用\",SUMIFS(长期待摊费用审核明细表!AN:AN,长期待摊费用审核明细表!$B:$B,$B14,长期待摊费用审核明细表!$T:$T,$D14,长期待摊费用审核明细表!$U:$U,$E14),IF($C14=\"使用权资产\",SUMIFS(使用权资产审核明细表!AI:AI,使用权资产审核明细表!$B:$B,$B14,使用权资产审核明细表!$U:$U,$D14,使用权资产审核明细表!$V:$V,$E14),0)))))","v":""},{"$f":"IF($B14=\"\",\"\",IF($C14=\"固定资产\",SUMIFS(固定资产审核明细表!$BI:$BI,固定资产审核明细表!$C:$C,$B14,固定资产审核明细表!$Z:$Z,$D14,固定资产审核明细表!$AA:$AA,$E14,固定资产审核明细表!$BK:$BK,H$2),IF($C14=\"无形资产\",SUMIFS(无形资产审核明细表!$AW:$AW,无形资产审核明细表!$B:$B,$B14,无形资产审核明细表!$T:$T,$D14,无形资产审核明细表!$U:$U,$E14),IF($C14=\"长期待摊费用\",SUMIFS(长期待摊费用审核明细表!$AO:$AO,长期待摊费用审核明细表!$B:$B,$B14,长期待摊费用审核明细表!$T:$T,$D14,长期待摊费用审核明细表!$U:$U,$E14),IF($C14=\"使用权资产\",SUMIFS(使用权资产审核明细表!$AJ:$AJ,使用权资产审核明细表!$B:$B,$B14,使用权资产审核明细表!$U:$U,$D14,使用权资产审核明细表!$V:$V,$E14),0)))))","v":""},{"$f":"IF($B14=\"\",\"\",IF($C14=\"固定资产\",SUMIFS(固定资产审核明细表!$BI:$BI,固定资产审核明细表!$C:$C,$B14,固定资产审核明细表!$Z:$Z,$D14,固定资产审核明细表!$AA:$AA,$E14,固定资产审核明细表!$BK:$BK,I$2),IF($C14=\"无形资产\",SUMIFS(无形资产审核明细表!$AW:$AW,无形资产审核明细表!$B:$B,$B14,无形资产审核明细表!$T:$T,$D14,无形资产审核明细表!$U:$U,$E14),IF($C14=\"长期待摊费用\",SUMIFS(长期待摊费用审核明细表!$AO:$AO,长期待摊费用审核明细表!$B:$B,$B14,长期待摊费用审核明细表!$T:$T,$D14,长期待摊费用审核明细表!$U:$U,$E14),IF($C14=\"使用权资产\",SUMIFS(使用权资产审核明细表!$AJ:$AJ,使用权资产审核明细表!$B:$B,$B14,使用权资产审核明细表!$U:$U,$D14,使用权资产审核明细表!$V:$V,$E14),0)))))","v":""},{"$error":"#VALUE!"},{"$f":"IF($B14=\"\",\"\",IF($C14=\"固定资产\",SUMIFS(固定资产审核明细表!BJ:BJ,固定资产审核明细表!$C:$C,$B14,固定资产审核明细表!$Z:$Z,$D14,固定资产审核明细表!$AA:$AA,$E14),IF($C14=\"无形资产\",SUMIFS(无形资产审核明细表!AX:AX,无形资产审核明细表!$B:$B,$B14,无形资产审核明细表!$T:$T,$D14,无形资产审核明细表!$U:$U,$E14),IF($C14=\"长期待摊费用\",SUMIFS(长期待摊费用审核明细表!AP:AP,长期待摊费用审核明细表!$B:$B,$B14,长期待摊费用审核明细表!$T:$T,$D14,长期待摊费用审核明细表!$U:$U,$E14),IF($C14=\"使用权资产\",SUMIFS(使用权资产审核明细表!AK:AK,使用权资产审核明细表!$B:$B,$B14,使用权资产审核明细表!$U:$U,$D14,使用权资产审核明细表!$V:$V,$E14),0)))))","v":""},{"$f":"IF($B14=\"\",\"\",IF($C14=\"固定资产\",IF(COUNTIF($D$3:$D14,$D14)=1,SUMIFS(固定资产审核明细表!BE:BE,固定资产审核明细表!$C:$C,$B14,固定资产审核明细表!$Z:$Z,$D14,固定资产审核明细表!$AC:$AC,\"是\"),0),IF($C14=\"无形资产\",SUMIFS(无形资产审核明细表!AV:AV,无形资产审核明细表!$B:$B,$B14,无形资产审核明细表!$T:$T,$D14,无形资产审核明细表!$U:$U,$E14),IF($C14=\"长期待摊费用\",SUMIFS(长期待摊费用审核明细表!AN:AN,长期待摊费用审核明细表!$B:$B,$B14,长期待摊费用审核明细表!$T:$T,$D14,长期待摊费用审核明细表!$U:$U,$E14),IF($C14=\"使用权资产\",SUMIFS(使用权资产审核明细表!AI:AI,使用权资产审核明细表!$B:$B,$B14,使用权资产审核明细表!$U:$U,$D14,使用权资产审核明细表!$V:$V,$E14),0)))))","v":""},{"$f":"IF($B14=\"\",\"\",IF($C14=\"固定资产\",SUMIFS(固定资产审核明细表!W:W,固定资产审核明细表!$C:$C,$B14,固定资产审核明细表!$Z:$Z,$D14,固定资产审核明细表!$AA:$AA,$E14),IF($C14=\"无形资产\",SUMIFS(无形资产审核明细表!R:R,无形资产审核明细表!$B:$B,$B14,无形资产审核明细表!$T:$T,$D14,无形资产审核明细表!$U:$U,$E14),IF($C14=\"长期待摊费用\",SUMIFS(长期待摊费用审核明细表!R:R,长期待摊费用审核明细表!$B:$B,$B14,长期待摊费用审核明细表!$T:$T,$D14,长期待摊费用审核明细表!$U:$U,$E14),IF($C14=\"使用权资产\",SUMIFS(使用权资产审核明细表!Q:Q,使用权资产审核明细表!$B:$B,$B14,使用权资产审核明细表!$U:$U,$D14,使用权资产审核明细表!$V:$V,$E14),0)))))","v":""}]
[13,null,null,null,null,{"$f":"IF($B15=\"\",\"\",IF($C15=\"固定资产\",SUMIFS(固定资产审核明细表!AE:AE,固定资产审核明细表!$C:$C,$B15,固定资产审核明细表!$Z:$Z,$D15,固定资产审核明细表!$AA:$AA,$E15),IF($C15=\"无形资产\",SUMIFS(无形资产审核明细表!X:X,无形资产审核明细表!$B:$B,$B15,无形资产审核明细表!$T:$T,$D15,无形资产审核明细表!$U:$U,$E15),IF($C15=\"长期待摊费用\",SUMIFS(长期待摊费用审核明细表!X:X,长期待摊费用审核明细表!$B:$B,$B15,长期待摊费用审核明细表!$T:$T,$D15,长期待摊费用审核明细表!$U:$U,$E15),IF($C15=\"使用权资产\",SUMIFS(使用权资产审核明细表!Z:Z,使用权资产审核明细表!$B:$B,$B15,使用权资产审核明细表!$U:$U,$D15,使用权资产审核明细表!$V:$V,$E15),0)))))","v":""},{"$f":"IF($B15=\"\",\"\",IF($C15=\"固定资产\",SUMIFS(固定资产审核明细表!BF:BF,固定资产审核明细表!$C:$C,$B15,固定资产审核明细表!$Z:$Z,$D15,固定资产审核明细表!$AA:$AA,$E15),IF($C15=\"无形资产\",SUMIFS(无形资产审核明细表!AV:AV,无形资产审核明细表!$B:$B,$B15,无形资产审核明细表!$T:$T,$D15,无形资产审核明细表!$U:$U,$E15),IF($C15=\"长期待摊费用\",SUMIFS(长期待摊费用审核明细表!AN:AN,长期待摊费用审核明细表!$B:$B,$B15,长期待摊费用审核明细表!$T:$T,$D15,长期待摊费用审核明细表!$U:$U,$E15),IF($C15=\"使用权资产\",SUMIFS(使用权资产审核明细表!AI:AI,使用权资产审核明细表!$B:$B,$B15,使用权资产审核明细表!$U:$U,$D15,使用权资产审核明细表!$V:$V,$E15),0)))))","v":""},{"$f":"IF($B15=\"\",\"\",IF($C15=\"固定资产\",SUMIFS(固定资产审核明细表!$BI:$BI,固定资产审核明细表!$C:$C,$B15,固定资产审核明细表!$Z:$Z,$D15,固定资产审核明细表!$AA:$AA,$E15,固定资产审核明细表!$BK:$BK,H$2),IF($C15=\"无形资产\",SUMIFS(无形资产审核明细表!$AW:$AW,无形资产审核明细表!$B:$B,$B15,无形资产审核明细表!$T:$T,$D15,无形资产审核明细表!$U:$U,$E15),IF($C15=\"长期待摊费用\",SUMIFS(长期待摊费用审核明细表!$AO:$AO,长期待摊费用审核明细表!$B:$B,$B15,长期待摊费用审核明细表!$T:$T,$D15,长期待摊费用审核明细表!$U:$U,$E15),IF($C15=\"使用权资产\",SUMIFS(使用权资产审核明细表!$AJ:$AJ,使用权资产审核明细表!$B:$B,$B15,使用权资产审核明细表!$U:$U,$D15,使用权资产审核明细表!$V:$V,$E15),0)))))","v":""},{"$f":"IF($B15=\"\",\"\",IF($C15=\"固定资产\",SUMIFS(固定资产审核明细表!$BI:$BI,固定资产审核明细表!$C:$C,$B15,固定资产审核明细表!$Z:$Z,$D15,固定资产审核明细表!$AA:$AA,$E15,固定资产审核明细表!$BK:$BK,I$2),IF($C15=\"无形资产\",SUMIFS(无形资产审核明细表!$AW:$AW,无形资产审核明细表!$B:$B,$B15,无形资产审核明细表!$T:$T,$D15,无形资产审核明细表!$U:$U,$E15),IF($C15=\"长期待摊费用\",SUMIFS(长期待摊费用审核明细表!$AO:$AO,长期待摊费用审核明细表!$B:$B,$B15,长期待摊费用审核明细表!$T:$T,$D15,长期待摊费用审核明细表!$U:$U,$E15),IF($C15=\"使用权资产\",SUMIFS(使用权资产审核明细表!$AJ:$AJ,使用权资产审核明细表!$B:$B,$B15,使用权资产审核明细表!$U:$U,$D15,使用权资产审核明细表!$V:$V,$E15),0)))))","v":""},{"$error":"#VALUE!"},{"$f":"IF($B15=\"\",\"\",IF($C15=\"固定资产\",SUMIFS(固定资产审核明细表!BJ:BJ,固定资产审核明细表!$C:$C,$B15,固定资产审核明细表!$Z:$Z,$D15,固定资产审核明细表!$AA:$AA,$E15),IF($C15=\"无形资产\",SUMIFS(无形资产审核明细表!AX:AX,无形资产审核明细表!$B:$B,$B15,无形资产审核明细表!$T:$T,$D15,无形资产审核明细表!$U:$U,$E15),IF($C15=\"长期待摊费用\",SUMIFS(长期待摊费用审核明细表!AP:AP,长期待摊费用审核明细表!$B:$B,$B15,长期待摊费用审核明细表!$T:$T,$D15,长期待摊费用审核明细表!$U:$U,$E15),IF($C15=\"使用权资产\",SUMIFS(使用权资产审核明细表!AK:AK,使用权资产审核明细表!$B:$B,$B15,使用权资产审核明细表!$U:$U,$D15,使用权资产审核明细表!$V:$V,$E15),0)))))","v":""},{"$f":"IF($B15=\"\",\"\",IF($C15=\"固定资产\",IF(COUNTIF($D$3:$D15,$D15)=1,SUMIFS(固定资产审核明细表!BE:BE,固定资产审核明细表!$C:$C,$B15,固定资产审核明细表!$Z:$Z,$D15,固定资产审核明细表!$AC:$AC,\"是\"),0),IF($C15=\"无形资产\",SUMIFS(无形资产审核明细表!AV:AV,无形资产审核明细表!$B:$B,$B15,无形资产审核明细表!$T:$T,$D15,无形资产审核明细表!$U:$U,$E15),IF($C15=\"长期待摊费用\",SUMIFS(长期待摊费用审核明细表!AN:AN,长期待摊费用审核明细表!$B:$B,$B15,长期待摊费用审核明细表!$T:$T,$D15,长期待摊费用审核明细表!$U:$U,$E15),IF($C15=\"使用权资产\",SUMIFS(使用权资产审核明细表!AI:AI,使用权资产审核明细表!$B:$B,$B15,使用权资产审核明细表!$U:$U,$D15,使用权资产审核明细表!$V:$V,$E15),0)))))","v":""},{"$f":"IF($B15=\"\",\"\",IF($C15=\"固定资产\",SUMIFS(固定资产审核明细表!W:W,固定资产审核明细表!$C:$C,$B15,固定资产审核明细表!$Z:$Z,$D15,固定资产审核明细表!$AA:$AA,$E15),IF($C15=\"无形资产\",SUMIFS(无形资产审核明细表!R:R,无形资产审核明细表!$B:$B,$B15,无形资产审核明细表!$T:$T,$D15,无形资产审核明细表!$U:$U,$E15),IF($C15=\"长期待摊费用\",SUMIFS(长期待摊费用审核明细表!R:R,长期待摊费用审核明细表!$B:$B,$B15,长期待摊费用审核明细表!$T:$T,$D15,长期待摊费用审核明细表!$U:$U,$E15),IF($C15=\"使用权资产\",SUMIFS(使用权资产审核明细表!Q:Q,使用权资产审核明细表!$B:$B,$B15,使用权资产审核明细表!$U:$U,$D15,使用权资产审核明细表!$V:$V,$E15),0)))))","v":""}]
[14,null,null,null,null,{"$f":"IF($B16=\"\",\"\",IF($C16=\"固定资产\",SUMIFS(固定资产审核明细表!AE:AE,固定资产审核明细表!$C:$C,$B16,固定资产审核明细表!$Z:$Z,$D16,固定资产审核明细表!$AA:$AA,$E16),IF($C16=\"无形资产\",SUMIFS(无形资产审核明细表!X:X,无形资产审核明细表!$B:$B,$B16,无形资产审核明细表!$T:$T,$D16,无形资产审核明细表!$U:$U,$E16),IF($C16=\"长期待摊费用\",SUMIFS(长期待摊费用审核明细表!X:X,长期待摊费用审核明细表!$B:$B,$B16,长期待摊费用审核明细表!$T:$T,$D16,长期待摊费用审核明细表!$U:$U,$E16),IF($C16=\"使用权资产\",SUMIFS(使用权资产审核明细表!Z:Z,使用权资产审核明细表!$B:$B,$B16,使用权资产审核明细表!$U:$U,$D16,使用权资产审核明细表!$V:$V,$E16),0)))))","v":""},{"$f":"IF($B16=\"\",\"\",IF($C16=\"固定资产\",SUMIFS(固定资产审核明细表!BF:BF,固定资产审核明细表!$C:$C,$B16,固定资产审核明细表!$Z:$Z,$D16,固定资产审核明细表!$AA:$AA,$E16),IF($C16=\"无形资产\",SUMIFS(无形资产审核明细表!AV:AV,无形资产审核明细表!$B:$B,$B16,无形资产审核明细表!$T:$T,$D16,无形资产审核明细表!$U:$U,$E16),IF($C16=\"长期待摊费用\",SUMIFS(长期待摊费用审核明细表!AN:AN,长期待摊费用审核明细表!$B:$B,$B16,长期待摊费用审核明细表!$T:$T,$D16,长期待摊费用审核明细表!$U:$U,$E16),IF($C16=\"使用权资产\",SUMIFS(使用权资产审核明细表!AI:AI,使用权资产审核明细表!$B:$B,$B16,使用权资产审核明细表!$U:$U,$D16,使用权资产审核明细表!$V:$V,$E16),0)))))","v":""},{"$f":"IF($B16=\"\",\"\",IF($C16=\"固定资产\",SUMIFS(固定资产审核明细表!$BI:$BI,固定资产审核明细表!$C:$C,$B16,固定资产审核明细表!$Z:$Z,$D16,固定资产审核明细表!$AA:$AA,$E16,固定资产审核明细表!$BK:$BK,H$2),IF($C16=\"无形资产\",SUMIFS(无形资产审核明细表!$AW:$AW,无形资产审核明细表!$B:$B,$B16,无形资产审核明细表!$T:$T,$D16,无形资产审核明细表!$U:$U,$E16),IF($C16=\"长期待摊费用\",SUMIFS(长期待摊费用审核明细表!$AO:$AO,长期待摊费用审核明细表!$B:$B,$B16,长期待摊费用审核明细表!$T:$T,$D16,长期待摊费用审核明细表!$U:$U,$E16),IF($C16=\"使用权资产\",SUMIFS(使用权资产审核明细表!$AJ:$AJ,使用权资产审核明细表!$B:$B,$B16,使用权资产审核明细表!$U:$U,$D16,使用权资产审核明细表!$V:$V,$E16),0)))))","v":""},{"$f":"IF($B16=\"\",\"\",IF($C16=\"固定资产\",SUMIFS(固定资产审核明细表!$BI:$BI,固定资产审核明细表!$C:$C,$B16,固定资产审核明细表!$Z:$Z,$D16,固定资产审核明细表!$AA:$AA,$E16,固定资产审核明细表!$BK:$BK,I$2),IF($C16=\"无形资产\",SUMIFS(无形资产审核明细表!$AW:$AW,无形资产审核明细表!$B:$B,$B16,无形资产审核明细表!$T:$T,$D16,无形资产审核明细表!$U:$U,$E16),IF($C16=\"长期待摊费用\",SUMIFS(长期待摊费用审核明细表!$AO:$AO,长期待摊费用审核明细表!$B:$B,$B16,长期待摊费用审核明细表!$T:$T,$D16,长期待摊费用审核明细表!$U:$U,$E16),IF($C16=\"使用权资产\",SUMIFS(使用权资产审核明细表!$AJ:$AJ,使用权资产审核明细表!$B:$B,$B16,使用权资产审核明细表!$U:$U,$D16,使用权资产审核明细表!$V:$V,$E16),0)))))","v":""},{"$error":"#VALUE!"},{"$f":"IF($B16=\"\",\"\",IF($C16=\"固定资产\",SUMIFS(固定资产审核明细表!BJ:BJ,固定资产审核明细表!$C:$C,$B16,固定资产审核明细表!$Z:$Z,$D16,固定资产审核明细表!$AA:$AA,$E16),IF($C16=\"无形资产\",SUMIFS(无形资产审核明细表!AX:AX,无形资产审核明细表!$B:$B,$B16,无形资产审核明细表!$T:$T,$D16,无形资产审核明细表!$U:$U,$E16),IF($C16=\"长期待摊费用\",SUMIFS(长期待摊费用审核明细表!AP:AP,长期待摊费用审核明细表!$B:$B,$B16,长期待摊费用审核明细表!$T:$T,$D16,长期待摊费用审核明细表!$U:$U,$E16),IF($C16=\"使用权资产\",SUMIFS(使用权资产审核明细表!AK:AK,使用权资产审核明细表!$B:$B,$B16,使用权资产审核明细表!$U:$U,$D16,使用权资产审核明细表!$V:$V,$E16),0)))))","v":""},{"$f":"IF($B16=\"\",\"\",IF($C16=\"固定资产\",IF(COUNTIF($D$3:$D16,$D16)=1,SUMIFS(固定资产审核明细表!BE:BE,固定资产审核明细表!$C:$C,$B16,固定资产审核明细表!$Z:$Z,$D16,固定资产审核明细表!$AC:$AC,\"是\"),0),IF($C16=\"无形资产\",SUMIFS(无形资产审核明细表!AV:AV,无形资产审核明细表!$B:$B,$B16,无形资产审核明细表!$T:$T,$D16,无形资产审核明细表!$U:$U,$E16),IF($C16=\"长期待摊费用\",SUMIFS(长期待摊费用审核明细表!AN:AN,长期待摊费用审核明细表!$B:$B,$B16,长期待摊费用审核明细表!$T:$T,$D16,长期待摊费用审核明细表!$U:$U,$E16),IF($C16=\"使用权资产\",SUMIFS(使用权资产审核明细表!AI:AI,使用权资产审核明细表!$B:$B,$B16,使用权资产审核明细表!$U:$U,$D16,使用权资产审核明细表!$V:$V,$E16),0)))))","v":""},{"$f":"IF($B16=\"\",\"\",IF($C16=\"固定资产\",SUMIFS(固定资产审核明细表!W:W,固定资产审核明细表!$C:$C,$B16,固定资产审核明细表!$Z:$Z,$D16,固定资产审核明细表!$AA:$AA,$E16),IF($C16=\"无形资产\",SUMIFS(无形资产审核明细表!R:R,无形资产审核明细表!$B:$B,$B16,无形资产审核明细表!$T:$T,$D16,无形资产审核明细表!$U:$U,$E16),IF($C16=\"长期待摊费用\",SUMIFS(长期待摊费用审核明细表!R:R,长期待摊费用审核明细表!$B:$B,$B16,长期待摊费用审核明细表!$T:$T,$D16,长期待摊费用审核明细表!$U:$U,$E16),IF($C16=\"使用权资产\",SUMIFS(使用权资产审核明细表!Q:Q,使用权资产审核明细表!$B:$B,$B16,使用权资产审核明细表!$U:$U,$D16,使用权资产审核明细表!$V:$V,$E16),0)))))","v":""}]
[15,null,null,null,null,{"$f":"IF($B17=\"\",\"\",IF($C17=\"固定资产\",SUMIFS(固定资产审核明细表!AE:AE,固定资产审核明细表!$C:$C,$B17,固定资产审核明细表!$Z:$Z,$D17,固定资产审核明细表!$AA:$AA,$E17),IF($C17=\"无形资产\",SUMIFS(无形资产审核明细表!X:X,无形资产审核明细表!$B:$B,$B17,无形资产审核明细表!$T:$T,$D17,无形资产审核明细表!$U:$U,$E17),IF($C17=\"长期待摊费用\",SUMIFS(长期待摊费用审核明细表!X:X,长期待摊费用审核明细表!$B:$B,$B17,长期待摊费用审核明细表!$T:$T,$D17,长期待摊费用审核明细表!$U:$U,$E17),IF($C17=\"使用权资产\",SUMIFS(使用权资产审核明细表!Z:Z,使用权资产审核明细表!$B:$B,$B17,使用权资产审核明细表!$U:$U,$D17,使用权资产审核明细表!$V:$V,$E17),0)))))","v":""},{"$f":"IF($B17=\"\",\"\",IF($C17=\"固定资产\",SUMIFS(固定资产审核明细表!BF:BF,固定资产审核明细表!$C:$C,$B17,固定资产审核明细表!$Z:$Z,$D17,固定资产审核明细表!$AA:$AA,$E17),IF($C17=\"无形资产\",SUMIFS(无形资产审核明细表!AV:AV,无形资产审核明细表!$B:$B,$B17,无形资产审核明细表!$T:$T,$D17,无形资产审核明细表!$U:$U,$E17),IF($C17=\"长期待摊费用\",SUMIFS(长期待摊费用审核明细表!AN:AN,长期待摊费用审核明细表!$B:$B,$B17,长期待摊费用审核明细表!$T:$T,$D17,长期待摊费用审核明细表!$U:$U,$E17),IF($C17=\"使用权资产\",SUMIFS(使用权资产审核明细表!AI:AI,使用权资产审核明细表!$B:$B,$B17,使用权资产审核明细表!$U:$U,$D17,使用权资产审核明细表!$V:$V,$E17),0)))))","v":""},{"$f":"IF($B17=\"\",\"\",IF($C17=\"固定资产\",SUMIFS(固定资产审核明细表!$BI:$BI,固定资产审核明细表!$C:$C,$B17,固定资产审核明细表!$Z:$Z,$D17,固定资产审核明细表!$AA:$AA,$E17,固定资产审核明细表!$BK:$BK,H$2),IF($C17=\"无形资产\",SUMIFS(无形资产审核明细表!$AW:$AW,无形资产审核明细表!$B:$B,$B17,无形资产审核明细表!$T:$T,$D17,无形资产审核明细表!$U:$U,$E17),IF($C17=\"长期待摊费用\",SUMIFS(长期待摊费用审核明细表!$AO:$AO,长期待摊费用审核明细表!$B:$B,$B17,长期待摊费用审核明细表!$T:$T,$D17,长期待摊费用审核明细表!$U:$U,$E17),IF($C17=\"使用权资产\",SUMIFS(使用权资产审核明细表!$AJ:$AJ,使用权资产审核明细表!$B:$B,$B17,使用权资产审核明细表!$U:$U,$D17,使用权资产审核明细表!$V:$V,$E17),0)))))","v":""},{"$f":"IF($B17=\"\",\"\",IF($C17=\"固定资产\",SUMIFS(固定资产审核明细表!$BI:$BI,固定资产审核明细表!$C:$C,$B17,固定资产审核明细表!$Z:$Z,$D17,固定资产审核明细表!$AA:$AA,$E17,固定资产审核明细表!$BK:$BK,I$2),IF($C17=\"无形资产\",SUMIFS(无形资产审核明细表!$AW:$AW,无形资产审核明细表!$B:$B,$B17,无形资产审核明细表!$T:$T,$D17,无形资产审核明细表!$U:$U,$E17),IF($C17=\"长期待摊费用\",SUMIFS(长期待摊费用审核明细表!$AO:$AO,长期待摊费用审核明细表!$B:$B,$B17,长期待摊费用审核明细表!$T:$T,$D17,长期待摊费用审核明细表!$U:$U,$E17),IF($C17=\"使用权资产\",SUMIFS(使用权资产审核明细表!$AJ:$AJ,使用权资产审核明细表!$B:$B,$B17,使用权资产审核明细表!$U:$U,$D17,使用权资产审核明细表!$V:$V,$E17),0)))))","v":""},{"$error":"#VALUE!"},{"$f":"IF($B17=\"\",\"\",IF($C17=\"固定资产\",SUMIFS(固定资产审核明细表!BJ:BJ,固定资产审核明细表!$C:$C,$B17,固定资产审核明细表!$Z:$Z,$D17,固定资产审核明细表!$AA:$AA,$E17),IF($C17=\"无形资产\",SUMIFS(无形资产审核明细表!AX:AX,无形资产审核明细表!$B:$B,$B17,无形资产审核明细表!$T:$T,$D17,无形资产审核明细表!$U:$U,$E17),IF($C17=\"长期待摊费用\",SUMIFS(长期待摊费用审核明细表!AP:AP,长期待摊费用审核明细表!$B:$B,$B17,长期待摊费用审核明细表!$T:$T,$D17,长期待摊费用审核明细表!$U:$U,$E17),IF($C17=\"使用权资产\",SUMIFS(使用权资产审核明细表!AK:AK,使用权资产审核明细表!$B:$B,$B17,使用权资产审核明细表!$U:$U,$D17,使用权资产审核明细表!$V:$V,$E17),0)))))","v":""},{"$f":"IF($B17=\"\",\"\",IF($C17=\"固定资产\",IF(COUNTIF($D$3:$D17,$D17)=1,SUMIFS(固定资产审核明细表!BE:BE,固定资产审核明细表!$C:$C,$B17,固定资产审核明细表!$Z:$Z,$D17,固定资产审核明细表!$AC:$AC,\"是\"),0),IF($C17=\"无形资产\",SUMIFS(无形资产审核明细表!AV:AV,无形资产审核明细表!$B:$B,$B17,无形资产审核明细表!$T:$T,$D17,无形资产审核明细表!$U:$U,$E17),IF($C17=\"长期待摊费用\",SUMIFS(长期待摊费用审核明细表!AN:AN,长期待摊费用审核明细表!$B:$B,$B17,长期待摊费用审核明细表!$T:$T,$D17,长期待摊费用审核明细表!$U:$U,$E17),IF($C17=\"使用权资产\",SUMIFS(使用权资产审核明细表!AI:AI,使用权资产审核明细表!$B:$B,$B17,使用权资产审核明细表!$U:$U,$D17,使用权资产审核明细表!$V:$V,$E17),0)))))","v":""},{"$f":"IF($B17=\"\",\"\",IF($C17=\"固定资产\",SUMIFS(固定资产审核明细表!W:W,固定资产审核明细表!$C:$C,$B17,固定资产审核明细表!$Z:$Z,$D17,固定资产审核明细表!$AA:$AA,$E17),IF($C17=\"无形资产\",SUMIFS(无形资产审核明细表!R:R,无形资产审核明细表!$B:$B,$B17,无形资产审核明细表!$T:$T,$D17,无形资产审核明细表!$U:$U,$E17),IF($C17=\"长期待摊费用\",SUMIFS(长期待摊费用审核明细表!R:R,长期待摊费用审核明细表!$B:$B,$B17,长期待摊费用审核明细表!$T:$T,$D17,长期待摊费用审核明细表!$U:$U,$E17),IF($C17=\"使用权资产\",SUMIFS(使用权资产审核明细表!Q:Q,使用权资产审核明细表!$B:$B,$B17,使用权资产审核明细表!$U:$U,$D17,使用权资产审核明细表!$V:$V,$E17),0)))))","v":""}]
[16,null,null,null,null,{"$f":"IF($B18=\"\",\"\",IF($C18=\"固定资产\",SUMIFS(固定资产审核明细表!AE:AE,固定资产审核明细表!$C:$C,$B18,固定资产审核明细表!$Z:$Z,$D18,固定资产审核明细表!$AA:$AA,$E18),IF($C18=\"无形资产\",SUMIFS(无形资产审核明细表!X:X,无形资产审核明细表!$B:$B,$B18,无形资产审核明细表!$T:$T,$D18,无形资产审核明细表!$U:$U,$E18),IF($C18=\"长期待摊费用\",SUMIFS(长期待摊费用审核明细表!X:X,长期待摊费用审核明细表!$B:$B,$B18,长期待摊费用审核明细表!$T:$T,$D18,长期待摊费用审核明细表!$U:$U,$E18),IF($C18=\"使用权资产\",SUMIFS(使用权资产审核明细表!Z:Z,使用权资产审核明细表!$B:$B,$B18,使用权资产审核明细表!$U:$U,$D18,使用权资产审核明细表!$V:$V,$E18),0)))))","v":""},{"$f":"IF($B18=\"\",\"\",IF($C18=\"固定资产\",SUMIFS(固定资产审核明细表!BF:BF,固定资产审核明细表!$C:$C,$B18,固定资产审核明细表!$Z:$Z,$D18,固定资产审核明细表!$AA:$AA,$E18),IF($C18=\"无形资产\",SUMIFS(无形资产审核明细表!AV:AV,无形资产审核明细表!$B:$B,$B18,无形资产审核明细表!$T:$T,$D18,无形资产审核明细表!$U:$U,$E18),IF($C18=\"长期待摊费用\",SUMIFS(长期待摊费用审核明细表!AN:AN,长期待摊费用审核明细表!$B:$B,$B18,长期待摊费用审核明细表!$T:$T,$D18,长期待摊费用审核明细表!$U:$U,$E18),IF($C18=\"使用权资产\",SUMIFS(使用权资产审核明细表!AI:AI,使用权资产审核明细表!$B:$B,$B18,使用权资产审核明细表!$U:$U,$D18,使用权资产审核明细表!$V:$V,$E18),0)))))","v":""},{"$f":"IF($B18=\"\",\"\",IF($C18=\"固定资产\",SUMIFS(固定资产审核明细表!$BI:$BI,固定资产审核明细表!$C:$C,$B18,固定资产审核明细表!$Z:$Z,$D18,固定资产审核明细表!$AA:$AA,$E18,固定资产审核明细表!$BK:$BK,H$2),IF($C18=\"无形资产\",SUMIFS(无形资产审核明细表!$AW:$AW,无形资产审核明细表!$B:$B,$B18,无形资产审核明细表!$T:$T,$D18,无形资产审核明细表!$U:$U,$E18),IF($C18=\"长期待摊费用\",SUMIFS(长期待摊费用审核明细表!$AO:$AO,长期待摊费用审核明细表!$B:$B,$B18,长期待摊费用审核明细表!$T:$T,$D18,长期待摊费用审核明细表!$U:$U,$E18),IF($C18=\"使用权资产\",SUMIFS(使用权资产审核明细表!$AJ:$AJ,使用权资产审核明细表!$B:$B,$B18,使用权资产审核明细表!$U:$U,$D18,使用权资产审核明细表!$V:$V,$E18),0)))))","v":""},{"$f":"IF($B18=\"\",\"\",IF($C18=\"固定资产\",SUMIFS(固定资产审核明细表!$BI:$BI,固定资产审核明细表!$C:$C,$B18,固定资产审核明细表!$Z:$Z,$D18,固定资产审核明细表!$AA:$AA,$E18,固定资产审核明细表!$BK:$BK,I$2),IF($C18=\"无形资产\",SUMIFS(无形资产审核明细表!$AW:$AW,无形资产审核明细表!$B:$B,$B18,无形资产审核明细表!$T:$T,$D18,无形资产审核明细表!$U:$U,$E18),IF($C18=\"长期待摊费用\",SUMIFS(长期待摊费用审核明细表!$AO:$AO,长期待摊费用审核明细表!$B:$B,$B18,长期待摊费用审核明细表!$T:$T,$D18,长期待摊费用审核明细表!$U:$U,$E18),IF($C18=\"使用权资产\",SUMIFS(使用权资产审核明细表!$AJ:$AJ,使用权资产审核明细表!$B:$B,$B18,使用权资产审核明细表!$U:$U,$D18,使用权资产审核明细表!$V:$V,$E18),0)))))","v":""},{"$error":"#VALUE!"},{"$f":"IF($B18=\"\",\"\",IF($C18=\"固定资产\",SUMIFS(固定资产审核明细表!BJ:BJ,固定资产审核明细表!$C:$C,$B18,固定资产审核明细表!$Z:$Z,$D18,固定资产审核明细表!$AA:$AA,$E18),IF($C18=\"无形资产\",SUMIFS(无形资产审核明细表!AX:AX,无形资产审核明细表!$B:$B,$B18,无形资产审核明细表!$T:$T,$D18,无形资产审核明细表!$U:$U,$E18),IF($C18=\"长期待摊费用\",SUMIFS(长期待摊费用审核明细表!AP:AP,长期待摊费用审核明细表!$B:$B,$B18,长期待摊费用审核明细表!$T:$T,$D18,长期待摊费用审核明细表!$U:$U,$E18),IF($C18=\"使用权资产\",SUMIFS(使用权资产审核明细表!AK:AK,使用权资产审核明细表!$B:$B,$B18,使用权资产审核明细表!$U:$U,$D18,使用权资产审核明细表!$V:$V,$E18),0)))))","v":""},{"$f":"IF($B18=\"\",\"\",IF($C18=\"固定资产\",IF(COUNTIF($D$3:$D18,$D18)=1,SUMIFS(固定资产审核明细表!BE:BE,固定资产审核明细表!$C:$C,$B18,固定资产审核明细表!$Z:$Z,$D18,固定资产审核明细表!$AC:$AC,\"是\"),0),IF($C18=\"无形资产\",SUMIFS(无形资产审核明细表!AV:AV,无形资产审核明细表!$B:$B,$B18,无形资产审核明细表!$T:$T,$D18,无形资产审核明细表!$U:$U,$E18),IF($C18=\"长期待摊费用\",SUMIFS(长期待摊费用审核明细表!AN:AN,长期待摊费用审核明细表!$B:$B,$B18,长期待摊费用审核明细表!$T:$T,$D18,长期待摊费用审核明细表!$U:$U,$E18),IF($C18=\"使用权资产\",SUMIFS(使用权资产审核明细表!AI:AI,使用权资产审核明细表!$B:$B,$B18,使用权资产审核明细表!$U:$U,$D18,使用权资产审核明细表!$V:$V,$E18),0)))))","v":""},{"$f":"IF($B18=\"\",\"\",IF($C18=\"固定资产\",SUMIFS(固定资产审核明细表!W:W,固定资产审核明细表!$C:$C,$B18,固定资产审核明细表!$Z:$Z,$D18,固定资产审核明细表!$AA:$AA,$E18),IF($C18=\"无形资产\",SUMIFS(无形资产审核明细表!R:R,无形资产审核明细表!$B:$B,$B18,无形资产审核明细表!$T:$T,$D18,无形资产审核明细表!$U:$U,$E18),IF($C18=\"长期待摊费用\",SUMIFS(长期待摊费用审核明细表!R:R,长期待摊费用审核明细表!$B:$B,$B18,长期待摊费用审核明细表!$T:$T,$D18,长期待摊费用审核明细表!$U:$U,$E18),IF($C18=\"使用权资产\",SUMIFS(使用权资产审核明细表!Q:Q,使用权资产审核明细表!$B:$B,$B18,使用权资产审核明细表!$U:$U,$D18,使用权资产审核明细表!$V:$V,$E18),0)))))","v":""}]
[17,null,null,null,null,{"$f":"IF($B19=\"\",\"\",IF($C19=\"固定资产\",SUMIFS(固定资产审核明细表!AE:AE,固定资产审核明细表!$C:$C,$B19,固定资产审核明细表!$Z:$Z,$D19,固定资产审核明细表!$AA:$AA,$E19),IF($C19=\"无形资产\",SUMIFS(无形资产审核明细表!X:X,无形资产审核明细表!$B:$B,$B19,无形资产审核明细表!$T:$T,$D19,无形资产审核明细表!$U:$U,$E19),IF($C19=\"长期待摊费用\",SUMIFS(长期待摊费用审核明细表!X:X,长期待摊费用审核明细表!$B:$B,$B19,长期待摊费用审核明细表!$T:$T,$D19,长期待摊费用审核明细表!$U:$U,$E19),IF($C19=\"使用权资产\",SUMIFS(使用权资产审核明细表!Z:Z,使用权资产审核明细表!$B:$B,$B19,使用权资产审核明细表!$U:$U,$D19,使用权资产审核明细表!$V:$V,$E19),0)))))","v":""},{"$f":"IF($B19=\"\",\"\",IF($C19=\"固定资产\",SUMIFS(固定资产审核明细表!BF:BF,固定资产审核明细表!$C:$C,$B19,固定资产审核明细表!$Z:$Z,$D19,固定资产审核明细表!$AA:$AA,$E19),IF($C19=\"无形资产\",SUMIFS(无形资产审核明细表!AV:AV,无形资产审核明细表!$B:$B,$B19,无形资产审核明细表!$T:$T,$D19,无形资产审核明细表!$U:$U,$E19),IF($C19=\"长期待摊费用\",SUMIFS(长期待摊费用审核明细表!AN:AN,长期待摊费用审核明细表!$B:$B,$B19,长期待摊费用审核明细表!$T:$T,$D19,长期待摊费用审核明细表!$U:$U,$E19),IF($C19=\"使用权资产\",SUMIFS(使用权资产审核明细表!AI:AI,使用权资产审核明细表!$B:$B,$B19,使用权资产审核明细表!$U:$U,$D19,使用权资产审核明细表!$V:$V,$E19),0)))))","v":""},{"$f":"IF($B19=\"\",\"\",IF($C19=\"固定资产\",SUMIFS(固定资产审核明细表!$BI:$BI,固定资产审核明细表!$C:$C,$B19,固定资产审核明细表!$Z:$Z,$D19,固定资产审核明细表!$AA:$AA,$E19,固定资产审核明细表!$BK:$BK,H$2),IF($C19=\"无形资产\",SUMIFS(无形资产审核明细表!$AW:$AW,无形资产审核明细表!$B:$B,$B19,无形资产审核明细表!$T:$T,$D19,无形资产审核明细表!$U:$U,$E19),IF($C19=\"长期待摊费用\",SUMIFS(长期待摊费用审核明细表!$AO:$AO,长期待摊费用审核明细表!$B:$B,$B19,长期待摊费用审核明细表!$T:$T,$D19,长期待摊费用审核明细表!$U:$U,$E19),IF($C19=\"使用权资产\",SUMIFS(使用权资产审核明细表!$AJ:$AJ,使用权资产审核明细表!$B:$B,$B19,使用权资产审核明细表!$U:$U,$D19,使用权资产审核明细表!$V:$V,$E19),0)))))","v":""},{"$f":"IF($B19=\"\",\"\",IF($C19=\"固定资产\",SUMIFS(固定资产审核明细表!$BI:$BI,固定资产审核明细表!$C:$C,$B19,固定资产审核明细表!$Z:$Z,$D19,固定资产审核明细表!$AA:$AA,$E19,固定资产审核明细表!$BK:$BK,I$2),IF($C19=\"无形资产\",SUMIFS(无形资产审核明细表!$AW:$AW,无形资产审核明细表!$B:$B,$B19,无形资产审核明细表!$T:$T,$D19,无形资产审核明细表!$U:$U,$E19),IF($C19=\"长期待摊费用\",SUMIFS(长期待摊费用审核明细表!$AO:$AO,长期待摊费用审核明细表!$B:$B,$B19,长期待摊费用审核明细表!$T:$T,$D19,长期待摊费用审核明细表!$U:$U,$E19),IF($C19=\"使用权资产\",SUMIFS(使用权资产审核明细表!$AJ:$AJ,使用权资产审核明细表!$B:$B,$B19,使用权资产审核明细表!$U:$U,$D19,使用权资产审核明细表!$V:$V,$E19),0)))))","v":""},{"$error":"#VALUE!"},{"$f":"IF($B19=\"\",\"\",IF($C19=\"固定资产\",SUMIFS(固定资产审核明细表!BJ:BJ,固定资产审核明细表!$C:$C,$B19,固定资产审核明细表!$Z:$Z,$D19,固定资产审核明细表!$AA:$AA,$E19),IF($C19=\"无形资产\",SUMIFS(无形资产审核明细表!AX:AX,无形资产审核明细表!$B:$B,$B19,无形资产审核明细表!$T:$T,$D19,无形资产审核明细表!$U:$U,$E19),IF($C19=\"长期待摊费用\",SUMIFS(长期待摊费用审核明细表!AP:AP,长期待摊费用审核明细表!$B:$B,$B19,长期待摊费用审核明细表!$T:$T,$D19,长期待摊费用审核明细表!$U:$U,$E19),IF($C19=\"使用权资产\",SUMIFS(使用权资产审核明细表!AK:AK,使用权资产审核明细表!$B:$B,$B19,使用权资产审核明细表!$U:$U,$D19,使用权资产审核明细表!$V:$V,$E19),0)))))","v":""},{"$f":"IF($B19=\"\",\"\",IF($C19=\"固定资产\",IF(COUNTIF($D$3:$D19,$D19)=1,SUMIFS(固定资产审核明细表!BE:BE,固定资产审核明细表!$C:$C,$B19,固定资产审核明细表!$Z:$Z,$D19,固定资产审核明细表!$AC:$AC,\"是\"),0),IF($C19=\"无形资产\",SUMIFS(无形资产审核明细表!AV:AV,无形资产审核明细表!$B:$B,$B19,无形资产审核明细表!$T:$T,$D19,无形资产审核明细表!$U:$U,$E19),IF($C19=\"长期待摊费用\",SUMIFS(长期待摊费用审核明细表!AN:AN,长期待摊费用审核明细表!$B:$B,$B19,长期待摊费用审核明细表!$T:$T,$D19,长期待摊费用审核明细表!$U:$U,$E19),IF($C19=\"使用权资产\",SUMIFS(使用权资产审核明细表!AI:AI,使用权资产审核明细表!$B:$B,$B19,使用权资产审核明细表!$U:$U,$D19,使用权资产审核明细表!$V:$V,$E19),0)))))","v":""},{"$f":"IF($B19=\"\",\"\",IF($C19=\"固定资产\",SUMIFS(固定资产审核明细表!W:W,固定资产审核明细表!$C:$C,$B19,固定资产审核明细表!$Z:$Z,$D19,固定资产审核明细表!$AA:$AA,$E19),IF($C19=\"无形资产\",SUMIFS(无形资产审核明细表!R:R,无形资产审核明细表!$B:$B,$B19,无形资产审核明细表!$T:$T,$D19,无形资产审核明细表!$U:$U,$E19),IF($C19=\"长期待摊费用\",SUMIFS(长期待摊费用审核明细表!R:R,长期待摊费用审核明细表!$B:$B,$B19,长期待摊费用审核明细表!$T:$T,$D19,长期待摊费用审核明细表!$U:$U,$E19),IF($C19=\"使用权资产\",SUMIFS(使用权资产审核明细表!Q:Q,使用权资产审核明细表!$B:$B,$B19,使用权资产审核明细表!$U:$U,$D19,使用权资产审核明细表!$V:$V,$E19),0)))))","v":""}]
[18,null,null,null,null,{"$f":"IF($B20=\"\",\"\",IF($C20=\"固定资产\",SUMIFS(固定资产审核明细表!AE:AE,固定资产审核明细表!$C:$C,$B20,固定资产审核明细表!$Z:$Z,$D20,固定资产审核明细表!$AA:$AA,$E20),IF($C20=\"无形资产\",SUMIFS(无形资产审核明细表!X:X,无形资产审核明细表!$B:$B,$B20,无形资产审核明细表!$T:$T,$D20,无形资产审核明细表!$U:$U,$E20),IF($C20=\"长期待摊费用\",SUMIFS(长期待摊费用审核明细表!X:X,长期待摊费用审核明细表!$B:$B,$B20,长期待摊费用审核明细表!$T:$T,$D20,长期待摊费用审核明细表!$U:$U,$E20),IF($C20=\"使用权资产\",SUMIFS(使用权资产审核明细表!Z:Z,使用权资产审核明细表!$B:$B,$B20,使用权资产审核明细表!$U:$U,$D20,使用权资产审核明细表!$V:$V,$E20),0)))))","v":""},{"$f":"IF($B20=\"\",\"\",IF($C20=\"固定资产\",SUMIFS(固定资产审核明细表!BF:BF,固定资产审核明细表!$C:$C,$B20,固定资产审核明细表!$Z:$Z,$D20,固定资产审核明细表!$AA:$AA,$E20),IF($C20=\"无形资产\",SUMIFS(无形资产审核明细表!AV:AV,无形资产审核明细表!$B:$B,$B20,无形资产审核明细表!$T:$T,$D20,无形资产审核明细表!$U:$U,$E20),IF($C20=\"长期待摊费用\",SUMIFS(长期待摊费用审核明细表!AN:AN,长期待摊费用审核明细表!$B:$B,$B20,长期待摊费用审核明细表!$T:$T,$D20,长期待摊费用审核明细表!$U:$U,$E20),IF($C20=\"使用权资产\",SUMIFS(使用权资产审核明细表!AI:AI,使用权资产审核明细表!$B:$B,$B20,使用权资产审核明细表!$U:$U,$D20,使用权资产审核明细表!$V:$V,$E20),0)))))","v":""},{"$f":"IF($B20=\"\",\"\",IF($C20=\"固定资产\",SUMIFS(固定资产审核明细表!$BI:$BI,固定资产审核明细表!$C:$C,$B20,固定资产审核明细表!$Z:$Z,$D20,固定资产审核明细表!$AA:$AA,$E20,固定资产审核明细表!$BK:$BK,H$2),IF($C20=\"无形资产\",SUMIFS(无形资产审核明细表!$AW:$AW,无形资产审核明细表!$B:$B,$B20,无形资产审核明细表!$T:$T,$D20,无形资产审核明细表!$U:$U,$E20),IF($C20=\"长期待摊费用\",SUMIFS(长期待摊费用审核明细表!$AO:$AO,长期待摊费用审核明细表!$B:$B,$B20,长期待摊费用审核明细表!$T:$T,$D20,长期待摊费用审核明细表!$U:$U,$E20),IF($C20=\"使用权资产\",SUMIFS(使用权资产审核明细表!$AJ:$AJ,使用权资产审核明细表!$B:$B,$B20,使用权资产审核明细表!$U:$U,$D20,使用权资产审核明细表!$V:$V,$E20),0)))))","v":""},{"$f":"IF($B20=\"\",\"\",IF($C20=\"固定资产\",SUMIFS(固定资产审核明细表!$BI:$BI,固定资产审核明细表!$C:$C,$B20,固定资产审核明细表!$Z:$Z,$D20,固定资产审核明细表!$AA:$AA,$E20,固定资产审核明细表!$BK:$BK,I$2),IF($C20=\"无形资产\",SUMIFS(无形资产审核明细表!$AW:$AW,无形资产审核明细表!$B:$B,$B20,无形资产审核明细表!$T:$T,$D20,无形资产审核明细表!$U:$U,$E20),IF($C20=\"长期待摊费用\",SUMIFS(长期待摊费用审核明细表!$AO:$AO,长期待摊费用审核明细表!$B:$B,$B20,长期待摊费用审核明细表!$T:$T,$D20,长期待摊费用审核明细表!$U:$U,$E20),IF($C20=\"使用权资产\",SUMIFS(使用权资产审核明细表!$AJ:$AJ,使用权资产审核明细表!$B:$B,$B20,使用权资产审核明细表!$U:$U,$D20,使用权资产审核明细表!$V:$V,$E20),0)))))","v":""},{"$error":"#VALUE!"},{"$f":"IF($B20=\"\",\"\",IF($C20=\"固定资产\",SUMIFS(固定资产审核明细表!BJ:BJ,固定资产审核明细表!$C:$C,$B20,固定资产审核明细表!$Z:$Z,$D20,固定资产审核明细表!$AA:$AA,$E20),IF($C20=\"无形资产\",SUMIFS(无形资产审核明细表!AX:AX,无形资产审核明细表!$B:$B,$B20,无形资产审核明细表!$T:$T,$D20,无形资产审核明细表!$U:$U,$E20),IF($C20=\"长期待摊费用\",SUMIFS(长期待摊费用审核明细表!AP:AP,长期待摊费用审核明细表!$B:$B,$B20,长期待摊费用审核明细表!$T:$T,$D20,长期待摊费用审核明细表!$U:$U,$E20),IF($C20=\"使用权资产\",SUMIFS(使用权资产审核明细表!AK:AK,使用权资产审核明细表!$B:$B,$B20,使用权资产审核明细表!$U:$U,$D20,使用权资产审核明细表!$V:$V,$E20),0)))))","v":""},{"$f":"IF($B20=\"\",\"\",IF($C20=\"固定资产\",IF(COUNTIF($D$3:$D20,$D20)=1,SUMIFS(固定资产审核明细表!BE:BE,固定资产审核明细表!$C:$C,$B20,固定资产审核明细表!$Z:$Z,$D20,固定资产审核明细表!$AC:$AC,\"是\"),0),IF($C20=\"无形资产\",SUMIFS(无形资产审核明细表!AV:AV,无形资产审核明细表!$B:$B,$B20,无形资产审核明细表!$T:$T,$D20,无形资产审核明细表!$U:$U,$E20),IF($C20=\"长期待摊费用\",SUMIFS(长期待摊费用审核明细表!AN:AN,长期待摊费用审核明细表!$B:$B,$B20,长期待摊费用审核明细表!$T:$T,$D20,长期待摊费用审核明细表!$U:$U,$E20),IF($C20=\"使用权资产\",SUMIFS(使用权资产审核明细表!AI:AI,使用权资产审核明细表!$B:$B,$B20,使用权资产审核明细表!$U:$U,$D20,使用权资产审核明细表!$V:$V,$E20),0)))))","v":""},{"$f":"IF($B20=\"\",\"\",IF($C20=\"固定资产\",SUMIFS(固定资产审核明细表!W:W,固定资产审核明细表!$C:$C,$B20,固定资产审核明细表!$Z:$Z,$D20,固定资产审核明细表!$AA:$AA,$E20),IF($C20=\"无形资产\",SUMIFS(无形资产审核明细表!R:R,无形资产审核明细表!$B:$B,$B20,无形资产审核明细表!$T:$T,$D20,无形资产审核明细表!$U:$U,$E20),IF($C20=\"长期待摊费用\",SUMIFS(长期待摊费用审核明细表!R:R,长期待摊费用审核明细表!$B:$B,$B20,长期待摊费用审核明细表!$T:$T,$D20,长期待摊费用审核明细表!$U:$U,$E20),IF($C20=\"使用权资产\",SUMIFS(使用权资产审核明细表!Q:Q,使用权资产审核明细表!$B:$B,$B20,使用权资产审核明细表!$U:$U,$D20,使用权资产审核明细表!$V:$V,$E20),0)))))","v":""}]
[19,null,null,null,null,{"$f":"IF($B21=\"\",\"\",IF($C21=\"固定资产\",SUMIFS(固定资产审核明细表!AE:AE,固定资产审核明细表!$C:$C,$B21,固定资产审核明细表!$Z:$Z,$D21,固定资产审核明细表!$AA:$AA,$E21),IF($C21=\"无形资产\",SUMIFS(无形资产审核明细表!X:X,无形资产审核明细表!$B:$B,$B21,无形资产审核明细表!$T:$T,$D21,无形资产审核明细表!$U:$U,$E21),IF($C21=\"长期待摊费用\",SUMIFS(长期待摊费用审核明细表!X:X,长期待摊费用审核明细表!$B:$B,$B21,长期待摊费用审核明细表!$T:$T,$D21,长期待摊费用审核明细表!$U:$U,$E21),IF($C21=\"使用权资产\",SUMIFS(使用权资产审核明细表!Z:Z,使用权资产审核明细表!$B:$B,$B21,使用权资产审核明细表!$U:$U,$D21,使用权资产审核明细表!$V:$V,$E21),0)))))","v":""},{"$f":"IF($B21=\"\",\"\",IF($C21=\"固定资产\",SUMIFS(固定资产审核明细表!BF:BF,固定资产审核明细表!$C:$C,$B21,固定资产审核明细表!$Z:$Z,$D21,固定资产审核明细表!$AA:$AA,$E21),IF($C21=\"无形资产\",SUMIFS(无形资产审核明细表!AV:AV,无形资产审核明细表!$B:$B,$B21,无形资产审核明细表!$T:$T,$D21,无形资产审核明细表!$U:$U,$E21),IF($C21=\"长期待摊费用\",SUMIFS(长期待摊费用审核明细表!AN:AN,长期待摊费用审核明细表!$B:$B,$B21,长期待摊费用审核明细表!$T:$T,$D21,长期待摊费用审核明细表!$U:$U,$E21),IF($C21=\"使用权资产\",SUMIFS(使用权资产审核明细表!AI:AI,使用权资产审核明细表!$B:$B,$B21,使用权资产审核明细表!$U:$U,$D21,使用权资产审核明细表!$V:$V,$E21),0)))))","v":""},{"$f":"IF($B21=\"\",\"\",IF($C21=\"固定资产\",SUMIFS(固定资产审核明细表!$BI:$BI,固定资产审核明细表!$C:$C,$B21,固定资产审核明细表!$Z:$Z,$D21,固定资产审核明细表!$AA:$AA,$E21,固定资产审核明细表!$BK:$BK,H$2),IF($C21=\"无形资产\",SUMIFS(无形资产审核明细表!$AW:$AW,无形资产审核明细表!$B:$B,$B21,无形资产审核明细表!$T:$T,$D21,无形资产审核明细表!$U:$U,$E21),IF($C21=\"长期待摊费用\",SUMIFS(长期待摊费用审核明细表!$AO:$AO,长期待摊费用审核明细表!$B:$B,$B21,长期待摊费用审核明细表!$T:$T,$D21,长期待摊费用审核明细表!$U:$U,$E21),IF($C21=\"使用权资产\",SUMIFS(使用权资产审核明细表!$AJ:$AJ,使用权资产审核明细表!$B:$B,$B21,使用权资产审核明细表!$U:$U,$D21,使用权资产审核明细表!$V:$V,$E21),0)))))","v":""},{"$f":"IF($B21=\"\",\"\",IF($C21=\"固定资产\",SUMIFS(固定资产审核明细表!$BI:$BI,固定资产审核明细表!$C:$C,$B21,固定资产审核明细表!$Z:$Z,$D21,固定资产审核明细表!$AA:$AA,$E21,固定资产审核明细表!$BK:$BK,I$2),IF($C21=\"无形资产\",SUMIFS(无形资产审核明细表!$AW:$AW,无形资产审核明细表!$B:$B,$B21,无形资产审核明细表!$T:$T,$D21,无形资产审核明细表!$U:$U,$E21),IF($C21=\"长期待摊费用\",SUMIFS(长期待摊费用审核明细表!$AO:$AO,长期待摊费用审核明细表!$B:$B,$B21,长期待摊费用审核明细表!$T:$T,$D21,长期待摊费用审核明细表!$U:$U,$E21),IF($C21=\"使用权资产\",SUMIFS(使用权资产审核明细表!$AJ:$AJ,使用权资产审核明细表!$B:$B,$B21,使用权资产审核明细表!$U:$U,$D21,使用权资产审核明细表!$V:$V,$E21),0)))))","v":""},{"$error":"#VALUE!"},{"$f":"IF($B21=\"\",\"\",IF($C21=\"固定资产\",SUMIFS(固定资产审核明细表!BJ:BJ,固定资产审核明细表!$C:$C,$B21,固定资产审核明细表!$Z:$Z,$D21,固定资产审核明细表!$AA:$AA,$E21),IF($C21=\"无形资产\",SUMIFS(无形资产审核明细表!AX:AX,无形资产审核明细表!$B:$B,$B21,无形资产审核明细表!$T:$T,$D21,无形资产审核明细表!$U:$U,$E21),IF($C21=\"长期待摊费用\",SUMIFS(长期待摊费用审核明细表!AP:AP,长期待摊费用审核明细表!$B:$B,$B21,长期待摊费用审核明细表!$T:$T,$D21,长期待摊费用审核明细表!$U:$U,$E21),IF($C21=\"使用权资产\",SUMIFS(使用权资产审核明细表!AK:AK,使用权资产审核明细表!$B:$B,$B21,使用权资产审核明细表!$U:$U,$D21,使用权资产审核明细表!$V:$V,$E21),0)))))","v":""},{"$f":"IF($B21=\"\",\"\",IF($C21=\"固定资产\",IF(COUNTIF($D$3:$D21,$D21)=1,SUMIFS(固定资产审核明细表!BE:BE,固定资产审核明细表!$C:$C,$B21,固定资产审核明细表!$Z:$Z,$D21,固定资产审核明细表!$AC:$AC,\"是\"),0),IF($C21=\"无形资产\",SUMIFS(无形资产审核明细表!AV:AV,无形资产审核明细表!$B:$B,$B21,无形资产审核明细表!$T:$T,$D21,无形资产审核明细表!$U:$U,$E21),IF($C21=\"长期待摊费用\",SUMIFS(长期待摊费用审核明细表!AN:AN,长期待摊费用审核明细表!$B:$B,$B21,长期待摊费用审核明细表!$T:$T,$D21,长期待摊费用审核明细表!$U:$U,$E21),IF($C21=\"使用权资产\",SUMIFS(使用权资产审核明细表!AI:AI,使用权资产审核明细表!$B:$B,$B21,使用权资产审核明细表!$U:$U,$D21,使用权资产审核明细表!$V:$V,$E21),0)))))","v":""},{"$f":"IF($B21=\"\",\"\",IF($C21=\"固定资产\",SUMIFS(固定资产审核明细表!W:W,固定资产审核明细表!$C:$C,$B21,固定资产审核明细表!$Z:$Z,$D21,固定资产审核明细表!$AA:$AA,$E21),IF($C21=\"无形资产\",SUMIFS(无形资产审核明细表!R:R,无形资产审核明细表!$B:$B,$B21,无形资产审核明细表!$T:$T,$D21,无形资产审核明细表!$U:$U,$E21),IF($C21=\"长期待摊费用\",SUMIFS(长期待摊费用审核明细表!R:R,长期待摊费用审核明细表!$B:$B,$B21,长期待摊费用审核明细表!$T:$T,$D21,长期待摊费用审核明细表!$U:$U,$E21),IF($C21=\"使用权资产\",SUMIFS(使用权资产审核明细表!Q:Q,使用权资产审核明细表!$B:$B,$B21,使用权资产审核明细表!$U:$U,$D21,使用权资产审核明细表!$V:$V,$E21),0)))))","v":""}]
[20,null,null,null,null,{"$f":"IF($B22=\"\",\"\",IF($C22=\"固定资产\",SUMIFS(固定资产审核明细表!AE:AE,固定资产审核明细表!$C:$C,$B22,固定资产审核明细表!$Z:$Z,$D22,固定资产审核明细表!$AA:$AA,$E22),IF($C22=\"无形资产\",SUMIFS(无形资产审核明细表!X:X,无形资产审核明细表!$B:$B,$B22,无形资产审核明细表!$T:$T,$D22,无形资产审核明细表!$U:$U,$E22),IF($C22=\"长期待摊费用\",SUMIFS(长期待摊费用审核明细表!X:X,长期待摊费用审核明细表!$B:$B,$B22,长期待摊费用审核明细表!$T:$T,$D22,长期待摊费用审核明细表!$U:$U,$E22),IF($C22=\"使用权资产\",SUMIFS(使用权资产审核明细表!Z:Z,使用权资产审核明细表!$B:$B,$B22,使用权资产审核明细表!$U:$U,$D22,使用权资产审核明细表!$V:$V,$E22),0)))))","v":""},{"$f":"IF($B22=\"\",\"\",IF($C22=\"固定资产\",SUMIFS(固定资产审核明细表!BF:BF,固定资产审核明细表!$C:$C,$B22,固定资产审核明细表!$Z:$Z,$D22,固定资产审核明细表!$AA:$AA,$E22),IF($C22=\"无形资产\",SUMIFS(无形资产审核明细表!AV:AV,无形资产审核明细表!$B:$B,$B22,无形资产审核明细表!$T:$T,$D22,无形资产审核明细表!$U:$U,$E22),IF($C22=\"长期待摊费用\",SUMIFS(长期待摊费用审核明细表!AN:AN,长期待摊费用审核明细表!$B:$B,$B22,长期待摊费用审核明细表!$T:$T,$D22,长期待摊费用审核明细表!$U:$U,$E22),IF($C22=\"使用权资产\",SUMIFS(使用权资产审核明细表!AI:AI,使用权资产审核明细表!$B:$B,$B22,使用权资产审核明细表!$U:$U,$D22,使用权资产审核明细表!$V:$V,$E22),0)))))","v":""},{"$f":"IF($B22=\"\",\"\",IF($C22=\"固定资产\",SUMIFS(固定资产审核明细表!$BI:$BI,固定资产审核明细表!$C:$C,$B22,固定资产审核明细表!$Z:$Z,$D22,固定资产审核明细表!$AA:$AA,$E22,固定资产审核明细表!$BK:$BK,H$2),IF($C22=\"无形资产\",SUMIFS(无形资产审核明细表!$AW:$AW,无形资产审核明细表!$B:$B,$B22,无形资产审核明细表!$T:$T,$D22,无形资产审核明细表!$U:$U,$E22),IF($C22=\"长期待摊费用\",SUMIFS(长期待摊费用审核明细表!$AO:$AO,长期待摊费用审核明细表!$B:$B,$B22,长期待摊费用审核明细表!$T:$T,$D22,长期待摊费用审核明细表!$U:$U,$E22),IF($C22=\"使用权资产\",SUMIFS(使用权资产审核明细表!$AJ:$AJ,使用权资产审核明细表!$B:$B,$B22,使用权资产审核明细表!$U:$U,$D22,使用权资产审核明细表!$V:$V,$E22),0)))))","v":""},{"$f":"IF($B22=\"\",\"\",IF($C22=\"固定资产\",SUMIFS(固定资产审核明细表!$BI:$BI,固定资产审核明细表!$C:$C,$B22,固定资产审核明细表!$Z:$Z,$D22,固定资产审核明细表!$AA:$AA,$E22,固定资产审核明细表!$BK:$BK,I$2),IF($C22=\"无形资产\",SUMIFS(无形资产审核明细表!$AW:$AW,无形资产审核明细表!$B:$B,$B22,无形资产审核明细表!$T:$T,$D22,无形资产审核明细表!$U:$U,$E22),IF($C22=\"长期待摊费用\",SUMIFS(长期待摊费用审核明细表!$AO:$AO,长期待摊费用审核明细表!$B:$B,$B22,长期待摊费用审核明细表!$T:$T,$D22,长期待摊费用审核明细表!$U:$U,$E22),IF($C22=\"使用权资产\",SUMIFS(使用权资产审核明细表!$AJ:$AJ,使用权资产审核明细表!$B:$B,$B22,使用权资产审核明细表!$U:$U,$D22,使用权资产审核明细表!$V:$V,$E22),0)))))","v":""},{"$error":"#VALUE!"},{"$f":"IF($B22=\"\",\"\",IF($C22=\"固定资产\",SUMIFS(固定资产审核明细表!BJ:BJ,固定资产审核明细表!$C:$C,$B22,固定资产审核明细表!$Z:$Z,$D22,固定资产审核明细表!$AA:$AA,$E22),IF($C22=\"无形资产\",SUMIFS(无形资产审核明细表!AX:AX,无形资产审核明细表!$B:$B,$B22,无形资产审核明细表!$T:$T,$D22,无形资产审核明细表!$U:$U,$E22),IF($C22=\"长期待摊费用\",SUMIFS(长期待摊费用审核明细表!AP:AP,长期待摊费用审核明细表!$B:$B,$B22,长期待摊费用审核明细表!$T:$T,$D22,长期待摊费用审核明细表!$U:$U,$E22),IF($C22=\"使用权资产\",SUMIFS(使用权资产审核明细表!AK:AK,使用权资产审核明细表!$B:$B,$B22,使用权资产审核明细表!$U:$U,$D22,使用权资产审核明细表!$V:$V,$E22),0)))))","v":""},{"$f":"IF($B22=\"\",\"\",IF($C22=\"固定资产\",IF(COUNTIF($D$3:$D22,$D22)=1,SUMIFS(固定资产审核明细表!BE:BE,固定资产审核明细表!$C:$C,$B22,固定资产审核明细表!$Z:$Z,$D22,固定资产审核明细表!$AC:$AC,\"是\"),0),IF($C22=\"无形资产\",SUMIFS(无形资产审核明细表!AV:AV,无形资产审核明细表!$B:$B,$B22,无形资产审核明细表!$T:$T,$D22,无形资产审核明细表!$U:$U,$E22),IF($C22=\"长期待摊费用\",SUMIFS(长期待摊费用审核明细表!AN:AN,长期待摊费用审核明细表!$B:$B,$B22,长期待摊费用审核明细表!$T:$T,$D22,长期待摊费用审核明细表!$U:$U,$E22),IF($C22=\"使用权资产\",SUMIFS(使用权资产审核明细表!AI:AI,使用权资产审核明细表!$B:$B,$B22,使用权资产审核明细表!$U:$U,$D22,使用权资产审核明细表!$V:$V,$E22),0)))))","v":""},{"$f":"IF($B22=\"\",\"\",IF($C22=\"固定资产\",SUMIFS(固定资产审核明细表!W:W,固定资产审核明细表!$C:$C,$B22,固定资产审核明细表!$Z:$Z,$D22,固定资产审核明细表!$AA:$AA,$E22),IF($C22=\"无形资产\",SUMIFS(无形资产审核明细表!R:R,无形资产审核明细表!$B:$B,$B22,无形资产审核明细表!$T:$T,$D22,无形资产审核明细表!$U:$U,$E22),IF($C22=\"长期待摊费用\",SUMIFS(长期待摊费用审核明细表!R:R,长期待摊费用审核明细表!$B:$B,$B22,长期待摊费用审核明细表!$T:$T,$D22,长期待摊费用审核明细表!$U:$U,$E22),IF($C22=\"使用权资产\",SUMIFS(使用权资产审核明细表!Q:Q,使用权资产审核明细表!$B:$B,$B22,使用权资产审核明细表!$U:$U,$D22,使用权资产审核明细表!$V:$V,$E22),0)))))","v":""}]

{"sheet":"固定资产核对","index":5,"n_rows":38,"n_cols":10,"rows_kept":38,"cut":false,"hidden":false,"merged":[]}
["项目","科目余额表A","明细账B","卡片C","卡片C1（台账）","卡片C2（清理）","差异A-B","差异A-C","差异B-C","备注"]
["固定资产期初原值",null,{"$f":"B2","v":0},{"$f":"SUM(E2:F2)","v":0},null,null,{"$f":"B2-C2","v":0},{"$f":"B2-D2","v":0},{"$f":"C2-D2","v":0}]
["固定资产借方数",null,{"$f":"SUM(C4:C9)","v":0},0,{"$f":"SUM(E4:E9)","v":0},"*",0,0,0]
["预转固",{"$f":"C4","v":0},null,0,null,"*",0,0,0]
["正式转固",0,null,0,null,"*",0,0,0]
["原值增加",0,null,0,null,"*",0,0,0]
["原值减少",0,null,0,null,"*",0,0,0]
["外购资产",0,null,0,null,"*",0,0,0]
["账务调整",0,null,0,null,"*",0,0,0]
["固定资产贷方数",null,{"$f":"SUM(C11:C15)","v":0},0,{"$f":"SUM(E11:E15)","v":0},{"$f":"F11","v":0},0,0,0]
["固定资产清理",{"$f":"C11","v":0},null,0,null,null,0,0,0]
["大修转在建工程",0,null,0,null,"*",0,0,0]
["原值增加",0,null,0,null,"*",0,0,0]
["原值减少",0,null,0,null,"*",0,0,0]
["账务调整",0,null,0,null,"*",0,0,0]
["固定资产期末原值",null,{"$f":"C2+C3-C10","v":0},0,{"$f":"E2+E3+E10","v":0},{"$f":"F2-F10","v":0},0,0,0]
[]
["项目","科目余额表A","明细账B","卡片C","卡片C1（台账）","卡片C2（清理）","差异A-B","差异A-C","差异B-C","备注"]
["累计折旧期初余额",null,{"$f":"B19","v":0},{"$f":"SUM(E19:F19)","v":0},null,null,{"$f":"B19-C19","v":0},{"$f":"B19-D19","v":0},{"$f":"C19-D19","v":0}]
["累计折旧借方数",{"$f":"SUM(B21:B24)","v":0},{"$f":"SUM(C21:C24)","v":0},0,{"$f":"SUM(E21:E24)","v":0},{"$f":"SUM(F21:F24)","v":0},0,0,0]
["固定资产清理",{"$f":"C21","v":0},null,0,"*",null,0,0,0]
["大修转在建工程",0,null,0,null,"*",0,0,0]
["调拨出资产",0,null,0,null,"*",0,0,0]
["账务调整",0,null,0,null,"*",0,0,0]
["累计折旧贷方数",null,{"$f":"SUM(C26:C29)","v":0},0,{"$f":"SUM(E26:E29)","v":0},{"$f":"SUM(F26:F29)","v":0},0,0,0]
["本年折旧",{"$f":"C26","v":0},null,0,null,null,0,0,0]
["调拨入资产",0,null,0,null,"*",0,0,0]
["补提以前年度折旧",0,null,0,null,null,0,0,0]
["账务调整",0,null,0,null,null,0,0,0]
["累计折旧期末余额",null,{"$f":"C19+C20-C25","v":0},0,{"$f":"E19+E20+E25","v":0},{"$f":"F19+F20+F25","v":0},0,0,0]
[]
["项目","科目余额表A","明细账B","卡片C","卡片C1（台账）","卡片C2（清理）","差异A-B","差异A-C","差异B-C","备注"]
["研发折旧",null,null,{"$f":"SUM(E33:F33)","v":0},null,null,{"$f":"B33-C33","v":0},{"$f":"B33-D33","v":0},{"$f":"C33-D33","v":0}]
["专项储备折旧",null,null,0,null,null,0,0,0]
["福利性折旧",null,null,0,null,null,0,0,0]
["未启用资产折旧",null,null,0,null,null,0,0,0]
["与取得收入无关的折旧",null,null,0,null,null,0,0,0]
["合计",{"$f":"SUM(B33:B37)","v":0},{"$f":"SUM(C33:C37)","v":0},0,{"$f":"SUM(E33:E37)","v":0},{"$f":"SUM(F33:F37)","v":0},0,0,0]

{"sheet":"底稿原值折旧","index":6,"n_rows":17,"n_cols":10,"rows_kept":17,"cut":false,"hidden":false,"merged":[[1,4,1,5],[1,6,1,9],[2,4,2,5],[3,4,3,5],[4,4,4,5],[5,4,5,5],[6,4,6,5],[7,4,7,5],[8,4,8,5],[9,6,9,9]]}
["审核年度",2022,"年初",{"$f":"DATE(B1,1,1)","v":"2022-01-01"},"年末",{"$f":"DATE(B1,12,31)","v":"2022-12-31"}]
["原值","期初数","本期借方","本期贷方","期末数",null,"原值差异"]
["合计",{"$f":"SUM(B4:B9)","v":0},{"$f":"SUM(C4:C9)","v":0},{"$f":"SUM(D4:D9)","v":0},{"$f":"SUM(E4:E9)","v":0},null,{"$f":"固定资产核对!B2","v":0},{"$f":"C3-固定资产核对!B3","v":0},{"$f":"D3-固定资产核对!B10","v":0},{"$f":"E3-固定资产核对!B16","v":0}]
["（一）房屋、建筑物"]
["（二）飞机、火车、轮船、机器、机械和其他生产设备"]
["（三）与生产经营活动有关的器具、工具、家具等"]
["（四）飞机、火车、轮船以外的运输工具"]
["（五）电子设备"]
["（六）其他"]
["折旧","期初数","本期借方","本期贷方","其中：贷方转出数","期末数","折旧差异"]
["合计",{"$f":"SUM(B12:B17)","v":0},{"$f":"SUM(C12:C17)","v":0},{"$f":"SUM(D12:D17)","v":0},{"$f":"SUM(E12:E17)","v":0},{"$f":"SUM(F12:F17)","v":0},{"$f":"B11-固定资产核对!B19","v":0},{"$f":"C11-固定资产核对!B20","v":0},{"$f":"D11-固定资产核对!B25","v":0},{"$f":"F11-固定资产核对!B30","v":0}]
["（一）房屋、建筑物"]
["（二）飞机、火车、轮船、机器、机械和其他生产设备"]
["（三）与生产经营活动有关的器具、工具、家具等"]
["（四）飞机、火车、轮船以外的运输工具"]
["（五）电子设备"]
["（六）其他"]

{"sheet":"底稿调整数据","index":7,"n_rows":20,"n_cols":10,"rows_kept":20,"cut":false,"hidden":false,"merged":[]}
["资产类别","期初调整合计","本年调增","本年调减","本期调整合计","期末累计调整合计","上年期末累计调整数","延续差异"]
["（一）房屋、建筑物",{"$f":"ROUND(SUMIFS(固定资产审核明细表!BF:BF,固定资产审核明细表!$Z:$Z,$A2),2)","v":0},{"$f":"ROUND(SUMIFS(固定资产审核明细表!BG:BG,固定资产审核明细表!$Z:$Z,$A2),2)","v":0},{"$f":"ROUND(SUMIFS(固定资产审核明细表!BH:BH,固定资产审核明细表!$Z:$Z,$A2),2)","v":0},{"$f":"ROUND(C2+D2,2)","v":0},{"$f":"ROUND(B2+E2,2)","v":0},null,{"$f":"B2-G2","v":0}]
["（二）飞机、火车、轮船、机器、机械和其他生产设备",{"$f":"ROUND(SUMIFS(固定资产审核明细表!BF:BF,固定资产审核明细表!$Z:$Z,$A3),2)","v":0},{"$f":"ROUND(SUMIFS(固定资产审核明细表!BG:BG,固定资产审核明细表!$Z:$Z,$A3),2)","v":0},{"$f":"ROUND(SUMIFS(固定资产审核明细表!BH:BH,固定资产审核明细表!$Z:$Z,$A3),2)","v":0},{"$f":"ROUND(C3+D3,2)","v":0},{"$f":"ROUND(B3+E3,2)","v":0},null,{"$f":"B3-G3","v":0}]
["（三）与生产经营活动有关的器具、工具、家具等",{"$f":"ROUND(SUMIFS(固定资产审核明细表!BF:BF,固定资产审核明细表!$Z:$Z,$A4),2)","v":0},{"$f":"ROUND(SUMIFS(固定资产审核明细表!BG:BG,固定资产审核明细表!$Z:$Z,$A4),2)","v":0},{"$f":"ROUND(SUMIFS(固定资产审核明细表!BH:BH,固定资产审核明细表!$Z:$Z,$A4),2)","v":0},0,0,null,0]
["（四）飞机、火车、轮船以外的运输工具",{"$f":"ROUND(SUMIFS(固定资产审核明细表!BF:BF,固定资产审核明细表!$Z:$Z,$A5),2)","v":0},{"$f":"ROUND(SUMIFS(固定资产审核明细表!BG:BG,固定资产审核明细表!$Z:$Z,$A5),2)","v":0},{"$f":"ROUND(SUMIFS(固定资产审核明细表!BH:BH,固定资产审核明细表!$Z:$Z,$A5),2)","v":0},0,0,null,0]
["（五）电子设备",{"$f":"ROUND(SUMIFS(固定资产审核明细表!BF:BF,固定资产审核明细表!$Z:$Z,$A6),2)","v":0},{"$f":"ROUND(SUMIFS(固定资产审核明细表!BG:BG,固定资产审核明细表!$Z:$Z,$A6),2)","v":0},{"$f":"ROUND(SUMIFS(固定资产审核明细表!BH:BH,固定资产审核明细表!$Z:$Z,$A6),2)","v":0},0,0,null,0]
["（六）其他",{"$f":"ROUND(SUMIFS(固定资产审核明细表!BF:BF,固定资产审核明细表!$Z:$Z,$A7),2)","v":0},{"$f":"ROUND(SUMIFS(固定资产审核明细表!BG:BG,固定资产审核明细表!$Z:$Z,$A7),2)","v":0},{"$f":"ROUND(SUMIFS(固定资产审核明细表!BH:BH,固定资产审核明细表!$Z:$Z,$A7),2)","v":0},0,0,null,0]
["合计",{"$f":"SUM(B2:B7)","v":0},{"$f":"SUM(C2:C7)","v":0},{"$f":"SUM(D2:D7)","v":0},{"$f":"SUM(E2:E7)","v":0},{"$f":"SUM(F2:F7)","v":0},null,0]
["资产类别","资产原值","本年折旧、摊销额","累计折旧、摊销额","资产计税基础","税收折旧额","享受加速折旧政策的资产按税收一般规定计算的折旧、摊销额","加速折旧统计额","累计折旧、摊销额","纳税调整金额"]
[null,1,2,3,4,5,6,"7=5-6",8,"9(2-5)"]
["（一）房屋、建筑物",{"$f":"ROUND(SUMIFS(固定资产审核明细表!BF:BF,固定资产审核明细表!$Z:$Z,$A11),2)","v":0},{"$f":"ROUND(SUMIFS(固定资产审核明细表!BG:BG,固定资产审核明细表!$Z:$Z,$A11),2)","v":0},{"$f":"ROUND(SUMIFS(固定资产审核明细表!BH:BH,固定资产审核明细表!$Z:$Z,$A11),2)","v":0},{"$f":"ROUND(C11+D11,2)","v":0},{"$f":"ROUND(B11+E11,2)","v":0}]
["（二）飞机、火车、轮船、机器、机械和其他生产设备",{"$f":"ROUND(SUMIFS(固定资产审核明细表!BF:BF,固定资产审核明细表!$Z:$Z,$A12),2)","v":0},{"$f":"ROUND(SUMIFS(固定资产审核明细表!BG:BG,固定资产审核明细表!$Z:$Z,$A12),2)","v":0},{"$f":"ROUND(SUMIFS(固定资产审核明细表!BH:BH,固定资产审核明细表!$Z:$Z,$A12),2)","v":0},0,0]
["（三）与生产经营活动有关的器具、工具、家具等",{"$f":"ROUND(SUMIFS(固定资产审核明细表!BF:BF,固定资产审核明细表!$Z:$Z,$A13),2)","v":0},{"$f":"ROUND(SUMIFS(固定资产审核明细表!BG:BG,固定资产审核明细表!$Z:$Z,$A13),2)","v":0},{"$f":"ROUND(SUMIFS(固定资产审核明细表!BH:BH,固定资产审核明细表!$Z:$Z,$A13),2)","v":0},0,0]
["（四）飞机、火车、轮船以外的运输工具",{"$f":"ROUND(SUMIFS(固定资产审核明细表!BF:BF,固定资产审核明细表!$Z:$Z,$A14),2)","v":0},{"$f":"ROUND(SUMIFS(固定资产审核明细表!BG:BG,固定资产审核明细表!$Z:$Z,$A14),2)","v":0},{"$f":"ROUND(SUMIFS(固定资产审核明细表!BH:BH,固定资产审核明细表!$Z:$Z,$A14),2)","v":0},0,0]
["（五）电子设备",{"$f":"ROUND(SUMIFS(固定资产审核明细表!BF:BF,固定资产审核明细表!$Z:$Z,$A15),2)","v":0},{"$f":"ROUND(SUMIFS(固定资产审核明细表!BG:BG,固定资产审核明细表!$Z:$Z,$A15),2)","v":0},{"$f":"ROUND(SUMIFS(固定资产审核明细表!BH:BH,固定资产审核明细表!$Z:$Z,$A15),2)","v":0},0,0]
["（六）其他",{"$f":"ROUND(SUMIFS(固定资产审核明细表!BF:BF,固定资产审核明细表!$Z:$Z,$A16),2)","v":0},{"$f":"ROUND(SUMIFS(固定资产审核明细表!BG:BG,固定资产审核明细表!$Z:$Z,$A16),2)","v":0},{"$f":"ROUND(SUMIFS(固定资产审核明细表!BH:BH,固定资产审核明细表!$Z:$Z,$A16),2)","v":0},0,0]
["合计",{"$f":"SUM(B11:B16)","v":0},0,0,0,0]
["（一）重要行业固定资产加速折旧（不含一次性扣除）",{"$f":"SUMIFS(固定资产审核明细表!G:G,固定资产审核明细表!$AA:$AA,\"*缩短年限*\",固定资产审核明细表!$BK:$BK,\"本年调减\")","v":0},{"$f":"SUMIFS(固定资产审核明细表!Q:Q,固定资产审核明细表!$AA:$AA,\"*缩短年限*\",固定资产审核明细表!$BK:$BK,\"本年调减\")","v":0},{"$f":"SUMIFS(固定资产审核明细表!P:P,固定资产审核明细表!$AA:$AA,\"*缩短年限*\",固定资产审核明细表!$BK:$BK,\"本年调减\")","v":0},{"$f":"B18","v":0},{"$f":"SUMIFS(固定资产审核明细表!AV:AV,固定资产审核明细表!$AA:$AA,\"*缩短年限*\",固定资产审核明细表!$BK:$BK,\"本年调减\")","v":0},{"$f":"C18","v":0},{"$f":"F18-G18","v":0},{"$f":"D18","v":0},"*"]
["（四）500 万元以下设备器具一次性扣除",{"$f":"SUMIFS(固定资产审核明细表!G:G,固定资产审核明细表!$AA:$AA,\"*一次性*\",固定资产审核明细表!$BK:$BK,\"本年调减\")","v":0},{"$f":"SUMIFS(固定资产审核明细表!Q:Q,固定资产审核明细表!$AA:$AA,\"*一次性*\",固定资产审核明细表!$BK:$BK,\"本年调减\")","v":0},{"$f":"SUMIFS(固定资产审核明细表!P:P,固定资产审核明细表!$AA:$AA,\"*一次性*\",固定资产审核明细表!$BK:$BK,\"本年调减\")","v":0},{"$f":"B19","v":0},{"$f":"SUMIFS(固定资产审核明细表!AV:AV,固定资产审核明细表!$AA:$AA,\"*一次性*\",固定资产审核明细表!$BK:$BK,\"本年调减\")","v":0},{"$f":"C19","v":0},{"$f":"F19-G19","v":0},{"$f":"D19","v":0},"*"]
["计税基础差异",null,null,null,0,0]

{"sheet":"固定资产审核明细表","index":8,"n_rows":5000,"n_cols":72,"rows_kept":1125,"cut":true,"hidden":false,"merged":[[0,18,0,24],[0,25,0,61],[1,25,1,28],[1,29,1,34],[1,35,1,42],[1,43,1,50],[1,51,1,53],[1,54,1,56],[1,57,2,57],[1,58,2,58],[1,59,2,59],[1,60,2,60],[1,61,2,61],[1,62,2,62],[1,63,2,63],[1,64,2,64],[1,65,2,65],[0,0,1,17]],"bounds":{"rows_first":500,"rows_last":125,"rows_between":500,"halvings":2}}
["卡片信息",null,null,null,null,null,null,null,null,null,null,null,null,null,null,null,null,null,"会计折旧测算",null,null,null,null,null,null,"税务审核",null,null,null,null,null,null,null,null,null,null,null,null,null,null,null,null,null,null,null,null,null,null,null,null,null,null,null,null,null,null,null,null,null,null,null,null,null,null,null,null,"其他卡片信息",null,null,null,null,"审核记录"]
[null,null,null,null,null,null,null,null,null,null,null,null,null,null,null,null,null,null,"测算年度：",2022,"测算月份：",12,"忽略尾差：",10,0.0001,"审核分类",null,null,null,"计税基础差异",null,null,null,null,null,"折旧年限差异",null,null,null,null,null,null,null,"加速折旧",null,null,null,null,null,null,null,"不得扣除折旧资产",null,null,"福利性资产折旧",null,null,"期初调整合计","本年调增","本年调减","期末累计调整合计","本期调整合计","本年调增或调减","是否清理","清理后期末累调\n是否正确","税收金额\n是否正确"]
["序号","台账类别","核算单位","资产编码","资产名称","资产类别","资产原值","资产减值","净残值率","开始使用日期","折旧年限","已使用月数","剩余使用月数","入账时累计折旧","年初累计折旧","期末累计折旧","本年折旧","审核记录","月折旧率","月折旧额","本年折旧月数","测算本年折旧","本年折旧差异","差异率","差异原因说明","固定资产税法类别","固定资产","是否调整","是否为福利性资产","计税基础","计税基础差异","本期税法折旧","本期折旧差异","年初累计调整金额","年末累计调整金额","税法最低折旧年限","税法月折旧率","税法月折旧额","税法本年折旧月数","本期税法折旧","本期折旧差异","年初累计调整金额","期末累计调整金额","加速后折旧年限","税法月折旧率","税法月折旧额","税法本年折旧月数","本期税法折旧","本年纳税调整金额","年初累计调整金额","期末累计调整金额","本期纳税调整金额","年初累计调整金额","期末累计调整金额","是否已入福利费","税收折旧","重分类调整",null,null,null,null,null,null,null,null,null,"资产所属","本年折旧变动","变动前本年折旧","变动后本年折旧","未启用固定资产月折旧合计"]
[null,"22台账（无变动）",null,null,null,null,null,null,null,null,null,null,null,null,null,null,{"$f":"P4-O4","v":0},null,{"$f":"(1-I4)/(K4*12)","v":{"$error":"#DIV/0!"}},{"$f":"ROUND(G4*S4,2)","v":{"$error":"#DIV/0!"}},{"$f":"IF($T$2<YEAR(J4),0,IF($T$2=YEAR(J4),MAX($V$2-MONTH(J4),0),IF($T$2>YEAR(J4)+K4,0,IF($T$2=YEAR(J4)+K4,MIN(MONTH($J4),$V$2),$V$2))))","v":0},{"$f":"T4*U4","v":{"$error":"#DIV/0!"}},{"$f":"IF(ABS(Q4-V4)<=$X$2,0,Q4-V4)","v":{"$error":"#DIV/0!"}},{"$f":"IFERROR(IF((W4/V4)<$Y$2,0,W4/V4),0)","v":0},null,null,null,null,null,null,{"$f":"G4-AD4","v":0},{"$f":"IF(ISNUMBER(FIND(\"计税基础差异\",AA4)),IF(YEAR(J4)+K4=$T$2,Q4-((G4-AD4)*(1-I4)-AH4),AD4*S4*U4),0)","v":0},{"$f":"IF(ISNUMBER(FIND(\"计税基础差异\",AA4)),IF(AB4=\"是\",Q4-AF4,0),0)","v":0},null,{"$f":"ROUND(AH4+AG4,2)","v":0},{"$f":"IFERROR(VLOOKUP(Z4,有效性!$D$2:$E$6,2,0),0)","v":0},{"$f":"IFERROR((1-I4)/(AJ4*12),0)","v":0},{"$f":"G4*AK4","v":0},{"$f":"IF($T$2<YEAR(J4),0,IF($T$2=YEAR(J4),MAX($V$2-MONTH(J4),0),IF($T$2>YEAR(J4)+AJ4,0,IF($T$2=YEAR(J4)+AJ4,MIN(MONTH($J4),$V$2),$V$2))))","v":0},{"$f":"IF(ISNUMBER(FIND(\"折旧年限差异\",AA4)),IF(YEAR(J4)+AJ4=$T$2,AP4,AL4*AM4),0)","v":0},{"$f":"ROUND(IF(ISNUMBER(FIND(\"折旧年限差异\",AA4)),IF(AB4=\"是\",Q4-AN4,0),0),2)","v":0},null,{"$f":"ROUND(AO4+AP4,2)","v":0},null,{"$f":"IF(ISNUMBER(FIND(\"缩短年限60%\",AA4)),IFERROR((1-I4)/(AR4*12),0),0)","v":0},{"$f":"G4*AS4","v":0},{"$f":"IF($T$2<YEAR(J4),0,IF($T$2=YEAR(J4),MAX($V$2-MONTH(J4),0),IF($T$2>YEAR(J4)+AR4,0,IF($T$2=YEAR(J4)+AR4,MIN(MONTH($J4),$V$2),$V$2))))","v":0},{"$f":"ROUND(IF(ISNUMBER(FIND(\"加速折旧\",AA4)),IF(OR(ISNUMBER(FIND(\"500万元以下一次性扣除\",AA4)),ISNUMBER(FIND(\"5000元以下一次性扣除\",AA4))),IF(OR(AND(YEAR(J4)=$T$2,MONTH(J4)<>12),AND(YEAR(J4)=$T$2-1,MONTH(J4)=12)),G4,0),IF(ISNUMBER(FIND(\"缩短年限60%\",AA4)),IF(YEAR(J4)+AR4=$T$2,G4*(1-I4)-(O4-AX4),AT4*AU4),0)),0),2)","v":0},{"$f":"ROUND(IF(ISNUMBER(FIND(\"加速折旧\",AA4)),IF(AB4=\"是\",Q4-AV4,0),0),2)","v":0},null,{"$f":"ROUND(AX4+AW4,20)","v":0},{"$f":"IFERROR(IF(ISNUMBER(FIND(\"不得扣除折旧资产\",AA4)),IF(AB4=\"是\",Q4,0),0),0)","v":0},null,{"$f":"BA4+AZ4","v":0},"不涉及",{"$f":"IF(OR(AC4=\"否\",BC4=\"不涉及\"),0,Q4-AG4-AO4-AW4)","v":0},{"$f":"IF(BC4=\"不涉及\",0,IF(BC4=\"是\",BD4-Q4,BD4))","v":0},{"$f":"AH4+AP4+AX4+BA4","v":0},{"$f":"MAX(0,BJ4)","v":0},{"$f":"MIN(0,BJ4)","v":0},{"$f":"AI4+AQ4+AY4+BB4","v":0},{"$f":"AG4+AO4+AW4+AZ4","v":0},{"$f":"_xlfn.IFS(BJ4>0,\"本年调增\",BJ4<0,\"本年调减\",BJ4=0,\"\")","v":""},"否",{"$f":"IF(AND(BL4=\"是\",BI4<>0),\"请检查\",\"正确\")","v":"正确"},{"$f":"IF(Q4-BJ4<0,\"错误\",\"正确\")","v":"正确"}]
[null,"22台账（已核销）",null,null,null,null,null,null,null,null,null,null,null,null,null,null,{"$f":"P5-O5","v":0},null,{"$error":"#DIV/0!"},{"$error":"#DIV/0!"},0,{"$error":"#DIV/0!"},{"$error":"#DIV/0!"},0,null,null,null,null,null,null,0,0,0,null,0,{"$f":"IFERROR(VLOOKUP(Z5,有效性!$D$2:$E$6,2,0),0)","v":0},0,0,0,0,0,null,0,null,0,0,0,0,0,null,0,0,null,0,"不涉及",0,0,0,0,0,0,0,"","否","正确","正确"]
[null,"22台账（原值增加）",null,null,null,null,null,null,null,null,null,null,null,null,null,null,0,null,{"$error":"#DIV/0!"},{"$error":"#DIV/0!"},0,{"$error":"#DIV/0!"},{"$error":"#DIV/0!"},0,null,null,null,null,null,null,0,0,0,null,0,{"$f":"IFERROR(VLOOKUP(Z6,有效性!$D$2:$E$6,2,0),0)","v":0},0,0,0,0,0,null,0,null,0,0,0,0,0,null,0,0,null,0,"不涉及",0,0,0,0,0,0,0,"","否","正确","正确"]
[null,"22台账（发生减值）",null,null,null,null,null,null,null,null,null,null,null,null,null,null,0,null,{"$error":"#DIV/0!"},{"$error":"#DIV/0!"},0,{"$error":"#DIV/0!"},{"$error":"#DIV/0!"},0,null,null,null,null,null,null,0,0,0,null,0,{"$f":"IFERROR(VLOOKUP(Z7,有效性!$D$2:$E$6,2,0),0)","v":0},0,0,0,0,0,null,0,null,0,0,0,0,0,null,0,0,null,0,"不涉及",0,0,0,0,0,0,0,"","否","正确","正确"]
[null,"22台账（转在建）",null,null,null,null,null,null,null,null,null,null,null,null,null,null,0,null,{"$error":"#DIV/0!"},{"$error":"#DIV/0!"},0,{"$error":"#DIV/0!"},{"$error":"#DIV/0!"},0,null,null,null,null,null,null,0,0,0,null,0,{"$f":"IFERROR(VLOOKUP(Z8,有效性!$D$2:$E$6,2,0),0)","v":0},0,0,0,0,0,null,0,null,0,0,0,0,0,null,0,0,null,0,"不涉及",0,0,0,0,0,0,0,"","否","正确","正确"]
[null,"22台账（清理）",null,null,null,null,null,null,null,null,null,null,null,null,null,null,0,null,{"$error":"#DIV/0!"},{"$error":"#DIV/0!"},0,{"$error":"#DIV/0!"},{"$error":"#DIV/0!"},0,null,null,null,null,null,null,0,0,0,null,0,{"$f":"IFERROR(VLOOKUP(Z9,有效性!$D$2:$E$6,2,0),0)","v":0},0,0,0,0,0,null,0,null,0,0,0,0,0,null,0,0,null,0,"不涉及",0,0,0,0,0,0,0,"","否","正确","正确"]
[null,"22台账（调拨核销）",null,null,null,null,null,null,null,null,null,null,null,null,null,null,0,null,{"$error":"#DIV/0!"},{"$error":"#DIV/0!"},0,{"$error":"#DIV/0!"},{"$error":"#DIV/0!"},0,null,null,null,null,null,null,0,0,0,null,0,{"$f":"IFERROR(VLOOKUP(Z10,有效性!$D$2:$E$6,2,0),0)","v":0},0,0,0,0,0,null,0,null,0,0,0,0,0,null,0,0,null,0,"不涉及",0,0,0,0,0,0,0,"","否","正确","正确"]
[null,"22台账（重组）",null,null,null,null,null,null,null,null,null,null,null,null,null,null,0,null,{"$error":"#DIV/0!"},{"$error":"#DIV/0!"},0,{"$error":"#DIV/0!"},{"$error":"#DIV/0!"},0,null,null,null,null,null,null,0,0,0,null,0,{"$f":"IFERROR(VLOOKUP(Z11,有效性!$D$2:$E$6,2,0),0)","v":0},0,0,0,0,0,null,0,null,0,0,0,0,0,null,0,0,null,0,"不涉及",0,0,0,0,0,0,0,"","否","正确","正确"]
[null,"22台账（调整）",null,null,null,null,null,null,null,null,null,null,null,null,null,null,0,null,{"$error":"#DIV/0!"},{"$error":"#DIV/0!"},0,{"$error":"#DIV/0!"},{"$error":"#DIV/0!"},0,null,null,null,null,null,null,0,0,0,null,0,{"$f":"IFERROR(VLOOKUP(Z12,有效性!$D$2:$E$6,2,0),0)","v":0},0,0,0,0,0,null,0,null,0,0,0,0,0,null,0,0,null,0,"不涉及",0,0,0,0,0,0,0,"","否","正确","正确"]
[null,"23台账（外购）",null,null,null,null,null,null,null,null,null,null,null,null,null,null,0,null,{"$error":"#DIV/0!"},{"$error":"#DIV/0!"},0,{"$error":"#DIV/0!"},{"$error":"#DIV/0!"},0,null,null,null,null,null,null,0,0,0,null,0,{"$f":"IFERROR(VLOOKUP(Z13,有效性!$D$2:$E$6,2,0),0)","v":0},0,0,0,0,0,null,0,null,0,0,0,0,0,null,0,0,null,0,"不涉及",0,0,0,0,0,0,0,"","否","正确","正确"]
[null,"23台账（转固）",null,null,null,null,null,null,null,null,null,null,null,null,null,null,0,null,{"$error":"#DIV/0!"},{"$error":"#DIV/0!"},0,{"$error":"#DIV/0!"},{"$error":"#DIV/0!"},0,null,null,null,null,null,null,0,0,0,null,0,{"$f":"IFERROR(VLOOKUP(Z14,有效性!$D$2:$E$6,2,0),0)","v":0},0,0,0,0,0,null,0,null,0,0,0,0,0,null,0,0,null,0,"不涉及",0,0,0,0,0,0,0,"","否","正确","正确"]
[null,"23台账（重组）",null,null,null,null,null,null,null,null,null,null,null,null,null,null,0,null,{"$error":"#DIV/0!"},{"$error":"#DIV/0!"},0,{"$error":"#DIV/0!"},{"$error":"#DIV/0!"},0,null,null,null,null,null,null,0,0,0,null,0,{"$f":"IFERROR(VLOOKUP(Z15,有效性!$D$2:$E$6,2,0),0)","v":0},0,0,0,0,0,null,0,null,0,0,0,0,0,null,0,0,null,0,"不涉及",0,0,0,0,0,0,0,"","否","正确","正确"]
[null,"23台账（调拨入账）",null,null,null,null,null,null,null,null,null,null,null,null,null,null,0,null,{"$error":"#DIV/0!"},{"$error":"#DIV/0!"},0,{"$error":"#DIV/0!"},{"$error":"#DIV/0!"},0,null,null,null,null,null,null,0,0,0,null,0,{"$f":"IFERROR(VLOOKUP(Z16,有效性!$D$2:$E$6,2,0),0)","v":0},0,0,0,0,0,null,0,null,0,0,0,0,0,null,0,0,null,0,"不涉及",0,0,0,0,0,0,0,"","否","正确","正确"]
[null,"23台账（转在建）",null,null,null,null,null,null,null,null,null,null,null,null,null,null,0,null,{"$error":"#DIV/0!"},{"$error":"#DIV/0!"},0,{"$error":"#DIV/0!"},{"$error":"#DIV/0!"},0,null,null,null,null,null,null,0,0,0,null,0,{"$f":"IFERROR(VLOOKUP(Z17,有效性!$D$2:$E$6,2,0),0)","v":0},0,0,0,0,0,null,0,null,0,0,0,0,0,null,0,0,null,0,"不涉及",0,0,0,0,0,0,0,"","否","正确","正确"]
[null,"23台账（清理）",null,null,null,null,null,null,null,null,null,null,null,null,null,null,0,null,{"$error":"#DIV/0!"},{"$error":"#DIV/0!"},0,{"$error":"#DIV/0!"},{"$error":"#DIV/0!"},0,null,null,null,null,null,null,0,0,0,null,0,{"$f":"IFERROR(VLOOKUP(Z18,有效性!$D$2:$E$6,2,0),0)","v":0},0,0,0,0,0,null,0,null,0,0,0,0,0,null,0,0,null,0,"不涉及",0,0,0,0,0,0,0,"","否","正确","正确"]
[null,"23台账（调整）",null,null,null,null,null,null,null,null,null,null,null,null,null,null,0,null,{"$error":"#DIV/0!"},{"$error":"#DIV/0!"},0,{"$error":"#DIV/0!"},{"$error":"#DIV/0!"},0,null,null,null,null,null,null,0,0,0,null,0,{"$f":"IFERROR(VLOOKUP(Z19,有效性!$D$2:$E$6,2,0),0)","v":0},0,0,0,0,0,null,0,null,0,0,0,0,0,null,0,0,null,0,"不涉及",0,0,0,0,0,0,0,"","否","正确","正确"]
[null,null,null,null,null,null,null,null,null,null,null,null,null,null,null,null,0,null,{"$error":"#DIV/0!"},{"$error":"#DIV/0!"},0,{"$error":"#DIV/0!"},{"$error":"#DIV/0!"},0,null,null,null,null,null,null,0,0,0,null,0,{"$f":"IFERROR(VLOOKUP(Z20,有效性!$D$2:$E$6,2,0),0)","v":0},0,0,0,0,0,null,0,null,0,0,0,0,0,null,0,0,null,0,"不涉及",0,0,0,0,0,0,0,"","否","正确","正确"]
[null,null,null,null,null,null,null,null,null,null,null,null,null,null,null,null,0,null,{"$error":"#DIV/0!"},{"$error":"#DIV/0!"},0,{"$error":"#DIV/0!"},{"$error":"#DIV/0!"},0,null,null,null,null,null,null,0,0,0,null,0,{"$f":"IFERROR(VLOOKUP(Z21,有效性!$D$2:$E$6,2,0),0)","v":0},0,0,0,0,0,null,0,null,0,0,0,0,0,null,0,0,null,0,"不涉及",0,0,0,0,0,0,0,"","否","正确","正确"]
[null,null,null,null,null,null,null,null,null,null,null,null,null,null,null,null,0,null,{"$error":"#DIV/0!"},{"$error":"#DIV/0!"},0,{"$error":"#DIV/0!"},{"$error":"#DIV/0!"},0,null,null,null,null,null,null,0,0,0,null,0,{"$f":"IFERROR(VLOOKUP(Z22,有效性!$D$2:$E$6,2,0),0)","v":0},0,0,0,0,0,null,0,null,0,0,0,0,0,null,0,0,null,0,"不涉及",0,0,0,0,0,0,0,"","否","正确","正确"]
[null,null,null,null,null,null,null,null,null,null,null,null,null,null,null,null,0,null,{"$error":"#DIV/0!"},{"$error":"#DIV/0!"},0,{"$error":"#DIV/0!"},{"$error":"#DIV/0!"},0,null,null,null,null,null,null,0,0,0,null,0,{"$f":"IFERROR(VLOOKUP(Z23,有效性!$D$2:$E$6,2,0),0)","v":0},0,0,0,0,0,null,0,null,0,0,0,0,0,null,0,0,null,0,"不涉及",0,0,0,0,0,0,0,"","否","正确","正确"]
[null,null,null,null,null,null,null,null,null,null,null,null,null,null,null,null,0,null,{"$error":"#DIV/0!"},{"$error":"#DIV/0!"},0,{"$error":"#DIV/0!"},{"$error":"#DIV/0!"},0,null,null,null,null,null,null,0,0,0,null,0,{"$f":"IFERROR(VLOOKUP(Z24,有效性!$D$2:$E$6,2,0),0)","v":0},0,0,0,0,0,null,0,null,0,0,0,0,0,null,0,0,null,0,"不涉及",0,0,0,0,0,0,0,"","否","正确","正确"]
[null,null,null,null,null,null,null,null,null,null,null,null,null,null,null,null,0,null,{"$error":"#DIV/0!"},{"$error":"#DIV/0!"},0,{"$error":"#DIV/0!"},{"$error":"#DIV/0!"},0,null,null,null,null,null,null,0,0,0,null,0,{"$f":"IFERROR(VLOOKUP(Z25,有效性!$D$2:$E$6,2,0),0)","v":0},0,0,0,0,0,null,0,null,0,0,0,0,0,null,0,0,null,0,"不涉及",0,0,0,0,0,0,0,"","否","正确","正确"]
[null,null,null,null,null,null,null,null,null,null,null,null,null,null,null,null,0,null,{"$error":"#DIV/0!"},{"$error":"#DIV/0!"},0,{"$error":"#DIV/0!"},{"$error":"#DIV/0!"},0,null,null,null,null,null,null,0,0,0,null,0,{"$f":"IFERROR(VLOOKUP(Z26,有效性!$D$2:$E$6,2,0),0)","v":0},0,0,0,0,0,null,0,null,0,0,0,0,0,null,0,0,null,0,"不涉及",0,0,0,0,0,0,0,"","否","正确","正确"]
[null,null,null,null,null,null,null,null,null,null,null,null,null,null,null,null,0,null,{"$error":"#DIV/0!"},{"$error":"#DIV/0!"},0,{"$error":"#DIV/0!"},{"$error":"#DIV/0!"},0,null,null,null,null,null,null,0,0,0,null,0,{"$f":"IFERROR(VLOOKUP(Z27,有效性!$D$2:$E$6,2,0),0)","v":0},0,0,0,0,0,null,0,null,0,0,0,0,0,null,0,0,null,0,"不涉及",0,0,0,0,0,0,0,"","否","正确","正确"]
[null,null,null,null,null,null,null,null,null,null,null,null,null,null,null,null,0,null,{"$error":"#DIV/0!"},{"$error":"#DIV/0!"},0,{"$error":"#DIV/0!"},{"$error":"#DIV/0!"},0,null,null,null,null,null,null,0,0,0,null,0,{"$f":"IFERROR(VLOOKUP(Z28,有效性!$D$2:$E$6,2,0),0)","v":0},0,0,0,0,0,null,0,null,0,0,0,0,0,null,0,0,null,0,"不涉及",0,0,0,0,0,0,0,"","否","正确","正确"]
[null,null,null,null,null,null,null,null,null,null,null,null,null,null,null,null,0,null,{"$error":"#DIV/0!"},{"$error":"#DIV/0!"},0,{"$error":"#DIV/0!"},{"$error":"#DIV/0!"},0,null,null,null,null,null,null,0,0,0,null,0,{"$f":"IFERROR(VLOOKUP(Z29,有效性!$D$2:$E$6,2,0),0)","v":0},0,0,0,0,0,null,0,null,0,0,0,0,0,null,0,0,null,0,"不涉及",0,0,0,0,0,0,0,"","否","正确","正确"]
[null,null,null,null,null,null,null,null,null,null,null,null,null,null,null,null,0,null,{"$error":"#DIV/0!"},{"$error":"#DIV/0!"},0,{"$error":"#DIV/0!"},{"$error":"#DIV/0!"},0,null,null,null,null,null,null,0,0,0,null,0,{"$f":"IFERROR(VLOOKUP(Z30,有效性!$D$2:$E$6,2,0),0)","v":0},0,0,0,0,0,null,0,null,0,0,0,0,0,null,0,0,null,0,"不涉及",0,0,0,0,0,0,0,"","否","正确","正确"]
[null,null,null,null,null,null,null,null,null,null,null,null,null,null,null,null,0,null,{"$error":"#DIV/0!"},{"$error":"#DIV/0!"},0,{"$error":"#DIV/0!"},{"$error":"#DIV/0!"},0,null,null,null,null,null,null,0,0,0,null,0,{"$f":"IFERROR(VLOOKUP(Z31,有效性!$D$2:$E$6,2,0),0)","v":0},0,0,0,0,0,null,0,null,0,0,0,0,0,null,0,0,null,0,"不涉及",0,0,0,0,0,0,0,"","否","正确","正确"]
[null,null,null,null,null,null,null,null,null,null,null,null,null,null,null,null,0,null,{"$error":"#DIV/0!"},{"$error":"#DIV/0!"},0,{"$error":"#DIV/0!"},{"$error":"#DIV/0!"},0,null,null,null,null,null,null,0,0,0,null,0,{"$f":"IFERROR(VLOOKUP(Z32,有效性!$D$2:$E$6,2,0),0)","v":0},0,0,0,0,0,null,0,null,0,0,0,0,0,null,0,0,null,0,"不涉及",0,0,0,0,0,0,0,"","否","正确","正确"]
[null,null,null,null,null,null,null,null,null,null,null,null,null,null,null,null,0,null,{"$error":"#DIV/0!"},{"$error":"#DIV/0!"},0,{"$error":"#DIV/0!"},{"$error":"#DIV/0!"},0,null,null,null,null,null,null,0,0,0,null,0,{"$f":"IFERROR(VLOOKUP(Z33,有效性!$D$2:$E$6,2,0),0)","v":0},0,0,0,0,0,null,0,null,0,0,0,0,0,null,0,0,null,0,"不涉及",0,0,0,0,0,0,0,"","否","正确","正确"]
[null,null,null,null,null,null,null,null,null,null,null,null,null,null,null,null,0,null,{"$error":"#DIV/0!"},{"$error":"#DIV/0!"},0,{"$error":"#DIV/0!"},{"$error":"#DIV/0!"},0,null,null,null,null,null,null,0,0,0,null,0,{"$f":"IFERROR(VLOOKUP(Z34,有效性!$D$2:$E$6,2,0),0)","v":0},0,0,0,0,0,null,0,null,0,0,0,0,0,null,0,0,null,0,"不涉及",0,0,0,0,0,0,0,"","否","正确","正确"]
[null,null,null,null,null,null,null,null,null,null,null,null,null,null,null,null,0,null,{"$error":"#DIV/0!"},{"$error":"#DIV/0!"},0,{"$error":"#DIV/0!"},{"$error":"#DIV/0!"},0,null,null,null,null,null,null,0,0,0,null,0,{"$f":"IFERROR(VLOOKUP(Z35,有效性!$D$2:$E$6,2,0),0)","v":0},0,0,0,0,0,null,0,null,0,0,0,0,0,null,0,0,null,0,"不涉及",0,0,0,0,0,0,0,"","否","正确","正确"]
[null,null,null,null,null,null,null,null,null,null,null,null,null,null,null,null,0,null,{"$error":"#DIV/0!"},{"$error":"#DIV/0!"},0,{"$error":"#DIV/0!"},{"$error":"#DIV/0!"},0,null,null,null,null,null,null,0,0,0,null,0,{"$f":"IFERROR(VLOOKUP(Z36,有效性!$D$2:$E$6,2,0),0)","v":0},0,0,0,0,0,null,0,null,0,0,0,0,0,null,0,0,null,0,"不涉及",0,0,0,0,0,0,0,"","否","正确","正确"]
[null,null,null,null,null,null,null,null,null,null,null,null,null,null,null,null,0,null,{"$error":"#DIV/0!"},{"$error":"#DIV/0!"},0,{"$error":"#DIV/0!"},{"$error":"#DIV/0!"},0,null,null,null,null,null,null,0,0,0,null,0,{"$f":"IFERROR(VLOOKUP(Z37,有效性!$D$2:$E$6,2,0),0)","v":0},0,0,0,0,0,null,0,null,0,0,0,0,0,null,0,0,null,0,"不涉及",0,0,0,0,0,0,0,"","否","正确","正确"]
[null,null,null,null,null,null,null,null,null,null,null,null,null,null,null,null,0,null,{"$error":"#DIV/0!"},{"$error":"#DIV/0!"},0,{"$error":"#DIV/0!"},{"$error":"#DIV/0!"},0,null,null,null,null,null,null,0,0,0,null,0,{"$f":"IFERROR(VLOOKUP(Z38,有效性!$D$2:$E$6,2,0),0)","v":0},0,0,0,0,0,null,0,null,0,0,0,0,0,null,0,0,null,0,"不涉及",0,0,0,0,0,0,0,"","否","正确","正确"]
[null,null,null,null,null,null,null,null,null,null,null,null,null,null,null,null,0,null,{"$error":"#DIV/0!"},{"$error":"#DIV/0!"},0,{"$error":"#DIV/0!"},{"$error":"#DIV/0!"},0,null,null,null,null,null,null,0,0,0,null,0,{"$f":"IFERROR(VLOOKUP(Z39,有效性!$D$2:$E$6,2,0),0)","v":0},0,0,0,0,0,null,0,null,0,0,0,0,0,null,0,0,null,0,"不涉及",0,0,0,0,0,0,0,"","否","正确","正确"]
[null,null,null,null,null,null,null,null,null,null,null,null,null,null,null,null,0,null,{"$error":"#DIV/0!"},{"$error":"#DIV/0!"},0,{"$error":"#DIV/0!"},{"$error":"#DIV/0!"},0,null,null,null,null,null,null,0,0,0,null,0,{"$f":"IFERROR(VLOOKUP(Z40,有效性!$D$2:$E$6,2,0),0)","v":0},0,0,0,0,0,null,0,null,0,0,0,0,0,null,0,0,null,0,"不涉及",0,0,0,0,0,0,0,"","否","正确","正确"]
[null,null,null,null,null,null,null,null,null,null,null,null,null,null,null,null,0,null,{"$error":"#DIV/0!"},{"$error":"#DIV/0!"},0,{"$error":"#DIV/0!"},{"$error":"#DIV/0!"},0,null,null,null,null,null,null,0,0,0,null,0,{"$f":"IFERROR(VLOOKUP(Z41,有效性!$D$2:$E$6,2,0),0)","v":0},0,0,0,0,0,null,0,null,0,0,0,0,0,null,0,0,null,0,"不涉及",0,0,0,0,0,0,0,"","否","正确","正确"]
[null,null,null,null,null,null,null,null,null,null,null,null,null,null,null,null,0,null,{"$error":"#DIV/0!"},{"$error":"#DIV/0!"},0,{"$error":"#DIV/0!"},{"$error":"#DIV/0!"},0,null,null,null,null,null,null,0,0,0,null,0,{"$f":"IFERROR(VLOOKUP(Z42,有效性!$D$2:$E$6,2,0),0)","v":0},0,0,0,0,0,null,0,null,0,0,0,0,0,null,0,0,null,0,"不涉及",0,0,0,0,0,0,0,"","否","正确","正确"]
[null,null,null,null,null,null,null,null,null,null,null,null,null,null,null,null,0,null,{"$error":"#DIV/0!"},{"$error":"#DIV/0!"},0,{"$error":"#DIV/0!"},{"$error":"#DIV/0!"},0,null,null,null,null,null,null,0,0,0,null,0,{"$f":"IFERROR(VLOOKUP(Z43,有效性!$D$2:$E$6,2,0),0)","v":0},0,0,0,0,0,null,0,null,0,0,0,0,0,null,0,0,null,0,"不涉及",0,0,0,0,0,0,0,"","否","正确","正确"]
[null,null,null,null,null,null,null,null,null,null,null,null,null,null,null,null,0,null,{"$error":"#DIV/0!"},{"$error":"#DIV/0!"},0,{"$error":"#DIV/0!"},{"$error":"#DIV/0!"},0,null,null,null,null,null,null,0,0,0,null,0,{"$f":"IFERROR(VLOOKUP(Z44,有效性!$D$2:$E$6,2,0),0)","v":0},0,0,0,0,0,null,0,null,0,0,0,0,0,null,0,0,null,0,"不涉及",0,0,0,0,0,0,0,"","否","正确","正确"]
[null,null,null,null,null,null,null,null,null,null,null,null,null,null,null,null,0,null,{"$error":"#DIV/0!"},{"$error":"#DIV/0!"},0,{"$error":"#DIV/0!"},{"$error":"#DIV/0!"},0,null,null,null,null,null,null,0,0,0,null,0,{"$f":"IFERROR(VLOOKUP(Z45,有效性!$D$2:$E$6,2,0),0)","v":0},0,0,0,0,0,null,0,null,0,0,0,0,0,null,0,0,null,0,"不涉及",0,0,0,0,0,0,0,"","否","正确","正确"]
[null,null,null,null,null,null,null,null,null,null,null,null,null,null,null,null,0,null,{"$error":"#DIV/0!"},{"$error":"#DIV/0!"},0,{"$error":"#DIV/0!"},{"$error":"#DIV/0!"},0,null,null,null,null,null,null,0,0,0,null,0,{"$f":"IFERROR(VLOOKUP(Z46,有效性!$D$2:$E$6,2,0),0)","v":0},0,0,0,0,0,null,0,null,0,0,0,0,0,null,0,0,null,0,"不涉及",0,0,0,0,0,0,0,"","否","正确","正确"]
[null,null,null,null,null,null,null,null,null,null,null,null,null,null,null,null,0,null,{"$error":"#DIV/0!"},{"$error":"#DIV/0!"},0,{"$error":"#DIV/0!"},{"$error":"#DIV/0!"},0,null,null,null,null,null,null,0,0,0,null,0,{"$f":"IFERROR(VLOOKUP(Z47,有效性!$D$2:$E$6,2,0),0)","v":0},0,0,0,0,0,null,0,null,0,0,0,0,0,null,0,0,null,0,"不涉及",0,0,0,0,0,0,0,"","否","正确","正确"]
[null,null,null,null,null,null,null,null,null,null,null,null,null,null,null,null,0,null,{"$error":"#DIV/0!"},{"$error":"#DIV/0!"},0,{"$error":"#DIV/0!"},{"$error":"#DIV/0!"},0,null,null,null,null,null,null,0,0,0,null,0,{"$f":"IFERROR(VLOOKUP(Z48,有效性!$D$2:$E$6,2,0),0)","v":0},0,0,0,0,0,null,0,null,0,0,0,0,0,null,0,0,null,0,"不涉及",0,0,0,0,0,0,0,"","否","正确","正确"]
[null,null,null,null,null,null,null,null,null,null,null,null,null,null,null,null,0,null,{"$error":"#DIV/0!"},{"$error":"#DIV/0!"},0,{"$error":"#DIV/0!"},{"$error":"#DIV/0!"},0,null,null,null,null,null,null,0,0,0,null,0,{"$f":"IFERROR(VLOOKUP(Z49,有效性!$D$2:$E$6,2,0),0)","v":0},0,0,0,0,0,null,0,null,0,0,0,0,0,null,0,0,null,0,"不涉及",0,0,0,0,0,0,0,"","否","正确","正确"]
[null,null,null,null,null,null,null,null,null,null,null,null,null,null,null,null,0,null,{"$error":"#DIV/0!"},{"$error":"#DIV/0!"},0,{"$error":"#DIV/0!"},{"$error":"#DIV/0!"},0,null,null,null,null,null,null,0,0,0,null,0,{"$f":"IFERROR(VLOOKUP(Z50,有效性!$D$2:$E$6,2,0),0)","v":0},0,0,0,0,0,null,0,null,0,0,0,0,0,null,0,0,null,0,"不涉及",0,0,0,0,0,0,0,"","否","正确","正确"]
[null,null,null,null,null,null,null,null,null,null,null,null,null,null,null,null,0,null,{"$error":"#DIV/0!"},{"$error":"#DIV/0!"},0,{"$error":"#DIV/0!"},{"$error":"#DIV/0!"},0,null,null,null,null,null,null,0,0,0,null,0,{"$f":"IFERROR(VLOOKUP(Z51,有效性!$D$2:$E$6,2,0),0)","v":0},0,0,0,0,0,null,0,null,0,0,0,0,0,null,0,0,null,0,"不涉及",0,0,0,0,0,0,0,"","否","正确","正确"]
[null,null,null,null,null,null,null,null,null,null,null,null,null,null,null,null,0,null,{"$error":"#DIV/0!"},{"$error":"#DIV/0!"},0,{"$error":"#DIV/0!"},{"$error":"#DIV/0!"},0,null,null,null,null,null,null,0,0,0,null,0,{"$f":"IFERROR(VLOOKUP(Z52,有效性!$D$2:$E$6,2,0),0)","v":0},0,0,0,0,0,null,0,null,0,0,0,0,0,null,0,0,null,0,"不涉及",0,0,0,0,0,0,0,"","否","正确","正确"]
[null,null,null,null,null,null,null,null,null,null,null,null,null,null,null,null,0,null,{"$error":"#DIV/0!"},{"$error":"#DIV/0!"},0,{"$error":"#DIV/0!"},{"$error":"#DIV/0!"},0,null,null,null,null,null,null,0,0,0,null,0,{"$f":"IFERROR(VLOOKUP(Z53,有效性!$D$2:$E$6,2,0),0)","v":0},0,0,0,0,0,null,0,null,0,0,0,0,0,null,0,0,null,0,"不涉及",0,0,0,0,0,0,0,"","否","正确","正确"]
[null,null,null,null,null,null,null,null,null,null,null,null,null,null,null,null,0,null,{"$error":"#DIV/0!"},{"$error":"#DIV/0!"},0,{"$error":"#DIV/0!"},{"$error":"#DIV/0!"},0,null,null,null,null,null,null,0,0,0,null,0,{"$f":"IFERROR(VLOOKUP(Z54,有效性!$D$2:$E$6,2,0),0)","v":0},0,0,0,0,0,null,0,null,0,0,0,0,0,null,0,0,null,0,"不涉及",0,0,0,0,0,0,0,"","否","正确","正确"]
[null,null,null,null,null,null,null,null,null,null,null,null,null,null,null,null,0,null,{"$error":"#DIV/0!"},{"$error":"#DIV/0!"},0,{"$error":"#DIV/0!"},{"$error":"#DIV/0!"},0,null,null,null,null,null,null,0,0,0,null,0,{"$f":"IFERROR(VLOOKUP(Z55,有效性!$D$2:$E$6,2,0),0)","v":0},0,0,0,0,0,null,0,null,0,0,0,0,0,null,0,0,null,0,"不涉及",0,0,0,0,0,0,0,"","否","正确","正确"]
[null,null,null,null,null,null,null,null,null,null,null,null,null,null,null,null,0,null,{"$error":"#DIV/0!"},{"$error":"#DIV/0!"},0,{"$error":"#DIV/0!"},{"$error":"#DIV/0!"},0,null,null,null,null,null,null,0,0,0,null,0,{"$f":"IFERROR(VLOOKUP(Z56,有效性!$D$2:$E$6,2,0),0)","v":0},0,0,0,0,0,null,0,null,0,0,0,0,0,null,0,0,null,0,"不涉及",0,0,0,0,0,0,0,"","否","正确","正确"]
[null,null,null,null,null,null,null,null,null,null,null,null,null,null,null,null,0,null,{"$error":"#DIV/0!"},{"$error":"#DIV/0!"},0,{"$error":"#DIV/0!"},{"$error":"#DIV/0!"},0,null,null,null,null,null,null,0,0,0,null,0,{"$f":"IFERROR(VLOOKUP(Z57,有效性!$D$2:$E$6,2,0),0)","v":0},0,0,0,0,0,null,0,null,0,0,0,0,0,null,0,0,null,0,"不涉及",0,0,0,0,0,0,0,"","否","正确","正确"]
[null,null,null,null,null,null,null,null,null,null,null,null,null,null,null,null,0,null,{"$error":"#DIV/0!"},{"$error":"#DIV/0!"},0,{"$error":"#DIV/0!"},{"$error":"#DIV/0!"},0,null,null,null,null,null,null,0,0,0,null,0,{"$f":"IFERROR(VLOOKUP(Z58,有效性!$D$2:$E$6,2,0),0)","v":0},0,0,0,0,0,null,0,null,0,0,0,0,0,null,0,0,null,0,"不涉及",0,0,0,0,0,0,0,"","否","正确","正确"]
[null,null,null,null,null,null,null,null,null,null,null,null,null,null,null,null,0,null,{"$error":"#DIV/0!"},{"$error":"#DIV/0!"},0,{"$error":"#DIV/0!"},{"$error":"#DIV/0!"},0,null,null,null,null,null,null,0,0,0,null,0,{"$f":"IFERROR(VLOOKUP(Z59,有效性!$D$2:$E$6,2,0),0)","v":0},0,0,0,0,0,null,0,null,0,0,0,0,0,null,0,0,null,0,"不涉及",0,0,0,0,0,0,0,"","否","正确","正确"]
[null,null,null,null,null,null,null,null,null,null,null,null,null,null,null,null,0,null,{"$error":"#DIV/0!"},{"$error":"#DIV/0!"},0,{"$error":"#DIV/0!"},{"$error":"#DIV/0!"},0,null,null,null,null,null,null,0,0,0,null,0,{"$f":"IFERROR(VLOOKUP(Z60,有效性!$D$2:$E$6,2,0),0)","v":0},0,0,0,0,0,null,0,null,0,0,0,0,0,null,0,0,null,0,"不涉及",0,0,0,0,0,0,0,"","否","正确","正确"]
[null,null,null,null,null,null,null,null,null,null,null,null,null,null,null,null,0,null,{"$error":"#DIV/0!"},{"$error":"#DIV/0!"},0,{"$error":"#DIV/0!"},{"$error":"#DIV/0!"},0,null,null,null,null,null,null,0,0,0,null,0,{"$f":"IFERROR(VLOOKUP(Z61,有效性!$D$2:$E$6,2,0),0)","v":0},0,0,0,0,0,null,0,null,0,0,0,0,0,null,0,0,null,0,"不涉及",0,0,0,0,0,0,0,"","否","正确","正确"]
[null,null,null,null,null,null,null,null,null,null,null,null,null,null,null,null,0,null,{"$error":"#DIV/0!"},{"$error":"#DIV/0!"},0,{"$error":"#DIV/0!"},{"$error":"#DIV/0!"},0,null,null,null,null,null,null,0,0,0,null,0,{"$f":"IFERROR(VLOOKUP(Z62,有效性!$D$2:$E$6,2,0),0)","v":0},0,0,0,0,0,null,0,null,0,0,0,0,0,null,0,0,null,0,"不涉及",0,0,0,0,0,0,0,"","否","正确","正确"]
[null,null,null,null,null,null,null,null,null,null,null,null,null,null,null,null,0,null,{"$error":"#DIV/0!"},{"$error":"#DIV/0!"},0,{"$error":"#DIV/0!"},{"$error":"#DIV/0!"},0,null,null,null,null,null,null,0,0,0,null,0,{"$f":"IFERROR(VLOOKUP(Z63,有效性!$D$2:$E$6,2,0),0)","v":0},0,0,0,0,0,null,0,null,0,0,0,0,0,null,0,0,null,0,"不涉及",0,0,0,0,0,0,0,"","否","正确","正确"]
[null,null,null,null,null,null,null,null,null,null,null,null,null,null,null,null,0,null,{"$error":"#DIV/0!"},{"$error":"#DIV/0!"},0,{"$error":"#DIV/0!"},{"$error":"#DIV/0!"},0,null,null,null,null,null,null,0,0,0,null,0,{"$f":"IFERROR(VLOOKUP(Z64,有效性!$D$2:$E$6,2,0),0)","v":0},0,0,0,0,0,null,0,null,0,0,0,0,0,null,0,0,null,0,"不涉及",0,0,0,0,0,0,0,"","否","正确","正确"]
[null,null,null,null,null,null,null,null,null,null,null,null,null,null,null,null,0,null,{"$error":"#DIV/0!"},{"$error":"#DIV/0!"},0,{"$error":"#DIV/0!"},{"$error":"#DIV/0!"},0,null,null,null,null,null,null,0,0,0,null,0,{"$f":"IFERROR(VLOOKUP(Z65,有效性!$D$2:$E$6,2,0),0)","v":0},0,0,0,0,0,null,0,null,0,0,0,0,0,null,0,0,null,0,"不涉及",0,0,0,0,0,0,0,"","否","正确","正确"]
[null,null,null,null,null,null,null,null,null,null,null,null,null,null,null,null,0,null,{"$error":"#DIV/0!"},{"$error":"#DIV/0!"},0,{"$error":"#DIV/0!"},{"$error":"#DIV/0!"},0,null,null,null,null,null,null,0,0,0,null,0,{"$f":"IFERROR(VLOOKUP(Z66,有效性!$D$2:$E$6,2,0),0)","v":0},0,0,0,0,0,null,0,null,0,0,0,0,0,null,0,0,null,0,"不涉及",0,0,0,0,0,0,0,"","否","正确","正确"]
[null,null,null,null,null,null,null,null,null,null,null,null,null,null,null,null,0,null,{"$error":"#DIV/0!"},{"$error":"#DIV/0!"},0,{"$error":"#DIV/0!"},{"$error":"#DIV/0!"},0,null,null,null,null,null,null,0,0,0,null,0,{"$f":"IFERROR(VLOOKUP(Z67,有效性!$D$2:$E$6,2,0),0)","v":0},0,0,0,0,0,null,0,null,0,0,0,0,0,null,0,0,null,0,"不涉及",0,0,0,0,0,0,0,"","否","正确","正确"]
[null,null,null,null,null,null,null,null,null,null,null,null,null,null,null,null,0,null,{"$f":"(1-I68)/(K68*12)","v":{"$error":"#DIV/0!"}},{"$f":"ROUND(G68*S68,2)","v":{"$error":"#DIV/0!"}},{"$f":"IF($T$2<YEAR(J68),0,IF($T$2=YEAR(J68),MAX($V$2-MONTH(J68),0),IF($T$2>YEAR(J68)+K68,0,IF($T$2=YEAR(J68)+K68,MIN(MONTH($J68),$V$2),$V$2))))","v":0},{"$f":"T68*U68","v":{"$error":"#DIV/0!"}},{"$f":"IF(ABS(Q68-V68)<=$X$2,0,Q68-V68)","v":{"$error":"#DIV/0!"}},{"$f":"IFERROR(IF((W68/V68)<$Y$2,0,W68/V68),0)","v":0},null,null,null,null,null,null,{"$f":"G68-AD68","v":0},{"$f":"IF(ISNUMBER(FIND(\"计税基础差异\",AA68)),IF(YEAR(J68)+K68=$T$2,Q68-((G68-AD68)*(1-I68)-AH68),AD68*S68*U68),0)","v":0},{"$f":"IF(ISNUMBER(FIND(\"计税基础差异\",AA68)),IF(AB68=\"是\",Q68-AF68,0),0)","v":0},null,{"$f":"ROUND(AH68+AG68,2)","v":0},{"$f":"IFERROR(VLOOKUP(Z68,有效性!$D$2:$E$6,2,0),0)","v":0},{"$f":"IFERROR((1-I68)/(AJ68*12),0)","v":0},{"$f":"G68*AK68","v":0},{"$f":"IF($T$2<YEAR(J68),0,IF($T$2=YEAR(J68),MAX($V$2-MONTH(J68),0),IF($T$2>YEAR(J68)+AJ68,0,IF($T$2=YEAR(J68)+AJ68,MIN(MONTH($J68),$V$2),$V$2))))","v":0},{"$f":"IF(ISNUMBER(FIND(\"折旧年限差异\",AA68)),IF(YEAR(J68)+AJ68=$T$2,AP68,AL68*AM68),0)","v":0},{"$f":"ROUND(IF(ISNUMBER(FIND(\"折旧年限差异\",AA68)),IF(AB68=\"是\",Q68-AN68,0),0),2)","v":0},null,{"$f":"ROUND(AO68+AP68,2)","v":0},null,{"$f":"IF(ISNUMBER(FIND(\"缩短年限60%\",AA68)),IFERROR((1-I68)/(AR68*12),0),0)","v":0},{"$f":"G68*AS68","v":0},{"$f":"IF($T$2<YEAR(J68),0,IF($T$2=YEAR(J68),MAX($V$2-MONTH(J68),0),IF($T$2>YEAR(J68)+AR68,0,IF($T$2=YEAR(J68)+AR68,MIN(MONTH($J68),$V$2),$V$2))))","v":0},{"$f":"ROUND(IF(ISNUMBER(FIND(\"加速折旧\",AA68)),IF(OR(ISNUMBER(FIND(\"500万元以下一次性扣除\",AA68)),ISNUMBER(FIND(\"5000元以下一次性扣除\",AA68))),IF(OR(AND(YEAR(J68)=$T$2,MONTH(J68)<>12),AND(YEAR(J68)=$T$2-1,MONTH(J68)=12)),G68,0),IF(ISNUMBER(FIND(\"缩短年限60%\",AA68)),IF(YEAR(J68)+AR68=$T$2,G68*(1-I68)-(O68-AX68),AT68*AU68),0)),0),2)","v":0},{"$f":"ROUND(IF(ISNUMBER(FIND(\"加速折旧\",AA68)),IF(AB68=\"是\",Q68-AV68,0),0),2)","v":0},null,{"$f":"ROUND(AX68+AW68,20)","v":0},{"$f":"IFERROR(IF(ISNUMBER(FIND(\"不得扣除折旧资产\",AA68)),IF(AB68=\"是\",Q68,0),0),0)","v":0},null,{"$f":"BA68+AZ68","v":0},"不涉及",{"$f":"IF(OR(AC68=\"否\",BC68=\"不涉及\"),0,Q68-AG68-AO68-AW68)","v":0},{"$f":"IF(BC68=\"不涉及\",0,IF(BC68=\"是\",BD68-Q68,BD68))","v":0},{"$f":"AH68+AP68+AX68+BA68","v":0},{"$f":"MAX(0,BJ68)","v":0},{"$f":"MIN(0,BJ68)","v":0},{"$f":"AI68+AQ68+AY68+BB68","v":0},{"$f":"AG68+AO68+AW68+AZ68","v":0},{"$f":"_xlfn.IFS(BJ68>0,\"本年调增\",BJ68<0,\"本年调减\",BJ68=0,\"\")","v":""},"否",{"$f":"IF(AND(BL68=\"是\",BI68<>0),\"请检查\",\"正确\")","v":"正确"},{"$f":"IF(Q68-BJ68<0,\"错误\",\"正确\")","v":"正确"}]
[null,null,null,null,null,null,null,null,null,null,null,null,null,null,null,null,{"$f":"P69-O69","v":0},null,{"$error":"#DIV/0!"},{"$error":"#DIV/0!"},0,{"$error":"#DIV/0!"},{"$error":"#DIV/0!"},0,null,null,null,null,null,null,0,0,0,null,0,{"$f":"IFERROR(VLOOKUP(Z69,有效性!$D$2:$E$6,2,0),0)","v":0},0,0,0,0,0,null,0,null,0,0,0,0,0,null,0,0,null,0,"不涉及",0,0,0,0,0,0,0,"","否","正确","正确"]
[null,null,null,null,null,null,null,null,null,null,null,null,null,null,null,null,0,null,{"$error":"#DIV/0!"},{"$error":"#DIV/0!"},0,{"$error":"#DIV/0!"},{"$error":"#DIV/0!"},0,null,null,null,null,null,null,0,0,0,null,0,{"$f":"IFERROR(VLOOKUP(Z70,有效性!$D$2:$E$6,2,0),0)","v":0},0,0,0,0,0,null,0,null,0,0,0,0,0,null,0,0,null,0,"不涉及",0,0,0,0,0,0,0,"","否","正确","正确"]
[null,null,null,null,null,null,null,null,null,null,null,null,null,null,null,null,0,null,{"$error":"#DIV/0!"},{"$error":"#DIV/0!"},0,{"$error":"#DIV/0!"},{"$error":"#DIV/0!"},0,null,null,null,null,null,null,0,0,0,null,0,{"$f":"IFERROR(VLOOKUP(Z71,有效性!$D$2:$E$6,2,0),0)","v":0},0,0,0,0,0,null,0,null,0,0,0,0,0,null,0,0,null,0,"不涉及",0,0,0,0,0,0,0,"","否","正确","正确"]
[null,null,null,null,null,null,null,null,null,null,null,null,null,null,null,null,0,null,{"$error":"#DIV/0!"},{"$error":"#DIV/0!"},0,{"$error":"#DIV/0!"},{"$error":"#DIV/0!"},0,null,null,null,null,null,null,0,0,0,null,0,{"$f":"IFERROR(VLOOKUP(Z72,有效性!$D$2:$E$6,2,0),0)","v":0},0,0,0,0,0,null,0,null,0,0,0,0,0,null,0,0,null,0,"不涉及",0,0,0,0,0,0,0,"","否","正确","正确"]
[null,null,null,null,null,null,null,null,null,null,null,null,null,null,null,null,0,null,{"$error":"#DIV/0!"},{"$error":"#DIV/0!"},0,{"$error":"#DIV/0!"},{"$error":"#DIV/0!"},0,null,null,null,null,null,null,0,0,0,null,0,{"$f":"IFERROR(VLOOKUP(Z73,有效性!$D$2:$E$6,2,0),0)","v":0},0,0,0,0,0,null,0,null,0,0,0,0,0,null,0,0,null,0,"不涉及",0,0,0,0,0,0,0,"","否","正确","正确"]
[null,null,null,null,null,null,null,null,null,null,null,null,null,null,null,null,0,null,{"$error":"#DIV/0!"},{"$error":"#DIV/0!"},0,{"$error":"#DIV/0!"},{"$error":"#DIV/0!"},0,null,null,null,null,null,null,0,0,0,null,0,{"$f":"IFERROR(VLOOKUP(Z74,有效性!$D$2:$E$6,2,0),0)","v":0},0,0,0,0,0,null,0,null,0,0,0,0,0,null,0,0,null,0,"不涉及",0,0,0,0,0,0,0,"","否","正确","正确"]
[null,null,null,null,null,null,null,null,null,null,null,null,null,null,null,null,0,null,{"$error":"#DIV/0!"},{"$error":"#DIV/0!"},0,{"$error":"#DIV/0!"},{"$error":"#DIV/0!"},0,null,null,null,null,null,null,0,0,0,null,0,{"$f":"IFERROR(VLOOKUP(Z75,有效性!$D$2:$E$6,2,0),0)","v":0},0,0,0,0,0,null,0,null,0,0,0,0,0,null,0,0,null,0,"不涉及",0,0,0,0,0,0,0,"","否","正确","正确"]
[null,null,null,null,null,null,null,null,null,null,null,null,null,null,null,null,0,null,{"$error":"#DIV/0!"},{"$error":"#DIV/0!"},0,{"$error":"#DIV/0!"},{"$error":"#DIV/0!"},0,null,null,null,null,null,null,0,0,0,null,0,{"$f":"IFERROR(VLOOKUP(Z76,有效性!$D$2:$E$6,2,0),0)","v":0},0,0,0,0,0,null,0,null,0,0,0,0,0,null,0,0,null,0,"不涉及",0,0,0,0,0,0,0,"","否","正确","正确"]
[null,null,null,null,null,null,null,null,null,null,null,null,null,null,null,null,0,null,{"$error":"#DIV/0!"},{"$error":"#DIV/0!"},0,{"$error":"#DIV/0!"},{"$error":"#DIV/0!"},0,null,null,null,null,null,null,0,0,0,null,0,{"$f":"IFERROR(VLOOKUP(Z77,有效性!$D$2:$E$6,2,0),0)","v":0},0,0,0,0,0,null,0,null,0,0,0,0,0,null,0,0,null,0,"不涉及",0,0,0,0,0,0,0,"","否","正确","正确"]
[null,null,null,null,null,null,null,null,null,null,null,null,null,null,null,null,0,null,{"$error":"#DIV/0!"},{"$error":"#DIV/0!"},0,{"$error":"#DIV/0!"},{"$error":"#DIV/0!"},0,null,null,null,null,null,null,0,0,0,null,0,{"$f":"IFERROR(VLOOKUP(Z78,有效性!$D$2:$E$6,2,0),0)","v":0},0,0,0,0,0,null,0,null,0,0,0,0,0,null,0,0,null,0,"不涉及",0,0,0,0,0,0,0,"","否","正确","正确"]
[null,null,null,null,null,null,null,null,null,null,null,null,null,null,null,null,0,null,{"$error":"#DIV/0!"},{"$error":"#DIV/0!"},0,{"$error":"#DIV/0!"},{"$error":"#DIV/0!"},0,null,null,null,null,null,null,0,0,0,null,0,{"$f":"IFERROR(VLOOKUP(Z79,有效性!$D$2:$E$6,2,0),0)","v":0},0,0,0,0,0,null,0,null,0,0,0,0,0,null,0,0,null,0,"不涉及",0,0,0,0,0,0,0,"","否","正确","正确"]
[null,null,null,null,null,null,null,null,null,null,null,null,null,null,null,null,0,null,{"$error":"#DIV/0!"},{"$error":"#DIV/0!"},0,{"$error":"#DIV/0!"},{"$error":"#DIV/0!"},0,null,null,null,null,null,null,0,0,0,null,0,{"$f":"IFERROR(VLOOKUP(Z80,有效性!$D$2:$E$6,2,0),0)","v":0},0,0,0,0,0,null,0,null,0,0,0,0,0,null,0,0,null,0,"不涉及",0,0,0,0,0,0,0,"","否","正确","正确"]
[null,null,null,null,null,null,null,null,null,null,null,null,null,null,null,null,0,null,{"$error":"#DIV/0!"},{"$error":"#DIV/0!"},0,{"$error":"#DIV/0!"},{"$error":"#DIV/0!"},0,null,null,null,null,null,null,0,0,0,null,0,{"$f":"IFERROR(VLOOKUP(Z81,有效性!$D$2:$E$6,2,0),0)","v":0},0,0,0,0,0,null,0,null,0,0,0,0,0,null,0,0,null,0,"不涉及",0,0,0,0,0,0,0,"","否","正确","正确"]
[null,null,null,null,null,null,null,null,null,null,null,null,null,null,null,null,0,null,{"$error":"#DIV/0!"},{"$error":"#DIV/0!"},0,{"$error":"#DIV/0!"},{"$error":"#DIV/0!"},0,null,null,null,null,null,null,0,0,0,null,0,{"$f":"IFERROR(VLOOKUP(Z82,有效性!$D$2:$E$6,2,0),0)","v":0},0,0,0,0,0,null,0,null,0,0,0,0,0,null,0,0,null,0,"不涉及",0,0,0,0,0,0,0,"","否","正确","正确"]
[null,null,null,null,null,null,null,null,null,null,null,null,null,null,null,null,0,null,{"$error":"#DIV/0!"},{"$error":"#DIV/0!"},0,{"$error":"#DIV/0!"},{"$error":"#DIV/0!"},0,null,null,null,null,null,null,0,0,0,null,0,{"$f":"IFERROR(VLOOKUP(Z83,有效性!$D$2:$E$6,2,0),0)","v":0},0,0,0,0,0,null,0,null,0,0,0,0,0,null,0,0,null,0,"不涉及",0,0,0,0,0,0,0,"","否","正确","正确"]
[null,null,null,null,null,null,null,null,null,null,null,null,null,null,null,null,0,null,{"$error":"#DIV/0!"},{"$error":"#DIV/0!"},0,{"$error":"#DIV/0!"},{"$error":"#DIV/0!"},0,null,null,null,null,null,null,0,0,0,null,0,{"$f":"IFERROR(VLOOKUP(Z84,有效性!$D$2:$E$6,2,0),0)","v":0},0,0,0,0,0,null,0,null,0,0,0,0,0,null,0,0,null,0,"不涉及",0,0,0,0,0,0,0,"","否","正确","正确"]
[null,null,null,null,null,null,null,null,null,null,null,null,null,null,null,null,0,null,{"$error":"#DIV/0!"},{"$error":"#DIV/0!"},0,{"$error":"#DIV/0!"},{"$error":"#DIV/0!"},0,null,null,null,null,null,null,0,0,0,null,0,{"$f":"IFERROR(VLOOKUP(Z85,有效性!$D$2:$E$6,2,0),0)","v":0},0,0,0,0,0,null,0,null,0,0,0,0,0,null,0,0,null,0,"不涉及",0,0,0,0,0,0,0,"","否","正确","正确"]
[null,null,null,null,null,null,null,null,null,null,null,null,null,null,null,null,0,null,{"$error":"#DIV/0!"},{"$error":"#DIV/0!"},0,{"$error":"#DIV/0!"},{"$error":"#DIV/0!"},0,null,null,null,null,null,null,0,0,0,null,0,{"$f":"IFERROR(VLOOKUP(Z86,有效性!$D$2:$E$6,2,0),0)","v":0},0,0,0,0,0,null,0,null,0,0,0,0,0,null,0,0,null,0,"不涉及",0,0,0,0,0,0,0,"","否","正确","正确"]
[null,null,null,null,null,null,null,null,null,null,null,null,null,null,null,null,0,null,{"$error":"#DIV/0!"},{"$error":"#DIV/0!"},0,{"$error":"#DIV/0!"},{"$error":"#DIV/0!"},0,null,null,null,null,null,null,0,0,0,null,0,{"$f":"IFERROR(VLOOKUP(Z87,有效性!$D$2:$E$6,2,0),0)","v":0},0,0,0,0,0,null,0,null,0,0,0,0,0,null,0,0,null,0,"不涉及",0,0,0,0,0,0,0,"","否","正确","正确"]
[null,null,null,null,null,null,null,null,null,null,null,null,null,null,null,null,0,null,{"$error":"#DIV/0!"},{"$error":"#DIV/0!"},0,{"$error":"#DIV/0!"},{"$error":"#DIV/0!"},0,null,null,null,null,null,null,0,0,0,null,0,{"$f":"IFERROR(VLOOKUP(Z88,有效性!$D$2:$E$6,2,0),0)","v":0},0,0,0,0,0,null,0,null,0,0,0,0,0,null,0,0,null,0,"不涉及",0,0,0,0,0,0,0,"","否","正确","正确"]
[null,null,null,null,null,null,null,null,null,null,null,null,null,null,null,null,0,null,{"$error":"#DIV/0!"},{"$error":"#DIV/0!"},0,{"$error":"#DIV/0!"},{"$error":"#DIV/0!"},0,null,null,null,null,null,null,0,0,0,null,0,{"$f":"IFERROR(VLOOKUP(Z89,有效性!$D$2:$E$6,2,0),0)","v":0},0,0,0,0,0,null,0,null,0,0,0,0,0,null,0,0,null,0,"不涉及",0,0,0,0,0,0,0,"","否","正确","正确"]
[null,null,null,null,null,null,null,null,null,null,null,null,null,null,null,null,0,null,{"$error":"#DIV/0!"},{"$error":"#DIV/0!"},0,{"$error":"#DIV/0!"},{"$error":"#DIV/0!"},0,null,null,null,null,null,null,0,0,0,null,0,{"$f":"IFERROR(VLOOKUP(Z90,有效性!$D$2:$E$6,2,0),0)","v":0},0,0,0,0,0,null,0,null,0,0,0,0,0,null,0,0,null,0,"不涉及",0,0,0,0,0,0,0,"","否","正确","正确"]
[null,null,null,null,null,null,null,null,null,null,null,null,null,null,null,null,0,null,{"$error":"#DIV/0!"},{"$error":"#DIV/0!"},0,{"$error":"#DIV/0!"},{"$error":"#DIV/0!"},0,null,null,null,null,null,null,0,0,0,null,0,{"$f":"IFERROR(VLOOKUP(Z91,有效性!$D$2:$E$6,2,0),0)","v":0},0,0,0,0,0,null,0,null,0,0,0,0,0,null,0,0,null,0,"不涉及",0,0,0,0,0,0,0,"","否","正确","正确"]
[null,null,null,null,null,null,null,null,null,null,null,null,null,null,null,null,0,null,{"$error":"#DIV/0!"},{"$error":"#DIV/0!"},0,{"$error":"#DIV/0!"},{"$error":"#DIV/0!"},0,null,null,null,null,null,null,0,0,0,null,0,{"$f":"IFERROR(VLOOKUP(Z92,有效性!$D$2:$E$6,2,0),0)","v":0},0,0,0,0,0,null,0,null,0,0,0,0,0,null,0,0,null,0,"不涉及",0,0,0,0,0,0,0,"","否","正确","正确"]
[null,null,null,null,null,null,null,null,null,null,null,null,null,null,null,null,0,null,{"$error":"#DIV/0!"},{"$error":"#DIV/0!"},0,{"$error":"#DIV/0!"},{"$error":"#DIV/0!"},0,null,null,null,null,null,null,0,0,0,null,0,{"$f":"IFERROR(VLOOKUP(Z93,有效性!$D$2:$E$6,2,0),0)","v":0},0,0,0,0,0,null,0,null,0,0,0,0,0,null,0,0,null,0,"不涉及",0,0,0,0,0,0,0,"","否","正确","正确"]
[null,null,null,null,null,null,null,null,null,null,null,null,null,null,null,null,0,null,{"$error":"#DIV/0!"},{"$error":"#DIV/0!"},0,{"$error":"#DIV/0!"},{"$error":"#DIV/0!"},0,null,null,null,null,null,null,0,0,0,null,0,{"$f":"IFERROR(VLOOKUP(Z94,有效性!$D$2:$E$6,2,0),0)","v":0},0,0,0,0,0,null,0,null,0,0,0,0,0,null,0,0,null,0,"不涉及",0,0,0,0,0,0,0,"","否","正确","正确"]
[null,null,null,null,null,null,null,null,null,null,null,null,null,null,null,null,0,null,{"$error":"#DIV/0!"},{"$error":"#DIV/0!"},0,{"$error":"#DIV/0!"},{"$error":"#DIV/0!"},0,null,null,null,null,null,null,0,0,0,null,0,{"$f":"IFERROR(VLOOKUP(Z95,有效性!$D$2:$E$6,2,0),0)","v":0},0,0,0,0,0,null,0,null,0,0,0,0,0,null,0,0,null,0,"不涉及",0,0,0,0,0,0,0,"","否","正确","正确"]
[null,null,null,null,null,null,null,null,null,null,null,null,null,null,null,null,0,null,{"$error":"#DIV/0!"},{"$error":"#DIV/0!"},0,{"$error":"#DIV/0!"},{"$error":"#DIV/0!"},0,null,null,null,null,null,null,0,0,0,null,0,{"$f":"IFERROR(VLOOKUP(Z96,有效性!$D$2:$E$6,2,0),0)","v":0},0,0,0,0,0,null,0,null,0,0,0,0,0,null,0,0,null,0,"不涉及",0,0,0,0,0,0,0,"","否","正确","正确"]
[null,null,null,null,null,null,null,null,null,null,null,null,null,null,null,null,0,null,{"$error":"#DIV/0!"},{"$error":"#DIV/0!"},0,{"$error":"#DIV/0!"},{"$error":"#DIV/0!"},0,null,null,null,null,null,null,0,0,0,null,0,{"$f":"IFERROR(VLOOKUP(Z97,有效性!$D$2:$E$6,2,0),0)","v":0},0,0,0,0,0,null,0,null,0,0,0,0,0,null,0,0,null,0,"不涉及",0,0,0,0,0,0,0,"","否","正确","正确"]
[null,null,null,null,null,null,null,null,null,null,null,null,null,null,null,null,0,null,{"$error":"#DIV/0!"},{"$error":"#DIV/0!"},0,{"$error":"#DIV/0!"},{"$error":"#DIV/0!"},0,null,null,null,null,null,null,0,0,0,null,0,{"$f":"IFERROR(VLOOKUP(Z98,有效性!$D$2:$E$6,2,0),0)","v":0},0,0,0,0,0,null,0,null,0,0,0,0,0,null,0,0,null,0,"不涉及",0,0,0,0,0,0,0,"","否","正确","正确"]
[null,null,null,null,null,null,null,null,null,null,null,null,null,null,null,null,0,null,{"$error":"#DIV/0!"},{"$error":"#DIV/0!"},0,{"$error":"#DIV/0!"},{"$error":"#DIV/0!"},0,null,null,null,null,null,null,0,0,0,null,0,{"$f":"IFERROR(VLOOKUP(Z99,有效性!$D$2:$E$6,2,0),0)","v":0},0,0,0,0,0,null,0,null,0,0,0,0,0,null,0,0,null,0,"不涉及",0,0,0,0,0,0,0,"","否","正确","正确"]
[null,null,null,null,null,null,null,null,null,null,null,null,null,null,null,null,0,null,{"$error":"#DIV/0!"},{"$error":"#DIV/0!"},0,{"$error":"#DIV/0!"},{"$error":"#DIV/0!"},0,null,null,null,null,null,null,0,0,0,null,0,{"$f":"IFERROR(VLOOKUP(Z100,有效性!$D$2:$E$6,2,0),0)","v":0},0,0,0,0,0,null,0,null,0,0,0,0,0,null,0,0,null,0,"不涉及",0,0,0,0,0,0,0,"","否","正确","正确"]
[null,null,null,null,null,null,null,null,null,null,null,null,null,null,null,null,0,null,{"$error":"#DIV/0!"},{"$error":"#DIV/0!"},0,{"$error":"#DIV/0!"},{"$error":"#DIV/0!"},0,null,null,null,null,null,null,0,0,0,null,0,{"$f":"IFERROR(VLOOKUP(Z101,有效性!$D$2:$E$6,2,0),0)","v":0},0,0,0,0,0,null,0,null,0,0,0,0,0,null,0,0,null,0,"不涉及",0,0,0,0,0,0,0,"","否","正确","正确"]
[null,null,null,null,null,null,null,null,null,null,null,null,null,null,null,null,0,null,{"$error":"#DIV/0!"},{"$error":"#DIV/0!"},0,{"$error":"#DIV/0!"},{"$error":"#DIV/0!"},0,null,null,null,null,null,null,0,0,0,null,0,{"$f":"IFERROR(VLOOKUP(Z102,有效性!$D$2:$E$6,2,0),0)","v":0},0,0,0,0,0,null,0,null,0,0,0,0,0,null,0,0,null,0,"不涉及",0,0,0,0,0,0,0,"","否","正确","正确"]
[null,null,null,null,null,null,null,null,null,null,null,null,null,null,null,null,0,null,{"$error":"#DIV/0!"},{"$error":"#DIV/0!"},0,{"$error":"#DIV/0!"},{"$error":"#DIV/0!"},0,null,null,null,null,null,null,0,0,0,null,0,{"$f":"IFERROR(VLOOKUP(Z103,有效性!$D$2:$E$6,2,0),0)","v":0},0,0,0,0,0,null,0,null,0,0,0,0,0,null,0,0,null,0,"不涉及",0,0,0,0,0,0,0,"","否","正确","正确"]
[null,null,null,null,null,null,null,null,null,null,null,null,null,null,null,null,0,null,{"$error":"#DIV/0!"},{"$error":"#DIV/0!"},0,{"$error":"#DIV/0!"},{"$error":"#DIV/0!"},0,null,null,null,null,null,null,0,0,0,null,0,{"$f":"IFERROR(VLOOKUP(Z104,有效性!$D$2:$E$6,2,0),0)","v":0},0,0,0,0,0,null,0,null,0,0,0,0,0,null,0,0,null,0,"不涉及",0,0,0,0,0,0,0,"","否","正确","正确"]
[null,null,null,null,null,null,null,null,null,null,null,null,null,null,null,null,0,null,{"$error":"#DIV/0!"},{"$error":"#DIV/0!"},0,{"$error":"#DIV/0!"},{"$error":"#DIV/0!"},0,null,null,null,null,null,null,0,0,0,null,0,{"$f":"IFERROR(VLOOKUP(Z105,有效性!$D$2:$E$6,2,0),0)","v":0},0,0,0,0,0,null,0,null,0,0,0,0,0,null,0,0,null,0,"不涉及",0,0,0,0,0,0,0,"","否","正确","正确"]
[null,null,null,null,null,null,null,null,null,null,null,null,null,null,null,null,0,null,{"$error":"#DIV/0!"},{"$error":"#DIV/0!"},0,{"$error":"#DIV/0!"},{"$error":"#DIV/0!"},0,null,null,null,null,null,null,0,0,0,null,0,{"$f":"IFERROR(VLOOKUP(Z106,有效性!$D$2:$E$6,2,0),0)","v":0},0,0,0,0,0,null,0,null,0,0,0,0,0,null,0,0,null,0,"不涉及",0,0,0,0,0,0,0,"","否","正确","正确"]
[null,null,null,null,null,null,null,null,null,null,null,null,null,null,null,null,0,null,{"$error":"#DIV/0!"},{"$error":"#DIV/0!"},0,{"$error":"#DIV/0!"},{"$error":"#DIV/0!"},0,null,null,null,null,null,null,0,0,0,null,0,{"$f":"IFERROR(VLOOKUP(Z107,有效性!$D$2:$E$6,2,0),0)","v":0},0,0,0,0,0,null,0,null,0,0,0,0,0,null,0,0,null,0,"不涉及",0,0,0,0,0,0,0,"","否","正确","正确"]
[null,null,null,null,null,null,null,null,null,null,null,null,null,null,null,null,0,null,{"$error":"#DIV/0!"},{"$error":"#DIV/0!"},0,{"$error":"#DIV/0!"},{"$error":"#DIV/0!"},0,null,null,null,null,null,null,0,0,0,null,0,{"$f":"IFERROR(VLOOKUP(Z108,有效性!$D$2:$E$6,2,0),0)","v":0},0,0,0,0,0,null,0,null,0,0,0,0,0,null,0,0,null,0,"不涉及",0,0,0,0,0,0,0,"","否","正确","正确"]
[null,null,null,null,null,null,null,null,null,null,null,null,null,null,null,null,0,null,{"$error":"#DIV/0!"},{"$error":"#DIV/0!"},0,{"$error":"#DIV/0!"},{"$error":"#DIV/0!"},0,null,null,null,null,null,null,0,0,0,null,0,{"$f":"IFERROR(VLOOKUP(Z109,有效性!$D$2:$E$6,2,0),0)","v":0},0,0,0,0,0,null,0,null,0,0,0,0,0,null,0,0,null,0,"不涉及",0,0,0,0,0,0,0,"","否","正确","正确"]
[null,null,null,null,null,null,null,null,null,null,null,null,null,null,null,null,0,null,{"$error":"#DIV/0!"},{"$error":"#DIV/0!"},0,{"$error":"#DIV/0!"},{"$error":"#DIV/0!"},0,null,null,null,null,null,null,0,0,0,null,0,{"$f":"IFERROR(VLOOKUP(Z110,有效性!$D$2:$E$6,2,0),0)","v":0},0,0,0,0,0,null,0,null,0,0,0,0,0,null,0,0,null,0,"不涉及",0,0,0,0,0,0,0,"","否","正确","正确"]
[null,null,null,null,null,null,null,null,null,null,null,null,null,null,null,null,0,null,{"$error":"#DIV/0!"},{"$error":"#DIV/0!"},0,{"$error":"#DIV/0!"},{"$error":"#DIV/0!"},0,null,null,null,null,null,null,0,0,0,null,0,{"$f":"IFERROR(VLOOKUP(Z111,有效性!$D$2:$E$6,2,0),0)","v":0},0,0,0,0,0,null,0,null,0,0,0,0,0,null,0,0,null,0,"不涉及",0,0,0,0,0,0,0,"","否","正确","正确"]
[null,null,null,null,null,null,null,null,null,null,null,null,null,null,null,null,0,null,{"$error":"#DIV/0!"},{"$error":"#DIV/0!"},0,{"$error":"#DIV/0!"},{"$error":"#DIV/0!"},0,null,null,null,null,null,null,0,0,0,null,0,{"$f":"IFERROR(VLOOKUP(Z112,有效性!$D$2:$E$6,2,0),0)","v":0},0,0,0,0,0,null,0,null,0,0,0,0,0,null,0,0,null,0,"不涉及",0,0,0,0,0,0,0,"","否","正确","正确"]
[null,null,null,null,null,null,null,null,null,null,null,null,null,null,null,null,0,null,{"$error":"#DIV/0!"},{"$error":"#DIV/0!"},0,{"$error":"#DIV/0!"},{"$error":"#DIV/0!"},0,null,null,null,null,null,null,0,0,0,null,0,{"$f":"IFERROR(VLOOKUP(Z113,有效性!$D$2:$E$6,2,0),0)","v":0},0,0,0,0,0,null,0,null,0,0,0,0,0,null,0,0,null,0,"不涉及",0,0,0,0,0,0,0,"","否","正确","正确"]
[null,null,null,null,null,null,null,null,null,null,null,null,null,null,null,null,0,null,{"$error":"#DIV/0!"},{"$error":"#DIV/0!"},0,{"$error":"#DIV/0!"},{"$error":"#DIV/0!"},0,null,null,null,null,null,null,0,0,0,null,0,{"$f":"IFERROR(VLOOKUP(Z114,有效性!$D$2:$E$6,2,0),0)","v":0},0,0,0,0,0,null,0,null,0,0,0,0,0,null,0,0,null,0,"不涉及",0,0,0,0,0,0,0,"","否","正确","正确"]
[null,null,null,null,null,null,null,null,null,null,null,null,null,null,null,null,0,null,{"$error":"#DIV/0!"},{"$error":"#DIV/0!"},0,{"$error":"#DIV/0!"},{"$error":"#DIV/0!"},0,null,null,null,null,null,null,0,0,0,null,0,{"$f":"IFERROR(VLOOKUP(Z115,有效性!$D$2:$E$6,2,0),0)","v":0},0,0,0,0,0,null,0,null,0,0,0,0,0,null,0,0,null,0,"不涉及",0,0,0,0,0,0,0,"","否","正确","正确"]
[null,null,null,null,null,null,null,null,null,null,null,null,null,null,null,null,0,null,{"$error":"#DIV/0!"},{"$error":"#DIV/0!"},0,{"$error":"#DIV/0!"},{"$error":"#DIV/0!"},0,null,null,null,null,null,null,0,0,0,null,0,{"$f":"IFERROR(VLOOKUP(Z116,有效性!$D$2:$E$6,2,0),0)","v":0},0,0,0,0,0,null,0,null,0,0,0,0,0,null,0,0,null,0,"不涉及",0,0,0,0,0,0,0,"","否","正确","正确"]
[null,null,null,null,null,null,null,null,null,null,null,null,null,null,null,null,0,null,{"$error":"#DIV/0!"},{"$error":"#DIV/0!"},0,{"$error":"#DIV/0!"},{"$error":"#DIV/0!"},0,null,null,null,null,null,null,0,0,0,null,0,{"$f":"IFERROR(VLOOKUP(Z117,有效性!$D$2:$E$6,2,0),0)","v":0},0,0,0,0,0,null,0,null,0,0,0,0,0,null,0,0,null,0,"不涉及",0,0,0,0,0,0,0,"","否","正确","正确"]
[null,null,null,null,null,null,null,null,null,null,null,null,null,null,null,null,0,null,{"$error":"#DIV/0!"},{"$error":"#DIV/0!"},0,{"$error":"#DIV/0!"},{"$error":"#DIV/0!"},0,null,null,null,null,null,null,0,0,0,null,0,{"$f":"IFERROR(VLOOKUP(Z118,有效性!$D$2:$E$6,2,0),0)","v":0},0,0,0,0,0,null,0,null,0,0,0,0,0,null,0,0,null,0,"不涉及",0,0,0,0,0,0,0,"","否","正确","正确"]
[null,null,null,null,null,null,null,null,null,null,null,null,null,null,null,null,0,null,{"$error":"#DIV/0!"},{"$error":"#DIV/0!"},0,{"$error":"#DIV/0!"},{"$error":"#DIV/0!"},0,null,null,null,null,null,null,0,0,0,null,0,{"$f":"IFERROR(VLOOKUP(Z119,有效性!$D$2:$E$6,2,0),0)","v":0},0,0,0,0,0,null,0,null,0,0,0,0,0,null,0,0,null,0,"不涉及",0,0,0,0,0,0,0,"","否","正确","正确"]
[null,null,null,null,null,null,null,null,null,null,null,null,null,null,null,null,0,null,{"$error":"#DIV/0!"},{"$error":"#DIV/0!"},0,{"$error":"#DIV/0!"},{"$error":"#DIV/0!"},0,null,null,null,null,null,null,0,0,0,null,0,{"$f":"IFERROR(VLOOKUP(Z120,有效性!$D$2:$E$6,2,0),0)","v":0},0,0,0,0,0,null,0,null,0,0,0,0,0,null,0,0,null,0,"不涉及",0,0,0,0,0,0,0,"","否","正确","正确"]
[null,null,null,null,null,null,null,null,null,null,null,null,null,null,null,null,0,null,{"$error":"#DIV/0!"},{"$error":"#DIV/0!"},0,{"$error":"#DIV/0!"},{"$error":"#DIV/0!"},0,null,null,null,null,null,null,0,0,0,null,0,{"$f":"IFERROR(VLOOKUP(Z121,有效性!$D$2:$E$6,2,0),0)","v":0},0,0,0,0,0,null,0,null,0,0,0,0,0,null,0,0,null,0,"不涉及",0,0,0,0,0,0,0,"","否","正确","正确"]
[null,null,null,null,null,null,null,null,null,null,null,null,null,null,null,null,0,null,{"$error":"#DIV/0!"},{"$error":"#DIV/0!"},0,{"$error":"#DIV/0!"},{"$error":"#DIV/0!"},0,null,null,null,null,null,null,0,0,0,null,0,{"$f":"IFERROR(VLOOKUP(Z122,有效性!$D$2:$E$6,2,0),0)","v":0},0,0,0,0,0,null,0,null,0,0,0,0,0,null,0,0,null,0,"不涉及",0,0,0,0,0,0,0,"","否","正确","正确"]
[null,null,null,null,null,null,null,null,null,null,null,null,null,null,null,null,0,null,{"$error":"#DIV/0!"},{"$error":"#DIV/0!"},0,{"$error":"#DIV/0!"},{"$error":"#DIV/0!"},0,null,null,null,null,null,null,0,0,0,null,0,{"$f":"IFERROR(VLOOKUP(Z123,有效性!$D$2:$E$6,2,0),0)","v":0},0,0,0,0,0,null,0,null,0,0,0,0,0,null,0,0,null,0,"不涉及",0,0,0,0,0,0,0,"","否","正确","正确"]
[null,null,null,null,null,null,null,null,null,null,null,null,null,null,null,null,0,null,{"$error":"#DIV/0!"},{"$error":"#DIV/0!"},0,{"$error":"#DIV/0!"},{"$error":"#DIV/0!"},0,null,null,null,null,null,null,0,0,0,null,0,{"$f":"IFERROR(VLOOKUP(Z124,有效性!$D$2:$E$6,2,0),0)","v":0},0,0,0,0,0,null,0,null,0,0,0,0,0,null,0,0,null,0,"不涉及",0,0,0,0,0,0,0,"","否","正确","正确"]
[null,null,null,null,null,null,null,null,null,null,null,null,null,null,null,null,0,null,{"$error":"#DIV/0!"},{"$error":"#DIV/0!"},0,{"$error":"#DIV/0!"},{"$error":"#DIV/0!"},0,null,null,null,null,null,null,0,0,0,null,0,{"$f":"IFERROR(VLOOKUP(Z125,有效性!$D$2:$E$6,2,0),0)","v":0},0,0,0,0,0,null,0,null,0,0,0,0,0,null,0,0,null,0,"不涉及",0,0,0,0,0,0,0,"","否","正确","正确"]
[null,null,null,null,null,null,null,null,null,null,null,null,null,null,null,null,0,null,{"$error":"#DIV/0!"},{"$error":"#DIV/0!"},0,{"$error":"#DIV/0!"},{"$error":"#DIV/0!"},0,null,null,null,null,null,null,0,0,0,null,0,{"$f":"IFERROR(VLOOKUP(Z126,有效性!$D$2:$E$6,2,0),0)","v":0},0,0,0,0,0,null,0,null,0,0,0,0,0,null,0,0,null,0,"不涉及",0,0,0,0,0,0,0,"","否","正确","正确"]
[null,null,null,null,null,null,null,null,null,null,null,null,null,null,null,null,0,null,{"$error":"#DIV/0!"},{"$error":"#DIV/0!"},0,{"$error":"#DIV/0!"},{"$error":"#DIV/0!"},0,null,null,null,null,null,null,0,0,0,null,0,{"$f":"IFERROR(VLOOKUP(Z127,有效性!$D$2:$E$6,2,0),0)","v":0},0,0,0,0,0,null,0,null,0,0,0,0,0,null,0,0,null,0,"不涉及",0,0,0,0,0,0,0,"","否","正确","正确"]
[null,null,null,null,null,null,null,null,null,null,null,null,null,null,null,null,0,null,{"$error":"#DIV/0!"},{"$error":"#DIV/0!"},0,{"$error":"#DIV/0!"},{"$error":"#DIV/0!"},0,null,null,null,null,null,null,0,0,0,null,0,{"$f":"IFERROR(VLOOKUP(Z128,有效性!$D$2:$E$6,2,0),0)","v":0},0,0,0,0,0,null,0,null,0,0,0,0,0,null,0,0,null,0,"不涉及",0,0,0,0,0,0,0,"","否","正确","正确"]
[null,null,null,null,null,null,null,null,null,null,null,null,null,null,null,null,0,null,{"$error":"#DIV/0!"},{"$error":"#DIV/0!"},0,{"$error":"#DIV/0!"},{"$error":"#DIV/0!"},0,null,null,null,null,null,null,0,0,0,null,0,{"$f":"IFERROR(VLOOKUP(Z129,有效性!$D$2:$E$6,2,0),0)","v":0},0,0,0,0,0,null,0,null,0,0,0,0,0,null,0,0,null,0,"不涉及",0,0,0,0,0,0,0,"","否","正确","正确"]
[null,null,null,null,null,null,null,null,null,null,null,null,null,null,null,null,0,null,{"$error":"#DIV/0!"},{"$error":"#DIV/0!"},0,{"$error":"#DIV/0!"},{"$error":"#DIV/0!"},0,null,null,null,null,null,null,0,0,0,null,0,{"$f":"IFERROR(VLOOKUP(Z130,有效性!$D$2:$E$6,2,0),0)","v":0},0,0,0,0,0,null,0,null,0,0,0,0,0,null,0,0,null,0,"不涉及",0,0,0,0,0,0,0,"","否","正确","正确"]
[null,null,null,null,null,null,null,null,null,null,null,null,null,null,null,null,0,null,{"$error":"#DIV/0!"},{"$error":"#DIV/0!"},0,{"$error":"#DIV/0!"},{"$error":"#DIV/0!"},0,null,null,null,null,null,null,0,0,0,null,0,{"$f":"IFERROR(VLOOKUP(Z131,有效性!$D$2:$E$6,2,0),0)","v":0},0,0,0,0,0,null,0,null,0,0,0,0,0,null,0,0,null,0,"不涉及",0,0,0,0,0,0,0,"","否","正确","正确"]
[null,null,null,null,null,null,null,null,null,null,null,null,null,null,null,null,0,null,{"$f":"(1-I132)/(K132*12)","v":{"$error":"#DIV/0!"}},{"$f":"ROUND(G132*S132,2)","v":{"$error":"#DIV/0!"}},{"$f":"IF($T$2<YEAR(J132),0,IF($T$2=YEAR(J132),MAX($V$2-MONTH(J132),0),IF($T$2>YEAR(J132)+K132,0,IF($T$2=YEAR(J132)+K132,MIN(MONTH($J132),$V$2),$V$2))))","v":0},{"$f":"T132*U132","v":{"$error":"#DIV/0!"}},{"$f":"IF(ABS(Q132-V132)<=$X$2,0,Q132-V132)","v":{"$error":"#DIV/0!"}},{"$f":"IFERROR(IF((W132/V132)<$Y$2,0,W132/V132),0)","v":0},null,null,null,null,null,null,{"$f":"G132-AD132","v":0},{"$f":"IF(ISNUMBER(FIND(\"计税基础差异\",AA132)),IF(YEAR(J132)+K132=$T$2,Q132-((G132-AD132)*(1-I132)-AH132),AD132*S132*U132),0)","v":0},{"$f":"IF(ISNUMBER(FIND(\"计税基础差异\",AA132)),IF(AB132=\"是\",Q132-AF132,0),0)","v":0},null,{"$f":"ROUND(AH132+AG132,2)","v":0},{"$f":"IFERROR(VLOOKUP(Z132,有效性!$D$2:$E$6,2,0),0)","v":0},{"$f":"IFERROR((1-I132)/(AJ132*12),0)","v":0},{"$f":"G132*AK132","v":0},{"$f":"IF($T$2<YEAR(J132),0,IF($T$2=YEAR(J132),MAX($V$2-MONTH(J132),0),IF($T$2>YEAR(J132)+AJ132,0,IF($T$2=YEAR(J132)+AJ132,MIN(MONTH($J132),$V$2),$V$2))))","v":0},{"$f":"IF(ISNUMBER(FIND(\"折旧年限差异\",AA132)),IF(YEAR(J132)+AJ132=$T$2,AP132,AL132*AM132),0)","v":0},{"$f":"ROUND(IF(ISNUMBER(FIND(\"折旧年限差异\",AA132)),IF(AB132=\"是\",Q132-AN132,0),0),2)","v":0},null,{"$f":"ROUND(AO132+AP132,2)","v":0},null,{"$f":"IF(ISNUMBER(FIND(\"缩短年限60%\",AA132)),IFERROR((1-I132)/(AR132*12),0),0)","v":0},{"$f":"G132*AS132","v":0},{"$f":"IF($T$2<YEAR(J132),0,IF($T$2=YEAR(J132),MAX($V$2-MONTH(J132),0),IF($T$2>YEAR(J132)+AR132,0,IF($T$2=YEAR(J132)+AR132,MIN(MONTH($J132),$V$2),$V$2))))","v":0},{"$f":"ROUND(IF(ISNUMBER(FIND(\"加速折旧\",AA132)),IF(OR(ISNUMBER(FIND(\"500万元以下一次性扣除\",AA132)),ISNUMBER(FIND(\"5000元以下一次性扣除\",AA132))),IF(OR(AND(YEAR(J132)=$T$2,MONTH(J132)<>12),AND(YEAR(J132)=$T$2-1,MONTH(J132)=12)),G132,0),IF(ISNUMBER(FIND(\"缩短年限60%\",AA132)),IF(YEAR(J132)+AR132=$T$2,G132*(1-I132)-(O132-AX132),AT132*AU132),0)),0),2)","v":0},{"$f":"ROUND(IF(ISNUMBER(FIND(\"加速折旧\",AA132)),IF(AB132=\"是\",Q132-AV132,0),0),2)","v":0},null,{"$f":"ROUND(AX132+AW132,20)","v":0},{"$f":"IFERROR(IF(ISNUMBER(FIND(\"不得扣除折旧资产\",AA132)),IF(AB132=\"是\",Q132,0),0),0)","v":0},null,{"$f":"BA132+AZ132","v":0},"不涉及",{"$f":"IF(OR(AC132=\"否\",BC132=\"不涉及\"),0,Q132-AG132-AO132-AW132)","v":0},{"$f":"IF(BC132=\"不涉及\",0,IF(BC132=\"是\",BD132-Q132,BD132))","v":0},{"$f":"AH132+AP132+AX132+BA132","v":0},{"$f":"MAX(0,BJ132)","v":0},{"$f":"MIN(0,BJ132)","v":0},{"$f":"AI132+AQ132+AY132+BB132","v":0},{"$f":"AG132+AO132+AW132+AZ132","v":0},{"$f":"_xlfn.IFS(BJ132>0,\"本年调增\",BJ132<0,\"本年调减\",BJ132=0,\"\")","v":""},"否",{"$f":"IF(AND(BL132=\"是\",BI132<>0),\"请检查\",\"正确\")","v":"正确"},{"$f":"IF(Q132-BJ132<0,\"错误\",\"正确\")","v":"正确"}]
[null,null,null,null,null,null,null,null,null,null,null,null,null,null,null,null,{"$f":"P133-O133","v":0},null,{"$error":"#DIV/0!"},{"$error":"#DIV/0!"},0,{"$error":"#DIV/0!"},{"$error":"#DIV/0!"},0,null,null,null,null,null,null,0,0,0,null,0,{"$f":"IFERROR(VLOOKUP(Z133,有效性!$D$2:$E$6,2,0),0)","v":0},0,0,0,0,0,null,0,null,0,0,0,0,0,null,0,0,null,0,"不涉及",0,0,0,0,0,0,0,"","否","正确","正确"]
[null,null,null,null,null,null,null,null,null,null,null,null,null,null,null,null,0,null,{"$error":"#DIV/0!"},{"$error":"#DIV/0!"},0,{"$error":"#DIV/0!"},{"$error":"#DIV/0!"},0,null,null,null,null,null,null,0,0,0,null,0,{"$f":"IFERROR(VLOOKUP(Z134,有效性!$D$2:$E$6,2,0),0)","v":0},0,0,0,0,0,null,0,null,0,0,0,0,0,null,0,0,null,0,"不涉及",0,0,0,0,0,0,0,"","否","正确","正确"]
[null,null,null,null,null,null,null,null,null,null,null,null,null,null,null,null,0,null,{"$error":"#DIV/0!"},{"$error":"#DIV/0!"},0,{"$error":"#DIV/0!"},{"$error":"#DIV/0!"},0,null,null,null,null,null,null,0,0,0,null,0,{"$f":"IFERROR(VLOOKUP(Z135,有效性!$D$2:$E$6,2,0),0)","v":0},0,0,0,0,0,null,0,null,0,0,0,0,0,null,0,0,null,0,"不涉及",0,0,0,0,0,0,0,"","否","正确","正确"]
[null,null,null,null,null,null,null,null,null,null,null,null,null,null,null,null,0,null,{"$error":"#DIV/0!"},{"$error":"#DIV/0!"},0,{"$error":"#DIV/0!"},{"$error":"#DIV/0!"},0,null,null,null,null,null,null,0,0,0,null,0,{"$f":"IFERROR(VLOOKUP(Z136,有效性!$D$2:$E$6,2,0),0)","v":0},0,0,0,0,0,null,0,null,0,0,0,0,0,null,0,0,null,0,"不涉及",0,0,0,0,0,0,0,"","否","正确","正确"]
[null,null,null,null,null,null,null,null,null,null,null,null,null,null,null,null,0,null,{"$error":"#DIV/0!"},{"$error":"#DIV/0!"},0,{"$error":"#DIV/0!"},{"$error":"#DIV/0!"},0,null,null,null,null,null,null,0,0,0,null,0,{"$f":"IFERROR(VLOOKUP(Z137,有效性!$D$2:$E$6,2,0),0)","v":0},0,0,0,0,0,null,0,null,0,0,0,0,0,null,0,0,null,0,"不涉及",0,0,0,0,0,0,0,"","否","正确","正确"]
[null,null,null,null,null,null,null,null,null,null,null,null,null,null,null,null,0,null,{"$error":"#DIV/0!"},{"$error":"#DIV/0!"},0,{"$error":"#DIV/0!"},{"$error":"#DIV/0!"},0,null,null,null,null,null,null,0,0,0,null,0,{"$f":"IFERROR(VLOOKUP(Z138,有效性!$D$2:$E$6,2,0),0)","v":0},0,0,0,0,0,null,0,null,0,0,0,0,0,null,0,0,null,0,"不涉及",0,0,0,0,0,0,0,"","否","正确","正确"]
[null,null,null,null,null,null,null,null,null,null,null,null,null,null,null,null,0,null,{"$error":"#DIV/0!"},{"$error":"#DIV/0!"},0,{"$error":"#DIV/0!"},{"$error":"#DIV/0!"},0,null,null,null,null,null,null,0,0,0,null,0,{"$f":"IFERROR(VLOOKUP(Z139,有效性!$D$2:$E$6,2,0),0)","v":0},0,0,0,0,0,null,0,null,0,0,0,0,0,null,0,0,null,0,"不涉及",0,0,0,0,0,0,0,"","否","正确","正确"]
[null,null,null,null,null,null,null,null,null,null,null,null,null,null,null,null,0,null,{"$error":"#DIV/0!"},{"$error":"#DIV/0!"},0,{"$error":"#DIV/0!"},{"$error":"#DIV/0!"},0,null,null,null,null,null,null,0,0,0,null,0,{"$f":"IFERROR(VLOOKUP(Z140,有效性!$D$2:$E$6,2,0),0)","v":0},0,0,0,0,0,null,0,null,0,0,0,0,0,null,0,0,null,0,"不涉及",0,0,0,0,0,0,0,"","否","正确","正确"]
[null,null,null,null,null,null,null,null,null,null,null,null,null,null,null,null,0,null,{"$error":"#DIV/0!"},{"$error":"#DIV/0!"},0,{"$error":"#DIV/0!"},{"$error":"#DIV/0!"},0,null,null,null,null,null,null,0,0,0,null,0,{"$f":"IFERROR(VLOOKUP(Z141,有效性!$D$2:$E$6,2,0),0)","v":0},0,0,0,0,0,null,0,null,0,0,0,0,0,null,0,0,null,0,"不涉及",0,0,0,0,0,0,0,"","否","正确","正确"]
[null,null,null,null,null,null,null,null,null,null,null,null,null,null,null,null,0,null,{"$error":"#DIV/0!"},{"$error":"#DIV/0!"},0,{"$error":"#DIV/0!"},{"$error":"#DIV/0!"},0,null,null,null,null,null,null,0,0,0,null,0,{"$f":"IFERROR(VLOOKUP(Z142,有效性!$D$2:$E$6,2,0),0)","v":0},0,0,0,0,0,null,0,null,0,0,0,0,0,null,0,0,null,0,"不涉及",0,0,0,0,0,0,0,"","否","正确","正确"]
[null,null,null,null,null,null,null,null,null,null,null,null,null,null,null,null,0,null,{"$error":"#DIV/0!"},{"$error":"#DIV/0!"},0,{"$error":"#DIV/0!"},{"$error":"#DIV/0!"},0,null,null,null,null,null,null,0,0,0,null,0,{"$f":"IFERROR(VLOOKUP(Z143,有效性!$D$2:$E$6,2,0),0)","v":0},0,0,0,0,0,null,0,null,0,0,0,0,0,null,0,0,null,0,"不涉及",0,0,0,0,0,0,0,"","否","正确","正确"]
[null,null,null,null,null,null,null,null,null,null,null,null,null,null,null,null,0,null,{"$error":"#DIV/0!"},{"$error":"#DIV/0!"},0,{"$error":"#DIV/0!"},{"$error":"#DIV/0!"},0,null,null,null,null,null,null,0,0,0,null,0,{"$f":"IFERROR(VLOOKUP(Z144,有效性!$D$2:$E$6,2,0),0)","v":0},0,0,0,0,0,null,0,null,0,0,0,0,0,null,0,0,null,0,"不涉及",0,0,0,0,0,0,0,"","否","正确","正确"]
[null,null,null,null,null,null,null,null,null,null,null,null,null,null,null,null,0,null,{"$error":"#DIV/0!"},{"$error":"#DIV/0!"},0,{"$error":"#DIV/0!"},{"$error":"#DIV/0!"},0,null,null,null,null,null,null,0,0,0,null,0,{"$f":"IFERROR(VLOOKUP(Z145,有效性!$D$2:$E$6,2,0),0)","v":0},0,0,0,0,0,null,0,null,0,0,0,0,0,null,0,0,null,0,"不涉及",0,0,0,0,0,0,0,"","否","正确","正确"]
[null,null,null,null,null,null,null,null,null,null,null,null,null,null,null,null,0,null,{"$error":"#DIV/0!"},{"$error":"#DIV/0!"},0,{"$error":"#DIV/0!"},{"$error":"#DIV/0!"},0,null,null,null,null,null,null,0,0,0,null,0,{"$f":"IFERROR(VLOOKUP(Z146,有效性!$D$2:$E$6,2,0),0)","v":0},0,0,0,0,0,null,0,null,0,0,0,0,0,null,0,0,null,0,"不涉及",0,0,0,0,0,0,0,"","否","正确","正确"]
[null,null,null,null,null,null,null,null,null,null,null,null,null,null,null,null,0,null,{"$error":"#DIV/0!"},{"$error":"#DIV/0!"},0,{"$error":"#DIV/0!"},{"$error":"#DIV/0!"},0,null,null,null,null,null,null,0,0,0,null,0,{"$f":"IFERROR(VLOOKUP(Z147,有效性!$D$2:$E$6,2,0),0)","v":0},0,0,0,0,0,null,0,null,0,0,0,0,0,null,0,0,null,0,"不涉及",0,0,0,0,0,0,0,"","否","正确","正确"]
[null,null,null,null,null,null,null,null,null,null,null,null,null,null,null,null,0,null,{"$error":"#DIV/0!"},{"$error":"#DIV/0!"},0,{"$error":"#DIV/0!"},{"$error":"#DIV/0!"},0,null,null,null,null,null,null,0,0,0,null,0,{"$f":"IFERROR(VLOOKUP(Z148,有效性!$D$2:$E$6,2,0),0)","v":0},0,0,0,0,0,null,0,null,0,0,0,0,0,null,0,0,null,0,"不涉及",0,0,0,0,0,0,0,"","否","正确","正确"]
[null,null,null,null,null,null,null,null,null,null,null,null,null,null,null,null,0,null,{"$error":"#DIV/0!"},{"$error":"#DIV/0!"},0,{"$error":"#DIV/0!"},{"$error":"#DIV/0!"},0,null,null,null,null,null,null,0,0,0,null,0,{"$f":"IFERROR(VLOOKUP(Z149,有效性!$D$2:$E$6,2,0),0)","v":0},0,0,0,0,0,null,0,null,0,0,0,0,0,null,0,0,null,0,"不涉及",0,0,0,0,0,0,0,"","否","正确","正确"]
[null,null,null,null,null,null,null,null,null,null,null,null,null,null,null,null,0,null,{"$error":"#DIV/0!"},{"$error":"#DIV/0!"},0,{"$error":"#DIV/0!"},{"$error":"#DIV/0!"},0,null,null,null,null,null,null,0,0,0,null,0,{"$f":"IFERROR(VLOOKUP(Z150,有效性!$D$2:$E$6,2,0),0)","v":0},0,0,0,0,0,null,0,null,0,0,0,0,0,null,0,0,null,0,"不涉及",0,0,0,0,0,0,0,"","否","正确","正确"]
[null,null,null,null,null,null,null,null,null,null,null,null,null,null,null,null,0,null,{"$error":"#DIV/0!"},{"$error":"#DIV/0!"},0,{"$error":"#DIV/0!"},{"$error":"#DIV/0!"},0,null,null,null,null,null,null,0,0,0,null,0,{"$f":"IFERROR(VLOOKUP(Z151,有效性!$D$2:$E$6,2,0),0)","v":0},0,0,0,0,0,null,0,null,0,0,0,0,0,null,0,0,null,0,"不涉及",0,0,0,0,0,0,0,"","否","正确","正确"]
[null,null,null,null,null,null,null,null,null,null,null,null,null,null,null,null,0,null,{"$error":"#DIV/0!"},{"$error":"#DIV/0!"},0,{"$error":"#DIV/0!"},{"$error":"#DIV/0!"},0,null,null,null,null,null,null,0,0,0,null,0,{"$f":"IFERROR(VLOOKUP(Z152,有效性!$D$2:$E$6,2,0),0)","v":0},0,0,0,0,0,null,0,null,0,0,0,0,0,null,0,0,null,0,"不涉及",0,0,0,0,0,0,0,"","否","正确","正确"]
[null,null,null,null,null,null,null,null,null,null,null,null,null,null,null,null,0,null,{"$error":"#DIV/0!"},{"$error":"#DIV/0!"},0,{"$error":"#DIV/0!"},{"$error":"#DIV/0!"},0,null,null,null,null,null,null,0,0,0,null,0,{"$f":"IFERROR(VLOOKUP(Z153,有效性!$D$2:$E$6,2,0),0)","v":0},0,0,0,0,0,null,0,null,0,0,0,0,0,null,0,0,null,0,"不涉及",0,0,0,0,0,0,0,"","否","正确","正确"]
[null,null,null,null,null,null,null,null,null,null,null,null,null,null,null,null,0,null,{"$error":"#DIV/0!"},{"$error":"#DIV/0!"},0,{"$error":"#DIV/0!"},{"$error":"#DIV/0!"},0,null,null,null,null,null,null,0,0,0,null,0,{"$f":"IFERROR(VLOOKUP(Z154,有效性!$D$2:$E$6,2,0),0)","v":0},0,0,0,0,0,null,0,null,0,0,0,0,0,null,0,0,null,0,"不涉及",0,0,0,0,0,0,0,"","否","正确","正确"]
[null,null,null,null,null,null,null,null,null,null,null,null,null,null,null,null,0,null,{"$error":"#DIV/0!"},{"$error":"#DIV/0!"},0,{"$error":"#DIV/0!"},{"$error":"#DIV/0!"},0,null,null,null,null,null,null,0,0,0,null,0,{"$f":"IFERROR(VLOOKUP(Z155,有效性!$D$2:$E$6,2,0),0)","v":0},0,0,0,0,0,null,0,null,0,0,0,0,0,null,0,0,null,0,"不涉及",0,0,0,0,0,0,0,"","否","正确","正确"]
[null,null,null,null,null,null,null,null,null,null,null,null,null,null,null,null,0,null,{"$error":"#DIV/0!"},{"$error":"#DIV/0!"},0,{"$error":"#DIV/0!"},{"$error":"#DIV/0!"},0,null,null,null,null,null,null,0,0,0,null,0,{"$f":"IFERROR(VLOOKUP(Z156,有效性!$D$2:$E$6,2,0),0)","v":0},0,0,0,0,0,null,0,null,0,0,0,0,0,null,0,0,null,0,"不涉及",0,0,0,0,0,0,0,"","否","正确","正确"]
[null,null,null,null,null,null,null,null,null,null,null,null,null,null,null,null,0,null,{"$error":"#DIV/0!"},{"$error":"#DIV/0!"},0,{"$error":"#DIV/0!"},{"$error":"#DIV/0!"},0,null,null,null,null,null,null,0,0,0,null,0,{"$f":"IFERROR(VLOOKUP(Z157,有效性!$D$2:$E$6,2,0),0)","v":0},0,0,0,0,0,null,0,null,0,0,0,0,0,null,0,0,null,0,"不涉及",0,0,0,0,0,0,0,"","否","正确","正确"]
[null,null,null,null,null,null,null,null,null,null,null,null,null,null,null,null,0,null,{"$error":"#DIV/0!"},{"$error":"#DIV/0!"},0,{"$error":"#DIV/0!"},{"$error":"#DIV/0!"},0,null,null,null,null,null,null,0,0,0,null,0,{"$f":"IFERROR(VLOOKUP(Z158,有效性!$D$2:$E$6,2,0),0)","v":0},0,0,0,0,0,null,0,null,0,0,0,0,0,null,0,0,null,0,"不涉及",0,0,0,0,0,0,0,"","否","正确","正确"]
[null,null,null,null,null,null,null,null,null,null,null,null,null,null,null,null,0,null,{"$error":"#DIV/0!"},{"$error":"#DIV/0!"},0,{"$error":"#DIV/0!"},{"$error":"#DIV/0!"},0,null,null,null,null,null,null,0,0,0,null,0,{"$f":"IFERROR(VLOOKUP(Z159,有效性!$D$2:$E$6,2,0),0)","v":0},0,0,0,0,0,null,0,null,0,0,0,0,0,null,0,0,null,0,"不涉及",0,0,0,0,0,0,0,"","否","正确","正确"]
[null,null,null,null,null,null,null,null,null,null,null,null,null,null,null,null,0,null,{"$error":"#DIV/0!"},{"$error":"#DIV/0!"},0,{"$error":"#DIV/0!"},{"$error":"#DIV/0!"},0,null,null,null,null,null,null,0,0,0,null,0,{"$f":"IFERROR(VLOOKUP(Z160,有效性!$D$2:$E$6,2,0),0)","v":0},0,0,0,0,0,null,0,null,0,0,0,0,0,null,0,0,null,0,"不涉及",0,0,0,0,0,0,0,"","否","正确","正确"]
[null,null,null,null,null,null,null,null,null,null,null,null,null,null,null,null,0,null,{"$error":"#DIV/0!"},{"$error":"#DIV/0!"},0,{"$error":"#DIV/0!"},{"$error":"#DIV/0!"},0,null,null,null,null,null,null,0,0,0,null,0,{"$f":"IFERROR(VLOOKUP(Z161,有效性!$D$2:$E$6,2,0),0)","v":0},0,0,0,0,0,null,0,null,0,0,0,0,0,null,0,0,null,0,"不涉及",0,0,0,0,0,0,0,"","否","正确","正确"]
[null,null,null,null,null,null,null,null,null,null,null,null,null,null,null,null,0,null,{"$error":"#DIV/0!"},{"$error":"#DIV/0!"},0,{"$error":"#DIV/0!"},{"$error":"#DIV/0!"},0,null,null,null,null,null,null,0,0,0,null,0,{"$f":"IFERROR(VLOOKUP(Z162,有效性!$D$2:$E$6,2,0),0)","v":0},0,0,0,0,0,null,0,null,0,0,0,0,0,null,0,0,null,0,"不涉及",0,0,0,0,0,0,0,"","否","正确","正确"]
[null,null,null,null,null,null,null,null,null,null,null,null,null,null,null,null,0,null,{"$error":"#DIV/0!"},{"$error":"#DIV/0!"},0,{"$error":"#DIV/0!"},{"$error":"#DIV/0!"},0,null,null,null,null,null,null,0,0,0,null,0,{"$f":"IFERROR(VLOOKUP(Z163,有效性!$D$2:$E$6,2,0),0)","v":0},0,0,0,0,0,null,0,null,0,0,0,0,0,null,0,0,null,0,"不涉及",0,0,0,0,0,0,0,"","否","正确","正确"]
[null,null,null,null,null,null,null,null,null,null,null,null,null,null,null,null,0,null,{"$error":"#DIV/0!"},{"$error":"#DIV/0!"},0,{"$error":"#DIV/0!"},{"$error":"#DIV/0!"},0,null,null,null,null,null,null,0,0,0,null,0,{"$f":"IFERROR(VLOOKUP(Z164,有效性!$D$2:$E$6,2,0),0)","v":0},0,0,0,0,0,null,0,null,0,0,0,0,0,null,0,0,null,0,"不涉及",0,0,0,0,0,0,0,"","否","正确","正确"]
[null,null,null,null,null,null,null,null,null,null,null,null,null,null,null,null,0,null,{"$error":"#DIV/0!"},{"$error":"#DIV/0!"},0,{"$error":"#DIV/0!"},{"$error":"#DIV/0!"},0,null,null,null,null,null,null,0,0,0,null,0,{"$f":"IFERROR(VLOOKUP(Z165,有效性!$D$2:$E$6,2,0),0)","v":0},0,0,0,0,0,null,0,null,0,0,0,0,0,null,0,0,null,0,"不涉及",0,0,0,0,0,0,0,"","否","正确","正确"]
[null,null,null,null,null,null,null,null,null,null,null,null,null,null,null,null,0,null,{"$error":"#DIV/0!"},{"$error":"#DIV/0!"},0,{"$error":"#DIV/0!"},{"$error":"#DIV/0!"},0,null,null,null,null,null,null,0,0,0,null,0,{"$f":"IFERROR(VLOOKUP(Z166,有效性!$D$2:$E$6,2,0),0)","v":0},0,0,0,0,0,null,0,null,0,0,0,0,0,null,0,0,null,0,"不涉及",0,0,0,0,0,0,0,"","否","正确","正确"]
[null,null,null,null,null,null,null,null,null,null,null,null,null,null,null,null,0,null,{"$error":"#DIV/0!"},{"$error":"#DIV/0!"},0,{"$error":"#DIV/0!"},{"$error":"#DIV/0!"},0,null,null,null,null,null,null,0,0,0,null,0,{"$f":"IFERROR(VLOOKUP(Z167,有效性!$D$2:$E$6,2,0),0)","v":0},0,0,0,0,0,null,0,null,0,0,0,0,0,null,0,0,null,0,"不涉及",0,0,0,0,0,0,0,"","否","正确","正确"]
[null,null,null,null,null,null,null,null,null,null,null,null,null,null,null,null,0,null,{"$error":"#DIV/0!"},{"$error":"#DIV/0!"},0,{"$error":"#DIV/0!"},{"$error":"#DIV/0!"},0,null,null,null,null,null,null,0,0,0,null,0,{"$f":"IFERROR(VLOOKUP(Z168,有效性!$D$2:$E$6,2,0),0)","v":0},0,0,0,0,0,null,0,null,0,0,0,0,0,null,0,0,null,0,"不涉及",0,0,0,0,0,0,0,"","否","正确","正确"]
[null,null,null,null,null,null,null,null,null,null,null,null,null,null,null,null,0,null,{"$error":"#DIV/0!"},{"$error":"#DIV/0!"},0,{"$error":"#DIV/0!"},{"$error":"#DIV/0!"},0,null,null,null,null,null,null,0,0,0,null,0,{"$f":"IFERROR(VLOOKUP(Z169,有效性!$D$2:$E$6,2,0),0)","v":0},0,0,0,0,0,null,0,null,0,0,0,0,0,null,0,0,null,0,"不涉及",0,0,0,0,0,0,0,"","否","正确","正确"]
[null,null,null,null,null,null,null,null,null,null,null,null,null,null,null,null,0,null,{"$error":"#DIV/0!"},{"$error":"#DIV/0!"},0,{"$error":"#DIV/0!"},{"$error":"#DIV/0!"},0,null,null,null,null,null,null,0,0,0,null,0,{"$f":"IFERROR(VLOOKUP(Z170,有效性!$D$2:$E$6,2,0),0)","v":0},0,0,0,0,0,null,0,null,0,0,0,0,0,null,0,0,null,0,"不涉及",0,0,0,0,0,0,0,"","否","正确","正确"]
[null,null,null,null,null,null,null,null,null,null,null,null,null,null,null,null,0,null,{"$error":"#DIV/0!"},{"$error":"#DIV/0!"},0,{"$error":"#DIV/0!"},{"$error":"#DIV/0!"},0,null,null,null,null,null,null,0,0,0,null,0,{"$f":"IFERROR(VLOOKUP(Z171,有效性!$D$2:$E$6,2,0),0)","v":0},0,0,0,0,0,null,0,null,0,0,0,0,0,null,0,0,null,0,"不涉及",0,0,0,0,0,0,0,"","否","正确","正确"]
[null,null,null,null,null,null,null,null,null,null,null,null,null,null,null,null,0,null,{"$error":"#DIV/0!"},{"$error":"#DIV/0!"},0,{"$error":"#DIV/0!"},{"$error":"#DIV/0!"},0,null,null,null,null,null,null,0,0,0,null,0,{"$f":"IFERROR(VLOOKUP(Z172,有效性!$D$2:$E$6,2,0),0)","v":0},0,0,0,0,0,null,0,null,0,0,0,0,0,null,0,0,null,0,"不涉及",0,0,0,0,0,0,0,"","否","正确","正确"]
[null,null,null,null,null,null,null,null,null,null,null,null,null,null,null,null,0,null,{"$error":"#DIV/0!"},{"$error":"#DIV/0!"},0,{"$error":"#DIV/0!"},{"$error":"#DIV/0!"},0,null,null,null,null,null,null,0,0,0,null,0,{"$f":"IFERROR(VLOOKUP(Z173,有效性!$D$2:$E$6,2,0),0)","v":0},0,0,0,0,0,null,0,null,0,0,0,0,0,null,0,0,null,0,"不涉及",0,0,0,0,0,0,0,"","否","正确","正确"]
[null,null,null,null,null,null,null,null,null,null,null,null,null,null,null,null,0,null,{"$error":"#DIV/0!"},{"$error":"#DIV/0!"},0,{"$error":"#DIV/0!"},{"$error":"#DIV/0!"},0,null,null,null,null,null,null,0,0,0,null,0,{"$f":"IFERROR(VLOOKUP(Z174,有效性!$D$2:$E$6,2,0),0)","v":0},0,0,0,0,0,null,0,null,0,0,0,0,0,null,0,0,null,0,"不涉及",0,0,0,0,0,0,0,"","否","正确","正确"]
[null,null,null,null,null,null,null,null,null,null,null,null,null,null,null,null,0,null,{"$error":"#DIV/0!"},{"$error":"#DIV/0!"},0,{"$error":"#DIV/0!"},{"$error":"#DIV/0!"},0,null,null,null,null,null,null,0,0,0,null,0,{"$f":"IFERROR(VLOOKUP(Z175,有效性!$D$2:$E$6,2,0),0)","v":0},0,0,0,0,0,null,0,null,0,0,0,0,0,null,0,0,null,0,"不涉及",0,0,0,0,0,0,0,"","否","正确","正确"]
[null,null,null,null,null,null,null,null,null,null,null,null,null,null,null,null,0,null,{"$error":"#DIV/0!"},{"$error":"#DIV/0!"},0,{"$error":"#DIV/0!"},{"$error":"#DIV/0!"},0,null,null,null,null,null,null,0,0,0,null,0,{"$f":"IFERROR(VLOOKUP(Z176,有效性!$D$2:$E$6,2,0),0)","v":0},0,0,0,0,0,null,0,null,0,0,0,0,0,null,0,0,null,0,"不涉及",0,0,0,0,0,0,0,"","否","正确","正确"]
[null,null,null,null,null,null,null,null,null,null,null,null,null,null,null,null,0,null,{"$error":"#DIV/0!"},{"$error":"#DIV/0!"},0,{"$error":"#DIV/0!"},{"$error":"#DIV/0!"},0,null,null,null,null,null,null,0,0,0,null,0,{"$f":"IFERROR(VLOOKUP(Z177,有效性!$D$2:$E$6,2,0),0)","v":0},0,0,0,0,0,null,0,null,0,0,0,0,0,null,0,0,null,0,"不涉及",0,0,0,0,0,0,0,"","否","正确","正确"]
[null,null,null,null,null,null,null,null,null,null,null,null,null,null,null,null,0,null,{"$error":"#DIV/0!"},{"$error":"#DIV/0!"},0,{"$error":"#DIV/0!"},{"$error":"#DIV/0!"},0,null,null,null,null,null,null,0,0,0,null,0,{"$f":"IFERROR(VLOOKUP(Z178,有效性!$D$2:$E$6,2,0),0)","v":0},0,0,0,0,0,null,0,null,0,0,0,0,0,null,0,0,null,0,"不涉及",0,0,0,0,0,0,0,"","否","正确","正确"]
[null,null,null,null,null,null,null,null,null,null,null,null,null,null,null,null,0,null,{"$error":"#DIV/0!"},{"$error":"#DIV/0!"},0,{"$error":"#DIV/0!"},{"$error":"#DIV/0!"},0,null,null,null,null,null,null,0,0,0,null,0,{"$f":"IFERROR(VLOOKUP(Z179,有效性!$D$2:$E$6,2,0),0)","v":0},0,0,0,0,0,null,0,null,0,0,0,0,0,null,0,0,null,0,"不涉及",0,0,0,0,0,0,0,"","否","正确","正确"]
[null,null,null,null,null,null,null,null,null,null,null,null,null,null,null,null,0,null,{"$error":"#DIV/0!"},{"$error":"#DIV/0!"},0,{"$error":"#DIV/0!"},{"$error":"#DIV/0!"},0,null,null,null,null,null,null,0,0,0,null,0,{"$f":"IFERROR(VLOOKUP(Z180,有效性!$D$2:$E$6,2,0),0)","v":0},0,0,0,0,0,null,0,null,0,0,0,0,0,null,0,0,null,0,"不涉及",0,0,0,0,0,0,0,"","否","正确","正确"]
[null,null,null,null,null,null,null,null,null,null,null,null,null,null,null,null,0,null,{"$error":"#DIV/0!"},{"$error":"#DIV/0!"},0,{"$error":"#DIV/0!"},{"$error":"#DIV/0!"},0,null,null,null,null,null,null,0,0,0,null,0,{"$f":"IFERROR(VLOOKUP(Z181,有效性!$D$2:$E$6,2,0),0)","v":0},0,0,0,0,0,null,0,null,0,0,0,0,0,null,0,0,null,0,"不涉及",0,0,0,0,0,0,0,"","否","正确","正确"]
[null,null,null,null,null,null,null,null,null,null,null,null,null,null,null,null,0,null,{"$error":"#DIV/0!"},{"$error":"#DIV/0!"},0,{"$error":"#DIV/0!"},{"$error":"#DIV/0!"},0,null,null,null,null,null,null,0,0,0,null,0,{"$f":"IFERROR(VLOOKUP(Z182,有效性!$D$2:$E$6,2,0),0)","v":0},0,0,0,0,0,null,0,null,0,0,0,0,0,null,0,0,null,0,"不涉及",0,0,0,0,0,0,0,"","否","正确","正确"]
[null,null,null,null,null,null,null,null,null,null,null,null,null,null,null,null,0,null,{"$error":"#DIV/0!"},{"$error":"#DIV/0!"},0,{"$error":"#DIV/0!"},{"$error":"#DIV/0!"},0,null,null,null,null,null,null,0,0,0,null,0,{"$f":"IFERROR(VLOOKUP(Z183,有效性!$D$2:$E$6,2,0),0)","v":0},0,0,0,0,0,null,0,null,0,0,0,0,0,null,0,0,null,0,"不涉及",0,0,0,0,0,0,0,"","否","正确","正确"]
[null,null,null,null,null,null,null,null,null,null,null,null,null,null,null,null,0,null,{"$error":"#DIV/0!"},{"$error":"#DIV/0!"},0,{"$error":"#DIV/0!"},{"$error":"#DIV/0!"},0,null,null,null,null,null,null,0,0,0,null,0,{"$f":"IFERROR(VLOOKUP(Z184,有效性!$D$2:$E$6,2,0),0)","v":0},0,0,0,0,0,null,0,null,0,0,0,0,0,null,0,0,null,0,"不涉及",0,0,0,0,0,0,0,"","否","正确","正确"]
[null,null,null,null,null,null,null,null,null,null,null,null,null,null,null,null,0,null,{"$error":"#DIV/0!"},{"$error":"#DIV/0!"},0,{"$error":"#DIV/0!"},{"$error":"#DIV/0!"},0,null,null,null,null,null,null,0,0,0,null,0,{"$f":"IFERROR(VLOOKUP(Z185,有效性!$D$2:$E$6,2,0),0)","v":0},0,0,0,0,0,null,0,null,0,0,0,0,0,null,0,0,null,0,"不涉及",0,0,0,0,0,0,0,"","否","正确","正确"]
[null,null,null,null,null,null,null,null,null,null,null,null,null,null,null,null,0,null,{"$error":"#DIV/0!"},{"$error":"#DIV/0!"},0,{"$error":"#DIV/0!"},{"$error":"#DIV/0!"},0,null,null,null,null,null,null,0,0,0,null,0,{"$f":"IFERROR(VLOOKUP(Z186,有效性!$D$2:$E$6,2,0),0)","v":0},0,0,0,0,0,null,0,null,0,0,0,0,0,null,0,0,null,0,"不涉及",0,0,0,0,0,0,0,"","否","正确","正确"]
[null,null,null,null,null,null,null,null,null,null,null,null,null,null,null,null,0,null,{"$error":"#DIV/0!"},{"$error":"#DIV/0!"},0,{"$error":"#DIV/0!"},{"$error":"#DIV/0!"},0,null,null,null,null,null,null,0,0,0,null,0,{"$f":"IFERROR(VLOOKUP(Z187,有效性!$D$2:$E$6,2,0),0)","v":0},0,0,0,0,0,null,0,null,0,0,0,0,0,null,0,0,null,0,"不涉及",0,0,0,0,0,0,0,"","否","正确","正确"]
[null,null,null,null,null,null,null,null,null,null,null,null,null,null,null,null,0,null,{"$error":"#DIV/0!"},{"$error":"#DIV/0!"},0,{"$error":"#DIV/0!"},{"$error":"#DIV/0!"},0,null,null,null,null,null,null,0,0,0,null,0,{"$f":"IFERROR(VLOOKUP(Z188,有效性!$D$2:$E$6,2,0),0)","v":0},0,0,0,0,0,null,0,null,0,0,0,0,0,null,0,0,null,0,"不涉及",0,0,0,0,0,0,0,"","否","正确","正确"]
[null,null,null,null,null,null,null,null,null,null,null,null,null,null,null,null,0,null,{"$error":"#DIV/0!"},{"$error":"#DIV/0!"},0,{"$error":"#DIV/0!"},{"$error":"#DIV/0!"},0,null,null,null,null,null,null,0,0,0,null,0,{"$f":"IFERROR(VLOOKUP(Z189,有效性!$D$2:$E$6,2,0),0)","v":0},0,0,0,0,0,null,0,null,0,0,0,0,0,null,0,0,null,0,"不涉及",0,0,0,0,0,0,0,"","否","正确","正确"]
[null,null,null,null,null,null,null,null,null,null,null,null,null,null,null,null,0,null,{"$error":"#DIV/0!"},{"$error":"#DIV/0!"},0,{"$error":"#DIV/0!"},{"$error":"#DIV/0!"},0,null,null,null,null,null,null,0,0,0,null,0,{"$f":"IFERROR(VLOOKUP(Z190,有效性!$D$2:$E$6,2,0),0)","v":0},0,0,0,0,0,null,0,null,0,0,0,0,0,null,0,0,null,0,"不涉及",0,0,0,0,0,0,0,"","否","正确","正确"]
[null,null,null,null,null,null,null,null,null,null,null,null,null,null,null,null,0,null,{"$error":"#DIV/0!"},{"$error":"#DIV/0!"},0,{"$error":"#DIV/0!"},{"$error":"#DIV/0!"},0,null,null,null,null,null,null,0,0,0,null,0,{"$f":"IFERROR(VLOOKUP(Z191,有效性!$D$2:$E$6,2,0),0)","v":0},0,0,0,0,0,null,0,null,0,0,0,0,0,null,0,0,null,0,"不涉及",0,0,0,0,0,0,0,"","否","正确","正确"]
[null,null,null,null,null,null,null,null,null,null,null,null,null,null,null,null,0,null,{"$error":"#DIV/0!"},{"$error":"#DIV/0!"},0,{"$error":"#DIV/0!"},{"$error":"#DIV/0!"},0,null,null,null,null,null,null,0,0,0,null,0,{"$f":"IFERROR(VLOOKUP(Z192,有效性!$D$2:$E$6,2,0),0)","v":0},0,0,0,0,0,null,0,null,0,0,0,0,0,null,0,0,null,0,"不涉及",0,0,0,0,0,0,0,"","否","正确","正确"]
[null,null,null,null,null,null,null,null,null,null,null,null,null,null,null,null,0,null,{"$error":"#DIV/0!"},{"$error":"#DIV/0!"},0,{"$error":"#DIV/0!"},{"$error":"#DIV/0!"},0,null,null,null,null,null,null,0,0,0,null,0,{"$f":"IFERROR(VLOOKUP(Z193,有效性!$D$2:$E$6,2,0),0)","v":0},0,0,0,0,0,null,0,null,0,0,0,0,0,null,0,0,null,0,"不涉及",0,0,0,0,0,0,0,"","否","正确","正确"]
[null,null,null,null,null,null,null,null,null,null,null,null,null,null,null,null,0,null,{"$error":"#DIV/0!"},{"$error":"#DIV/0!"},0,{"$error":"#DIV/0!"},{"$error":"#DIV/0!"},0,null,null,null,null,null,null,0,0,0,null,0,{"$f":"IFERROR(VLOOKUP(Z194,有效性!$D$2:$E$6,2,0),0)","v":0},0,0,0,0,0,null,0,null,0,0,0,0,0,null,0,0,null,0,"不涉及",0,0,0,0,0,0,0,"","否","正确","正确"]
[null,null,null,null,null,null,null,null,null,null,null,null,null,null,null,null,0,null,{"$error":"#DIV/0!"},{"$error":"#DIV/0!"},0,{"$error":"#DIV/0!"},{"$error":"#DIV/0!"},0,null,null,null,null,null,null,0,0,0,null,0,{"$f":"IFERROR(VLOOKUP(Z195,有效性!$D$2:$E$6,2,0),0)","v":0},0,0,0,0,0,null,0,null,0,0,0,0,0,null,0,0,null,0,"不涉及",0,0,0,0,0,0,0,"","否","正确","正确"]
[null,null,null,null,null,null,null,null,null,null,null,null,null,null,null,null,0,null,{"$f":"(1-I196)/(K196*12)","v":{"$error":"#DIV/0!"}},{"$f":"ROUND(G196*S196,2)","v":{"$error":"#DIV/0!"}},{"$f":"IF($T$2<YEAR(J196),0,IF($T$2=YEAR(J196),MAX($V$2-MONTH(J196),0),IF($T$2>YEAR(J196)+K196,0,IF($T$2=YEAR(J196)+K196,MIN(MONTH($J196),$V$2),$V$2))))","v":0},{"$f":"T196*U196","v":{"$error":"#DIV/0!"}},{"$f":"IF(ABS(Q196-V196)<=$X$2,0,Q196-V196)","v":{"$error":"#DIV/0!"}},{"$f":"IFERROR(IF((W196/V196)<$Y$2,0,W196/V196),0)","v":0},null,null,null,null,null,null,{"$f":"G196-AD196","v":0},{"$f":"IF(ISNUMBER(FIND(\"计税基础差异\",AA196)),IF(YEAR(J196)+K196=$T$2,Q196-((G196-AD196)*(1-I196)-AH196),AD196*S196*U196),0)","v":0},{"$f":"IF(ISNUMBER(FIND(\"计税基础差异\",AA196)),IF(AB196=\"是\",Q196-AF196,0),0)","v":0},null,{"$f":"ROUND(AH196+AG196,2)","v":0},{"$f":"IFERROR(VLOOKUP(Z196,有效性!$D$2:$E$6,2,0),0)","v":0},{"$f":"IFERROR((1-I196)/(AJ196*12),0)","v":0},{"$f":"G196*AK196","v":0},{"$f":"IF($T$2<YEAR(J196),0,IF($T$2=YEAR(J196),MAX($V$2-MONTH(J196),0),IF($T$2>YEAR(J196)+AJ196,0,IF($T$2=YEAR(J196)+AJ196,MIN(MONTH($J196),$V$2),$V$2))))","v":0},{"$f":"IF(ISNUMBER(FIND(\"折旧年限差异\",AA196)),IF(YEAR(J196)+AJ196=$T$2,AP196,AL196*AM196),0)","v":0},{"$f":"ROUND(IF(ISNUMBER(FIND(\"折旧年限差异\",AA196)),IF(AB196=\"是\",Q196-AN196,0),0),2)","v":0},null,{"$f":"ROUND(AO196+AP196,2)","v":0},null,{"$f":"IF(ISNUMBER(FIND(\"缩短年限60%\",AA196)),IFERROR((1-I196)/(AR196*12),0),0)","v":0},{"$f":"G196*AS196","v":0},{"$f":"IF($T$2<YEAR(J196),0,IF($T$2=YEAR(J196),MAX($V$2-MONTH(J196),0),IF($T$2>YEAR(J196)+AR196,0,IF($T$2=YEAR(J196)+AR196,MIN(MONTH($J196),$V$2),$V$2))))","v":0},{"$f":"ROUND(IF(ISNUMBER(FIND(\"加速折旧\",AA196)),IF(OR(ISNUMBER(FIND(\"500万元以下一次性扣除\",AA196)),ISNUMBER(FIND(\"5000元以下一次性扣除\",AA196))),IF(OR(AND(YEAR(J196)=$T$2,MONTH(J196)<>12),AND(YEAR(J196)=$T$2-1,MONTH(J196)=12)),G196,0),IF(ISNUMBER(FIND(\"缩短年限60%\",AA196)),IF(YEAR(J196)+AR196=$T$2,G196*(1-I196)-(O196-AX196),AT196*AU196),0)),0),2)","v":0},{"$f":"ROUND(IF(ISNUMBER(FIND(\"加速折旧\",AA196)),IF(AB196=\"是\",Q196-AV196,0),0),2)","v":0},null,{"$f":"ROUND(AX196+AW196,20)","v":0},{"$f":"IFERROR(IF(ISNUMBER(FIND(\"不得扣除折旧资产\",AA196)),IF(AB196=\"是\",Q196,0),0),0)","v":0},null,{"$f":"BA196+AZ196","v":0},"不涉及",{"$f":"IF(OR(AC196=\"否\",BC196=\"不涉及\"),0,Q196-AG196-AO196-AW196)","v":0},{"$f":"IF(BC196=\"不涉及\",0,IF(BC196=\"是\",BD196-Q196,BD196))","v":0},{"$f":"AH196+AP196+AX196+BA196","v":0},{"$f":"MAX(0,BJ196)","v":0},{"$f":"MIN(0,BJ196)","v":0},{"$f":"AI196+AQ196+AY196+BB196","v":0},{"$f":"AG196+AO196+AW196+AZ196","v":0},{"$f":"_xlfn.IFS(BJ196>0,\"本年调增\",BJ196<0,\"本年调减\",BJ196=0,\"\")","v":""},"否",{"$f":"IF(AND(BL196=\"是\",BI196<>0),\"请检查\",\"正确\")","v":"正确"},{"$f":"IF(Q196-BJ196<0,\"错误\",\"正确\")","v":"正确"}]
[null,null,null,null,null,null,null,null,null,null,null,null,null,null,null,null,{"$f":"P197-O197","v":0},null,{"$error":"#DIV/0!"},{"$error":"#DIV/0!"},0,{"$error":"#DIV/0!"},{"$error":"#DIV/0!"},0,null,null,null,null,null,null,0,0,0,null,0,{"$f":"IFERROR(VLOOKUP(Z197,有效性!$D$2:$E$6,2,0),0)","v":0},0,0,0,0,0,null,0,null,0,0,0,0,0,null,0,0,null,0,"不涉及",0,0,0,0,0,0,0,"","否","正确","正确"]
[null,null,null,null,null,null,null,null,null,null,null,null,null,null,null,null,0,null,{"$error":"#DIV/0!"},{"$error":"#DIV/0!"},0,{"$error":"#DIV/0!"},{"$error":"#DIV/0!"},0,null,null,null,null,null,null,0,0,0,null,0,{"$f":"IFERROR(VLOOKUP(Z198,有效性!$D$2:$E$6,2,0),0)","v":0},0,0,0,0,0,null,0,null,0,0,0,0,0,null,0,0,null,0,"不涉及",0,0,0,0,0,0,0,"","否","正确","正确"]
[null,null,null,null,null,null,null,null,null,null,null,null,null,null,null,null,0,null,{"$error":"#DIV/0!"},{"$error":"#DIV/0!"},0,{"$error":"#DIV/0!"},{"$error":"#DIV/0!"},0,null,null,null,null,null,null,0,0,0,null,0,{"$f":"IFERROR(VLOOKUP(Z199,有效性!$D$2:$E$6,2,0),0)","v":0},0,0,0,0,0,null,0,null,0,0,0,0,0,null,0,0,null,0,"不涉及",0,0,0,0,0,0,0,"","否","正确","正确"]
[null,null,null,null,null,null,null,null,null,null,null,null,null,null,null,null,0,null,{"$error":"#DIV/0!"},{"$error":"#DIV/0!"},0,{"$error":"#DIV/0!"},{"$error":"#DIV/0!"},0,null,null,null,null,null,null,0,0,0,null,0,{"$f":"IFERROR(VLOOKUP(Z200,有效性!$D$2:$E$6,2,0),0)","v":0},0,0,0,0,0,null,0,null,0,0,0,0,0,null,0,0,null,0,"不涉及",0,0,0,0,0,0,0,"","否","正确","正确"]
[null,null,null,null,null,null,null,null,null,null,null,null,null,null,null,null,0,null,{"$error":"#DIV/0!"},{"$error":"#DIV/0!"},0,{"$error":"#DIV/0!"},{"$error":"#DIV/0!"},0,null,null,null,null,null,null,0,0,0,null,0,{"$f":"IFERROR(VLOOKUP(Z201,有效性!$D$2:$E$6,2,0),0)","v":0},0,0,0,0,0,null,0,null,0,0,0,0,0,null,0,0,null,0,"不涉及",0,0,0,0,0,0,0,"","否","正确","正确"]
[null,null,null,null,null,null,null,null,null,null,null,null,null,null,null,null,0,null,{"$error":"#DIV/0!"},{"$error":"#DIV/0!"},0,{"$error":"#DIV/0!"},{"$error":"#DIV/0!"},0,null,null,null,null,null,null,0,0,0,null,0,{"$f":"IFERROR(VLOOKUP(Z202,有效性!$D$2:$E$6,2,0),0)","v":0},0,0,0,0,0,null,0,null,0,0,0,0,0,null,0,0,null,0,"不涉及",0,0,0,0,0,0,0,"","否","正确","正确"]
[null,null,null,null,null,null,null,null,null,null,null,null,null,null,null,null,0,null,{"$error":"#DIV/0!"},{"$error":"#DIV/0!"},0,{"$error":"#DIV/0!"},{"$error":"#DIV/0!"},0,null,null,null,null,null,null,0,0,0,null,0,{"$f":"IFERROR(VLOOKUP(Z203,有效性!$D$2:$E$6,2,0),0)","v":0},0,0,0,0,0,null,0,null,0,0,0,0,0,null,0,0,null,0,"不涉及",0,0,0,0,0,0,0,"","否","正确","正确"]
[null,null,null,null,null,null,null,null,null,null,null,null,null,null,null,null,0,null,{"$error":"#DIV/0!"},{"$error":"#DIV/0!"},0,{"$error":"#DIV/0!"},{"$error":"#DIV/0!"},0,null,null,null,null,null,null,0,0,0,null,0,{"$f":"IFERROR(VLOOKUP(Z204,有效性!$D$2:$E$6,2,0),0)","v":0},0,0,0,0,0,null,0,null,0,0,0,0,0,null,0,0,null,0,"不涉及",0,0,0,0,0,0,0,"","否","正确","正确"]
[null,null,null,null,null,null,null,null,null,null,null,null,null,null,null,null,0,null,{"$error":"#DIV/0!"},{"$error":"#DIV/0!"},0,{"$error":"#DIV/0!"},{"$error":"#DIV/0!"},0,null,null,null,null,null,null,0,0,0,null,0,{"$f":"IFERROR(VLOOKUP(Z205,有效性!$D$2:$E$6,2,0),0)","v":0},0,0,0,0,0,null,0,null,0,0,0,0,0,null,0,0,null,0,"不涉及",0,0,0,0,0,0,0,"","否","正确","正确"]
[null,null,null,null,null,null,null,null,null,null,null,null,null,null,null,null,0,null,{"$error":"#DIV/0!"},{"$error":"#DIV/0!"},0,{"$error":"#DIV/0!"},{"$error":"#DIV/0!"},0,null,null,null,null,null,null,0,0,0,null,0,{"$f":"IFERROR(VLOOKUP(Z206,有效性!$D$2:$E$6,2,0),0)","v":0},0,0,0,0,0,null,0,null,0,0,0,0,0,null,0,0,null,0,"不涉及",0,0,0,0,0,0,0,"","否","正确","正确"]
[null,null,null,null,null,null,null,null,null,null,null,null,null,null,null,null,0,null,{"$error":"#DIV/0!"},{"$error":"#DIV/0!"},0,{"$error":"#DIV/0!"},{"$error":"#DIV/0!"},0,null,null,null,null,null,null,0,0,0,null,0,{"$f":"IFERROR(VLOOKUP(Z207,有效性!$D$2:$E$6,2,0),0)","v":0},0,0,0,0,0,null,0,null,0,0,0,0,0,null,0,0,null,0,"不涉及",0,0,0,0,0,0,0,"","否","正确","正确"]
[null,null,null,null,null,null,null,null,null,null,null,null,null,null,null,null,0,null,{"$error":"#DIV/0!"},{"$error":"#DIV/0!"},0,{"$error":"#DIV/0!"},{"$error":"#DIV/0!"},0,null,null,null,null,null,null,0,0,0,null,0,{"$f":"IFERROR(VLOOKUP(Z208,有效性!$D$2:$E$6,2,0),0)","v":0},0,0,0,0,0,null,0,null,0,0,0,0,0,null,0,0,null,0,"不涉及",0,0,0,0,0,0,0,"","否","正确","正确"]
[null,null,null,null,null,null,null,null,null,null,null,null,null,null,null,null,0,null,{"$error":"#DIV/0!"},{"$error":"#DIV/0!"},0,{"$error":"#DIV/0!"},{"$error":"#DIV/0!"},0,null,null,null,null,null,null,0,0,0,null,0,{"$f":"IFERROR(VLOOKUP(Z209,有效性!$D$2:$E$6,2,0),0)","v":0},0,0,0,0,0,null,0,null,0,0,0,0,0,null,0,0,null,0,"不涉及",0,0,0,0,0,0,0,"","否","正确","正确"]
[null,null,null,null,null,null,null,null,null,null,null,null,null,null,null,null,0,null,{"$error":"#DIV/0!"},{"$error":"#DIV/0!"},0,{"$error":"#DIV/0!"},{"$error":"#DIV/0!"},0,null,null,null,null,null,null,0,0,0,null,0,{"$f":"IFERROR(VLOOKUP(Z210,有效性!$D$2:$E$6,2,0),0)","v":0},0,0,0,0,0,null,0,null,0,0,0,0,0,null,0,0,null,0,"不涉及",0,0,0,0,0,0,0,"","否","正确","正确"]
[null,null,null,null,null,null,null,null,null,null,null,null,null,null,null,null,0,null,{"$error":"#DIV/0!"},{"$error":"#DIV/0!"},0,{"$error":"#DIV/0!"},{"$error":"#DIV/0!"},0,null,null,null,null,null,null,0,0,0,null,0,{"$f":"IFERROR(VLOOKUP(Z211,有效性!$D$2:$E$6,2,0),0)","v":0},0,0,0,0,0,null,0,null,0,0,0,0,0,null,0,0,null,0,"不涉及",0,0,0,0,0,0,0,"","否","正确","正确"]
[null,null,null,null,null,null,null,null,null,null,null,null,null,null,null,null,0,null,{"$error":"#DIV/0!"},{"$error":"#DIV/0!"},0,{"$error":"#DIV/0!"},{"$error":"#DIV/0!"},0,null,null,null,null,null,null,0,0,0,null,0,{"$f":"IFERROR(VLOOKUP(Z212,有效性!$D$2:$E$6,2,0),0)","v":0},0,0,0,0,0,null,0,null,0,0,0,0,0,null,0,0,null,0,"不涉及",0,0,0,0,0,0,0,"","否","正确","正确"]
[null,null,null,null,null,null,null,null,null,null,null,null,null,null,null,null,0,null,{"$error":"#DIV/0!"},{"$error":"#DIV/0!"},0,{"$error":"#DIV/0!"},{"$error":"#DIV/0!"},0,null,null,null,null,null,null,0,0,0,null,0,{"$f":"IFERROR(VLOOKUP(Z213,有效性!$D$2:$E$6,2,0),0)","v":0},0,0,0,0,0,null,0,null,0,0,0,0,0,null,0,0,null,0,"不涉及",0,0,0,0,0,0,0,"","否","正确","正确"]
[null,null,null,null,null,null,null,null,null,null,null,null,null,null,null,null,0,null,{"$error":"#DIV/0!"},{"$error":"#DIV/0!"},0,{"$error":"#DIV/0!"},{"$error":"#DIV/0!"},0,null,null,null,null,null,null,0,0,0,null,0,{"$f":"IFERROR(VLOOKUP(Z214,有效性!$D$2:$E$6,2,0),0)","v":0},0,0,0,0,0,null,0,null,0,0,0,0,0,null,0,0,null,0,"不涉及",0,0,0,0,0,0,0,"","否","正确","正确"]
[null,null,null,null,null,null,null,null,null,null,null,null,null,null,null,null,0,null,{"$error":"#DIV/0!"},{"$error":"#DIV/0!"},0,{"$error":"#DIV/0!"},{"$error":"#DIV/0!"},0,null,null,null,null,null,null,0,0,0,null,0,{"$f":"IFERROR(VLOOKUP(Z215,有效性!$D$2:$E$6,2,0),0)","v":0},0,0,0,0,0,null,0,null,0,0,0,0,0,null,0,0,null,0,"不涉及",0,0,0,0,0,0,0,"","否","正确","正确"]
[null,null,null,null,null,null,null,null,null,null,null,null,null,null,null,null,0,null,{"$error":"#DIV/0!"},{"$error":"#DIV/0!"},0,{"$error":"#DIV/0!"},{"$error":"#DIV/0!"},0,null,null,null,null,null,null,0,0,0,null,0,{"$f":"IFERROR(VLOOKUP(Z216,有效性!$D$2:$E$6,2,0),0)","v":0},0,0,0,0,0,null,0,null,0,0,0,0,0,null,0,0,null,0,"不涉及",0,0,0,0,0,0,0,"","否","正确","正确"]
[null,null,null,null,null,null,null,null,null,null,null,null,null,null,null,null,0,null,{"$error":"#DIV/0!"},{"$error":"#DIV/0!"},0,{"$error":"#DIV/0!"},{"$error":"#DIV/0!"},0,null,null,null,null,null,null,0,0,0,null,0,{"$f":"IFERROR(VLOOKUP(Z217,有效性!$D$2:$E$6,2,0),0)","v":0},0,0,0,0,0,null,0,null,0,0,0,0,0,null,0,0,null,0,"不涉及",0,0,0,0,0,0,0,"","否","正确","正确"]
[null,null,null,null,null,null,null,null,null,null,null,null,null,null,null,null,0,null,{"$error":"#DIV/0!"},{"$error":"#DIV/0!"},0,{"$error":"#DIV/0!"},{"$error":"#DIV/0!"},0,null,null,null,null,null,null,0,0,0,null,0,{"$f":"IFERROR(VLOOKUP(Z218,有效性!$D$2:$E$6,2,0),0)","v":0},0,0,0,0,0,null,0,null,0,0,0,0,0,null,0,0,null,0,"不涉及",0,0,0,0,0,0,0,"","否","正确","正确"]
[null,null,null,null,null,null,null,null,null,null,null,null,null,null,null,null,0,null,{"$error":"#DIV/0!"},{"$error":"#DIV/0!"},0,{"$error":"#DIV/0!"},{"$error":"#DIV/0!"},0,null,null,null,null,null,null,0,0,0,null,0,{"$f":"IFERROR(VLOOKUP(Z219,有效性!$D$2:$E$6,2,0),0)","v":0},0,0,0,0,0,null,0,null,0,0,0,0,0,null,0,0,null,0,"不涉及",0,0,0,0,0,0,0,"","否","正确","正确"]
[null,null,null,null,null,null,null,null,null,null,null,null,null,null,null,null,0,null,{"$error":"#DIV/0!"},{"$error":"#DIV/0!"},0,{"$error":"#DIV/0!"},{"$error":"#DIV/0!"},0,null,null,null,null,null,null,0,0,0,null,0,{"$f":"IFERROR(VLOOKUP(Z220,有效性!$D$2:$E$6,2,0),0)","v":0},0,0,0,0,0,null,0,null,0,0,0,0,0,null,0,0,null,0,"不涉及",0,0,0,0,0,0,0,"","否","正确","正确"]
[null,null,null,null,null,null,null,null,null,null,null,null,null,null,null,null,0,null,{"$error":"#DIV/0!"},{"$error":"#DIV/0!"},0,{"$error":"#DIV/0!"},{"$error":"#DIV/0!"},0,null,null,null,null,null,null,0,0,0,null,0,{"$f":"IFERROR(VLOOKUP(Z221,有效性!$D$2:$E$6,2,0),0)","v":0},0,0,0,0,0,null,0,null,0,0,0,0,0,null,0,0,null,0,"不涉及",0,0,0,0,0,0,0,"","否","正确","正确"]
[null,null,null,null,null,null,null,null,null,null,null,null,null,null,null,null,0,null,{"$error":"#DIV/0!"},{"$error":"#DIV/0!"},0,{"$error":"#DIV/0!"},{"$error":"#DIV/0!"},0,null,null,null,null,null,null,0,0,0,null,0,{"$f":"IFERROR(VLOOKUP(Z222,有效性!$D$2:$E$6,2,0),0)","v":0},0,0,0,0,0,null,0,null,0,0,0,0,0,null,0,0,null,0,"不涉及",0,0,0,0,0,0,0,"","否","正确","正确"]
[null,null,null,null,null,null,null,null,null,null,null,null,null,null,null,null,0,null,{"$error":"#DIV/0!"},{"$error":"#DIV/0!"},0,{"$error":"#DIV/0!"},{"$error":"#DIV/0!"},0,null,null,null,null,null,null,0,0,0,null,0,{"$f":"IFERROR(VLOOKUP(Z223,有效性!$D$2:$E$6,2,0),0)","v":0},0,0,0,0,0,null,0,null,0,0,0,0,0,null,0,0,null,0,"不涉及",0,0,0,0,0,0,0,"","否","正确","正确"]
[null,null,null,null,null,null,null,null,null,null,null,null,null,null,null,null,0,null,{"$error":"#DIV/0!"},{"$error":"#DIV/0!"},0,{"$error":"#DIV/0!"},{"$error":"#DIV/0!"},0,null,null,null,null,null,null,0,0,0,null,0,{"$f":"IFERROR(VLOOKUP(Z224,有效性!$D$2:$E$6,2,0),0)","v":0},0,0,0,0,0,null,0,null,0,0,0,0,0,null,0,0,null,0,"不涉及",0,0,0,0,0,0,0,"","否","正确","正确"]
[null,null,null,null,null,null,null,null,null,null,null,null,null,null,null,null,0,null,{"$error":"#DIV/0!"},{"$error":"#DIV/0!"},0,{"$error":"#DIV/0!"},{"$error":"#DIV/0!"},0,null,null,null,null,null,null,0,0,0,null,0,{"$f":"IFERROR(VLOOKUP(Z225,有效性!$D$2:$E$6,2,0),0)","v":0},0,0,0,0,0,null,0,null,0,0,0,0,0,null,0,0,null,0,"不涉及",0,0,0,0,0,0,0,"","否","正确","正确"]
[null,null,null,null,null,null,null,null,null,null,null,null,null,null,null,null,0,null,{"$error":"#DIV/0!"},{"$error":"#DIV/0!"},0,{"$error":"#DIV/0!"},{"$error":"#DIV/0!"},0,null,null,null,null,null,null,0,0,0,null,0,{"$f":"IFERROR(VLOOKUP(Z226,有效性!$D$2:$E$6,2,0),0)","v":0},0,0,0,0,0,null,0,null,0,0,0,0,0,null,0,0,null,0,"不涉及",0,0,0,0,0,0,0,"","否","正确","正确"]
[null,null,null,null,null,null,null,null,null,null,null,null,null,null,null,null,0,null,{"$error":"#DIV/0!"},{"$error":"#DIV/0!"},0,{"$error":"#DIV/0!"},{"$error":"#DIV/0!"},0,null,null,null,null,null,null,0,0,0,null,0,{"$f":"IFERROR(VLOOKUP(Z227,有效性!$D$2:$E$6,2,0),0)","v":0},0,0,0,0,0,null,0,null,0,0,0,0,0,null,0,0,null,0,"不涉及",0,0,0,0,0,0,0,"","否","正确","正确"]
[null,null,null,null,null,null,null,null,null,null,null,null,null,null,null,null,0,null,{"$error":"#DIV/0!"},{"$error":"#DIV/0!"},0,{"$error":"#DIV/0!"},{"$error":"#DIV/0!"},0,null,null,null,null,null,null,0,0,0,null,0,{"$f":"IFERROR(VLOOKUP(Z228,有效性!$D$2:$E$6,2,0),0)","v":0},0,0,0,0,0,null,0,null,0,0,0,0,0,null,0,0,null,0,"不涉及",0,0,0,0,0,0,0,"","否","正确","正确"]
[null,null,null,null,null,null,null,null,null,null,null,null,null,null,null,null,0,null,{"$error":"#DIV/0!"},{"$error":"#DIV/0!"},0,{"$error":"#DIV/0!"},{"$error":"#DIV/0!"},0,null,null,null,null,null,null,0,0,0,null,0,{"$f":"IFERROR(VLOOKUP(Z229,有效性!$D$2:$E$6,2,0),0)","v":0},0,0,0,0,0,null,0,null,0,0,0,0,0,null,0,0,null,0,"不涉及",0,0,0,0,0,0,0,"","否","正确","正确"]
[null,null,null,null,null,null,null,null,null,null,null,null,null,null,null,null,0,null,{"$error":"#DIV/0!"},{"$error":"#DIV/0!"},0,{"$error":"#DIV/0!"},{"$error":"#DIV/0!"},0,null,null,null,null,null,null,0,0,0,null,0,{"$f":"IFERROR(VLOOKUP(Z230,有效性!$D$2:$E$6,2,0),0)","v":0},0,0,0,0,0,null,0,null,0,0,0,0,0,null,0,0,null,0,"不涉及",0,0,0,0,0,0,0,"","否","正确","正确"]
[null,null,null,null,null,null,null,null,null,null,null,null,null,null,null,null,0,null,{"$error":"#DIV/0!"},{"$error":"#DIV/0!"},0,{"$error":"#DIV/0!"},{"$error":"#DIV/0!"},0,null,null,null,null,null,null,0,0,0,null,0,{"$f":"IFERROR(VLOOKUP(Z231,有效性!$D$2:$E$6,2,0),0)","v":0},0,0,0,0,0,null,0,null,0,0,0,0,0,null,0,0,null,0,"不涉及",0,0,0,0,0,0,0,"","否","正确","正确"]
[null,null,null,null,null,null,null,null,null,null,null,null,null,null,null,null,0,null,{"$error":"#DIV/0!"},{"$error":"#DIV/0!"},0,{"$error":"#DIV/0!"},{"$error":"#DIV/0!"},0,null,null,null,null,null,null,0,0,0,null,0,{"$f":"IFERROR(VLOOKUP(Z232,有效性!$D$2:$E$6,2,0),0)","v":0},0,0,0,0,0,null,0,null,0,0,0,0,0,null,0,0,null,0,"不涉及",0,0,0,0,0,0,0,"","否","正确","正确"]
[null,null,null,null,null,null,null,null,null,null,null,null,null,null,null,null,0,null,{"$error":"#DIV/0!"},{"$error":"#DIV/0!"},0,{"$error":"#DIV/0!"},{"$error":"#DIV/0!"},0,null,null,null,null,null,null,0,0,0,null,0,{"$f":"IFERROR(VLOOKUP(Z233,有效性!$D$2:$E$6,2,0),0)","v":0},0,0,0,0,0,null,0,null,0,0,0,0,0,null,0,0,null,0,"不涉及",0,0,0,0,0,0,0,"","否","正确","正确"]
[null,null,null,null,null,null,null,null,null,null,null,null,null,null,null,null,0,null,{"$error":"#DIV/0!"},{"$error":"#DIV/0!"},0,{"$error":"#DIV/0!"},{"$error":"#DIV/0!"},0,null,null,null,null,null,null,0,0,0,null,0,{"$f":"IFERROR(VLOOKUP(Z234,有效性!$D$2:$E$6,2,0),0)","v":0},0,0,0,0,0,null,0,null,0,0,0,0,0,null,0,0,null,0,"不涉及",0,0,0,0,0,0,0,"","否","正确","正确"]
[null,null,null,null,null,null,null,null,null,null,null,null,null,null,null,null,0,null,{"$error":"#DIV/0!"},{"$error":"#DIV/0!"},0,{"$error":"#DIV/0!"},{"$error":"#DIV/0!"},0,null,null,null,null,null,null,0,0,0,null,0,{"$f":"IFERROR(VLOOKUP(Z235,有效性!$D$2:$E$6,2,0),0)","v":0},0,0,0,0,0,null,0,null,0,0,0,0,0,null,0,0,null,0,"不涉及",0,0,0,0,0,0,0,"","否","正确","正确"]
[null,null,null,null,null,null,null,null,null,null,null,null,null,null,null,null,0,null,{"$error":"#DIV/0!"},{"$error":"#DIV/0!"},0,{"$error":"#DIV/0!"},{"$error":"#DIV/0!"},0,null,null,null,null,null,null,0,0,0,null,0,{"$f":"IFERROR(VLOOKUP(Z236,有效性!$D$2:$E$6,2,0),0)","v":0},0,0,0,0,0,null,0,null,0,0,0,0,0,null,0,0,null,0,"不涉及",0,0,0,0,0,0,0,"","否","正确","正确"]
[null,null,null,null,null,null,null,null,null,null,null,null,null,null,null,null,0,null,{"$error":"#DIV/0!"},{"$error":"#DIV/0!"},0,{"$error":"#DIV/0!"},{"$error":"#DIV/0!"},0,null,null,null,null,null,null,0,0,0,null,0,{"$f":"IFERROR(VLOOKUP(Z237,有效性!$D$2:$E$6,2,0),0)","v":0},0,0,0,0,0,null,0,null,0,0,0,0,0,null,0,0,null,0,"不涉及",0,0,0,0,0,0,0,"","否","正确","正确"]
[null,null,null,null,null,null,null,null,null,null,null,null,null,null,null,null,0,null,{"$error":"#DIV/0!"},{"$error":"#DIV/0!"},0,{"$error":"#DIV/0!"},{"$error":"#DIV/0!"},0,null,null,null,null,null,null,0,0,0,null,0,{"$f":"IFERROR(VLOOKUP(Z238,有效性!$D$2:$E$6,2,0),0)","v":0},0,0,0,0,0,null,0,null,0,0,0,0,0,null,0,0,null,0,"不涉及",0,0,0,0,0,0,0,"","否","正确","正确"]
[null,null,null,null,null,null,null,null,null,null,null,null,null,null,null,null,0,null,{"$error":"#DIV/0!"},{"$error":"#DIV/0!"},0,{"$error":"#DIV/0!"},{"$error":"#DIV/0!"},0,null,null,null,null,null,null,0,0,0,null,0,{"$f":"IFERROR(VLOOKUP(Z239,有效性!$D$2:$E$6,2,0),0)","v":0},0,0,0,0,0,null,0,null,0,0,0,0,0,null,0,0,null,0,"不涉及",0,0,0,0,0,0,0,"","否","正确","正确"]
[null,null,null,null,null,null,null,null,null,null,null,null,null,null,null,null,0,null,{"$error":"#DIV/0!"},{"$error":"#DIV/0!"},0,{"$error":"#DIV/0!"},{"$error":"#DIV/0!"},0,null,null,null,null,null,null,0,0,0,null,0,{"$f":"IFERROR(VLOOKUP(Z240,有效性!$D$2:$E$6,2,0),0)","v":0},0,0,0,0,0,null,0,null,0,0,0,0,0,null,0,0,null,0,"不涉及",0,0,0,0,0,0,0,"","否","正确","正确"]
[null,null,null,null,null,null,null,null,null,null,null,null,null,null,null,null,0,null,{"$error":"#DIV/0!"},{"$error":"#DIV/0!"},0,{"$error":"#DIV/0!"},{"$error":"#DIV/0!"},0,null,null,null,null,null,null,0,0,0,null,0,{"$f":"IFERROR(VLOOKUP(Z241,有效性!$D$2:$E$6,2,0),0)","v":0},0,0,0,0,0,null,0,null,0,0,0,0,0,null,0,0,null,0,"不涉及",0,0,0,0,0,0,0,"","否","正确","正确"]
[null,null,null,null,null,null,null,null,null,null,null,null,null,null,null,null,0,null,{"$error":"#DIV/0!"},{"$error":"#DIV/0!"},0,{"$error":"#DIV/0!"},{"$error":"#DIV/0!"},0,null,null,null,null,null,null,0,0,0,null,0,{"$f":"IFERROR(VLOOKUP(Z242,有效性!$D$2:$E$6,2,0),0)","v":0},0,0,0,0,0,null,0,null,0,0,0,0,0,null,0,0,null,0,"不涉及",0,0,0,0,0,0,0,"","否","正确","正确"]
[null,null,null,null,null,null,null,null,null,null,null,null,null,null,null,null,0,null,{"$error":"#DIV/0!"},{"$error":"#DIV/0!"},0,{"$error":"#DIV/0!"},{"$error":"#DIV/0!"},0,null,null,null,null,null,null,0,0,0,null,0,{"$f":"IFERROR(VLOOKUP(Z243,有效性!$D$2:$E$6,2,0),0)","v":0},0,0,0,0,0,null,0,null,0,0,0,0,0,null,0,0,null,0,"不涉及",0,0,0,0,0,0,0,"","否","正确","正确"]
[null,null,null,null,null,null,null,null,null,null,null,null,null,null,null,null,0,null,{"$error":"#DIV/0!"},{"$error":"#DIV/0!"},0,{"$error":"#DIV/0!"},{"$error":"#DIV/0!"},0,null,null,null,null,null,null,0,0,0,null,0,{"$f":"IFERROR(VLOOKUP(Z244,有效性!$D$2:$E$6,2,0),0)","v":0},0,0,0,0,0,null,0,null,0,0,0,0,0,null,0,0,null,0,"不涉及",0,0,0,0,0,0,0,"","否","正确","正确"]
[null,null,null,null,null,null,null,null,null,null,null,null,null,null,null,null,0,null,{"$error":"#DIV/0!"},{"$error":"#DIV/0!"},0,{"$error":"#DIV/0!"},{"$error":"#DIV/0!"},0,null,null,null,null,null,null,0,0,0,null,0,{"$f":"IFERROR(VLOOKUP(Z245,有效性!$D$2:$E$6,2,0),0)","v":0},0,0,0,0,0,null,0,null,0,0,0,0,0,null,0,0,null,0,"不涉及",0,0,0,0,0,0,0,"","否","正确","正确"]
[null,null,null,null,null,null,null,null,null,null,null,null,null,null,null,null,0,null,{"$error":"#DIV/0!"},{"$error":"#DIV/0!"},0,{"$error":"#DIV/0!"},{"$error":"#DIV/0!"},0,null,null,null,null,null,null,0,0,0,null,0,{"$f":"IFERROR(VLOOKUP(Z246,有效性!$D$2:$E$6,2,0),0)","v":0},0,0,0,0,0,null,0,null,0,0,0,0,0,null,0,0,null,0,"不涉及",0,0,0,0,0,0,0,"","否","正确","正确"]
[null,null,null,null,null,null,null,null,null,null,null,null,null,null,null,null,0,null,{"$error":"#DIV/0!"},{"$error":"#DIV/0!"},0,{"$error":"#DIV/0!"},{"$error":"#DIV/0!"},0,null,null,null,null,null,null,0,0,0,null,0,{"$f":"IFERROR(VLOOKUP(Z247,有效性!$D$2:$E$6,2,0),0)","v":0},0,0,0,0,0,null,0,null,0,0,0,0,0,null,0,0,null,0,"不涉及",0,0,0,0,0,0,0,"","否","正确","正确"]
[null,null,null,null,null,null,null,null,null,null,null,null,null,null,null,null,0,null,{"$error":"#DIV/0!"},{"$error":"#DIV/0!"},0,{"$error":"#DIV/0!"},{"$error":"#DIV/0!"},0,null,null,null,null,null,null,0,0,0,null,0,{"$f":"IFERROR(VLOOKUP(Z248,有效性!$D$2:$E$6,2,0),0)","v":0},0,0,0,0,0,null,0,null,0,0,0,0,0,null,0,0,null,0,"不涉及",0,0,0,0,0,0,0,"","否","正确","正确"]
[null,null,null,null,null,null,null,null,null,null,null,null,null,null,null,null,0,null,{"$error":"#DIV/0!"},{"$error":"#DIV/0!"},0,{"$error":"#DIV/0!"},{"$error":"#DIV/0!"},0,null,null,null,null,null,null,0,0,0,null,0,{"$f":"IFERROR(VLOOKUP(Z249,有效性!$D$2:$E$6,2,0),0)","v":0},0,0,0,0,0,null,0,null,0,0,0,0,0,null,0,0,null,0,"不涉及",0,0,0,0,0,0,0,"","否","正确","正确"]
[null,null,null,null,null,null,null,null,null,null,null,null,null,null,null,null,0,null,{"$error":"#DIV/0!"},{"$error":"#DIV/0!"},0,{"$error":"#DIV/0!"},{"$error":"#DIV/0!"},0,null,null,null,null,null,null,0,0,0,null,0,{"$f":"IFERROR(VLOOKUP(Z250,有效性!$D$2:$E$6,2,0),0)","v":0},0,0,0,0,0,null,0,null,0,0,0,0,0,null,0,0,null,0,"不涉及",0,0,0,0,0,0,0,"","否","正确","正确"]
[null,null,null,null,null,null,null,null,null,null,null,null,null,null,null,null,0,null,{"$error":"#DIV/0!"},{"$error":"#DIV/0!"},0,{"$error":"#DIV/0!"},{"$error":"#DIV/0!"},0,null,null,null,null,null,null,0,0,0,null,0,{"$f":"IFERROR(VLOOKUP(Z251,有效性!$D$2:$E$6,2,0),0)","v":0},0,0,0,0,0,null,0,null,0,0,0,0,0,null,0,0,null,0,"不涉及",0,0,0,0,0,0,0,"","否","正确","正确"]
[null,null,null,null,null,null,null,null,null,null,null,null,null,null,null,null,0,null,{"$error":"#DIV/0!"},{"$error":"#DIV/0!"},0,{"$error":"#DIV/0!"},{"$error":"#DIV/0!"},0,null,null,null,null,null,null,0,0,0,null,0,{"$f":"IFERROR(VLOOKUP(Z252,有效性!$D$2:$E$6,2,0),0)","v":0},0,0,0,0,0,null,0,null,0,0,0,0,0,null,0,0,null,0,"不涉及",0,0,0,0,0,0,0,"","否","正确","正确"]
[null,null,null,null,null,null,null,null,null,null,null,null,null,null,null,null,0,null,{"$error":"#DIV/0!"},{"$error":"#DIV/0!"},0,{"$error":"#DIV/0!"},{"$error":"#DIV/0!"},0,null,null,null,null,null,null,0,0,0,null,0,{"$f":"IFERROR(VLOOKUP(Z253,有效性!$D$2:$E$6,2,0),0)","v":0},0,0,0,0,0,null,0,null,0,0,0,0,0,null,0,0,null,0,"不涉及",0,0,0,0,0,0,0,"","否","正确","正确"]
[null,null,null,null,null,null,null,null,null,null,null,null,null,null,null,null,0,null,{"$error":"#DIV/0!"},{"$error":"#DIV/0!"},0,{"$error":"#DIV/0!"},{"$error":"#DIV/0!"},0,null,null,null,null,null,null,0,0,0,null,0,{"$f":"IFERROR(VLOOKUP(Z254,有效性!$D$2:$E$6,2,0),0)","v":0},0,0,0,0,0,null,0,null,0,0,0,0,0,null,0,0,null,0,"不涉及",0,0,0,0,0,0,0,"","否","正确","正确"]
[null,null,null,null,null,null,null,null,null,null,null,null,null,null,null,null,0,null,{"$error":"#DIV/0!"},{"$error":"#DIV/0!"},0,{"$error":"#DIV/0!"},{"$error":"#DIV/0!"},0,null,null,null,null,null,null,0,0,0,null,0,{"$f":"IFERROR(VLOOKUP(Z255,有效性!$D$2:$E$6,2,0),0)","v":0},0,0,0,0,0,null,0,null,0,0,0,0,0,null,0,0,null,0,"不涉及",0,0,0,0,0,0,0,"","否","正确","正确"]
[null,null,null,null,null,null,null,null,null,null,null,null,null,null,null,null,0,null,{"$error":"#DIV/0!"},{"$error":"#DIV/0!"},0,{"$error":"#DIV/0!"},{"$error":"#DIV/0!"},0,null,null,null,null,null,null,0,0,0,null,0,{"$f":"IFERROR(VLOOKUP(Z256,有效性!$D$2:$E$6,2,0),0)","v":0},0,0,0,0,0,null,0,null,0,0,0,0,0,null,0,0,null,0,"不涉及",0,0,0,0,0,0,0,"","否","正确","正确"]
[null,null,null,null,null,null,null,null,null,null,null,null,null,null,null,null,0,null,{"$error":"#DIV/0!"},{"$error":"#DIV/0!"},0,{"$error":"#DIV/0!"},{"$error":"#DIV/0!"},0,null,null,null,null,null,null,0,0,0,null,0,{"$f":"IFERROR(VLOOKUP(Z257,有效性!$D$2:$E$6,2,0),0)","v":0},0,0,0,0,0,null,0,null,0,0,0,0,0,null,0,0,null,0,"不涉及",0,0,0,0,0,0,0,"","否","正确","正确"]
[null,null,null,null,null,null,null,null,null,null,null,null,null,null,null,null,0,null,{"$error":"#DIV/0!"},{"$error":"#DIV/0!"},0,{"$error":"#DIV/0!"},{"$error":"#DIV/0!"},0,null,null,null,null,null,null,0,0,0,null,0,{"$f":"IFERROR(VLOOKUP(Z258,有效性!$D$2:$E$6,2,0),0)","v":0},0,0,0,0,0,null,0,null,0,0,0,0,0,null,0,0,null,0,"不涉及",0,0,0,0,0,0,0,"","否","正确","正确"]
[null,null,null,null,null,null,null,null,null,null,null,null,null,null,null,null,0,null,{"$error":"#DIV/0!"},{"$error":"#DIV/0!"},0,{"$error":"#DIV/0!"},{"$error":"#DIV/0!"},0,null,null,null,null,null,null,0,0,0,null,0,{"$f":"IFERROR(VLOOKUP(Z259,有效性!$D$2:$E$6,2,0),0)","v":0},0,0,0,0,0,null,0,null,0,0,0,0,0,null,0,0,null,0,"不涉及",0,0,0,0,0,0,0,"","否","正确","正确"]
[null,null,null,null,null,null,null,null,null,null,null,null,null,null,null,null,0,null,{"$f":"(1-I260)/(K260*12)","v":{"$error":"#DIV/0!"}},{"$f":"ROUND(G260*S260,2)","v":{"$error":"#DIV/0!"}},{"$f":"IF($T$2<YEAR(J260),0,IF($T$2=YEAR(J260),MAX($V$2-MONTH(J260),0),IF($T$2>YEAR(J260)+K260,0,IF($T$2=YEAR(J260)+K260,MIN(MONTH($J260),$V$2),$V$2))))","v":0},{"$f":"T260*U260","v":{"$error":"#DIV/0!"}},{"$f":"IF(ABS(Q260-V260)<=$X$2,0,Q260-V260)","v":{"$error":"#DIV/0!"}},{"$f":"IFERROR(IF((W260/V260)<$Y$2,0,W260/V260),0)","v":0},null,null,null,null,null,null,{"$f":"G260-AD260","v":0},{"$f":"IF(ISNUMBER(FIND(\"计税基础差异\",AA260)),IF(YEAR(J260)+K260=$T$2,Q260-((G260-AD260)*(1-I260)-AH260),AD260*S260*U260),0)","v":0},{"$f":"IF(ISNUMBER(FIND(\"计税基础差异\",AA260)),IF(AB260=\"是\",Q260-AF260,0),0)","v":0},null,{"$f":"ROUND(AH260+AG260,2)","v":0},{"$f":"IFERROR(VLOOKUP(Z260,有效性!$D$2:$E$6,2,0),0)","v":0},{"$f":"IFERROR((1-I260)/(AJ260*12),0)","v":0},{"$f":"G260*AK260","v":0},{"$f":"IF($T$2<YEAR(J260),0,IF($T$2=YEAR(J260),MAX($V$2-MONTH(J260),0),IF($T$2>YEAR(J260)+AJ260,0,IF($T$2=YEAR(J260)+AJ260,MIN(MONTH($J260),$V$2),$V$2))))","v":0},{"$f":"IF(ISNUMBER(FIND(\"折旧年限差异\",AA260)),IF(YEAR(J260)+AJ260=$T$2,AP260,AL260*AM260),0)","v":0},{"$f":"ROUND(IF(ISNUMBER(FIND(\"折旧年限差异\",AA260)),IF(AB260=\"是\",Q260-AN260,0),0),2)","v":0},null,{"$f":"ROUND(AO260+AP260,2)","v":0},null,{"$f":"IF(ISNUMBER(FIND(\"缩短年限60%\",AA260)),IFERROR((1-I260)/(AR260*12),0),0)","v":0},{"$f":"G260*AS260","v":0},{"$f":"IF($T$2<YEAR(J260),0,IF($T$2=YEAR(J260),MAX($V$2-MONTH(J260),0),IF($T$2>YEAR(J260)+AR260,0,IF($T$2=YEAR(J260)+AR260,MIN(MONTH($J260),$V$2),$V$2))))","v":0},{"$f":"ROUND(IF(ISNUMBER(FIND(\"加速折旧\",AA260)),IF(OR(ISNUMBER(FIND(\"500万元以下一次性扣除\",AA260)),ISNUMBER(FIND(\"5000元以下一次性扣除\",AA260))),IF(OR(AND(YEAR(J260)=$T$2,MONTH(J260)<>12),AND(YEAR(J260)=$T$2-1,MONTH(J260)=12)),G260,0),IF(ISNUMBER(FIND(\"缩短年限60%\",AA260)),IF(YEAR(J260)+AR260=$T$2,G260*(1-I260)-(O260-AX260),AT260*AU260),0)),0),2)","v":0},{"$f":"ROUND(IF(ISNUMBER(FIND(\"加速折旧\",AA260)),IF(AB260=\"是\",Q260-AV260,0),0),2)","v":0},null,{"$f":"ROUND(AX260+AW260,20)","v":0},{"$f":"IFERROR(IF(ISNUMBER(FIND(\"不得扣除折旧资产\",AA260)),IF(AB260=\"是\",Q260,0),0),0)","v":0},null,{"$f":"BA260+AZ260","v":0},"否",{"$f":"IF(OR(AC260=\"否\",BC260=\"不涉及\"),0,Q260-AG260-AO260-AW260)","v":0},{"$f":"IF(BC260=\"不涉及\",0,IF(BC260=\"是\",BD260-Q260,BD260))","v":0},{"$f":"AH260+AP260+AX260+BA260","v":0},{"$f":"MAX(0,BJ260)","v":0},{"$f":"MIN(0,BJ260)","v":0},{"$f":"AI260+AQ260+AY260+BB260","v":0},{"$f":"AG260+AO260+AW260+AZ260","v":0},{"$f":"_xlfn.IFS(BJ260>0,\"本年调增\",BJ260<0,\"本年调减\",BJ260=0,\"\")","v":""},"否",{"$f":"IF(AND(BL260=\"是\",BI260<>0),\"请检查\",\"正确\")","v":"正确"},{"$f":"IF(Q260-BJ260<0,\"错误\",\"正确\")","v":"正确"}]
[null,null,null,null,null,null,null,null,null,null,null,null,null,null,null,null,{"$f":"P261-O261","v":0},null,{"$error":"#DIV/0!"},{"$error":"#DIV/0!"},0,{"$error":"#DIV/0!"},{"$error":"#DIV/0!"},0,null,null,null,null,null,null,0,0,0,null,0,{"$f":"IFERROR(VLOOKUP(Z261,有效性!$D$2:$E$6,2,0),0)","v":0},0,0,0,0,0,null,0,null,0,0,0,0,0,null,0,0,null,0,"不涉及",0,0,0,0,0,0,0,"","否","正确","正确"]
[null,null,null,null,null,null,null,null,null,null,null,null,null,null,null,null,0,null,{"$error":"#DIV/0!"},{"$error":"#DIV/0!"},0,{"$error":"#DIV/0!"},{"$error":"#DIV/0!"},0,null,null,null,null,null,null,0,0,0,null,0,{"$f":"IFERROR(VLOOKUP(Z262,有效性!$D$2:$E$6,2,0),0)","v":0},0,0,0,0,0,null,0,null,0,0,0,0,0,null,0,0,null,0,"不涉及",0,0,0,0,0,0,0,"","否","正确","正确"]
[null,null,null,null,null,null,null,null,null,null,null,null,null,null,null,null,0,null,{"$error":"#DIV/0!"},{"$error":"#DIV/0!"},0,{"$error":"#DIV/0!"},{"$error":"#DIV/0!"},0,null,null,null,null,null,null,0,0,0,null,0,{"$f":"IFERROR(VLOOKUP(Z263,有效性!$D$2:$E$6,2,0),0)","v":0},0,0,0,0,0,null,0,null,0,0,0,0,0,null,0,0,null,0,"不涉及",0,0,0,0,0,0,0,"","否","正确","正确"]
[null,null,null,null,null,null,null,null,null,null,null,null,null,null,null,null,0,null,{"$error":"#DIV/0!"},{"$error":"#DIV/0!"},0,{"$error":"#DIV/0!"},{"$error":"#DIV/0!"},0,null,null,null,null,null,null,0,0,0,null,0,{"$f":"IFERROR(VLOOKUP(Z264,有效性!$D$2:$E$6,2,0),0)","v":0},0,0,0,0,0,null,0,null,0,0,0,0,0,null,0,0,null,0,"不涉及",0,0,0,0,0,0,0,"","否","正确","正确"]
[null,null,null,null,null,null,null,null,null,null,null,null,null,null,null,null,0,null,{"$error":"#DIV/0!"},{"$error":"#DIV/0!"},0,{"$error":"#DIV/0!"},{"$error":"#DIV/0!"},0,null,null,null,null,null,null,0,0,0,null,0,{"$f":"IFERROR(VLOOKUP(Z265,有效性!$D$2:$E$6,2,0),0)","v":0},0,0,0,0,0,null,0,null,0,0,0,0,0,null,0,0,null,0,"不涉及",0,0,0,0,0,0,0,"","否","正确","正确"]
[null,null,null,null,null,null,null,null,null,null,null,null,null,null,null,null,0,null,{"$error":"#DIV/0!"},{"$error":"#DIV/0!"},0,{"$error":"#DIV/0!"},{"$error":"#DIV/0!"},0,null,null,null,null,null,null,0,0,0,null,0,{"$f":"IFERROR(VLOOKUP(Z266,有效性!$D$2:$E$6,2,0),0)","v":0},0,0,0,0,0,null,0,null,0,0,0,0,0,null,0,0,null,0,"不涉及",0,0,0,0,0,0,0,"","否","正确","正确"]
[null,null,null,null,null,null,null,null,null,null,null,null,null,null,null,null,0,null,{"$error":"#DIV/0!"},{"$error":"#DIV/0!"},0,{"$error":"#DIV/0!"},{"$error":"#DIV/0!"},0,null,null,null,null,null,null,0,0,0,null,0,{"$f":"IFERROR(VLOOKUP(Z267,有效性!$D$2:$E$6,2,0),0)","v":0},0,0,0,0,0,null,0,null,0,0,0,0,0,null,0,0,null,0,"否",0,0,0,0,0,0,0,"","否","正确","正确"]
[null,null,null,null,null,null,null,null,null,null,null,null,null,null,null,null,0,null,{"$error":"#DIV/0!"},{"$error":"#DIV/0!"},0,{"$error":"#DIV/0!"},{"$error":"#DIV/0!"},0,null,null,null,null,null,null,0,0,0,null,0,{"$f":"IFERROR(VLOOKUP(Z268,有效性!$D$2:$E$6,2,0),0)","v":0},0,0,0,0,0,null,0,null,0,0,0,0,0,null,0,0,null,0,"否",0,0,0,0,0,0,0,"","否","正确","正确"]
[null,null,null,null,null,null,null,null,null,null,null,null,null,null,null,null,0,null,{"$error":"#DIV/0!"},{"$error":"#DIV/0!"},0,{"$error":"#DIV/0!"},{"$error":"#DIV/0!"},0,null,null,null,null,null,null,0,0,0,null,0,{"$f":"IFERROR(VLOOKUP(Z269,有效性!$D$2:$E$6,2,0),0)","v":0},0,0,0,0,0,null,0,null,0,0,0,0,0,null,0,0,null,0,"不涉及",0,0,0,0,0,0,0,"","否","正确","正确"]
[null,null,null,null,null,null,null,null,null,null,null,null,null,null,null,null,0,null,{"$error":"#DIV/0!"},{"$error":"#DIV/0!"},0,{"$error":"#DIV/0!"},{"$error":"#DIV/0!"},0,null,null,null,null,null,null,0,0,0,null,0,{"$f":"IFERROR(VLOOKUP(Z270,有效性!$D$2:$E$6,2,0),0)","v":0},0,0,0,0,0,null,0,null,0,0,0,0,0,null,0,0,null,0,"不涉及",0,0,0,0,0,0,0,"","否","正确","正确"]
[null,null,null,null,null,null,null,null,null,null,null,null,null,null,null,null,0,null,{"$error":"#DIV/0!"},{"$error":"#DIV/0!"},0,{"$error":"#DIV/0!"},{"$error":"#DIV/0!"},0,null,null,null,null,null,null,0,0,0,null,0,{"$f":"IFERROR(VLOOKUP(Z271,有效性!$D$2:$E$6,2,0),0)","v":0},0,0,0,0,0,null,0,null,0,0,0,0,0,null,0,0,null,0,"不涉及",0,0,0,0,0,0,0,"","否","正确","正确"]
[null,null,null,null,null,null,null,null,null,null,null,null,null,null,null,null,0,null,{"$error":"#DIV/0!"},{"$error":"#DIV/0!"},0,{"$error":"#DIV/0!"},{"$error":"#DIV/0!"},0,null,null,null,null,null,null,0,0,0,null,0,{"$f":"IFERROR(VLOOKUP(Z272,有效性!$D$2:$E$6,2,0),0)","v":0},0,0,0,0,0,null,0,null,0,0,0,0,0,null,0,0,null,0,"不涉及",0,0,0,0,0,0,0,"","否","正确","正确"]
[null,null,null,null,null,null,null,null,null,null,null,null,null,null,null,null,0,null,{"$error":"#DIV/0!"},{"$error":"#DIV/0!"},0,{"$error":"#DIV/0!"},{"$error":"#DIV/0!"},0,null,null,null,null,null,null,0,0,0,null,0,{"$f":"IFERROR(VLOOKUP(Z273,有效性!$D$2:$E$6,2,0),0)","v":0},0,0,0,0,0,null,0,null,0,0,0,0,0,null,0,0,null,0,"不涉及",0,0,0,0,0,0,0,"","否","正确","正确"]
[null,null,null,null,null,null,null,null,null,null,null,null,null,null,null,null,0,null,{"$error":"#DIV/0!"},{"$error":"#DIV/0!"},0,{"$error":"#DIV/0!"},{"$error":"#DIV/0!"},0,null,null,null,null,null,null,0,0,0,null,0,{"$f":"IFERROR(VLOOKUP(Z274,有效性!$D$2:$E$6,2,0),0)","v":0},0,0,0,0,0,null,0,null,0,0,0,0,0,null,0,0,null,0,"不涉及",0,0,0,0,0,0,0,"","否","正确","正确"]
[null,null,null,null,null,null,null,null,null,null,null,null,null,null,null,null,0,null,{"$error":"#DIV/0!"},{"$error":"#DIV/0!"},0,{"$error":"#DIV/0!"},{"$error":"#DIV/0!"},0,null,null,null,null,null,null,0,0,0,null,0,{"$f":"IFERROR(VLOOKUP(Z275,有效性!$D$2:$E$6,2,0),0)","v":0},0,0,0,0,0,null,0,null,0,0,0,0,0,null,0,0,null,0,"不涉及",0,0,0,0,0,0,0,"","否","正确","正确"]
[null,null,null,null,null,null,null,null,null,null,null,null,null,null,null,null,0,null,{"$error":"#DIV/0!"},{"$error":"#DIV/0!"},0,{"$error":"#DIV/0!"},{"$error":"#DIV/0!"},0,null,null,null,null,null,null,0,0,0,null,0,{"$f":"IFERROR(VLOOKUP(Z276,有效性!$D$2:$E$6,2,0),0)","v":0},0,0,0,0,0,null,0,null,0,0,0,0,0,null,0,0,null,0,"否",0,0,0,0,0,0,0,"","否","正确","正确"]
[null,null,null,null,null,null,null,null,null,null,null,null,null,null,null,null,0,null,{"$error":"#DIV/0!"},{"$error":"#DIV/0!"},0,{"$error":"#DIV/0!"},{"$error":"#DIV/0!"},0,null,null,null,null,null,null,0,0,0,null,0,{"$f":"IFERROR(VLOOKUP(Z277,有效性!$D$2:$E$6,2,0),0)","v":0},0,0,0,0,0,null,0,null,0,0,0,0,0,null,0,0,null,0,"不涉及",0,0,0,0,0,0,0,"","否","正确","正确"]
[null,null,null,null,null,null,null,null,null,null,null,null,null,null,null,null,0,null,{"$error":"#DIV/0!"},{"$error":"#DIV/0!"},0,{"$error":"#DIV/0!"},{"$error":"#DIV/0!"},0,null,null,null,null,null,null,0,0,0,null,0,{"$f":"IFERROR(VLOOKUP(Z278,有效性!$D$2:$E$6,2,0),0)","v":0},0,0,0,0,0,null,0,null,0,0,0,0,0,null,0,0,null,0,"不涉及",0,0,0,0,0,0,0,"","否","正确","正确"]
[null,null,null,null,null,null,null,null,null,null,null,null,null,null,null,null,0,null,{"$error":"#DIV/0!"},{"$error":"#DIV/0!"},0,{"$error":"#DIV/0!"},{"$error":"#DIV/0!"},0,null,null,null,null,null,null,0,0,0,null,0,{"$f":"IFERROR(VLOOKUP(Z279,有效性!$D$2:$E$6,2,0),0)","v":0},0,0,0,0,0,null,0,null,0,0,0,0,0,null,0,0,null,0,"不涉及",0,0,0,0,0,0,0,"","否","正确","正确"]
[null,null,null,null,null,null,null,null,null,null,null,null,null,null,null,null,0,null,{"$error":"#DIV/0!"},{"$error":"#DIV/0!"},0,{"$error":"#DIV/0!"},{"$error":"#DIV/0!"},0,null,null,null,null,null,null,0,0,0,null,0,{"$f":"IFERROR(VLOOKUP(Z280,有效性!$D$2:$E$6,2,0),0)","v":0},0,0,0,0,0,null,0,null,0,0,0,0,0,null,0,0,null,0,"不涉及",0,0,0,0,0,0,0,"","否","正确","正确"]
[null,null,null,null,null,null,null,null,null,null,null,null,null,null,null,null,0,null,{"$error":"#DIV/0!"},{"$error":"#DIV/0!"},0,{"$error":"#DIV/0!"},{"$error":"#DIV/0!"},0,null,null,null,null,null,null,0,0,0,null,0,{"$f":"IFERROR(VLOOKUP(Z281,有效性!$D$2:$E$6,2,0),0)","v":0},0,0,0,0,0,null,0,null,0,0,0,0,0,null,0,0,null,0,"不涉及",0,0,0,0,0,0,0,"","否","正确","正确"]
[null,null,null,null,null,null,null,null,null,null,null,null,null,null,null,null,0,null,{"$error":"#DIV/0!"},{"$error":"#DIV/0!"},0,{"$error":"#DIV/0!"},{"$error":"#DIV/0!"},0,null,null,null,null,null,null,0,0,0,null,0,{"$f":"IFERROR(VLOOKUP(Z282,有效性!$D$2:$E$6,2,0),0)","v":0},0,0,0,0,0,null,0,null,0,0,0,0,0,null,0,0,null,0,"不涉及",0,0,0,0,0,0,0,"","否","正确","正确"]
[null,null,null,null,null,null,null,null,null,null,null,null,null,null,null,null,0,null,{"$error":"#DIV/0!"},{"$error":"#DIV/0!"},0,{"$error":"#DIV/0!"},{"$error":"#DIV/0!"},0,null,null,null,null,null,null,0,0,0,null,0,{"$f":"IFERROR(VLOOKUP(Z283,有效性!$D$2:$E$6,2,0),0)","v":0},0,0,0,0,0,null,0,null,0,0,0,0,0,null,0,0,null,0,"不涉及",0,0,0,0,0,0,0,"","否","正确","正确"]
[null,null,null,null,null,null,null,null,null,null,null,null,null,null,null,null,0,null,{"$error":"#DIV/0!"},{"$error":"#DIV/0!"},0,{"$error":"#DIV/0!"},{"$error":"#DIV/0!"},0,null,null,null,null,null,null,0,0,0,null,0,{"$f":"IFERROR(VLOOKUP(Z284,有效性!$D$2:$E$6,2,0),0)","v":0},0,0,0,0,0,null,0,null,0,0,0,0,0,null,0,0,null,0,"不涉及",0,0,0,0,0,0,0,"","否","正确","正确"]
[null,null,null,null,null,null,null,null,null,null,null,null,null,null,null,null,0,null,{"$error":"#DIV/0!"},{"$error":"#DIV/0!"},0,{"$error":"#DIV/0!"},{"$error":"#DIV/0!"},0,null,null,null,null,null,null,0,0,0,null,0,{"$f":"IFERROR(VLOOKUP(Z285,有效性!$D$2:$E$6,2,0),0)","v":0},0,0,0,0,0,null,0,null,0,0,0,0,0,null,0,0,null,0,"不涉及",0,0,0,0,0,0,0,"","否","正确","正确"]
[null,null,null,null,null,null,null,null,null,null,null,null,null,null,null,null,0,null,{"$error":"#DIV/0!"},{"$error":"#DIV/0!"},0,{"$error":"#DIV/0!"},{"$error":"#DIV/0!"},0,null,null,null,null,null,null,0,0,0,null,0,{"$f":"IFERROR(VLOOKUP(Z286,有效性!$D$2:$E$6,2,0),0)","v":0},0,0,0,0,0,null,0,null,0,0,0,0,0,null,0,0,null,0,"不涉及",0,0,0,0,0,0,0,"","否","正确","正确"]
[null,null,null,null,null,null,null,null,null,null,null,null,null,null,null,null,0,null,{"$error":"#DIV/0!"},{"$error":"#DIV/0!"},0,{"$error":"#DIV/0!"},{"$error":"#DIV/0!"},0,null,null,null,null,null,null,0,0,0,null,0,{"$f":"IFERROR(VLOOKUP(Z287,有效性!$D$2:$E$6,2,0),0)","v":0},0,0,0,0,0,null,0,null,0,0,0,0,0,null,0,0,null,0,"不涉及",0,0,0,0,0,0,0,"","否","正确","正确"]
[null,null,null,null,null,null,null,null,null,null,null,null,null,null,null,null,0,null,{"$error":"#DIV/0!"},{"$error":"#DIV/0!"},0,{"$error":"#DIV/0!"},{"$error":"#DIV/0!"},0,null,null,null,null,null,null,0,0,0,null,0,{"$f":"IFERROR(VLOOKUP(Z288,有效性!$D$2:$E$6,2,0),0)","v":0},0,0,0,0,0,null,0,null,0,0,0,0,0,null,0,0,null,0,"不涉及",0,0,0,0,0,0,0,"","否","正确","正确"]
[null,null,null,null,null,null,null,null,null,null,null,null,null,null,null,null,0,null,{"$error":"#DIV/0!"},{"$error":"#DIV/0!"},0,{"$error":"#DIV/0!"},{"$error":"#DIV/0!"},0,null,null,null,null,null,null,0,0,0,null,0,{"$f":"IFERROR(VLOOKUP(Z289,有效性!$D$2:$E$6,2,0),0)","v":0},0,0,0,0,0,null,0,null,0,0,0,0,0,null,0,0,null,0,"不涉及",0,0,0,0,0,0,0,"","否","正确","正确"]
[null,null,null,null,null,null,null,null,null,null,null,null,null,null,null,null,0,null,{"$error":"#DIV/0!"},{"$error":"#DIV/0!"},0,{"$error":"#DIV/0!"},{"$error":"#DIV/0!"},0,null,null,null,null,null,null,0,0,0,null,0,{"$f":"IFERROR(VLOOKUP(Z290,有效性!$D$2:$E$6,2,0),0)","v":0},0,0,0,0,0,null,0,null,0,0,0,0,0,null,0,0,null,0,"不涉及",0,0,0,0,0,0,0,"","否","正确","正确"]
[null,null,null,null,null,null,null,null,null,null,null,null,null,null,null,null,0,null,{"$error":"#DIV/0!"},{"$error":"#DIV/0!"},0,{"$error":"#DIV/0!"},{"$error":"#DIV/0!"},0,null,null,null,null,null,null,0,0,0,null,0,{"$f":"IFERROR(VLOOKUP(Z291,有效性!$D$2:$E$6,2,0),0)","v":0},0,0,0,0,0,null,0,null,0,0,0,0,0,null,0,0,null,0,"不涉及",0,0,0,0,0,0,0,"","否","正确","正确"]
[null,null,null,null,null,null,null,null,null,null,null,null,null,null,null,null,0,null,{"$error":"#DIV/0!"},{"$error":"#DIV/0!"},0,{"$error":"#DIV/0!"},{"$error":"#DIV/0!"},0,null,null,null,null,null,null,0,0,0,null,0,{"$f":"IFERROR(VLOOKUP(Z292,有效性!$D$2:$E$6,2,0),0)","v":0},0,0,0,0,0,null,0,null,0,0,0,0,0,null,0,0,null,0,"不涉及",0,0,0,0,0,0,0,"","否","正确","正确"]
[null,null,null,null,null,null,null,null,null,null,null,null,null,null,null,null,0,null,{"$error":"#DIV/0!"},{"$error":"#DIV/0!"},0,{"$error":"#DIV/0!"},{"$error":"#DIV/0!"},0,null,null,null,null,null,null,0,0,0,null,0,{"$f":"IFERROR(VLOOKUP(Z293,有效性!$D$2:$E$6,2,0),0)","v":0},0,0,0,0,0,null,0,null,0,0,0,0,0,null,0,0,null,0,"不涉及",0,0,0,0,0,0,0,"","否","正确","正确"]
[null,null,null,null,null,null,null,null,null,null,null,null,null,null,null,null,0,null,{"$error":"#DIV/0!"},{"$error":"#DIV/0!"},0,{"$error":"#DIV/0!"},{"$error":"#DIV/0!"},0,null,null,null,null,null,null,0,0,0,null,0,{"$f":"IFERROR(VLOOKUP(Z294,有效性!$D$2:$E$6,2,0),0)","v":0},0,0,0,0,0,null,0,null,0,0,0,0,0,null,0,0,null,0,"不涉及",0,0,0,0,0,0,0,"","否","正确","正确"]
[null,null,null,null,null,null,null,null,null,null,null,null,null,null,null,null,0,null,{"$error":"#DIV/0!"},{"$error":"#DIV/0!"},0,{"$error":"#DIV/0!"},{"$error":"#DIV/0!"},0,null,null,null,null,null,null,0,0,0,null,0,{"$f":"IFERROR(VLOOKUP(Z295,有效性!$D$2:$E$6,2,0),0)","v":0},0,0,0,0,0,null,0,null,0,0,0,0,0,null,0,0,null,0,"不涉及",0,0,0,0,0,0,0,"","否","正确","正确"]
[null,null,null,null,null,null,null,null,null,null,null,null,null,null,null,null,0,null,{"$error":"#DIV/0!"},{"$error":"#DIV/0!"},0,{"$error":"#DIV/0!"},{"$error":"#DIV/0!"},0,null,null,null,null,null,null,0,0,0,null,0,{"$f":"IFERROR(VLOOKUP(Z296,有效性!$D$2:$E$6,2,0),0)","v":0},0,0,0,0,0,null,0,null,0,0,0,0,0,null,0,0,null,0,"不涉及",0,0,0,0,0,0,0,"","否","正确","正确"]
[null,null,null,null,null,null,null,null,null,null,null,null,null,null,null,null,0,null,{"$error":"#DIV/0!"},{"$error":"#DIV/0!"},0,{"$error":"#DIV/0!"},{"$error":"#DIV/0!"},0,null,null,null,null,null,null,0,0,0,null,0,{"$f":"IFERROR(VLOOKUP(Z297,有效性!$D$2:$E$6,2,0),0)","v":0},0,0,0,0,0,null,0,null,0,0,0,0,0,null,0,0,null,0,"不涉及",0,0,0,0,0,0,0,"","否","正确","正确"]
[null,null,null,null,null,null,null,null,null,null,null,null,null,null,null,null,0,null,{"$error":"#DIV/0!"},{"$error":"#DIV/0!"},0,{"$error":"#DIV/0!"},{"$error":"#DIV/0!"},0,null,null,null,null,null,null,0,0,0,null,0,{"$f":"IFERROR(VLOOKUP(Z298,有效性!$D$2:$E$6,2,0),0)","v":0},0,0,0,0,0,null,0,null,0,0,0,0,0,null,0,0,null,0,"不涉及",0,0,0,0,0,0,0,"","否","正确","正确"]
[null,null,null,null,null,null,null,null,null,null,null,null,null,null,null,null,0,null,{"$error":"#DIV/0!"},{"$error":"#DIV/0!"},0,{"$error":"#DIV/0!"},{"$error":"#DIV/0!"},0,null,null,null,null,null,null,0,0,0,null,0,{"$f":"IFERROR(VLOOKUP(Z299,有效性!$D$2:$E$6,2,0),0)","v":0},0,0,0,0,0,null,0,null,0,0,0,0,0,null,0,0,null,0,"不涉及",0,0,0,0,0,0,0,"","否","正确","正确"]
[null,null,null,null,null,null,null,null,null,null,null,null,null,null,null,null,0,null,{"$error":"#DIV/0!"},{"$error":"#DIV/0!"},0,{"$error":"#DIV/0!"},{"$error":"#DIV/0!"},0,null,null,null,null,null,null,0,0,0,null,0,{"$f":"IFERROR(VLOOKUP(Z300,有效性!$D$2:$E$6,2,0),0)","v":0},0,0,0,0,0,null,0,null,0,0,0,0,0,null,0,0,null,0,"不涉及",0,0,0,0,0,0,0,"","否","正确","正确"]
[null,null,null,null,null,null,null,null,null,null,null,null,null,null,null,null,0,null,{"$error":"#DIV/0!"},{"$error":"#DIV/0!"},0,{"$error":"#DIV/0!"},{"$error":"#DIV/0!"},0,null,null,null,null,null,null,0,0,0,null,0,{"$f":"IFERROR(VLOOKUP(Z301,有效性!$D$2:$E$6,2,0),0)","v":0},0,0,0,0,0,null,0,null,0,0,0,0,0,null,0,0,null,0,"不涉及",0,0,0,0,0,0,0,"","否","正确","正确"]
[null,null,null,null,null,null,null,null,null,null,null,null,null,null,null,null,0,null,{"$error":"#DIV/0!"},{"$error":"#DIV/0!"},0,{"$error":"#DIV/0!"},{"$error":"#DIV/0!"},0,null,null,null,null,null,null,0,0,0,null,0,{"$f":"IFERROR(VLOOKUP(Z302,有效性!$D$2:$E$6,2,0),0)","v":0},0,0,0,0,0,null,0,null,0,0,0,0,0,null,0,0,null,0,"不涉及",0,0,0,0,0,0,0,"","否","正确","正确"]
[null,null,null,null,null,null,null,null,null,null,null,null,null,null,null,null,0,null,{"$error":"#DIV/0!"},{"$error":"#DIV/0!"},0,{"$error":"#DIV/0!"},{"$error":"#DIV/0!"},0,null,null,null,null,null,null,0,0,0,null,0,{"$f":"IFERROR(VLOOKUP(Z303,有效性!$D$2:$E$6,2,0),0)","v":0},0,0,0,0,0,null,0,null,0,0,0,0,0,null,0,0,null,0,"不涉及",0,0,0,0,0,0,0,"","否","正确","正确"]
[null,null,null,null,null,null,null,null,null,null,null,null,null,null,null,null,0,null,{"$error":"#DIV/0!"},{"$error":"#DIV/0!"},0,{"$error":"#DIV/0!"},{"$error":"#DIV/0!"},0,null,null,null,null,null,null,0,0,0,null,0,{"$f":"IFERROR(VLOOKUP(Z304,有效性!$D$2:$E$6,2,0),0)","v":0},0,0,0,0,0,null,0,null,0,0,0,0,0,null,0,0,null,0,"不涉及",0,0,0,0,0,0,0,"","否","正确","正确"]
[null,null,null,null,null,null,null,null,null,null,null,null,null,null,null,null,0,null,{"$error":"#DIV/0!"},{"$error":"#DIV/0!"},0,{"$error":"#DIV/0!"},{"$error":"#DIV/0!"},0,null,null,null,null,null,null,0,0,0,null,0,{"$f":"IFERROR(VLOOKUP(Z305,有效性!$D$2:$E$6,2,0),0)","v":0},0,0,0,0,0,null,0,null,0,0,0,0,0,null,0,0,null,0,"不涉及",0,0,0,0,0,0,0,"","否","正确","正确"]
[null,null,null,null,null,null,null,null,null,null,null,null,null,null,null,null,0,null,{"$error":"#DIV/0!"},{"$error":"#DIV/0!"},0,{"$error":"#DIV/0!"},{"$error":"#DIV/0!"},0,null,null,null,null,null,null,0,0,0,null,0,{"$f":"IFERROR(VLOOKUP(Z306,有效性!$D$2:$E$6,2,0),0)","v":0},0,0,0,0,0,null,0,null,0,0,0,0,0,null,0,0,null,0,"不涉及",0,0,0,0,0,0,0,"","否","正确","正确"]
[null,null,null,null,null,null,null,null,null,null,null,null,null,null,null,null,0,null,{"$error":"#DIV/0!"},{"$error":"#DIV/0!"},0,{"$error":"#DIV/0!"},{"$error":"#DIV/0!"},0,null,null,null,null,null,null,0,0,0,null,0,{"$f":"IFERROR(VLOOKUP(Z307,有效性!$D$2:$E$6,2,0),0)","v":0},0,0,0,0,0,null,0,null,0,0,0,0,0,null,0,0,null,0,"不涉及",0,0,0,0,0,0,0,"","否","正确","正确"]
[null,null,null,null,null,null,null,null,null,null,null,null,null,null,null,null,0,null,{"$error":"#DIV/0!"},{"$error":"#DIV/0!"},0,{"$error":"#DIV/0!"},{"$error":"#DIV/0!"},0,null,null,null,null,null,null,0,0,0,null,0,{"$f":"IFERROR(VLOOKUP(Z308,有效性!$D$2:$E$6,2,0),0)","v":0},0,0,0,0,0,null,0,null,0,0,0,0,0,null,0,0,null,0,"不涉及",0,0,0,0,0,0,0,"","否","正确","正确"]
[null,null,null,null,null,null,null,null,null,null,null,null,null,null,null,null,0,null,{"$error":"#DIV/0!"},{"$error":"#DIV/0!"},0,{"$error":"#DIV/0!"},{"$error":"#DIV/0!"},0,null,null,null,null,null,null,0,0,0,null,0,{"$f":"IFERROR(VLOOKUP(Z309,有效性!$D$2:$E$6,2,0),0)","v":0},0,0,0,0,0,null,0,null,0,0,0,0,0,null,0,0,null,0,"不涉及",0,0,0,0,0,0,0,"","否","正确","正确"]
[null,null,null,null,null,null,null,null,null,null,null,null,null,null,null,null,0,null,{"$error":"#DIV/0!"},{"$error":"#DIV/0!"},0,{"$error":"#DIV/0!"},{"$error":"#DIV/0!"},0,null,null,null,null,null,null,0,0,0,null,0,{"$f":"IFERROR(VLOOKUP(Z310,有效性!$D$2:$E$6,2,0),0)","v":0},0,0,0,0,0,null,0,null,0,0,0,0,0,null,0,0,null,0,"不涉及",0,0,0,0,0,0,0,"","否","正确","正确"]
[null,null,null,null,null,null,null,null,null,null,null,null,null,null,null,null,0,null,{"$error":"#DIV/0!"},{"$error":"#DIV/0!"},0,{"$error":"#DIV/0!"},{"$error":"#DIV/0!"},0,null,null,null,null,null,null,0,0,0,null,0,{"$f":"IFERROR(VLOOKUP(Z311,有效性!$D$2:$E$6,2,0),0)","v":0},0,0,0,0,0,null,0,null,0,0,0,0,0,null,0,0,null,0,"不涉及",0,0,0,0,0,0,0,"","否","正确","正确"]
[null,null,null,null,null,null,null,null,null,null,null,null,null,null,null,null,0,null,{"$error":"#DIV/0!"},{"$error":"#DIV/0!"},0,{"$error":"#DIV/0!"},{"$error":"#DIV/0!"},0,null,null,null,null,null,null,0,0,0,null,0,{"$f":"IFERROR(VLOOKUP(Z312,有效性!$D$2:$E$6,2,0),0)","v":0},0,0,0,0,0,null,0,null,0,0,0,0,0,null,0,0,null,0,"不涉及",0,0,0,0,0,0,0,"","否","正确","正确"]
[null,null,null,null,null,null,null,null,null,null,null,null,null,null,null,null,0,null,{"$error":"#DIV/0!"},{"$error":"#DIV/0!"},0,{"$error":"#DIV/0!"},{"$error":"#DIV/0!"},0,null,null,null,null,null,null,0,0,0,null,0,{"$f":"IFERROR(VLOOKUP(Z313,有效性!$D$2:$E$6,2,0),0)","v":0},0,0,0,0,0,null,0,null,0,0,0,0,0,null,0,0,null,0,"不涉及",0,0,0,0,0,0,0,"","否","正确","正确"]
[null,null,null,null,null,null,null,null,null,null,null,null,null,null,null,null,0,null,{"$error":"#DIV/0!"},{"$error":"#DIV/0!"},0,{"$error":"#DIV/0!"},{"$error":"#DIV/0!"},0,null,null,null,null,null,null,0,0,0,null,0,{"$f":"IFERROR(VLOOKUP(Z314,有效性!$D$2:$E$6,2,0),0)","v":0},0,0,0,0,0,null,0,null,0,0,0,0,0,null,0,0,null,0,"不涉及",0,0,0,0,0,0,0,"","否","正确","正确"]
[null,null,null,null,null,null,null,null,null,null,null,null,null,null,null,null,0,null,{"$error":"#DIV/0!"},{"$error":"#DIV/0!"},0,{"$error":"#DIV/0!"},{"$error":"#DIV/0!"},0,null,null,null,null,null,null,0,0,0,null,0,{"$f":"IFERROR(VLOOKUP(Z315,有效性!$D$2:$E$6,2,0),0)","v":0},0,0,0,0,0,null,0,null,0,0,0,0,0,null,0,0,null,0,"不涉及",0,0,0,0,0,0,0,"","否","正确","正确"]
[null,null,null,null,null,null,null,null,null,null,null,null,null,null,null,null,0,null,{"$error":"#DIV/0!"},{"$error":"#DIV/0!"},0,{"$error":"#DIV/0!"},{"$error":"#DIV/0!"},0,null,null,null,null,null,null,0,0,0,null,0,{"$f":"IFERROR(VLOOKUP(Z316,有效性!$D$2:$E$6,2,0),0)","v":0},0,0,0,0,0,null,0,null,0,0,0,0,0,null,0,0,null,0,"不涉及",0,0,0,0,0,0,0,"","否","正确","正确"]
[null,null,null,null,null,null,null,null,null,null,null,null,null,null,null,null,0,null,{"$error":"#DIV/0!"},{"$error":"#DIV/0!"},0,{"$error":"#DIV/0!"},{"$error":"#DIV/0!"},0,null,null,null,null,null,null,0,0,0,null,0,{"$f":"IFERROR(VLOOKUP(Z317,有效性!$D$2:$E$6,2,0),0)","v":0},0,0,0,0,0,null,0,null,0,0,0,0,0,null,0,0,null,0,"不涉及",0,0,0,0,0,0,0,"","否","正确","正确"]
[null,null,null,null,null,null,null,null,null,null,null,null,null,null,null,null,0,null,{"$error":"#DIV/0!"},{"$error":"#DIV/0!"},0,{"$error":"#DIV/0!"},{"$error":"#DIV/0!"},0,null,null,null,null,null,null,0,0,0,null,0,{"$f":"IFERROR(VLOOKUP(Z318,有效性!$D$2:$E$6,2,0),0)","v":0},0,0,0,0,0,null,0,null,0,0,0,0,0,null,0,0,null,0,"不涉及",0,0,0,0,0,0,0,"","否","正确","正确"]
[null,null,null,null,null,null,null,null,null,null,null,null,null,null,null,null,0,null,{"$error":"#DIV/0!"},{"$error":"#DIV/0!"},0,{"$error":"#DIV/0!"},{"$error":"#DIV/0!"},0,null,null,null,null,null,null,0,0,0,null,0,{"$f":"IFERROR(VLOOKUP(Z319,有效性!$D$2:$E$6,2,0),0)","v":0},0,0,0,0,0,null,0,null,0,0,0,0,0,null,0,0,null,0,"不涉及",0,0,0,0,0,0,0,"","否","正确","正确"]
[null,null,null,null,null,null,null,null,null,null,null,null,null,null,null,null,0,null,{"$error":"#DIV/0!"},{"$error":"#DIV/0!"},0,{"$error":"#DIV/0!"},{"$error":"#DIV/0!"},0,null,null,null,null,null,null,0,0,0,null,0,{"$f":"IFERROR(VLOOKUP(Z320,有效性!$D$2:$E$6,2,0),0)","v":0},0,0,0,0,0,null,0,null,0,0,0,0,0,null,0,0,null,0,"不涉及",0,0,0,0,0,0,0,"","否","正确","正确"]
[null,null,null,null,null,null,null,null,null,null,null,null,null,null,null,null,0,null,{"$error":"#DIV/0!"},{"$error":"#DIV/0!"},0,{"$error":"#DIV/0!"},{"$error":"#DIV/0!"},0,null,null,null,null,null,null,0,0,0,null,0,{"$f":"IFERROR(VLOOKUP(Z321,有效性!$D$2:$E$6,2,0),0)","v":0},0,0,0,0,0,null,0,null,0,0,0,0,0,null,0,0,null,0,"不涉及",0,0,0,0,0,0,0,"","否","正确","正确"]
[null,null,null,null,null,null,null,null,null,null,null,null,null,null,null,null,0,null,{"$error":"#DIV/0!"},{"$error":"#DIV/0!"},0,{"$error":"#DIV/0!"},{"$error":"#DIV/0!"},0,null,null,null,null,null,null,0,0,0,null,0,{"$f":"IFERROR(VLOOKUP(Z322,有效性!$D$2:$E$6,2,0),0)","v":0},0,0,0,0,0,null,0,null,0,0,0,0,0,null,0,0,null,0,"不涉及",0,0,0,0,0,0,0,"","否","正确","正确"]
[null,null,null,null,null,null,null,null,null,null,null,null,null,null,null,null,0,null,{"$error":"#DIV/0!"},{"$error":"#DIV/0!"},0,{"$error":"#DIV/0!"},{"$error":"#DIV/0!"},0,null,null,null,null,null,null,0,0,0,null,0,{"$f":"IFERROR(VLOOKUP(Z323,有效性!$D$2:$E$6,2,0),0)","v":0},0,0,0,0,0,null,0,null,0,0,0,0,0,null,0,0,null,0,"不涉及",0,0,0,0,0,0,0,"","否","正确","正确"]
[null,null,null,null,null,null,null,null,null,null,null,null,null,null,null,null,0,null,{"$f":"(1-I324)/(K324*12)","v":{"$error":"#DIV/0!"}},{"$f":"ROUND(G324*S324,2)","v":{"$error":"#DIV/0!"}},{"$f":"IF($T$2<YEAR(J324),0,IF($T$2=YEAR(J324),MAX($V$2-MONTH(J324),0),IF($T$2>YEAR(J324)+K324,0,IF($T$2=YEAR(J324)+K324,MIN(MONTH($J324),$V$2),$V$2))))","v":0},{"$f":"T324*U324","v":{"$error":"#DIV/0!"}},{"$f":"IF(ABS(Q324-V324)<=$X$2,0,Q324-V324)","v":{"$error":"#DIV/0!"}},{"$f":"IFERROR(IF((W324/V324)<$Y$2,0,W324/V324),0)","v":0},null,null,null,null,null,null,{"$f":"G324-AD324","v":0},{"$f":"IF(ISNUMBER(FIND(\"计税基础差异\",AA324)),IF(YEAR(J324)+K324=$T$2,Q324-((G324-AD324)*(1-I324)-AH324),AD324*S324*U324),0)","v":0},{"$f":"IF(ISNUMBER(FIND(\"计税基础差异\",AA324)),IF(AB324=\"是\",Q324-AF324,0),0)","v":0},null,{"$f":"ROUND(AH324+AG324,2)","v":0},{"$f":"IFERROR(VLOOKUP(Z324,有效性!$D$2:$E$6,2,0),0)","v":0},{"$f":"IFERROR((1-I324)/(AJ324*12),0)","v":0},{"$f":"G324*AK324","v":0},{"$f":"IF($T$2<YEAR(J324),0,IF($T$2=YEAR(J324),MAX($V$2-MONTH(J324),0),IF($T$2>YEAR(J324)+AJ324,0,IF($T$2=YEAR(J324)+AJ324,MIN(MONTH($J324),$V$2),$V$2))))","v":0},{"$f":"IF(ISNUMBER(FIND(\"折旧年限差异\",AA324)),IF(YEAR(J324)+AJ324=$T$2,AP324,AL324*AM324),0)","v":0},{"$f":"ROUND(IF(ISNUMBER(FIND(\"折旧年限差异\",AA324)),IF(AB324=\"是\",Q324-AN324,0),0),2)","v":0},null,{"$f":"ROUND(AO324+AP324,2)","v":0},null,{"$f":"IF(ISNUMBER(FIND(\"缩短年限60%\",AA324)),IFERROR((1-I324)/(AR324*12),0),0)","v":0},{"$f":"G324*AS324","v":0},{"$f":"IF($T$2<YEAR(J324),0,IF($T$2=YEAR(J324),MAX($V$2-MONTH(J324),0),IF($T$2>YEAR(J324)+AR324,0,IF($T$2=YEAR(J324)+AR324,MIN(MONTH($J324),$V$2),$V$2))))","v":0},{"$f":"ROUND(IF(ISNUMBER(FIND(\"加速折旧\",AA324)),IF(OR(ISNUMBER(FIND(\"500万元以下一次性扣除\",AA324)),ISNUMBER(FIND(\"5000元以下一次性扣除\",AA324))),IF(OR(AND(YEAR(J324)=$T$2,MONTH(J324)<>12),AND(YEAR(J324)=$T$2-1,MONTH(J324)=12)),G324,0),IF(ISNUMBER(FIND(\"缩短年限60%\",AA324)),IF(YEAR(J324)+AR324=$T$2,G324*(1-I324)-(O324-AX324),AT324*AU324),0)),0),2)","v":0},{"$f":"ROUND(IF(ISNUMBER(FIND(\"加速折旧\",AA324)),IF(AB324=\"是\",Q324-AV324,0),0),2)","v":0},null,{"$f":"ROUND(AX324+AW324,20)","v":0},{"$f":"IFERROR(IF(ISNUMBER(FIND(\"不得扣除折旧资产\",AA324)),IF(AB324=\"是\",Q324,0),0),0)","v":0},null,{"$f":"BA324+AZ324","v":0},"不涉及",{"$f":"IF(OR(AC324=\"否\",BC324=\"不涉及\"),0,Q324-AG324-AO324-AW324)","v":0},{"$f":"IF(BC324=\"不涉及\",0,IF(BC324=\"是\",BD324-Q324,BD324))","v":0},{"$f":"AH324+AP324+AX324+BA324","v":0},{"$f":"MAX(0,BJ324)","v":0},{"$f":"MIN(0,BJ324)","v":0},{"$f":"AI324+AQ324+AY324+BB324","v":0},{"$f":"AG324+AO324+AW324+AZ324","v":0},{"$f":"_xlfn.IFS(BJ324>0,\"本年调增\",BJ324<0,\"本年调减\",BJ324=0,\"\")","v":""},"否",{"$f":"IF(AND(BL324=\"是\",BI324<>0),\"请检查\",\"正确\")","v":"正确"},{"$f":"IF(Q324-BJ324<0,\"错误\",\"正确\")","v":"正确"}]
[null,null,null,null,null,null,null,null,null,null,null,null,null,null,null,null,{"$f":"P325-O325","v":0},null,{"$error":"#DIV/0!"},{"$error":"#DIV/0!"},0,{"$error":"#DIV/0!"},{"$error":"#DIV/0!"},0,null,null,null,null,null,null,0,0,0,null,0,{"$f":"IFERROR(VLOOKUP(Z325,有效性!$D$2:$E$6,2,0),0)","v":0},0,0,0,0,0,null,0,null,0,0,0,0,0,null,0,0,null,0,"不涉及",0,0,0,0,0,0,0,"","否","正确","正确"]
[null,null,null,null,null,null,null,null,null,null,null,null,null,null,null,null,0,null,{"$error":"#DIV/0!"},{"$error":"#DIV/0!"},0,{"$error":"#DIV/0!"},{"$error":"#DIV/0!"},0,null,null,null,null,null,null,0,0,0,null,0,{"$f":"IFERROR(VLOOKUP(Z326,有效性!$D$2:$E$6,2,0),0)","v":0},0,0,0,0,0,null,0,null,0,0,0,0,0,null,0,0,null,0,"不涉及",0,0,0,0,0,0,0,"","否","正确","正确"]
[null,null,null,null,null,null,null,null,null,null,null,null,null,null,null,null,0,null,{"$error":"#DIV/0!"},{"$error":"#DIV/0!"},0,{"$error":"#DIV/0!"},{"$error":"#DIV/0!"},0,null,null,null,null,null,null,0,0,0,null,0,{"$f":"IFERROR(VLOOKUP(Z327,有效性!$D$2:$E$6,2,0),0)","v":0},0,0,0,0,0,null,0,null,0,0,0,0,0,null,0,0,null,0,"不涉及",0,0,0,0,0,0,0,"","否","正确","正确"]
[null,null,null,null,null,null,null,null,null,null,null,null,null,null,null,null,0,null,{"$error":"#DIV/0!"},{"$error":"#DIV/0!"},0,{"$error":"#DIV/0!"},{"$error":"#DIV/0!"},0,null,null,null,null,null,null,0,0,0,null,0,{"$f":"IFERROR(VLOOKUP(Z328,有效性!$D$2:$E$6,2,0),0)","v":0},0,0,0,0,0,null,0,null,0,0,0,0,0,null,0,0,null,0,"不涉及",0,0,0,0,0,0,0,"","否","正确","正确"]
[null,null,null,null,null,null,null,null,null,null,null,null,null,null,null,null,0,null,{"$error":"#DIV/0!"},{"$error":"#DIV/0!"},0,{"$error":"#DIV/0!"},{"$error":"#DIV/0!"},0,null,null,null,null,null,null,0,0,0,null,0,{"$f":"IFERROR(VLOOKUP(Z329,有效性!$D$2:$E$6,2,0),0)","v":0},0,0,0,0,0,null,0,null,0,0,0,0,0,null,0,0,null,0,"不涉及",0,0,0,0,0,0,0,"","否","正确","正确"]
[null,null,null,null,null,null,null,null,null,null,null,null,null,null,null,null,0,null,{"$error":"#DIV/0!"},{"$error":"#DIV/0!"},0,{"$error":"#DIV/0!"},{"$error":"#DIV/0!"},0,null,null,null,null,null,null,0,0,0,null,0,{"$f":"IFERROR(VLOOKUP(Z330,有效性!$D$2:$E$6,2,0),0)","v":0},0,0,0,0,0,null,0,null,0,0,0,0,0,null,0,0,null,0,"不涉及",0,0,0,0,0,0,0,"","否","正确","正确"]
[null,null,null,null,null,null,null,null,null,null,null,null,null,null,null,null,0,null,{"$error":"#DIV/0!"},{"$error":"#DIV/0!"},0,{"$error":"#DIV/0!"},{"$error":"#DIV/0!"},0,null,null,null,null,null,null,0,0,0,null,0,{"$f":"IFERROR(VLOOKUP(Z331,有效性!$D$2:$E$6,2,0),0)","v":0},0,0,0,0,0,null,0,null,0,0,0,0,0,null,0,0,null,0,"不涉及",0,0,0,0,0,0,0,"","否","正确","正确"]
[null,null,null,null,null,null,null,null,null,null,null,null,null,null,null,null,0,null,{"$error":"#DIV/0!"},{"$error":"#DIV/0!"},0,{"$error":"#DIV/0!"},{"$error":"#DIV/0!"},0,null,null,null,null,null,null,0,0,0,null,0,{"$f":"IFERROR(VLOOKUP(Z332,有效性!$D$2:$E$6,2,0),0)","v":0},0,0,0,0,0,null,0,null,0,0,0,0,0,null,0,0,null,0,"不涉及",0,0,0,0,0,0,0,"","否","正确","正确"]
[null,null,null,null,null,null,null,null,null,null,null,null,null,null,null,null,0,null,{"$error":"#DIV/0!"},{"$error":"#DIV/0!"},0,{"$error":"#DIV/0!"},{"$error":"#DIV/0!"},0,null,null,null,null,null,null,0,0,0,null,0,{"$f":"IFERROR(VLOOKUP(Z333,有效性!$D$2:$E$6,2,0),0)","v":0},0,0,0,0,0,null,0,null,0,0,0,0,0,null,0,0,null,0,"不涉及",0,0,0,0,0,0,0,"","否","正确","正确"]
[null,null,null,null,null,null,null,null,null,null,null,null,null,null,null,null,0,null,{"$error":"#DIV/0!"},{"$error":"#DIV/0!"},0,{"$error":"#DIV/0!"},{"$error":"#DIV/0!"},0,null,null,null,null,null,null,0,0,0,null,0,{"$f":"IFERROR(VLOOKUP(Z334,有效性!$D$2:$E$6,2,0),0)","v":0},0,0,0,0,0,null,0,null,0,0,0,0,0,null,0,0,null,0,"不涉及",0,0,0,0,0,0,0,"","否","正确","正确"]
[null,null,null,null,null,null,null,null,null,null,null,null,null,null,null,null,0,null,{"$error":"#DIV/0!"},{"$error":"#DIV/0!"},0,{"$error":"#DIV/0!"},{"$error":"#DIV/0!"},0,null,null,null,null,null,null,0,0,0,null,0,{"$f":"IFERROR(VLOOKUP(Z335,有效性!$D$2:$E$6,2,0),0)","v":0},0,0,0,0,0,null,0,null,0,0,0,0,0,null,0,0,null,0,"不涉及",0,0,0,0,0,0,0,"","否","正确","正确"]
[null,null,null,null,null,null,null,null,null,null,null,null,null,null,null,null,0,null,{"$error":"#DIV/0!"},{"$error":"#DIV/0!"},0,{"$error":"#DIV/0!"},{"$error":"#DIV/0!"},0,null,null,null,null,null,null,0,0,0,null,0,{"$f":"IFERROR(VLOOKUP(Z336,有效性!$D$2:$E$6,2,0),0)","v":0},0,0,0,0,0,null,0,null,0,0,0,0,0,null,0,0,null,0,"不涉及",0,0,0,0,0,0,0,"","否","正确","正确"]
[null,null,null,null,null,null,null,null,null,null,null,null,null,null,null,null,0,null,{"$error":"#DIV/0!"},{"$error":"#DIV/0!"},0,{"$error":"#DIV/0!"},{"$error":"#DIV/0!"},0,null,null,null,null,null,null,0,0,0,null,0,{"$f":"IFERROR(VLOOKUP(Z337,有效性!$D$2:$E$6,2,0),0)","v":0},0,0,0,0,0,null,0,null,0,0,0,0,0,null,0,0,null,0,"否",0,0,0,0,0,0,0,"","否","正确","正确"]
[null,null,null,null,null,null,null,null,null,null,null,null,null,null,null,null,0,null,{"$error":"#DIV/0!"},{"$error":"#DIV/0!"},0,{"$error":"#DIV/0!"},{"$error":"#DIV/0!"},0,null,null,null,null,null,null,0,0,0,null,0,{"$f":"IFERROR(VLOOKUP(Z338,有效性!$D$2:$E$6,2,0),0)","v":0},0,0,0,0,0,null,0,null,0,0,0,0,0,null,0,0,null,0,"否",0,0,0,0,0,0,0,"","否","正确","正确"]
[null,null,null,null,null,null,null,null,null,null,null,null,null,null,null,null,0,null,{"$error":"#DIV/0!"},{"$error":"#DIV/0!"},0,{"$error":"#DIV/0!"},{"$error":"#DIV/0!"},0,null,null,null,null,null,null,0,0,0,null,0,{"$f":"IFERROR(VLOOKUP(Z339,有效性!$D$2:$E$6,2,0),0)","v":0},0,0,0,0,0,null,0,null,0,0,0,0,0,null,0,0,null,0,"否",0,0,0,0,0,0,0,"","否","正确","正确"]
[null,null,null,null,null,null,null,null,null,null,null,null,null,null,null,null,0,null,{"$error":"#DIV/0!"},{"$error":"#DIV/0!"},0,{"$error":"#DIV/0!"},{"$error":"#DIV/0!"},0,null,null,null,null,null,null,0,0,0,null,0,{"$f":"IFERROR(VLOOKUP(Z340,有效性!$D$2:$E$6,2,0),0)","v":0},0,0,0,0,0,null,0,null,0,0,0,0,0,null,0,0,null,0,"否",0,0,0,0,0,0,0,"","否","正确","正确"]
[null,null,null,null,null,null,null,null,null,null,null,null,null,null,null,null,0,null,{"$error":"#DIV/0!"},{"$error":"#DIV/0!"},0,{"$error":"#DIV/0!"},{"$error":"#DIV/0!"},0,null,null,null,null,null,null,0,0,0,null,0,{"$f":"IFERROR(VLOOKUP(Z341,有效性!$D$2:$E$6,2,0),0)","v":0},0,0,0,0,0,null,0,null,0,0,0,0,0,null,0,0,null,0,"否",0,0,0,0,0,0,0,"","否","正确","正确"]
[null,null,null,null,null,null,null,null,null,null,null,null,null,null,null,null,0,null,{"$error":"#DIV/0!"},{"$error":"#DIV/0!"},0,{"$error":"#DIV/0!"},{"$error":"#DIV/0!"},0,null,null,null,null,null,null,0,0,0,null,0,{"$f":"IFERROR(VLOOKUP(Z342,有效性!$D$2:$E$6,2,0),0)","v":0},0,0,0,0,0,null,0,null,0,0,0,0,0,null,0,0,null,0,"否",0,0,0,0,0,0,0,"","否","正确","正确"]
[null,null,null,null,null,null,null,null,null,null,null,null,null,null,null,null,0,null,{"$error":"#DIV/0!"},{"$error":"#DIV/0!"},0,{"$error":"#DIV/0!"},{"$error":"#DIV/0!"},0,null,null,null,null,null,null,0,0,0,null,0,{"$f":"IFERROR(VLOOKUP(Z343,有效性!$D$2:$E$6,2,0),0)","v":0},0,0,0,0,0,null,0,null,0,0,0,0,0,null,0,0,null,0,"否",0,0,0,0,0,0,0,"","否","正确","正确"]
[null,null,null,null,null,null,null,null,null,null,null,null,null,null,null,null,0,null,{"$error":"#DIV/0!"},{"$error":"#DIV/0!"},0,{"$error":"#DIV/0!"},{"$error":"#DIV/0!"},0,null,null,null,null,null,null,0,0,0,null,0,{"$f":"IFERROR(VLOOKUP(Z344,有效性!$D$2:$E$6,2,0),0)","v":0},0,0,0,0,0,null,0,null,0,0,0,0,0,null,0,0,null,0,"否",0,0,0,0,0,0,0,"","否","正确","正确"]
[null,null,null,null,null,null,null,null,null,null,null,null,null,null,null,null,0,null,{"$error":"#DIV/0!"},{"$error":"#DIV/0!"},0,{"$error":"#DIV/0!"},{"$error":"#DIV/0!"},0,null,null,null,null,null,null,0,0,0,null,0,{"$f":"IFERROR(VLOOKUP(Z345,有效性!$D$2:$E$6,2,0),0)","v":0},0,0,0,0,0,null,0,null,0,0,0,0,0,null,0,0,null,0,"否",0,0,0,0,0,0,0,"","否","正确","正确"]
[null,null,null,null,null,null,null,null,null,null,null,null,null,null,null,null,0,null,{"$error":"#DIV/0!"},{"$error":"#DIV/0!"},0,{"$error":"#DIV/0!"},{"$error":"#DIV/0!"},0,null,null,null,null,null,null,0,0,0,null,0,{"$f":"IFERROR(VLOOKUP(Z346,有效性!$D$2:$E$6,2,0),0)","v":0},0,0,0,0,0,null,0,null,0,0,0,0,0,null,0,0,null,0,"否",0,0,0,0,0,0,0,"","否","正确","正确"]
[null,null,null,null,null,null,null,null,null,null,null,null,null,null,null,null,0,null,{"$error":"#DIV/0!"},{"$error":"#DIV/0!"},0,{"$error":"#DIV/0!"},{"$error":"#DIV/0!"},0,null,null,null,null,null,null,0,0,0,null,0,{"$f":"IFERROR(VLOOKUP(Z347,有效性!$D$2:$E$6,2,0),0)","v":0},0,0,0,0,0,null,0,null,0,0,0,0,0,null,0,0,null,0,"不涉及",0,0,0,0,0,0,0,"","否","正确","正确"]
[null,null,null,null,null,null,null,null,null,null,null,null,null,null,null,null,0,null,{"$error":"#DIV/0!"},{"$error":"#DIV/0!"},0,{"$error":"#DIV/0!"},{"$error":"#DIV/0!"},0,null,null,null,null,null,null,0,0,0,null,0,{"$f":"IFERROR(VLOOKUP(Z348,有效性!$D$2:$E$6,2,0),0)","v":0},0,0,0,0,0,null,0,null,0,0,0,0,0,null,0,0,null,0,"不涉及",0,0,0,0,0,0,0,"","否","正确","正确"]
[null,null,null,null,null,null,null,null,null,null,null,null,null,null,null,null,0,null,{"$error":"#DIV/0!"},{"$error":"#DIV/0!"},0,{"$error":"#DIV/0!"},{"$error":"#DIV/0!"},0,null,null,null,null,null,null,0,0,0,null,0,{"$f":"IFERROR(VLOOKUP(Z349,有效性!$D$2:$E$6,2,0),0)","v":0},0,0,0,0,0,null,0,null,0,0,0,0,0,null,0,0,null,0,"不涉及",0,0,0,0,0,0,0,"","否","正确","正确"]
[null,null,null,null,null,null,null,null,null,null,null,null,null,null,null,null,0,null,{"$error":"#DIV/0!"},{"$error":"#DIV/0!"},0,{"$error":"#DIV/0!"},{"$error":"#DIV/0!"},0,null,null,null,null,null,null,0,0,0,null,0,{"$f":"IFERROR(VLOOKUP(Z350,有效性!$D$2:$E$6,2,0),0)","v":0},0,0,0,0,0,null,0,null,0,0,0,0,0,null,0,0,null,0,"不涉及",0,0,0,0,0,0,0,"","否","正确","正确"]
[null,null,null,null,null,null,null,null,null,null,null,null,null,null,null,null,0,null,{"$error":"#DIV/0!"},{"$error":"#DIV/0!"},0,{"$error":"#DIV/0!"},{"$error":"#DIV/0!"},0,null,null,null,null,null,null,0,0,0,null,0,{"$f":"IFERROR(VLOOKUP(Z351,有效性!$D$2:$E$6,2,0),0)","v":0},0,0,0,0,0,null,0,null,0,0,0,0,0,null,0,0,null,0,"不涉及",0,0,0,0,0,0,0,"","否","正确","正确"]
[null,null,null,null,null,null,null,null,null,null,null,null,null,null,null,null,0,null,{"$error":"#DIV/0!"},{"$error":"#DIV/0!"},0,{"$error":"#DIV/0!"},{"$error":"#DIV/0!"},0,null,null,null,null,null,null,0,0,0,null,0,{"$f":"IFERROR(VLOOKUP(Z352,有效性!$D$2:$E$6,2,0),0)","v":0},0,0,0,0,0,null,0,null,0,0,0,0,0,null,0,0,null,0,"不涉及",0,0,0,0,0,0,0,"","否","正确","正确"]
[null,null,null,null,null,null,null,null,null,null,null,null,null,null,null,null,0,null,{"$error":"#DIV/0!"},{"$error":"#DIV/0!"},0,{"$error":"#DIV/0!"},{"$error":"#DIV/0!"},0,null,null,null,null,null,null,0,0,0,null,0,{"$f":"IFERROR(VLOOKUP(Z353,有效性!$D$2:$E$6,2,0),0)","v":0},0,0,0,0,0,null,0,null,0,0,0,0,0,null,0,0,null,0,"不涉及",0,0,0,0,0,0,0,"","否","正确","正确"]
[null,null,null,null,null,null,null,null,null,null,null,null,null,null,null,null,0,null,{"$error":"#DIV/0!"},{"$error":"#DIV/0!"},0,{"$error":"#DIV/0!"},{"$error":"#DIV/0!"},0,null,null,null,null,null,null,0,0,0,null,0,{"$f":"IFERROR(VLOOKUP(Z354,有效性!$D$2:$E$6,2,0),0)","v":0},0,0,0,0,0,null,0,null,0,0,0,0,0,null,0,0,null,0,"不涉及",0,0,0,0,0,0,0,"","否","正确","正确"]
[null,null,null,null,null,null,null,null,null,null,null,null,null,null,null,null,0,null,{"$error":"#DIV/0!"},{"$error":"#DIV/0!"},0,{"$error":"#DIV/0!"},{"$error":"#DIV/0!"},0,null,null,null,null,null,null,0,0,0,null,0,{"$f":"IFERROR(VLOOKUP(Z355,有效性!$D$2:$E$6,2,0),0)","v":0},0,0,0,0,0,null,0,null,0,0,0,0,0,null,0,0,null,0,"不涉及",0,0,0,0,0,0,0,"","否","正确","正确"]
[null,null,null,null,null,null,null,null,null,null,null,null,null,null,null,null,0,null,{"$error":"#DIV/0!"},{"$error":"#DIV/0!"},0,{"$error":"#DIV/0!"},{"$error":"#DIV/0!"},0,null,null,null,null,null,null,0,0,0,null,0,{"$f":"IFERROR(VLOOKUP(Z356,有效性!$D$2:$E$6,2,0),0)","v":0},0,0,0,0,0,null,0,null,0,0,0,0,0,null,0,0,null,0,"不涉及",0,0,0,0,0,0,0,"","否","正确","正确"]
[null,null,null,null,null,null,null,null,null,null,null,null,null,null,null,null,0,null,{"$error":"#DIV/0!"},{"$error":"#DIV/0!"},0,{"$error":"#DIV/0!"},{"$error":"#DIV/0!"},0,null,null,null,null,null,null,0,0,0,null,0,{"$f":"IFERROR(VLOOKUP(Z357,有效性!$D$2:$E$6,2,0),0)","v":0},0,0,0,0,0,null,0,null,0,0,0,0,0,null,0,0,null,0,"不涉及",0,0,0,0,0,0,0,"","否","正确","正确"]
[null,null,null,null,null,null,null,null,null,null,null,null,null,null,null,null,0,null,{"$error":"#DIV/0!"},{"$error":"#DIV/0!"},0,{"$error":"#DIV/0!"},{"$error":"#DIV/0!"},0,null,null,null,null,null,null,0,0,0,null,0,{"$f":"IFERROR(VLOOKUP(Z358,有效性!$D$2:$E$6,2,0),0)","v":0},0,0,0,0,0,null,0,null,0,0,0,0,0,null,0,0,null,0,"不涉及",0,0,0,0,0,0,0,"","否","正确","正确"]
[null,null,null,null,null,null,null,null,null,null,null,null,null,null,null,null,0,null,{"$error":"#DIV/0!"},{"$error":"#DIV/0!"},0,{"$error":"#DIV/0!"},{"$error":"#DIV/0!"},0,null,null,null,null,null,null,0,0,0,null,0,{"$f":"IFERROR(VLOOKUP(Z359,有效性!$D$2:$E$6,2,0),0)","v":0},0,0,0,0,0,null,0,null,0,0,0,0,0,null,0,0,null,0,"不涉及",0,0,0,0,0,0,0,"","否","正确","正确"]
[null,null,null,null,null,null,null,null,null,null,null,null,null,null,null,null,0,null,{"$error":"#DIV/0!"},{"$error":"#DIV/0!"},0,{"$error":"#DIV/0!"},{"$error":"#DIV/0!"},0,null,null,null,null,null,null,0,0,0,null,0,{"$f":"IFERROR(VLOOKUP(Z360,有效性!$D$2:$E$6,2,0),0)","v":0},0,0,0,0,0,null,0,null,0,0,0,0,0,null,0,0,null,0,"不涉及",0,0,0,0,0,0,0,"","否","正确","正确"]
[null,null,null,null,null,null,null,null,null,null,null,null,null,null,null,null,0,null,{"$error":"#DIV/0!"},{"$error":"#DIV/0!"},0,{"$error":"#DIV/0!"},{"$error":"#DIV/0!"},0,null,null,null,null,null,null,0,0,0,null,0,{"$f":"IFERROR(VLOOKUP(Z361,有效性!$D$2:$E$6,2,0),0)","v":0},0,0,0,0,0,null,0,null,0,0,0,0,0,null,0,0,null,0,"不涉及",0,0,0,0,0,0,0,"","否","正确","正确"]
[null,null,null,null,null,null,null,null,null,null,null,null,null,null,null,null,0,null,{"$error":"#DIV/0!"},{"$error":"#DIV/0!"},0,{"$error":"#DIV/0!"},{"$error":"#DIV/0!"},0,null,null,null,null,null,null,0,0,0,null,0,{"$f":"IFERROR(VLOOKUP(Z362,有效性!$D$2:$E$6,2,0),0)","v":0},0,0,0,0,0,null,0,null,0,0,0,0,0,null,0,0,null,0,"不涉及",0,0,0,0,0,0,0,"","否","正确","正确"]
[null,null,null,null,null,null,null,null,null,null,null,null,null,null,null,null,0,null,{"$error":"#DIV/0!"},{"$error":"#DIV/0!"},0,{"$error":"#DIV/0!"},{"$error":"#DIV/0!"},0,null,null,null,null,null,null,0,0,0,null,0,{"$f":"IFERROR(VLOOKUP(Z363,有效性!$D$2:$E$6,2,0),0)","v":0},0,0,0,0,0,null,0,null,0,0,0,0,0,null,0,0,null,0,"不涉及",0,0,0,0,0,0,0,"","否","正确","正确"]
[null,null,null,null,null,null,null,null,null,null,null,null,null,null,null,null,0,null,{"$error":"#DIV/0!"},{"$error":"#DIV/0!"},0,{"$error":"#DIV/0!"},{"$error":"#DIV/0!"},0,null,null,null,null,null,null,0,0,0,null,0,{"$f":"IFERROR(VLOOKUP(Z364,有效性!$D$2:$E$6,2,0),0)","v":0},0,0,0,0,0,null,0,null,0,0,0,0,0,null,0,0,null,0,"不涉及",0,0,0,0,0,0,0,"","否","正确","正确"]
[null,null,null,null,null,null,null,null,null,null,null,null,null,null,null,null,0,null,{"$error":"#DIV/0!"},{"$error":"#DIV/0!"},0,{"$error":"#DIV/0!"},{"$error":"#DIV/0!"},0,null,null,null,null,null,null,0,0,0,null,0,{"$f":"IFERROR(VLOOKUP(Z365,有效性!$D$2:$E$6,2,0),0)","v":0},0,0,0,0,0,null,0,null,0,0,0,0,0,null,0,0,null,0,"不涉及",0,0,0,0,0,0,0,"","否","正确","正确"]
[null,null,null,null,null,null,null,null,null,null,null,null,null,null,null,null,0,null,{"$error":"#DIV/0!"},{"$error":"#DIV/0!"},0,{"$error":"#DIV/0!"},{"$error":"#DIV/0!"},0,null,null,null,null,null,null,0,0,0,null,0,{"$f":"IFERROR(VLOOKUP(Z366,有效性!$D$2:$E$6,2,0),0)","v":0},0,0,0,0,0,null,0,null,0,0,0,0,0,null,0,0,null,0,"不涉及",0,0,0,0,0,0,0,"","否","正确","正确"]
[null,null,null,null,null,null,null,null,null,null,null,null,null,null,null,null,0,null,{"$error":"#DIV/0!"},{"$error":"#DIV/0!"},0,{"$error":"#DIV/0!"},{"$error":"#DIV/0!"},0,null,null,null,null,null,null,0,0,0,null,0,{"$f":"IFERROR(VLOOKUP(Z367,有效性!$D$2:$E$6,2,0),0)","v":0},0,0,0,0,0,null,0,null,0,0,0,0,0,null,0,0,null,0,"不涉及",0,0,0,0,0,0,0,"","否","正确","正确"]
[null,null,null,null,null,null,null,null,null,null,null,null,null,null,null,null,0,null,{"$error":"#DIV/0!"},{"$error":"#DIV/0!"},0,{"$error":"#DIV/0!"},{"$error":"#DIV/0!"},0,null,null,null,null,null,null,0,0,0,null,0,{"$f":"IFERROR(VLOOKUP(Z368,有效性!$D$2:$E$6,2,0),0)","v":0},0,0,0,0,0,null,0,null,0,0,0,0,0,null,0,0,null,0,"不涉及",0,0,0,0,0,0,0,"","否","正确","正确"]
[null,null,null,null,null,null,null,null,null,null,null,null,null,null,null,null,0,null,{"$error":"#DIV/0!"},{"$error":"#DIV/0!"},0,{"$error":"#DIV/0!"},{"$error":"#DIV/0!"},0,null,null,null,null,null,null,0,0,0,null,0,{"$f":"IFERROR(VLOOKUP(Z369,有效性!$D$2:$E$6,2,0),0)","v":0},0,0,0,0,0,null,0,null,0,0,0,0,0,null,0,0,null,0,"不涉及",0,0,0,0,0,0,0,"","否","正确","正确"]
[null,null,null,null,null,null,null,null,null,null,null,null,null,null,null,null,0,null,{"$error":"#DIV/0!"},{"$error":"#DIV/0!"},0,{"$error":"#DIV/0!"},{"$error":"#DIV/0!"},0,null,null,null,null,null,null,0,0,0,null,0,{"$f":"IFERROR(VLOOKUP(Z370,有效性!$D$2:$E$6,2,0),0)","v":0},0,0,0,0,0,null,0,null,0,0,0,0,0,null,0,0,null,0,"不涉及",0,0,0,0,0,0,0,"","否","正确","正确"]
[null,null,null,null,null,null,null,null,null,null,null,null,null,null,null,null,0,null,{"$error":"#DIV/0!"},{"$error":"#DIV/0!"},0,{"$error":"#DIV/0!"},{"$error":"#DIV/0!"},0,null,null,null,null,null,null,0,0,0,null,0,{"$f":"IFERROR(VLOOKUP(Z371,有效性!$D$2:$E$6,2,0),0)","v":0},0,0,0,0,0,null,0,null,0,0,0,0,0,null,0,0,null,0,"不涉及",0,0,0,0,0,0,0,"","否","正确","正确"]
[null,null,null,null,null,null,null,null,null,null,null,null,null,null,null,null,0,null,{"$error":"#DIV/0!"},{"$error":"#DIV/0!"},0,{"$error":"#DIV/0!"},{"$error":"#DIV/0!"},0,null,null,null,null,null,null,0,0,0,null,0,{"$f":"IFERROR(VLOOKUP(Z372,有效性!$D$2:$E$6,2,0),0)","v":0},0,0,0,0,0,null,0,null,0,0,0,0,0,null,0,0,null,0,"不涉及",0,0,0,0,0,0,0,"","否","正确","正确"]
[null,null,null,null,null,null,null,null,null,null,null,null,null,null,null,null,0,null,{"$error":"#DIV/0!"},{"$error":"#DIV/0!"},0,{"$error":"#DIV/0!"},{"$error":"#DIV/0!"},0,null,null,null,null,null,null,0,0,0,null,0,{"$f":"IFERROR(VLOOKUP(Z373,有效性!$D$2:$E$6,2,0),0)","v":0},0,0,0,0,0,null,0,null,0,0,0,0,0,null,0,0,null,0,"不涉及",0,0,0,0,0,0,0,"","否","正确","正确"]
[null,null,null,null,null,null,null,null,null,null,null,null,null,null,null,null,0,null,{"$error":"#DIV/0!"},{"$error":"#DIV/0!"},0,{"$error":"#DIV/0!"},{"$error":"#DIV/0!"},0,null,null,null,null,null,null,0,0,0,null,0,{"$f":"IFERROR(VLOOKUP(Z374,有效性!$D$2:$E$6,2,0),0)","v":0},0,0,0,0,0,null,0,null,0,0,0,0,0,null,0,0,null,0,"不涉及",0,0,0,0,0,0,0,"","否","正确","正确"]
[null,null,null,null,null,null,null,null,null,null,null,null,null,null,null,null,0,null,{"$error":"#DIV/0!"},{"$error":"#DIV/0!"},0,{"$error":"#DIV/0!"},{"$error":"#DIV/0!"},0,null,null,null,null,null,null,0,0,0,null,0,{"$f":"IFERROR(VLOOKUP(Z375,有效性!$D$2:$E$6,2,0),0)","v":0},0,0,0,0,0,null,0,null,0,0,0,0,0,null,0,0,null,0,"不涉及",0,0,0,0,0,0,0,"","否","正确","正确"]
[null,null,null,null,null,null,null,null,null,null,null,null,null,null,null,null,0,null,{"$error":"#DIV/0!"},{"$error":"#DIV/0!"},0,{"$error":"#DIV/0!"},{"$error":"#DIV/0!"},0,null,null,null,null,null,null,0,0,0,null,0,{"$f":"IFERROR(VLOOKUP(Z376,有效性!$D$2:$E$6,2,0),0)","v":0},0,0,0,0,0,null,0,null,0,0,0,0,0,null,0,0,null,0,"不涉及",0,0,0,0,0,0,0,"","否","正确","正确"]
[null,null,null,null,null,null,null,null,null,null,null,null,null,null,null,null,0,null,{"$error":"#DIV/0!"},{"$error":"#DIV/0!"},0,{"$error":"#DIV/0!"},{"$error":"#DIV/0!"},0,null,null,null,null,null,null,0,0,0,null,0,{"$f":"IFERROR(VLOOKUP(Z377,有效性!$D$2:$E$6,2,0),0)","v":0},0,0,0,0,0,null,0,null,0,0,0,0,0,null,0,0,null,0,"不涉及",0,0,0,0,0,0,0,"","否","正确","正确"]
[null,null,null,null,null,null,null,null,null,null,null,null,null,null,null,null,0,null,{"$error":"#DIV/0!"},{"$error":"#DIV/0!"},0,{"$error":"#DIV/0!"},{"$error":"#DIV/0!"},0,null,null,null,null,null,null,0,0,0,null,0,{"$f":"IFERROR(VLOOKUP(Z378,有效性!$D$2:$E$6,2,0),0)","v":0},0,0,0,0,0,null,0,null,0,0,0,0,0,null,0,0,null,0,"不涉及",0,0,0,0,0,0,0,"","否","正确","正确"]
[null,null,null,null,null,null,null,null,null,null,null,null,null,null,null,null,0,null,{"$error":"#DIV/0!"},{"$error":"#DIV/0!"},0,{"$error":"#DIV/0!"},{"$error":"#DIV/0!"},0,null,null,null,null,null,null,0,0,0,null,0,{"$f":"IFERROR(VLOOKUP(Z379,有效性!$D$2:$E$6,2,0),0)","v":0},0,0,0,0,0,null,0,null,0,0,0,0,0,null,0,0,null,0,"不涉及",0,0,0,0,0,0,0,"","否","正确","正确"]
[null,null,null,null,null,null,null,null,null,null,null,null,null,null,null,null,0,null,{"$error":"#DIV/0!"},{"$error":"#DIV/0!"},0,{"$error":"#DIV/0!"},{"$error":"#DIV/0!"},0,null,null,null,null,null,null,0,0,0,null,0,{"$f":"IFERROR(VLOOKUP(Z380,有效性!$D$2:$E$6,2,0),0)","v":0},0,0,0,0,0,null,0,null,0,0,0,0,0,null,0,0,null,0,"不涉及",0,0,0,0,0,0,0,"","否","正确","正确"]
[null,null,null,null,null,null,null,null,null,null,null,null,null,null,null,null,0,null,{"$error":"#DIV/0!"},{"$error":"#DIV/0!"},0,{"$error":"#DIV/0!"},{"$error":"#DIV/0!"},0,null,null,null,null,null,null,0,0,0,null,0,{"$f":"IFERROR(VLOOKUP(Z381,有效性!$D$2:$E$6,2,0),0)","v":0},0,0,0,0,0,null,0,null,0,0,0,0,0,null,0,0,null,0,"不涉及",0,0,0,0,0,0,0,"","否","正确","正确"]
[null,null,null,null,null,null,null,null,null,null,null,null,null,null,null,null,0,null,{"$error":"#DIV/0!"},{"$error":"#DIV/0!"},0,{"$error":"#DIV/0!"},{"$error":"#DIV/0!"},0,null,null,null,null,null,null,0,0,0,null,0,{"$f":"IFERROR(VLOOKUP(Z382,有效性!$D$2:$E$6,2,0),0)","v":0},0,0,0,0,0,null,0,null,0,0,0,0,0,null,0,0,null,0,"不涉及",0,0,0,0,0,0,0,"","否","正确","正确"]
[null,null,null,null,null,null,null,null,null,null,null,null,null,null,null,null,0,null,{"$error":"#DIV/0!"},{"$error":"#DIV/0!"},0,{"$error":"#DIV/0!"},{"$error":"#DIV/0!"},0,null,null,null,null,null,null,0,0,0,null,0,{"$f":"IFERROR(VLOOKUP(Z383,有效性!$D$2:$E$6,2,0),0)","v":0},0,0,0,0,0,null,0,null,0,0,0,0,0,null,0,0,null,0,"不涉及",0,0,0,0,0,0,0,"","否","正确","正确"]
[null,null,null,null,null,null,null,null,null,null,null,null,null,null,null,null,0,null,{"$error":"#DIV/0!"},{"$error":"#DIV/0!"},0,{"$error":"#DIV/0!"},{"$error":"#DIV/0!"},0,null,null,null,null,null,null,0,0,0,null,0,{"$f":"IFERROR(VLOOKUP(Z384,有效性!$D$2:$E$6,2,0),0)","v":0},0,0,0,0,0,null,0,null,0,0,0,0,0,null,0,0,null,0,"不涉及",0,0,0,0,0,0,0,"","否","正确","正确"]
[null,null,null,null,null,null,null,null,null,null,null,null,null,null,null,null,0,null,{"$error":"#DIV/0!"},{"$error":"#DIV/0!"},0,{"$error":"#DIV/0!"},{"$error":"#DIV/0!"},0,null,null,null,null,null,null,0,0,0,null,0,{"$f":"IFERROR(VLOOKUP(Z385,有效性!$D$2:$E$6,2,0),0)","v":0},0,0,0,0,0,null,0,null,0,0,0,0,0,null,0,0,null,0,"不涉及",0,0,0,0,0,0,0,"","否","正确","正确"]
[null,null,null,null,null,null,null,null,null,null,null,null,null,null,null,null,0,null,{"$error":"#DIV/0!"},{"$error":"#DIV/0!"},0,{"$error":"#DIV/0!"},{"$error":"#DIV/0!"},0,null,null,null,null,null,null,0,0,0,null,0,{"$f":"IFERROR(VLOOKUP(Z386,有效性!$D$2:$E$6,2,0),0)","v":0},0,0,0,0,0,null,0,null,0,0,0,0,0,null,0,0,null,0,"不涉及",0,0,0,0,0,0,0,"","否","正确","正确"]
[null,null,null,null,null,null,null,null,null,null,null,null,null,null,null,null,0,null,{"$error":"#DIV/0!"},{"$error":"#DIV/0!"},0,{"$error":"#DIV/0!"},{"$error":"#DIV/0!"},0,null,null,null,null,null,null,0,0,0,null,0,{"$f":"IFERROR(VLOOKUP(Z387,有效性!$D$2:$E$6,2,0),0)","v":0},0,0,0,0,0,null,0,null,0,0,0,0,0,null,0,0,null,0,"不涉及",0,0,0,0,0,0,0,"","否","正确","正确"]
[null,null,null,null,null,null,null,null,null,null,null,null,null,null,null,null,0,null,{"$f":"(1-I388)/(K388*12)","v":{"$error":"#DIV/0!"}},{"$f":"ROUND(G388*S388,2)","v":{"$error":"#DIV/0!"}},{"$f":"IF($T$2<YEAR(J388),0,IF($T$2=YEAR(J388),MAX($V$2-MONTH(J388),0),IF($T$2>YEAR(J388)+K388,0,IF($T$2=YEAR(J388)+K388,MIN(MONTH($J388),$V$2),$V$2))))","v":0},{"$f":"T388*U388","v":{"$error":"#DIV/0!"}},{"$f":"IF(ABS(Q388-V388)<=$X$2,0,Q388-V388)","v":{"$error":"#DIV/0!"}},{"$f":"IFERROR(IF((W388/V388)<$Y$2,0,W388/V388),0)","v":0},null,null,null,null,null,null,{"$f":"G388-AD388","v":0},{"$f":"IF(ISNUMBER(FIND(\"计税基础差异\",AA388)),IF(YEAR(J388)+K388=$T$2,Q388-((G388-AD388)*(1-I388)-AH388),AD388*S388*U388),0)","v":0},{"$f":"IF(ISNUMBER(FIND(\"计税基础差异\",AA388)),IF(AB388=\"是\",Q388-AF388,0),0)","v":0},null,{"$f":"ROUND(AH388+AG388,2)","v":0},{"$f":"IFERROR(VLOOKUP(Z388,有效性!$D$2:$E$6,2,0),0)","v":0},{"$f":"IFERROR((1-I388)/(AJ388*12),0)","v":0},{"$f":"G388*AK388","v":0},{"$f":"IF($T$2<YEAR(J388),0,IF($T$2=YEAR(J388),MAX($V$2-MONTH(J388),0),IF($T$2>YEAR(J388)+AJ388,0,IF($T$2=YEAR(J388)+AJ388,MIN(MONTH($J388),$V$2),$V$2))))","v":0},{"$f":"IF(ISNUMBER(FIND(\"折旧年限差异\",AA388)),IF(YEAR(J388)+AJ388=$T$2,AP388,AL388*AM388),0)","v":0},{"$f":"ROUND(IF(ISNUMBER(FIND(\"折旧年限差异\",AA388)),IF(AB388=\"是\",Q388-AN388,0),0),2)","v":0},null,{"$f":"ROUND(AO388+AP388,2)","v":0},null,{"$f":"IF(ISNUMBER(FIND(\"缩短年限60%\",AA388)),IFERROR((1-I388)/(AR388*12),0),0)","v":0},{"$f":"G388*AS388","v":0},{"$f":"IF($T$2<YEAR(J388),0,IF($T$2=YEAR(J388),MAX($V$2-MONTH(J388),0),IF($T$2>YEAR(J388)+AR388,0,IF($T$2=YEAR(J388)+AR388,MIN(MONTH($J388),$V$2),$V$2))))","v":0},{"$f":"ROUND(IF(ISNUMBER(FIND(\"加速折旧\",AA388)),IF(OR(ISNUMBER(FIND(\"500万元以下一次性扣除\",AA388)),ISNUMBER(FIND(\"5000元以下一次性扣除\",AA388))),IF(OR(AND(YEAR(J388)=$T$2,MONTH(J388)<>12),AND(YEAR(J388)=$T$2-1,MONTH(J388)=12)),G388,0),IF(ISNUMBER(FIND(\"缩短年限60%\",AA388)),IF(YEAR(J388)+AR388=$T$2,G388*(1-I388)-(O388-AX388),AT388*AU388),0)),0),2)","v":0},{"$f":"ROUND(IF(ISNUMBER(FIND(\"加速折旧\",AA388)),IF(AB388=\"是\",Q388-AV388,0),0),2)","v":0},null,{"$f":"ROUND(AX388+AW388,20)","v":0},{"$f":"IFERROR(IF(ISNUMBER(FIND(\"不得扣除折旧资产\",AA388)),IF(AB388=\"是\",Q388,0),0),0)","v":0},null,{"$f":"BA388+AZ388","v":0},"不涉及",{"$f":"IF(OR(AC388=\"否\",BC388=\"不涉及\"),0,Q388-AG388-AO388-AW388)","v":0},{"$f":"IF(BC388=\"不涉及\",0,IF(BC388=\"是\",BD388-Q388,BD388))","v":0},{"$f":"AH388+AP388+AX388+BA388","v":0},{"$f":"MAX(0,BJ388)","v":0},{"$f":"MIN(0,BJ388)","v":0},{"$f":"AI388+AQ388+AY388+BB388","v":0},{"$f":"AG388+AO388+AW388+AZ388","v":0},{"$f":"_xlfn.IFS(BJ388>0,\"本年调增\",BJ388<0,\"本年调减\",BJ388=0,\"\")","v":""},"否",{"$f":"IF(AND(BL388=\"是\",BI388<>0),\"请检查\",\"正确\")","v":"正确"},{"$f":"IF(Q388-BJ388<0,\"错误\",\"正确\")","v":"正确"}]
[null,null,null,null,null,null,null,null,null,null,null,null,null,null,null,null,{"$f":"P389-O389","v":0},null,{"$error":"#DIV/0!"},{"$error":"#DIV/0!"},0,{"$error":"#DIV/0!"},{"$error":"#DIV/0!"},0,null,null,null,null,null,null,0,0,0,null,0,{"$f":"IFERROR(VLOOKUP(Z389,有效性!$D$2:$E$6,2,0),0)","v":0},0,0,0,0,0,null,0,null,0,0,0,0,0,null,0,0,null,0,"不涉及",0,0,0,0,0,0,0,"","否","正确","正确"]
[null,null,null,null,null,null,null,null,null,null,null,null,null,null,null,null,0,null,{"$error":"#DIV/0!"},{"$error":"#DIV/0!"},0,{"$error":"#DIV/0!"},{"$error":"#DIV/0!"},0,null,null,null,null,null,null,0,0,0,null,0,{"$f":"IFERROR(VLOOKUP(Z390,有效性!$D$2:$E$6,2,0),0)","v":0},0,0,0,0,0,null,0,null,0,0,0,0,0,null,0,0,null,0,"不涉及",0,0,0,0,0,0,0,"","否","正确","正确"]
[null,null,null,null,null,null,null,null,null,null,null,null,null,null,null,null,0,null,{"$error":"#DIV/0!"},{"$error":"#DIV/0!"},0,{"$error":"#DIV/0!"},{"$error":"#DIV/0!"},0,null,null,null,null,null,null,0,0,0,null,0,{"$f":"IFERROR(VLOOKUP(Z391,有效性!$D$2:$E$6,2,0),0)","v":0},0,0,0,0,0,null,0,null,0,0,0,0,0,null,0,0,null,0,"不涉及",0,0,0,0,0,0,0,"","否","正确","正确"]
[null,null,null,null,null,null,null,null,null,null,null,null,null,null,null,null,0,null,{"$error":"#DIV/0!"},{"$error":"#DIV/0!"},0,{"$error":"#DIV/0!"},{"$error":"#DIV/0!"},0,null,null,null,null,null,null,0,0,0,null,0,{"$f":"IFERROR(VLOOKUP(Z392,有效性!$D$2:$E$6,2,0),0)","v":0},0,0,0,0,0,null,0,null,0,0,0,0,0,null,0,0,null,0,"不涉及",0,0,0,0,0,0,0,"","否","正确","正确"]
[null,null,null,null,null,null,null,null,null,null,null,null,null,null,null,null,0,null,{"$error":"#DIV/0!"},{"$error":"#DIV/0!"},0,{"$error":"#DIV/0!"},{"$error":"#DIV/0!"},0,null,null,null,null,null,null,0,0,0,null,0,{"$f":"IFERROR(VLOOKUP(Z393,有效性!$D$2:$E$6,2,0),0)","v":0},0,0,0,0,0,null,0,null,0,0,0,0,0,null,0,0,null,0,"不涉及",0,0,0,0,0,0,0,"","否","正确","正确"]
[null,null,null,null,null,null,null,null,null,null,null,null,null,null,null,null,0,null,{"$error":"#DIV/0!"},{"$error":"#DIV/0!"},0,{"$error":"#DIV/0!"},{"$error":"#DIV/0!"},0,null,null,null,null,null,null,0,0,0,null,0,{"$f":"IFERROR(VLOOKUP(Z394,有效性!$D$2:$E$6,2,0),0)","v":0},0,0,0,0,0,null,0,null,0,0,0,0,0,null,0,0,null,0,"不涉及",0,0,0,0,0,0,0,"","否","正确","正确"]
[null,null,null,null,null,null,null,null,null,null,null,null,null,null,null,null,0,null,{"$error":"#DIV/0!"},{"$error":"#DIV/0!"},0,{"$error":"#DIV/0!"},{"$error":"#DIV/0!"},0,null,null,null,null,null,null,0,0,0,null,0,{"$f":"IFERROR(VLOOKUP(Z395,有效性!$D$2:$E$6,2,0),0)","v":0},0,0,0,0,0,null,0,null,0,0,0,0,0,null,0,0,null,0,"不涉及",0,0,0,0,0,0,0,"","否","正确","正确"]
[null,null,null,null,null,null,null,null,null,null,null,null,null,null,null,null,0,null,{"$error":"#DIV/0!"},{"$error":"#DIV/0!"},0,{"$error":"#DIV/0!"},{"$error":"#DIV/0!"},0,null,null,null,null,null,null,0,0,0,null,0,{"$f":"IFERROR(VLOOKUP(Z396,有效性!$D$2:$E$6,2,0),0)","v":0},0,0,0,0,0,null,0,null,0,0,0,0,0,null,0,0,null,0,"不涉及",0,0,0,0,0,0,0,"","否","正确","正确"]
[null,null,null,null,null,null,null,null,null,null,null,null,null,null,null,null,0,null,{"$error":"#DIV/0!"},{"$error":"#DIV/0!"},0,{"$error":"#DIV/0!"},{"$error":"#DIV/0!"},0,null,null,null,null,null,null,0,0,0,null,0,{"$f":"IFERROR(VLOOKUP(Z397,有效性!$D$2:$E$6,2,0),0)","v":0},0,0,0,0,0,null,0,null,0,0,0,0,0,null,0,0,null,0,"不涉及",0,0,0,0,0,0,0,"","否","正确","正确"]
[null,null,null,null,null,null,null,null,null,null,null,null,null,null,null,null,0,null,{"$error":"#DIV/0!"},{"$error":"#DIV/0!"},0,{"$error":"#DIV/0!"},{"$error":"#DIV/0!"},0,null,null,null,null,null,null,0,0,0,null,0,{"$f":"IFERROR(VLOOKUP(Z398,有效性!$D$2:$E$6,2,0),0)","v":0},0,0,0,0,0,null,0,null,0,0,0,0,0,null,0,0,null,0,"不涉及",0,0,0,0,0,0,0,"","否","正确","正确"]
[null,null,null,null,null,null,null,null,null,null,null,null,null,null,null,null,0,null,{"$error":"#DIV/0!"},{"$error":"#DIV/0!"},0,{"$error":"#DIV/0!"},{"$error":"#DIV/0!"},0,null,null,null,null,null,null,0,0,0,null,0,{"$f":"IFERROR(VLOOKUP(Z399,有效性!$D$2:$E$6,2,0),0)","v":0},0,0,0,0,0,null,0,null,0,0,0,0,0,null,0,0,null,0,"不涉及",0,0,0,0,0,0,0,"","否","正确","正确"]
[null,null,null,null,null,null,null,null,null,null,null,null,null,null,null,null,0,null,{"$error":"#DIV/0!"},{"$error":"#DIV/0!"},0,{"$error":"#DIV/0!"},{"$error":"#DIV/0!"},0,null,null,null,null,null,null,0,0,0,null,0,{"$f":"IFERROR(VLOOKUP(Z400,有效性!$D$2:$E$6,2,0),0)","v":0},0,0,0,0,0,null,0,null,0,0,0,0,0,null,0,0,null,0,"不涉及",0,0,0,0,0,0,0,"","否","正确","正确"]
[null,null,null,null,null,null,null,null,null,null,null,null,null,null,null,null,0,null,{"$error":"#DIV/0!"},{"$error":"#DIV/0!"},0,{"$error":"#DIV/0!"},{"$error":"#DIV/0!"},0,null,null,null,null,null,null,0,0,0,null,0,{"$f":"IFERROR(VLOOKUP(Z401,有效性!$D$2:$E$6,2,0),0)","v":0},0,0,0,0,0,null,0,null,0,0,0,0,0,null,0,0,null,0,"不涉及",0,0,0,0,0,0,0,"","否","正确","正确"]
[null,null,null,null,null,null,null,null,null,null,null,null,null,null,null,null,0,null,{"$error":"#DIV/0!"},{"$error":"#DIV/0!"},0,{"$error":"#DIV/0!"},{"$error":"#DIV/0!"},0,null,null,null,null,null,null,0,0,0,null,0,{"$f":"IFERROR(VLOOKUP(Z402,有效性!$D$2:$E$6,2,0),0)","v":0},0,0,0,0,0,null,0,null,0,0,0,0,0,null,0,0,null,0,"不涉及",0,0,0,0,0,0,0,"","否","正确","正确"]
[null,null,null,null,null,null,null,null,null,null,null,null,null,null,null,null,0,null,{"$error":"#DIV/0!"},{"$error":"#DIV/0!"},0,{"$error":"#DIV/0!"},{"$error":"#DIV/0!"},0,null,null,null,null,null,null,0,0,0,null,0,{"$f":"IFERROR(VLOOKUP(Z403,有效性!$D$2:$E$6,2,0),0)","v":0},0,0,0,0,0,null,0,null,0,0,0,0,0,null,0,0,null,0,"不涉及",0,0,0,0,0,0,0,"","否","正确","正确"]
[null,null,null,null,null,null,null,null,null,null,null,null,null,null,null,null,0,null,{"$error":"#DIV/0!"},{"$error":"#DIV/0!"},0,{"$error":"#DIV/0!"},{"$error":"#DIV/0!"},0,null,null,null,null,null,null,0,0,0,null,0,{"$f":"IFERROR(VLOOKUP(Z404,有效性!$D$2:$E$6,2,0),0)","v":0},0,0,0,0,0,null,0,null,0,0,0,0,0,null,0,0,null,0,"不涉及",0,0,0,0,0,0,0,"","否","正确","正确"]
[null,null,null,null,null,null,null,null,null,null,null,null,null,null,null,null,0,null,{"$error":"#DIV/0!"},{"$error":"#DIV/0!"},0,{"$error":"#DIV/0!"},{"$error":"#DIV/0!"},0,null,null,null,null,null,null,0,0,0,null,0,{"$f":"IFERROR(VLOOKUP(Z405,有效性!$D$2:$E$6,2,0),0)","v":0},0,0,0,0,0,null,0,null,0,0,0,0,0,null,0,0,null,0,"不涉及",0,0,0,0,0,0,0,"","否","正确","正确"]
[null,null,null,null,null,null,null,null,null,null,null,null,null,null,null,null,0,null,{"$error":"#DIV/0!"},{"$error":"#DIV/0!"},0,{"$error":"#DIV/0!"},{"$error":"#DIV/0!"},0,null,null,null,null,null,null,0,0,0,null,0,{"$f":"IFERROR(VLOOKUP(Z406,有效性!$D$2:$E$6,2,0),0)","v":0},0,0,0,0,0,null,0,null,0,0,0,0,0,null,0,0,null,0,"不涉及",0,0,0,0,0,0,0,"","否","正确","正确"]
[null,null,null,null,null,null,null,null,null,null,null,null,null,null,null,null,0,null,{"$error":"#DIV/0!"},{"$error":"#DIV/0!"},0,{"$error":"#DIV/0!"},{"$error":"#DIV/0!"},0,null,null,null,null,null,null,0,0,0,null,0,{"$f":"IFERROR(VLOOKUP(Z407,有效性!$D$2:$E$6,2,0),0)","v":0},0,0,0,0,0,null,0,null,0,0,0,0,0,null,0,0,null,0,"不涉及",0,0,0,0,0,0,0,"","否","正确","正确"]
[null,null,null,null,null,null,null,null,null,null,null,null,null,null,null,null,0,null,{"$error":"#DIV/0!"},{"$error":"#DIV/0!"},0,{"$error":"#DIV/0!"},{"$error":"#DIV/0!"},0,null,null,null,null,null,null,0,0,0,null,0,{"$f":"IFERROR(VLOOKUP(Z408,有效性!$D$2:$E$6,2,0),0)","v":0},0,0,0,0,0,null,0,null,0,0,0,0,0,null,0,0,null,0,"不涉及",0,0,0,0,0,0,0,"","否","正确","正确"]
[null,null,null,null,null,null,null,null,null,null,null,null,null,null,null,null,0,null,{"$error":"#DIV/0!"},{"$error":"#DIV/0!"},0,{"$error":"#DIV/0!"},{"$error":"#DIV/0!"},0,null,null,null,null,null,null,0,0,0,null,0,{"$f":"IFERROR(VLOOKUP(Z409,有效性!$D$2:$E$6,2,0),0)","v":0},0,0,0,0,0,null,0,null,0,0,0,0,0,null,0,0,null,0,"不涉及",0,0,0,0,0,0,0,"","否","正确","正确"]
[null,null,null,null,null,null,null,null,null,null,null,null,null,null,null,null,0,null,{"$error":"#DIV/0!"},{"$error":"#DIV/0!"},0,{"$error":"#DIV/0!"},{"$error":"#DIV/0!"},0,null,null,null,null,null,null,0,0,0,null,0,{"$f":"IFERROR(VLOOKUP(Z410,有效性!$D$2:$E$6,2,0),0)","v":0},0,0,0,0,0,null,0,null,0,0,0,0,0,null,0,0,null,0,"不涉及",0,0,0,0,0,0,0,"","否","正确","正确"]
[null,null,null,null,null,null,null,null,null,null,null,null,null,null,null,null,0,null,{"$error":"#DIV/0!"},{"$error":"#DIV/0!"},0,{"$error":"#DIV/0!"},{"$error":"#DIV/0!"},0,null,null,null,null,null,null,0,0,0,null,0,{"$f":"IFERROR(VLOOKUP(Z411,有效性!$D$2:$E$6,2,0),0)","v":0},0,0,0,0,0,null,0,null,0,0,0,0,0,null,0,0,null,0,"不涉及",0,0,0,0,0,0,0,"","否","正确","正确"]
[null,null,null,null,null,null,null,null,null,null,null,null,null,null,null,null,0,null,{"$error":"#DIV/0!"},{"$error":"#DIV/0!"},0,{"$error":"#DIV/0!"},{"$error":"#DIV/0!"},0,null,null,null,null,null,null,0,0,0,null,0,{"$f":"IFERROR(VLOOKUP(Z412,有效性!$D$2:$E$6,2,0),0)","v":0},0,0,0,0,0,null,0,null,0,0,0,0,0,null,0,0,null,0,"不涉及",0,0,0,0,0,0,0,"","否","正确","正确"]
[null,null,null,null,null,null,null,null,null,null,null,null,null,null,null,null,0,null,{"$error":"#DIV/0!"},{"$error":"#DIV/0!"},0,{"$error":"#DIV/0!"},{"$error":"#DIV/0!"},0,null,null,null,null,null,null,0,0,0,null,0,{"$f":"IFERROR(VLOOKUP(Z413,有效性!$D$2:$E$6,2,0),0)","v":0},0,0,0,0,0,null,0,null,0,0,0,0,0,null,0,0,null,0,"不涉及",0,0,0,0,0,0,0,"","否","正确","正确"]
[null,null,null,null,null,null,null,null,null,null,null,null,null,null,null,null,0,null,{"$error":"#DIV/0!"},{"$error":"#DIV/0!"},0,{"$error":"#DIV/0!"},{"$error":"#DIV/0!"},0,null,null,null,null,null,null,0,0,0,null,0,{"$f":"IFERROR(VLOOKUP(Z414,有效性!$D$2:$E$6,2,0),0)","v":0},0,0,0,0,0,null,0,null,0,0,0,0,0,null,0,0,null,0,"不涉及",0,0,0,0,0,0,0,"","否","正确","正确"]
[null,null,null,null,null,null,null,null,null,null,null,null,null,null,null,null,0,null,{"$error":"#DIV/0!"},{"$error":"#DIV/0!"},0,{"$error":"#DIV/0!"},{"$error":"#DIV/0!"},0,null,null,null,null,null,null,0,0,0,null,0,{"$f":"IFERROR(VLOOKUP(Z415,有效性!$D$2:$E$6,2,0),0)","v":0},0,0,0,0,0,null,0,null,0,0,0,0,0,null,0,0,null,0,"不涉及",0,0,0,0,0,0,0,"","否","正确","正确"]
[null,null,null,null,null,null,null,null,null,null,null,null,null,null,null,null,0,null,{"$error":"#DIV/0!"},{"$error":"#DIV/0!"},0,{"$error":"#DIV/0!"},{"$error":"#DIV/0!"},0,null,null,null,null,null,null,0,0,0,null,0,{"$f":"IFERROR(VLOOKUP(Z416,有效性!$D$2:$E$6,2,0),0)","v":0},0,0,0,0,0,null,0,null,0,0,0,0,0,null,0,0,null,0,"不涉及",0,0,0,0,0,0,0,"","否","正确","正确"]
[null,null,null,null,null,null,null,null,null,null,null,null,null,null,null,null,0,null,{"$error":"#DIV/0!"},{"$error":"#DIV/0!"},0,{"$error":"#DIV/0!"},{"$error":"#DIV/0!"},0,null,null,null,null,null,null,0,0,0,null,0,{"$f":"IFERROR(VLOOKUP(Z417,有效性!$D$2:$E$6,2,0),0)","v":0},0,0,0,0,0,null,0,null,0,0,0,0,0,null,0,0,null,0,"不涉及",0,0,0,0,0,0,0,"","否","正确","正确"]
[null,null,null,null,null,null,null,null,null,null,null,null,null,null,null,null,0,null,{"$error":"#DIV/0!"},{"$error":"#DIV/0!"},0,{"$error":"#DIV/0!"},{"$error":"#DIV/0!"},0,null,null,null,null,null,null,0,0,0,null,0,{"$f":"IFERROR(VLOOKUP(Z418,有效性!$D$2:$E$6,2,0),0)","v":0},0,0,0,0,0,null,0,null,0,0,0,0,0,null,0,0,null,0,"否",0,0,0,0,0,0,0,"","否","正确","正确"]
[null,null,null,null,null,null,null,null,null,null,null,null,null,null,null,null,0,null,{"$error":"#DIV/0!"},{"$error":"#DIV/0!"},0,{"$error":"#DIV/0!"},{"$error":"#DIV/0!"},0,null,null,null,null,null,null,0,0,0,null,0,{"$f":"IFERROR(VLOOKUP(Z419,有效性!$D$2:$E$6,2,0),0)","v":0},0,0,0,0,0,null,0,null,0,0,0,0,0,null,0,0,null,0,"不涉及",0,0,0,0,0,0,0,"","否","正确","正确"]
[null,null,null,null,null,null,null,null,null,null,null,null,null,null,null,null,0,null,{"$error":"#DIV/0!"},{"$error":"#DIV/0!"},0,{"$error":"#DIV/0!"},{"$error":"#DIV/0!"},0,null,null,null,null,null,null,0,0,0,null,0,{"$f":"IFERROR(VLOOKUP(Z420,有效性!$D$2:$E$6,2,0),0)","v":0},0,0,0,0,0,null,0,null,0,0,0,0,0,null,0,0,null,0,"不涉及",0,0,0,0,0,0,0,"","否","正确","正确"]
[null,null,null,null,null,null,null,null,null,null,null,null,null,null,null,null,0,null,{"$error":"#DIV/0!"},{"$error":"#DIV/0!"},0,{"$error":"#DIV/0!"},{"$error":"#DIV/0!"},0,null,null,null,null,null,null,0,0,0,null,0,{"$f":"IFERROR(VLOOKUP(Z421,有效性!$D$2:$E$6,2,0),0)","v":0},0,0,0,0,0,null,0,null,0,0,0,0,0,null,0,0,null,0,"不涉及",0,0,0,0,0,0,0,"","否","正确","正确"]
[null,null,null,null,null,null,null,null,null,null,null,null,null,null,null,null,0,null,{"$error":"#DIV/0!"},{"$error":"#DIV/0!"},0,{"$error":"#DIV/0!"},{"$error":"#DIV/0!"},0,null,null,null,null,null,null,0,0,0,null,0,{"$f":"IFERROR(VLOOKUP(Z422,有效性!$D$2:$E$6,2,0),0)","v":0},0,0,0,0,0,null,0,null,0,0,0,0,0,null,0,0,null,0,"不涉及",0,0,0,0,0,0,0,"","否","正确","正确"]
[null,null,null,null,null,null,null,null,null,null,null,null,null,null,null,null,0,null,{"$error":"#DIV/0!"},{"$error":"#DIV/0!"},0,{"$error":"#DIV/0!"},{"$error":"#DIV/0!"},0,null,null,null,null,null,null,0,0,0,null,0,{"$f":"IFERROR(VLOOKUP(Z423,有效性!$D$2:$E$6,2,0),0)","v":0},0,0,0,0,0,null,0,null,0,0,0,0,0,null,0,0,null,0,"不涉及",0,0,0,0,0,0,0,"","否","正确","正确"]
[null,null,null,null,null,null,null,null,null,null,null,null,null,null,null,null,0,null,{"$error":"#DIV/0!"},{"$error":"#DIV/0!"},0,{"$error":"#DIV/0!"},{"$error":"#DIV/0!"},0,null,null,null,null,null,null,0,0,0,null,0,{"$f":"IFERROR(VLOOKUP(Z424,有效性!$D$2:$E$6,2,0),0)","v":0},0,0,0,0,0,null,0,null,0,0,0,0,0,null,0,0,null,0,"不涉及",0,0,0,0,0,0,0,"","否","正确","正确"]
[null,null,null,null,null,null,null,null,null,null,null,null,null,null,null,null,0,null,{"$error":"#DIV/0!"},{"$error":"#DIV/0!"},0,{"$error":"#DIV/0!"},{"$error":"#DIV/0!"},0,null,null,null,null,null,null,0,0,0,null,0,{"$f":"IFERROR(VLOOKUP(Z425,有效性!$D$2:$E$6,2,0),0)","v":0},0,0,0,0,0,null,0,null,0,0,0,0,0,null,0,0,null,0,"不涉及",0,0,0,0,0,0,0,"","否","正确","正确"]
[null,null,null,null,null,null,null,null,null,null,null,null,null,null,null,null,0,null,{"$error":"#DIV/0!"},{"$error":"#DIV/0!"},0,{"$error":"#DIV/0!"},{"$error":"#DIV/0!"},0,null,null,null,null,null,null,0,0,0,null,0,{"$f":"IFERROR(VLOOKUP(Z426,有效性!$D$2:$E$6,2,0),0)","v":0},0,0,0,0,0,null,0,null,0,0,0,0,0,null,0,0,null,0,"不涉及",0,0,0,0,0,0,0,"","否","正确","正确"]
[null,null,null,null,null,null,null,null,null,null,null,null,null,null,null,null,0,null,{"$error":"#DIV/0!"},{"$error":"#DIV/0!"},0,{"$error":"#DIV/0!"},{"$error":"#DIV/0!"},0,null,null,null,null,null,null,0,0,0,null,0,{"$f":"IFERROR(VLOOKUP(Z427,有效性!$D$2:$E$6,2,0),0)","v":0},0,0,0,0,0,null,0,null,0,0,0,0,0,null,0,0,null,0,"不涉及",0,0,0,0,0,0,0,"","否","正确","正确"]
[null,null,null,null,null,null,null,null,null,null,null,null,null,null,null,null,0,null,{"$error":"#DIV/0!"},{"$error":"#DIV/0!"},0,{"$error":"#DIV/0!"},{"$error":"#DIV/0!"},0,null,null,null,null,null,null,0,0,0,null,0,{"$f":"IFERROR(VLOOKUP(Z428,有效性!$D$2:$E$6,2,0),0)","v":0},0,0,0,0,0,null,0,null,0,0,0,0,0,null,0,0,null,0,"不涉及",0,0,0,0,0,0,0,"","否","正确","正确"]
[null,null,null,null,null,null,null,null,null,null,null,null,null,null,null,null,0,null,{"$error":"#DIV/0!"},{"$error":"#DIV/0!"},0,{"$error":"#DIV/0!"},{"$error":"#DIV/0!"},0,null,null,null,null,null,null,0,0,0,null,0,{"$f":"IFERROR(VLOOKUP(Z429,有效性!$D$2:$E$6,2,0),0)","v":0},0,0,0,0,0,null,0,null,0,0,0,0,0,null,0,0,null,0,"不涉及",0,0,0,0,0,0,0,"","否","正确","正确"]
[null,null,null,null,null,null,null,null,null,null,null,null,null,null,null,null,0,null,{"$error":"#DIV/0!"},{"$error":"#DIV/0!"},0,{"$error":"#DIV/0!"},{"$error":"#DIV/0!"},0,null,null,null,null,null,null,0,0,0,null,0,{"$f":"IFERROR(VLOOKUP(Z430,有效性!$D$2:$E$6,2,0),0)","v":0},0,0,0,0,0,null,0,null,0,0,0,0,0,null,0,0,null,0,"不涉及",0,0,0,0,0,0,0,"","否","正确","正确"]
[null,null,null,null,null,null,null,null,null,null,null,null,null,null,null,null,0,null,{"$error":"#DIV/0!"},{"$error":"#DIV/0!"},0,{"$error":"#DIV/0!"},{"$error":"#DIV/0!"},0,null,null,null,null,null,null,0,0,0,null,0,{"$f":"IFERROR(VLOOKUP(Z431,有效性!$D$2:$E$6,2,0),0)","v":0},0,0,0,0,0,null,0,null,0,0,0,0,0,null,0,0,null,0,"不涉及",0,0,0,0,0,0,0,"","否","正确","正确"]
[null,null,null,null,null,null,null,null,null,null,null,null,null,null,null,null,0,null,{"$error":"#DIV/0!"},{"$error":"#DIV/0!"},0,{"$error":"#DIV/0!"},{"$error":"#DIV/0!"},0,null,null,null,null,null,null,0,0,0,null,0,{"$f":"IFERROR(VLOOKUP(Z432,有效性!$D$2:$E$6,2,0),0)","v":0},0,0,0,0,0,null,0,null,0,0,0,0,0,null,0,0,null,0,"不涉及",0,0,0,0,0,0,0,"","否","正确","正确"]
[null,null,null,null,null,null,null,null,null,null,null,null,null,null,null,null,0,null,{"$error":"#DIV/0!"},{"$error":"#DIV/0!"},0,{"$error":"#DIV/0!"},{"$error":"#DIV/0!"},0,null,null,null,null,null,null,0,0,0,null,0,{"$f":"IFERROR(VLOOKUP(Z433,有效性!$D$2:$E$6,2,0),0)","v":0},0,0,0,0,0,null,0,null,0,0,0,0,0,null,0,0,null,0,"不涉及",0,0,0,0,0,0,0,"","否","正确","正确"]
[null,null,null,null,null,null,null,null,null,null,null,null,null,null,null,null,0,null,{"$error":"#DIV/0!"},{"$error":"#DIV/0!"},0,{"$error":"#DIV/0!"},{"$error":"#DIV/0!"},0,null,null,null,null,null,null,0,0,0,null,0,{"$f":"IFERROR(VLOOKUP(Z434,有效性!$D$2:$E$6,2,0),0)","v":0},0,0,0,0,0,null,0,null,0,0,0,0,0,null,0,0,null,0,"不涉及",0,0,0,0,0,0,0,"","否","正确","正确"]
[null,null,null,null,null,null,null,null,null,null,null,null,null,null,null,null,0,null,{"$error":"#DIV/0!"},{"$error":"#DIV/0!"},0,{"$error":"#DIV/0!"},{"$error":"#DIV/0!"},0,null,null,null,null,null,null,0,0,0,null,0,{"$f":"IFERROR(VLOOKUP(Z435,有效性!$D$2:$E$6,2,0),0)","v":0},0,0,0,0,0,null,0,null,0,0,0,0,0,null,0,0,null,0,"不涉及",0,0,0,0,0,0,0,"","否","正确","正确"]
[null,null,null,null,null,null,null,null,null,null,null,null,null,null,null,null,0,null,{"$error":"#DIV/0!"},{"$error":"#DIV/0!"},0,{"$error":"#DIV/0!"},{"$error":"#DIV/0!"},0,null,null,null,null,null,null,0,0,0,null,0,{"$f":"IFERROR(VLOOKUP(Z436,有效性!$D$2:$E$6,2,0),0)","v":0},0,0,0,0,0,null,0,null,0,0,0,0,0,null,0,0,null,0,"不涉及",0,0,0,0,0,0,0,"","否","正确","正确"]
[null,null,null,null,null,null,null,null,null,null,null,null,null,null,null,null,0,null,{"$error":"#DIV/0!"},{"$error":"#DIV/0!"},0,{"$error":"#DIV/0!"},{"$error":"#DIV/0!"},0,null,null,null,null,null,null,0,0,0,null,0,{"$f":"IFERROR(VLOOKUP(Z437,有效性!$D$2:$E$6,2,0),0)","v":0},0,0,0,0,0,null,0,null,0,0,0,0,0,null,0,0,null,0,"不涉及",0,0,0,0,0,0,0,"","否","正确","正确"]
[null,null,null,null,null,null,null,null,null,null,null,null,null,null,null,null,0,null,{"$error":"#DIV/0!"},{"$error":"#DIV/0!"},0,{"$error":"#DIV/0!"},{"$error":"#DIV/0!"},0,null,null,null,null,null,null,0,0,0,null,0,{"$f":"IFERROR(VLOOKUP(Z438,有效性!$D$2:$E$6,2,0),0)","v":0},0,0,0,0,0,null,0,null,0,0,0,0,0,null,0,0,null,0,"不涉及",0,0,0,0,0,0,0,"","否","正确","正确"]
[null,null,null,null,null,null,null,null,null,null,null,null,null,null,null,null,0,null,{"$error":"#DIV/0!"},{"$error":"#DIV/0!"},0,{"$error":"#DIV/0!"},{"$error":"#DIV/0!"},0,null,null,null,null,null,null,0,0,0,null,0,{"$f":"IFERROR(VLOOKUP(Z439,有效性!$D$2:$E$6,2,0),0)","v":0},0,0,0,0,0,null,0,null,0,0,0,0,0,null,0,0,null,0,"不涉及",0,0,0,0,0,0,0,"","否","正确","正确"]
[null,null,null,null,null,null,null,null,null,null,null,null,null,null,null,null,0,null,{"$error":"#DIV/0!"},{"$error":"#DIV/0!"},0,{"$error":"#DIV/0!"},{"$error":"#DIV/0!"},0,null,null,null,null,null,null,0,0,0,null,0,{"$f":"IFERROR(VLOOKUP(Z440,有效性!$D$2:$E$6,2,0),0)","v":0},0,0,0,0,0,null,0,null,0,0,0,0,0,null,0,0,null,0,"不涉及",0,0,0,0,0,0,0,"","否","正确","正确"]
[null,null,null,null,null,null,null,null,null,null,null,null,null,null,null,null,0,null,{"$error":"#DIV/0!"},{"$error":"#DIV/0!"},0,{"$error":"#DIV/0!"},{"$error":"#DIV/0!"},0,null,null,null,null,null,null,0,0,0,null,0,{"$f":"IFERROR(VLOOKUP(Z441,有效性!$D$2:$E$6,2,0),0)","v":0},0,0,0,0,0,null,0,null,0,0,0,0,0,null,0,0,null,0,"不涉及",0,0,0,0,0,0,0,"","否","正确","正确"]
[null,null,null,null,null,null,null,null,null,null,null,null,null,null,null,null,0,null,{"$error":"#DIV/0!"},{"$error":"#DIV/0!"},0,{"$error":"#DIV/0!"},{"$error":"#DIV/0!"},0,null,null,null,null,null,null,0,0,0,null,0,{"$f":"IFERROR(VLOOKUP(Z442,有效性!$D$2:$E$6,2,0),0)","v":0},0,0,0,0,0,null,0,null,0,0,0,0,0,null,0,0,null,0,"不涉及",0,0,0,0,0,0,0,"","否","正确","正确"]
[null,null,null,null,null,null,null,null,null,null,null,null,null,null,null,null,0,null,{"$error":"#DIV/0!"},{"$error":"#DIV/0!"},0,{"$error":"#DIV/0!"},{"$error":"#DIV/0!"},0,null,null,null,null,null,null,0,0,0,null,0,{"$f":"IFERROR(VLOOKUP(Z443,有效性!$D$2:$E$6,2,0),0)","v":0},0,0,0,0,0,null,0,null,0,0,0,0,0,null,0,0,null,0,"不涉及",0,0,0,0,0,0,0,"","否","正确","正确"]
[null,null,null,null,null,null,null,null,null,null,null,null,null,null,null,null,0,null,{"$error":"#DIV/0!"},{"$error":"#DIV/0!"},0,{"$error":"#DIV/0!"},{"$error":"#DIV/0!"},0,null,null,null,null,null,null,0,0,0,null,0,{"$f":"IFERROR(VLOOKUP(Z444,有效性!$D$2:$E$6,2,0),0)","v":0},0,0,0,0,0,null,0,null,0,0,0,0,0,null,0,0,null,0,"不涉及",0,0,0,0,0,0,0,"","否","正确","正确"]
[null,null,null,null,null,null,null,null,null,null,null,null,null,null,null,null,0,null,{"$error":"#DIV/0!"},{"$error":"#DIV/0!"},0,{"$error":"#DIV/0!"},{"$error":"#DIV/0!"},0,null,null,null,null,null,null,0,0,0,null,0,{"$f":"IFERROR(VLOOKUP(Z445,有效性!$D$2:$E$6,2,0),0)","v":0},0,0,0,0,0,null,0,null,0,0,0,0,0,null,0,0,null,0,"不涉及",0,0,0,0,0,0,0,"","否","正确","正确"]
[null,null,null,null,null,null,null,null,null,null,null,null,null,null,null,null,0,null,{"$error":"#DIV/0!"},{"$error":"#DIV/0!"},0,{"$error":"#DIV/0!"},{"$error":"#DIV/0!"},0,null,null,null,null,null,null,0,0,0,null,0,{"$f":"IFERROR(VLOOKUP(Z446,有效性!$D$2:$E$6,2,0),0)","v":0},0,0,0,0,0,null,0,null,0,0,0,0,0,null,0,0,null,0,"不涉及",0,0,0,0,0,0,0,"","否","正确","正确"]
[null,null,null,null,null,null,null,null,null,null,null,null,null,null,null,null,0,null,{"$error":"#DIV/0!"},{"$error":"#DIV/0!"},0,{"$error":"#DIV/0!"},{"$error":"#DIV/0!"},0,null,null,null,null,null,null,0,0,0,null,0,{"$f":"IFERROR(VLOOKUP(Z447,有效性!$D$2:$E$6,2,0),0)","v":0},0,0,0,0,0,null,0,null,0,0,0,0,0,null,0,0,null,0,"不涉及",0,0,0,0,0,0,0,"","否","正确","正确"]
[null,null,null,null,null,null,null,null,null,null,null,null,null,null,null,null,0,null,{"$error":"#DIV/0!"},{"$error":"#DIV/0!"},0,{"$error":"#DIV/0!"},{"$error":"#DIV/0!"},0,null,null,null,null,null,null,0,0,0,null,0,{"$f":"IFERROR(VLOOKUP(Z448,有效性!$D$2:$E$6,2,0),0)","v":0},0,0,0,0,0,null,0,null,0,0,0,0,0,null,0,0,null,0,"不涉及",0,0,0,0,0,0,0,"","否","正确","正确"]
[null,null,null,null,null,null,null,null,null,null,null,null,null,null,null,null,0,null,{"$error":"#DIV/0!"},{"$error":"#DIV/0!"},0,{"$error":"#DIV/0!"},{"$error":"#DIV/0!"},0,null,null,null,null,null,null,0,0,0,null,0,{"$f":"IFERROR(VLOOKUP(Z449,有效性!$D$2:$E$6,2,0),0)","v":0},0,0,0,0,0,null,0,null,0,0,0,0,0,null,0,0,null,0,"不涉及",0,0,0,0,0,0,0,"","否","正确","正确"]
[null,null,null,null,null,null,null,null,null,null,null,null,null,null,null,null,0,null,{"$error":"#DIV/0!"},{"$error":"#DIV/0!"},0,{"$error":"#DIV/0!"},{"$error":"#DIV/0!"},0,null,null,null,null,null,null,0,0,0,null,0,{"$f":"IFERROR(VLOOKUP(Z450,有效性!$D$2:$E$6,2,0),0)","v":0},0,0,0,0,0,null,0,null,0,0,0,0,0,null,0,0,null,0,"不涉及",0,0,0,0,0,0,0,"","否","正确","正确"]
[null,null,null,null,null,null,null,null,null,null,null,null,null,null,null,null,0,null,{"$error":"#DIV/0!"},{"$error":"#DIV/0!"},0,{"$error":"#DIV/0!"},{"$error":"#DIV/0!"},0,null,null,null,null,null,null,0,0,0,null,0,{"$f":"IFERROR(VLOOKUP(Z451,有效性!$D$2:$E$6,2,0),0)","v":0},0,0,0,0,0,null,0,null,0,0,0,0,0,null,0,0,null,0,"不涉及",0,0,0,0,0,0,0,"","否","正确","正确"]
[null,null,null,null,null,null,null,null,null,null,null,null,null,null,null,null,0,null,{"$f":"(1-I452)/(K452*12)","v":{"$error":"#DIV/0!"}},{"$f":"ROUND(G452*S452,2)","v":{"$error":"#DIV/0!"}},{"$f":"IF($T$2<YEAR(J452),0,IF($T$2=YEAR(J452),MAX($V$2-MONTH(J452),0),IF($T$2>YEAR(J452)+K452,0,IF($T$2=YEAR(J452)+K452,MIN(MONTH($J452),$V$2),$V$2))))","v":0},{"$f":"T452*U452","v":{"$error":"#DIV/0!"}},{"$f":"IF(ABS(Q452-V452)<=$X$2,0,Q452-V452)","v":{"$error":"#DIV/0!"}},{"$f":"IFERROR(IF((W452/V452)<$Y$2,0,W452/V452),0)","v":0},null,null,null,null,null,null,{"$f":"G452-AD452","v":0},{"$f":"IF(ISNUMBER(FIND(\"计税基础差异\",AA452)),IF(YEAR(J452)+K452=$T$2,Q452-((G452-AD452)*(1-I452)-AH452),AD452*S452*U452),0)","v":0},{"$f":"IF(ISNUMBER(FIND(\"计税基础差异\",AA452)),IF(AB452=\"是\",Q452-AF452,0),0)","v":0},null,{"$f":"ROUND(AH452+AG452,2)","v":0},{"$f":"IFERROR(VLOOKUP(Z452,有效性!$D$2:$E$6,2,0),0)","v":0},{"$f":"IFERROR((1-I452)/(AJ452*12),0)","v":0},{"$f":"G452*AK452","v":0},{"$f":"IF($T$2<YEAR(J452),0,IF($T$2=YEAR(J452),MAX($V$2-MONTH(J452),0),IF($T$2>YEAR(J452)+AJ452,0,IF($T$2=YEAR(J452)+AJ452,MIN(MONTH($J452),$V$2),$V$2))))","v":0},{"$f":"IF(ISNUMBER(FIND(\"折旧年限差异\",AA452)),IF(YEAR(J452)+AJ452=$T$2,AP452,AL452*AM452),0)","v":0},{"$f":"ROUND(IF(ISNUMBER(FIND(\"折旧年限差异\",AA452)),IF(AB452=\"是\",Q452-AN452,0),0),2)","v":0},null,{"$f":"ROUND(AO452+AP452,2)","v":0},null,{"$f":"IF(ISNUMBER(FIND(\"缩短年限60%\",AA452)),IFERROR((1-I452)/(AR452*12),0),0)","v":0},{"$f":"G452*AS452","v":0},{"$f":"IF($T$2<YEAR(J452),0,IF($T$2=YEAR(J452),MAX($V$2-MONTH(J452),0),IF($T$2>YEAR(J452)+AR452,0,IF($T$2=YEAR(J452)+AR452,MIN(MONTH($J452),$V$2),$V$2))))","v":0},{"$f":"ROUND(IF(ISNUMBER(FIND(\"加速折旧\",AA452)),IF(OR(ISNUMBER(FIND(\"500万元以下一次性扣除\",AA452)),ISNUMBER(FIND(\"5000元以下一次性扣除\",AA452))),IF(OR(AND(YEAR(J452)=$T$2,MONTH(J452)<>12),AND(YEAR(J452)=$T$2-1,MONTH(J452)=12)),G452,0),IF(ISNUMBER(FIND(\"缩短年限60%\",AA452)),IF(YEAR(J452)+AR452=$T$2,G452*(1-I452)-(O452-AX452),AT452*AU452),0)),0),2)","v":0},{"$f":"ROUND(IF(ISNUMBER(FIND(\"加速折旧\",AA452)),IF(AB452=\"是\",Q452-AV452,0),0),2)","v":0},null,{"$f":"ROUND(AX452+AW452,20)","v":0},{"$f":"IFERROR(IF(ISNUMBER(FIND(\"不得扣除折旧资产\",AA452)),IF(AB452=\"是\",Q452,0),0),0)","v":0},null,{"$f":"BA452+AZ452","v":0},"不涉及",{"$f":"IF(OR(AC452=\"否\",BC452=\"不涉及\"),0,Q452-AG452-AO452-AW452)","v":0},{"$f":"IF(BC452=\"不涉及\",0,IF(BC452=\"是\",BD452-Q452,BD452))","v":0},{"$f":"AH452+AP452+AX452+BA452","v":0},{"$f":"MAX(0,BJ452)","v":0},{"$f":"MIN(0,BJ452)","v":0},{"$f":"AI452+AQ452+AY452+BB452","v":0},{"$f":"AG452+AO452+AW452+AZ452","v":0},{"$f":"_xlfn.IFS(BJ452>0,\"本年调增\",BJ452<0,\"本年调减\",BJ452=0,\"\")","v":""},"否",{"$f":"IF(AND(BL452=\"是\",BI452<>0),\"请检查\",\"正确\")","v":"正确"},{"$f":"IF(Q452-BJ452<0,\"错误\",\"正确\")","v":"正确"}]
[null,null,null,null,null,null,null,null,null,null,null,null,null,null,null,null,{"$f":"P453-O453","v":0},null,{"$error":"#DIV/0!"},{"$error":"#DIV/0!"},0,{"$error":"#DIV/0!"},{"$error":"#DIV/0!"},0,null,null,null,null,null,null,0,0,0,null,0,{"$f":"IFERROR(VLOOKUP(Z453,有效性!$D$2:$E$6,2,0),0)","v":0},0,0,0,0,0,null,0,null,0,0,0,0,0,null,0,0,null,0,"不涉及",0,0,0,0,0,0,0,"","否","正确","正确"]
[null,null,null,null,null,null,null,null,null,null,null,null,null,null,null,null,0,null,{"$error":"#DIV/0!"},{"$error":"#DIV/0!"},0,{"$error":"#DIV/0!"},{"$error":"#DIV/0!"},0,null,null,null,null,null,null,0,0,0,null,0,{"$f":"IFERROR(VLOOKUP(Z454,有效性!$D$2:$E$6,2,0),0)","v":0},0,0,0,0,0,null,0,null,0,0,0,0,0,null,0,0,null,0,"不涉及",0,0,0,0,0,0,0,"","否","正确","正确"]
[null,null,null,null,null,null,null,null,null,null,null,null,null,null,null,null,0,null,{"$error":"#DIV/0!"},{"$error":"#DIV/0!"},0,{"$error":"#DIV/0!"},{"$error":"#DIV/0!"},0,null,null,null,null,null,null,0,0,0,null,0,{"$f":"IFERROR(VLOOKUP(Z455,有效性!$D$2:$E$6,2,0),0)","v":0},0,0,0,0,0,null,0,null,0,0,0,0,0,null,0,0,null,0,"不涉及",0,0,0,0,0,0,0,"","否","正确","正确"]
[null,null,null,null,null,null,null,null,null,null,null,null,null,null,null,null,0,null,{"$error":"#DIV/0!"},{"$error":"#DIV/0!"},0,{"$error":"#DIV/0!"},{"$error":"#DIV/0!"},0,null,null,null,null,null,null,0,0,0,null,0,{"$f":"IFERROR(VLOOKUP(Z456,有效性!$D$2:$E$6,2,0),0)","v":0},0,0,0,0,0,null,0,null,0,0,0,0,0,null,0,0,null,0,"不涉及",0,0,0,0,0,0,0,"","否","正确","正确"]
[null,null,null,null,null,null,null,null,null,null,null,null,null,null,null,null,0,null,{"$error":"#DIV/0!"},{"$error":"#DIV/0!"},0,{"$error":"#DIV/0!"},{"$error":"#DIV/0!"},0,null,null,null,null,null,null,0,0,0,null,0,{"$f":"IFERROR(VLOOKUP(Z457,有效性!$D$2:$E$6,2,0),0)","v":0},0,0,0,0,0,null,0,null,0,0,0,0,0,null,0,0,null,0,"不涉及",0,0,0,0,0,0,0,"","否","正确","正确"]
[null,null,null,null,null,null,null,null,null,null,null,null,null,null,null,null,0,null,{"$error":"#DIV/0!"},{"$error":"#DIV/0!"},0,{"$error":"#DIV/0!"},{"$error":"#DIV/0!"},0,null,null,null,null,null,null,0,0,0,null,0,{"$f":"IFERROR(VLOOKUP(Z458,有效性!$D$2:$E$6,2,0),0)","v":0},0,0,0,0,0,null,0,null,0,0,0,0,0,null,0,0,null,0,"不涉及",0,0,0,0,0,0,0,"","否","正确","正确"]
[null,null,null,null,null,null,null,null,null,null,null,null,null,null,null,null,0,null,{"$error":"#DIV/0!"},{"$error":"#DIV/0!"},0,{"$error":"#DIV/0!"},{"$error":"#DIV/0!"},0,null,null,null,null,null,null,0,0,0,null,0,{"$f":"IFERROR(VLOOKUP(Z459,有效性!$D$2:$E$6,2,0),0)","v":0},0,0,0,0,0,null,0,null,0,0,0,0,0,null,0,0,null,0,"不涉及",0,0,0,0,0,0,0,"","否","正确","正确"]
[null,null,null,null,null,null,null,null,null,null,null,null,null,null,null,null,0,null,{"$error":"#DIV/0!"},{"$error":"#DIV/0!"},0,{"$error":"#DIV/0!"},{"$error":"#DIV/0!"},0,null,null,null,null,null,null,0,0,0,null,0,{"$f":"IFERROR(VLOOKUP(Z460,有效性!$D$2:$E$6,2,0),0)","v":0},0,0,0,0,0,null,0,null,0,0,0,0,0,null,0,0,null,0,"不涉及",0,0,0,0,0,0,0,"","否","正确","正确"]
[null,null,null,null,null,null,null,null,null,null,null,null,null,null,null,null,0,null,{"$error":"#DIV/0!"},{"$error":"#DIV/0!"},0,{"$error":"#DIV/0!"},{"$error":"#DIV/0!"},0,null,null,null,null,null,null,0,0,0,null,0,{"$f":"IFERROR(VLOOKUP(Z461,有效性!$D$2:$E$6,2,0),0)","v":0},0,0,0,0,0,null,0,null,0,0,0,0,0,null,0,0,null,0,"不涉及",0,0,0,0,0,0,0,"","否","正确","正确"]
[null,null,null,null,null,null,null,null,null,null,null,null,null,null,null,null,0,null,{"$error":"#DIV/0!"},{"$error":"#DIV/0!"},0,{"$error":"#DIV/0!"},{"$error":"#DIV/0!"},0,null,null,null,null,null,null,0,0,0,null,0,{"$f":"IFERROR(VLOOKUP(Z462,有效性!$D$2:$E$6,2,0),0)","v":0},0,0,0,0,0,null,0,null,0,0,0,0,0,null,0,0,null,0,"不涉及",0,0,0,0,0,0,0,"","否","正确","正确"]
[null,null,null,null,null,null,null,null,null,null,null,null,null,null,null,null,0,null,{"$error":"#DIV/0!"},{"$error":"#DIV/0!"},0,{"$error":"#DIV/0!"},{"$error":"#DIV/0!"},0,null,null,null,null,null,null,0,0,0,null,0,{"$f":"IFERROR(VLOOKUP(Z463,有效性!$D$2:$E$6,2,0),0)","v":0},0,0,0,0,0,null,0,null,0,0,0,0,0,null,0,0,null,0,"不涉及",0,0,0,0,0,0,0,"","否","正确","正确"]
[null,null,null,null,null,null,null,null,null,null,null,null,null,null,null,null,0,null,{"$error":"#DIV/0!"},{"$error":"#DIV/0!"},0,{"$error":"#DIV/0!"},{"$error":"#DIV/0!"},0,null,null,null,null,null,null,0,0,0,null,0,{"$f":"IFERROR(VLOOKUP(Z464,有效性!$D$2:$E$6,2,0),0)","v":0},0,0,0,0,0,null,0,null,0,0,0,0,0,null,0,0,null,0,"不涉及",0,0,0,0,0,0,0,"","否","正确","正确"]
[null,null,null,null,null,null,null,null,null,null,null,null,null,null,null,null,0,null,{"$error":"#DIV/0!"},{"$error":"#DIV/0!"},0,{"$error":"#DIV/0!"},{"$error":"#DIV/0!"},0,null,null,null,null,null,null,0,0,0,null,0,{"$f":"IFERROR(VLOOKUP(Z465,有效性!$D$2:$E$6,2,0),0)","v":0},0,0,0,0,0,null,0,null,0,0,0,0,0,null,0,0,null,0,"不涉及",0,0,0,0,0,0,0,"","否","正确","正确"]
[null,null,null,null,null,null,null,null,null,null,null,null,null,null,null,null,0,null,{"$error":"#DIV/0!"},{"$error":"#DIV/0!"},0,{"$error":"#DIV/0!"},{"$error":"#DIV/0!"},0,null,null,null,null,null,null,0,0,0,null,0,{"$f":"IFERROR(VLOOKUP(Z466,有效性!$D$2:$E$6,2,0),0)","v":0},0,0,0,0,0,null,0,null,0,0,0,0,0,null,0,0,null,0,"不涉及",0,0,0,0,0,0,0,"","否","正确","正确"]
[null,null,null,null,null,null,null,null,null,null,null,null,null,null,null,null,0,null,{"$error":"#DIV/0!"},{"$error":"#DIV/0!"},0,{"$error":"#DIV/0!"},{"$error":"#DIV/0!"},0,null,null,null,null,null,null,0,0,0,null,0,{"$f":"IFERROR(VLOOKUP(Z467,有效性!$D$2:$E$6,2,0),0)","v":0},0,0,0,0,0,null,0,null,0,0,0,0,0,null,0,0,null,0,"不涉及",0,0,0,0,0,0,0,"","否","正确","正确"]
[null,null,null,null,null,null,null,null,null,null,null,null,null,null,null,null,0,null,{"$error":"#DIV/0!"},{"$error":"#DIV/0!"},0,{"$error":"#DIV/0!"},{"$error":"#DIV/0!"},0,null,null,null,null,null,null,0,0,0,null,0,{"$f":"IFERROR(VLOOKUP(Z468,有效性!$D$2:$E$6,2,0),0)","v":0},0,0,0,0,0,null,0,null,0,0,0,0,0,null,0,0,null,0,"不涉及",0,0,0,0,0,0,0,"","否","正确","正确"]
[null,null,null,null,null,null,null,null,null,null,null,null,null,null,null,null,0,null,{"$error":"#DIV/0!"},{"$error":"#DIV/0!"},0,{"$error":"#DIV/0!"},{"$error":"#DIV/0!"},0,null,null,null,null,null,null,0,0,0,null,0,{"$f":"IFERROR(VLOOKUP(Z469,有效性!$D$2:$E$6,2,0),0)","v":0},0,0,0,0,0,null,0,null,0,0,0,0,0,null,0,0,null,0,"不涉及",0,0,0,0,0,0,0,"","否","正确","正确"]
[null,null,null,null,null,null,null,null,null,null,null,null,null,null,null,null,0,null,{"$error":"#DIV/0!"},{"$error":"#DIV/0!"},0,{"$error":"#DIV/0!"},{"$error":"#DIV/0!"},0,null,null,null,null,null,null,0,0,0,null,0,{"$f":"IFERROR(VLOOKUP(Z470,有效性!$D$2:$E$6,2,0),0)","v":0},0,0,0,0,0,null,0,null,0,0,0,0,0,null,0,0,null,0,"不涉及",0,0,0,0,0,0,0,"","否","正确","正确"]
[null,null,null,null,null,null,null,null,null,null,null,null,null,null,null,null,0,null,{"$error":"#DIV/0!"},{"$error":"#DIV/0!"},0,{"$error":"#DIV/0!"},{"$error":"#DIV/0!"},0,null,null,null,null,null,null,0,0,0,null,0,{"$f":"IFERROR(VLOOKUP(Z471,有效性!$D$2:$E$6,2,0),0)","v":0},0,0,0,0,0,null,0,null,0,0,0,0,0,null,0,0,null,0,"不涉及",0,0,0,0,0,0,0,"","否","正确","正确"]
[null,null,null,null,null,null,null,null,null,null,null,null,null,null,null,null,0,null,{"$error":"#DIV/0!"},{"$error":"#DIV/0!"},0,{"$error":"#DIV/0!"},{"$error":"#DIV/0!"},0,null,null,null,null,null,null,0,0,0,null,0,{"$f":"IFERROR(VLOOKUP(Z472,有效性!$D$2:$E$6,2,0),0)","v":0},0,0,0,0,0,null,0,null,0,0,0,0,0,null,0,0,null,0,"不涉及",0,0,0,0,0,0,0,"","否","正确","正确"]
[null,null,null,null,null,null,null,null,null,null,null,null,null,null,null,null,0,null,{"$error":"#DIV/0!"},{"$error":"#DIV/0!"},0,{"$error":"#DIV/0!"},{"$error":"#DIV/0!"},0,null,null,null,null,null,null,0,0,0,null,0,{"$f":"IFERROR(VLOOKUP(Z473,有效性!$D$2:$E$6,2,0),0)","v":0},0,0,0,0,0,null,0,null,0,0,0,0,0,null,0,0,null,0,"不涉及",0,0,0,0,0,0,0,"","否","正确","正确"]
[null,null,null,null,null,null,null,null,null,null,null,null,null,null,null,null,0,null,{"$error":"#DIV/0!"},{"$error":"#DIV/0!"},0,{"$error":"#DIV/0!"},{"$error":"#DIV/0!"},0,null,null,null,null,null,null,0,0,0,null,0,{"$f":"IFERROR(VLOOKUP(Z474,有效性!$D$2:$E$6,2,0),0)","v":0},0,0,0,0,0,null,0,null,0,0,0,0,0,null,0,0,null,0,"不涉及",0,0,0,0,0,0,0,"","否","正确","正确"]
[null,null,null,null,null,null,null,null,null,null,null,null,null,null,null,null,0,null,{"$error":"#DIV/0!"},{"$error":"#DIV/0!"},0,{"$error":"#DIV/0!"},{"$error":"#DIV/0!"},0,null,null,null,null,null,null,0,0,0,null,0,{"$f":"IFERROR(VLOOKUP(Z475,有效性!$D$2:$E$6,2,0),0)","v":0},0,0,0,0,0,null,0,null,0,0,0,0,0,null,0,0,null,0,"不涉及",0,0,0,0,0,0,0,"","否","正确","正确"]
[null,null,null,null,null,null,null,null,null,null,null,null,null,null,null,null,0,null,{"$error":"#DIV/0!"},{"$error":"#DIV/0!"},0,{"$error":"#DIV/0!"},{"$error":"#DIV/0!"},0,null,null,null,null,null,null,0,0,0,null,0,{"$f":"IFERROR(VLOOKUP(Z476,有效性!$D$2:$E$6,2,0),0)","v":0},0,0,0,0,0,null,0,null,0,0,0,0,0,null,0,0,null,0,"不涉及",0,0,0,0,0,0,0,"","否","正确","正确"]
[null,null,null,null,null,null,null,null,null,null,null,null,null,null,null,null,0,null,{"$error":"#DIV/0!"},{"$error":"#DIV/0!"},0,{"$error":"#DIV/0!"},{"$error":"#DIV/0!"},0,null,null,null,null,null,null,0,0,0,null,0,{"$f":"IFERROR(VLOOKUP(Z477,有效性!$D$2:$E$6,2,0),0)","v":0},0,0,0,0,0,null,0,null,0,0,0,0,0,null,0,0,null,0,"不涉及",0,0,0,0,0,0,0,"","否","正确","正确"]
[null,null,null,null,null,null,null,null,null,null,null,null,null,null,null,null,0,null,{"$error":"#DIV/0!"},{"$error":"#DIV/0!"},0,{"$error":"#DIV/0!"},{"$error":"#DIV/0!"},0,null,null,null,null,null,null,0,0,0,null,0,{"$f":"IFERROR(VLOOKUP(Z478,有效性!$D$2:$E$6,2,0),0)","v":0},0,0,0,0,0,null,0,null,0,0,0,0,0,null,0,0,null,0,"不涉及",0,0,0,0,0,0,0,"","否","正确","正确"]
[null,null,null,null,null,null,null,null,null,null,null,null,null,null,null,null,0,null,{"$error":"#DIV/0!"},{"$error":"#DIV/0!"},0,{"$error":"#DIV/0!"},{"$error":"#DIV/0!"},0,null,null,null,null,null,null,0,0,0,null,0,{"$f":"IFERROR(VLOOKUP(Z479,有效性!$D$2:$E$6,2,0),0)","v":0},0,0,0,0,0,null,0,null,0,0,0,0,0,null,0,0,null,0,"不涉及",0,0,0,0,0,0,0,"","否","正确","正确"]
[null,null,null,null,null,null,null,null,null,null,null,null,null,null,null,null,0,null,{"$error":"#DIV/0!"},{"$error":"#DIV/0!"},0,{"$error":"#DIV/0!"},{"$error":"#DIV/0!"},0,null,null,null,null,null,null,0,0,0,null,0,{"$f":"IFERROR(VLOOKUP(Z480,有效性!$D$2:$E$6,2,0),0)","v":0},0,0,0,0,0,null,0,null,0,0,0,0,0,null,0,0,null,0,"不涉及",0,0,0,0,0,0,0,"","否","正确","正确"]
[null,null,null,null,null,null,null,null,null,null,null,null,null,null,null,null,0,null,{"$error":"#DIV/0!"},{"$error":"#DIV/0!"},0,{"$error":"#DIV/0!"},{"$error":"#DIV/0!"},0,null,null,null,null,null,null,0,0,0,null,0,{"$f":"IFERROR(VLOOKUP(Z481,有效性!$D$2:$E$6,2,0),0)","v":0},0,0,0,0,0,null,0,null,0,0,0,0,0,null,0,0,null,0,"不涉及",0,0,0,0,0,0,0,"","否","正确","正确"]
[null,null,null,null,null,null,null,null,null,null,null,null,null,null,null,null,0,null,{"$error":"#DIV/0!"},{"$error":"#DIV/0!"},0,{"$error":"#DIV/0!"},{"$error":"#DIV/0!"},0,null,null,null,null,null,null,0,0,0,null,0,{"$f":"IFERROR(VLOOKUP(Z482,有效性!$D$2:$E$6,2,0),0)","v":0},0,0,0,0,0,null,0,null,0,0,0,0,0,null,0,0,null,0,"不涉及",0,0,0,0,0,0,0,"","否","正确","正确"]
[null,null,null,null,null,null,null,null,null,null,null,null,null,null,null,null,0,null,{"$error":"#DIV/0!"},{"$error":"#DIV/0!"},0,{"$error":"#DIV/0!"},{"$error":"#DIV/0!"},0,null,null,null,null,null,null,0,0,0,null,0,{"$f":"IFERROR(VLOOKUP(Z483,有效性!$D$2:$E$6,2,0),0)","v":0},0,0,0,0,0,null,0,null,0,0,0,0,0,null,0,0,null,0,"不涉及",0,0,0,0,0,0,0,"","否","正确","正确"]
[null,null,null,null,null,null,null,null,null,null,null,null,null,null,null,null,0,null,{"$error":"#DIV/0!"},{"$error":"#DIV/0!"},0,{"$error":"#DIV/0!"},{"$error":"#DIV/0!"},0,null,null,null,null,null,null,0,0,0,null,0,{"$f":"IFERROR(VLOOKUP(Z484,有效性!$D$2:$E$6,2,0),0)","v":0},0,0,0,0,0,null,0,null,0,0,0,0,0,null,0,0,null,0,"不涉及",0,0,0,0,0,0,0,"","否","正确","正确"]
[null,null,null,null,null,null,null,null,null,null,null,null,null,null,null,null,0,null,{"$error":"#DIV/0!"},{"$error":"#DIV/0!"},0,{"$error":"#DIV/0!"},{"$error":"#DIV/0!"},0,null,null,null,null,null,null,0,0,0,null,0,{"$f":"IFERROR(VLOOKUP(Z485,有效性!$D$2:$E$6,2,0),0)","v":0},0,0,0,0,0,null,0,null,0,0,0,0,0,null,0,0,null,0,"不涉及",0,0,0,0,0,0,0,"","否","正确","正确"]
[null,null,null,null,null,null,null,null,null,null,null,null,null,null,null,null,0,null,{"$error":"#DIV/0!"},{"$error":"#DIV/0!"},0,{"$error":"#DIV/0!"},{"$error":"#DIV/0!"},0,null,null,null,null,null,null,0,0,0,null,0,{"$f":"IFERROR(VLOOKUP(Z486,有效性!$D$2:$E$6,2,0),0)","v":0},0,0,0,0,0,null,0,null,0,0,0,0,0,null,0,0,null,0,"不涉及",0,0,0,0,0,0,0,"","否","正确","正确"]
[null,null,null,null,null,null,null,null,null,null,null,null,null,null,null,null,0,null,{"$error":"#DIV/0!"},{"$error":"#DIV/0!"},0,{"$error":"#DIV/0!"},{"$error":"#DIV/0!"},0,null,null,null,null,null,null,0,0,0,null,0,{"$f":"IFERROR(VLOOKUP(Z487,有效性!$D$2:$E$6,2,0),0)","v":0},0,0,0,0,0,null,0,null,0,0,0,0,0,null,0,0,null,0,"不涉及",0,0,0,0,0,0,0,"","否","正确","正确"]
[null,null,null,null,null,null,null,null,null,null,null,null,null,null,null,null,0,null,{"$error":"#DIV/0!"},{"$error":"#DIV/0!"},0,{"$error":"#DIV/0!"},{"$error":"#DIV/0!"},0,null,null,null,null,null,null,0,0,0,null,0,{"$f":"IFERROR(VLOOKUP(Z488,有效性!$D$2:$E$6,2,0),0)","v":0},0,0,0,0,0,null,0,null,0,0,0,0,0,null,0,0,null,0,"不涉及",0,0,0,0,0,0,0,"","否","正确","正确"]
[null,null,null,null,null,null,null,null,null,null,null,null,null,null,null,null,0,null,{"$error":"#DIV/0!"},{"$error":"#DIV/0!"},0,{"$error":"#DIV/0!"},{"$error":"#DIV/0!"},0,null,null,null,null,null,null,0,0,0,null,0,{"$f":"IFERROR(VLOOKUP(Z489,有效性!$D$2:$E$6,2,0),0)","v":0},0,0,0,0,0,null,0,null,0,0,0,0,0,null,0,0,null,0,"不涉及",0,0,0,0,0,0,0,"","否","正确","正确"]
[null,null,null,null,null,null,null,null,null,null,null,null,null,null,null,null,0,null,{"$error":"#DIV/0!"},{"$error":"#DIV/0!"},0,{"$error":"#DIV/0!"},{"$error":"#DIV/0!"},0,null,null,null,null,null,null,0,0,0,null,0,{"$f":"IFERROR(VLOOKUP(Z490,有效性!$D$2:$E$6,2,0),0)","v":0},0,0,0,0,0,null,0,null,0,0,0,0,0,null,0,0,null,0,"不涉及",0,0,0,0,0,0,0,"","否","正确","正确"]
[null,null,null,null,null,null,null,null,null,null,null,null,null,null,null,null,0,null,{"$error":"#DIV/0!"},{"$error":"#DIV/0!"},0,{"$error":"#DIV/0!"},{"$error":"#DIV/0!"},0,null,null,null,null,null,null,0,0,0,null,0,{"$f":"IFERROR(VLOOKUP(Z491,有效性!$D$2:$E$6,2,0),0)","v":0},0,0,0,0,0,null,0,null,0,0,0,0,0,null,0,0,null,0,"不涉及",0,0,0,0,0,0,0,"","否","正确","正确"]
[null,null,null,null,null,null,null,null,null,null,null,null,null,null,null,null,0,null,{"$error":"#DIV/0!"},{"$error":"#DIV/0!"},0,{"$error":"#DIV/0!"},{"$error":"#DIV/0!"},0,null,null,null,null,null,null,0,0,0,null,0,{"$f":"IFERROR(VLOOKUP(Z492,有效性!$D$2:$E$6,2,0),0)","v":0},0,0,0,0,0,null,0,null,0,0,0,0,0,null,0,0,null,0,"不涉及",0,0,0,0,0,0,0,"","否","正确","正确"]
[null,null,null,null,null,null,null,null,null,null,null,null,null,null,null,null,0,null,{"$error":"#DIV/0!"},{"$error":"#DIV/0!"},0,{"$error":"#DIV/0!"},{"$error":"#DIV/0!"},0,null,null,null,null,null,null,0,0,0,null,0,{"$f":"IFERROR(VLOOKUP(Z493,有效性!$D$2:$E$6,2,0),0)","v":0},0,0,0,0,0,null,0,null,0,0,0,0,0,null,0,0,null,0,"不涉及",0,0,0,0,0,0,0,"","否","正确","正确"]
[null,null,null,null,null,null,null,null,null,null,null,null,null,null,null,null,0,null,{"$error":"#DIV/0!"},{"$error":"#DIV/0!"},0,{"$error":"#DIV/0!"},{"$error":"#DIV/0!"},0,null,null,null,null,null,null,0,0,0,null,0,{"$f":"IFERROR(VLOOKUP(Z494,有效性!$D$2:$E$6,2,0),0)","v":0},0,0,0,0,0,null,0,null,0,0,0,0,0,null,0,0,null,0,"不涉及",0,0,0,0,0,0,0,"","否","正确","正确"]
[null,null,null,null,null,null,null,null,null,null,null,null,null,null,null,null,0,null,{"$error":"#DIV/0!"},{"$error":"#DIV/0!"},0,{"$error":"#DIV/0!"},{"$error":"#DIV/0!"},0,null,null,null,null,null,null,0,0,0,null,0,{"$f":"IFERROR(VLOOKUP(Z495,有效性!$D$2:$E$6,2,0),0)","v":0},0,0,0,0,0,null,0,null,0,0,0,0,0,null,0,0,null,0,"不涉及",0,0,0,0,0,0,0,"","否","正确","正确"]
[null,null,null,null,null,null,null,null,null,null,null,null,null,null,null,null,0,null,{"$error":"#DIV/0!"},{"$error":"#DIV/0!"},0,{"$error":"#DIV/0!"},{"$error":"#DIV/0!"},0,null,null,null,null,null,null,0,0,0,null,0,{"$f":"IFERROR(VLOOKUP(Z496,有效性!$D$2:$E$6,2,0),0)","v":0},0,0,0,0,0,null,0,null,0,0,0,0,0,null,0,0,null,0,"不涉及",0,0,0,0,0,0,0,"","否","正确","正确"]
[null,null,null,null,null,null,null,null,null,null,null,null,null,null,null,null,0,null,{"$error":"#DIV/0!"},{"$error":"#DIV/0!"},0,{"$error":"#DIV/0!"},{"$error":"#DIV/0!"},0,null,null,null,null,null,null,0,0,0,null,0,{"$f":"IFERROR(VLOOKUP(Z497,有效性!$D$2:$E$6,2,0),0)","v":0},0,0,0,0,0,null,0,null,0,0,0,0,0,null,0,0,null,0,"不涉及",0,0,0,0,0,0,0,"","否","正确","正确"]
[null,null,null,null,null,null,null,null,null,null,null,null,null,null,null,null,0,null,{"$error":"#DIV/0!"},{"$error":"#DIV/0!"},0,{"$error":"#DIV/0!"},{"$error":"#DIV/0!"},0,null,null,null,null,null,null,0,0,0,null,0,{"$f":"IFERROR(VLOOKUP(Z498,有效性!$D$2:$E$6,2,0),0)","v":0},0,0,0,0,0,null,0,null,0,0,0,0,0,null,0,0,null,0,"不涉及",0,0,0,0,0,0,0,"","否","正确","正确"]
[null,null,null,null,null,null,null,null,null,null,null,null,null,null,null,null,0,null,{"$error":"#DIV/0!"},{"$error":"#DIV/0!"},0,{"$error":"#DIV/0!"},{"$error":"#DIV/0!"},0,null,null,null,null,null,null,0,0,0,null,0,{"$f":"IFERROR(VLOOKUP(Z499,有效性!$D$2:$E$6,2,0),0)","v":0},0,0,0,0,0,null,0,null,0,0,0,0,0,null,0,0,null,0,"不涉及",0,0,0,0,0,0,0,"","否","正确","正确"]
[null,null,null,null,null,null,null,null,null,null,null,null,null,null,null,null,0,null,{"$error":"#DIV/0!"},{"$error":"#DIV/0!"},0,{"$error":"#DIV/0!"},{"$error":"#DIV/0!"},0,null,null,null,null,null,null,0,0,0,null,0,{"$f":"IFERROR(VLOOKUP(Z500,有效性!$D$2:$E$6,2,0),0)","v":0},0,0,0,0,0,null,0,null,0,0,0,0,0,null,0,0,null,0,"不涉及",0,0,0,0,0,0,0,"","否","正确","正确"]
[null,null,null,null,null,null,null,null,null,null,null,null,null,null,null,null,0,null,{"$error":"#DIV/0!"},{"$error":"#DIV/0!"},0,{"$error":"#DIV/0!"},{"$error":"#DIV/0!"},0,null,null,null,null,null,null,0,0,0,null,0,{"$f":"IFERROR(VLOOKUP(Z502,有效性!$D$2:$E$6,2,0),0)","v":0},0,0,0,0,0,null,0,null,0,0,0,0,0,null,0,0,null,0,"不涉及",0,0,0,0,0,0,0,"","否","正确","正确"]
[null,null,null,null,null,null,null,null,null,null,null,null,null,null,null,null,0,null,{"$error":"#DIV/0!"},{"$error":"#DIV/0!"},0,{"$error":"#DIV/0!"},{"$error":"#DIV/0!"},0,null,null,null,null,null,null,0,0,0,null,0,{"$f":"IFERROR(VLOOKUP(Z513,有效性!$D$2:$E$6,2,0),0)","v":0},0,0,0,0,0,null,0,null,0,0,0,0,0,null,0,0,null,0,"不涉及",0,0,0,0,0,0,0,"","否","正确","正确"]
[null,null,null,null,null,null,null,null,null,null,null,null,null,null,null,null,0,null,{"$error":"#DIV/0!"},{"$error":"#DIV/0!"},0,{"$error":"#DIV/0!"},{"$error":"#DIV/0!"},0,null,null,null,null,null,null,0,0,0,null,0,{"$f":"IFERROR(VLOOKUP(Z525,有效性!$D$2:$E$6,2,0),0)","v":0},0,0,0,0,0,null,0,null,0,0,0,0,0,null,0,0,null,0,"不涉及",0,0,0,0,0,0,0,"","否","正确","正确"]
[null,null,null,null,null,null,null,null,null,null,null,null,null,null,null,null,0,null,{"$error":"#DIV/0!"},{"$error":"#DIV/0!"},0,{"$error":"#DIV/0!"},{"$error":"#DIV/0!"},0,null,null,null,null,null,null,0,0,0,null,0,{"$f":"IFERROR(VLOOKUP(Z532,有效性!$D$2:$E$6,2,0),0)","v":0},0,0,0,0,0,null,0,null,0,0,0,0,0,null,0,0,null,0,"不涉及",0,0,0,0,0,0,0,"","否","正确","正确"]
[null,null,null,null,null,null,null,null,null,null,null,null,null,null,null,null,0,null,{"$error":"#DIV/0!"},{"$error":"#DIV/0!"},0,{"$error":"#DIV/0!"},{"$error":"#DIV/0!"},0,null,null,null,null,null,null,0,0,0,null,0,{"$f":"IFERROR(VLOOKUP(Z541,有效性!$D$2:$E$6,2,0),0)","v":0},0,0,0,0,0,null,0,null,0,0,0,0,0,null,0,0,null,0,"不涉及",0,0,0,0,0,0,0,"","否","正确","正确"]
[null,null,null,null,null,null,null,null,null,null,null,null,null,null,null,null,0,null,{"$error":"#DIV/0!"},{"$error":"#DIV/0!"},0,{"$error":"#DIV/0!"},{"$error":"#DIV/0!"},0,null,null,null,null,null,null,0,0,0,null,0,{"$f":"IFERROR(VLOOKUP(Z546,有效性!$D$2:$E$6,2,0),0)","v":0},0,0,0,0,0,null,0,null,0,0,0,0,0,null,0,0,null,0,"不涉及",0,0,0,0,0,0,0,"","否","正确","正确"]
[null,null,null,null,null,null,null,null,null,null,null,null,null,null,null,null,0,null,{"$error":"#DIV/0!"},{"$error":"#DIV/0!"},0,{"$error":"#DIV/0!"},{"$error":"#DIV/0!"},0,null,null,null,null,null,null,0,0,0,null,0,{"$f":"IFERROR(VLOOKUP(Z553,有效性!$D$2:$E$6,2,0),0)","v":0},0,0,0,0,0,null,0,null,0,0,0,0,0,null,0,0,null,0,"不涉及",0,0,0,0,0,0,0,"","否","正确","正确"]
[null,null,null,null,null,null,null,null,null,null,null,null,null,null,null,null,0,null,{"$error":"#DIV/0!"},{"$error":"#DIV/0!"},0,{"$error":"#DIV/0!"},{"$error":"#DIV/0!"},0,null,null,null,null,null,null,0,0,0,null,0,{"$f":"IFERROR(VLOOKUP(Z565,有效性!$D$2:$E$6,2,0),0)","v":0},0,0,0,0,0,null,0,null,0,0,0,0,0,null,0,0,null,0,"不涉及",0,0,0,0,0,0,0,"","否","正确","正确"]
[null,null,null,null,null,null,null,null,null,null,null,null,null,null,null,null,0,null,{"$error":"#DIV/0!"},{"$error":"#DIV/0!"},0,{"$error":"#DIV/0!"},{"$error":"#DIV/0!"},0,null,null,null,null,null,null,0,0,0,null,0,{"$f":"IFERROR(VLOOKUP(Z572,有效性!$D$2:$E$6,2,0),0)","v":0},0,0,0,0,0,null,0,null,0,0,0,0,0,null,0,0,null,0,"不涉及",0,0,0,0,0,0,0,"","否","正确","正确"]
[null,null,null,null,null,null,null,null,null,null,null,null,null,null,null,null,0,null,{"$error":"#DIV/0!"},{"$error":"#DIV/0!"},0,{"$error":"#DIV/0!"},{"$error":"#DIV/0!"},0,null,null,null,null,null,null,0,0,0,null,0,{"$f":"IFERROR(VLOOKUP(Z583,有效性!$D$2:$E$6,2,0),0)","v":0},0,0,0,0,0,null,0,null,0,0,0,0,0,null,0,0,null,0,"不涉及",0,0,0,0,0,0,0,"","否","正确","正确"]
[null,null,null,null,null,null,null,null,null,null,null,null,null,null,null,null,0,null,{"$error":"#DIV/0!"},{"$error":"#DIV/0!"},0,{"$error":"#DIV/0!"},{"$error":"#DIV/0!"},0,null,null,null,null,null,null,0,0,0,null,0,{"$f":"IFERROR(VLOOKUP(Z595,有效性!$D$2:$E$6,2,0),0)","v":0},0,0,0,0,0,null,0,null,0,0,0,0,0,null,0,0,null,0,"不涉及",0,0,0,0,0,0,0,"","否","正确","正确"]
[null,null,null,null,null,null,null,null,null,null,null,null,null,null,null,null,0,null,{"$error":"#DIV/0!"},{"$error":"#DIV/0!"},0,{"$error":"#DIV/0!"},{"$error":"#DIV/0!"},0,null,null,null,null,null,null,0,0,0,null,0,{"$f":"IFERROR(VLOOKUP(Z602,有效性!$D$2:$E$6,2,0),0)","v":0},0,0,0,0,0,null,0,null,0,0,0,0,0,null,0,0,null,0,"不涉及",0,0,0,0,0,0,0,"","否","正确","正确"]
[null,null,null,null,null,null,null,null,null,null,null,null,null,null,null,null,0,null,{"$error":"#DIV/0!"},{"$error":"#DIV/0!"},0,{"$error":"#DIV/0!"},{"$error":"#DIV/0!"},0,null,null,null,null,null,null,0,0,0,null,0,{"$f":"IFERROR(VLOOKUP(Z611,有效性!$D$2:$E$6,2,0),0)","v":0},0,0,0,0,0,null,0,null,0,0,0,0,0,null,0,0,null,0,"不涉及",0,0,0,0,0,0,0,"","否","正确","正确"]
[null,null,null,null,null,null,null,null,null,null,null,null,null,null,null,null,0,null,{"$error":"#DIV/0!"},{"$error":"#DIV/0!"},0,{"$error":"#DIV/0!"},{"$error":"#DIV/0!"},0,null,null,null,null,null,null,0,0,0,null,0,{"$f":"IFERROR(VLOOKUP(Z616,有效性!$D$2:$E$6,2,0),0)","v":0},0,0,0,0,0,null,0,null,0,0,0,0,0,null,0,0,null,0,"不涉及",0,0,0,0,0,0,0,"","否","正确","正确"]
[null,null,null,null,null,null,null,null,null,null,null,null,null,null,null,null,0,null,{"$error":"#DIV/0!"},{"$error":"#DIV/0!"},0,{"$error":"#DIV/0!"},{"$error":"#DIV/0!"},0,null,null,null,null,null,null,0,0,0,null,0,{"$f":"IFERROR(VLOOKUP(Z623,有效性!$D$2:$E$6,2,0),0)","v":0},0,0,0,0,0,null,0,null,0,0,0,0,0,null,0,0,null,0,"不涉及",0,0,0,0,0,0,0,"","否","正确","正确"]
[null,null,null,null,null,null,null,null,null,null,null,null,null,null,null,null,0,null,{"$error":"#DIV/0!"},{"$error":"#DIV/0!"},0,{"$error":"#DIV/0!"},{"$error":"#DIV/0!"},0,null,null,null,null,null,null,0,0,0,null,0,{"$f":"IFERROR(VLOOKUP(Z635,有效性!$D$2:$E$6,2,0),0)","v":0},0,0,0,0,0,null,0,null,0,0,0,0,0,null,0,0,null,0,"不涉及",0,0,0,0,0,0,0,"","否","正确","正确"]
[null,null,null,null,null,null,null,null,null,null,null,null,null,null,null,null,0,null,{"$error":"#DIV/0!"},{"$error":"#DIV/0!"},0,{"$error":"#DIV/0!"},{"$error":"#DIV/0!"},0,null,null,null,null,null,null,0,0,0,null,0,{"$f":"IFERROR(VLOOKUP(Z642,有效性!$D$2:$E$6,2,0),0)","v":0},0,0,0,0,0,null,0,null,0,0,0,0,0,null,0,0,null,0,"不涉及",0,0,0,0,0,0,0,"","否","正确","正确"]
[null,null,null,null,null,null,null,null,null,null,null,null,null,null,null,null,0,null,{"$error":"#DIV/0!"},{"$error":"#DIV/0!"},0,{"$error":"#DIV/0!"},{"$error":"#DIV/0!"},0,null,null,null,null,null,null,0,0,0,null,0,{"$f":"IFERROR(VLOOKUP(Z653,有效性!$D$2:$E$6,2,0),0)","v":0},0,0,0,0,0,null,0,null,0,0,0,0,0,null,0,0,null,0,"不涉及",0,0,0,0,0,0,0,"","否","正确","正确"]
[null,null,null,null,null,null,null,null,null,null,null,null,null,null,null,null,0,null,{"$error":"#DIV/0!"},{"$error":"#DIV/0!"},0,{"$error":"#DIV/0!"},{"$error":"#DIV/0!"},0,null,null,null,null,null,null,0,0,0,null,0,{"$f":"IFERROR(VLOOKUP(Z665,有效性!$D$2:$E$6,2,0),0)","v":0},0,0,0,0,0,null,0,null,0,0,0,0,0,null,0,0,null,0,"不涉及",0,0,0,0,0,0,0,"","否","正确","正确"]
[null,null,null,null,null,null,null,null,null,null,null,null,null,null,null,null,0,null,{"$error":"#DIV/0!"},{"$error":"#DIV/0!"},0,{"$error":"#DIV/0!"},{"$error":"#DIV/0!"},0,null,null,null,null,null,null,0,0,0,null,0,{"$f":"IFERROR(VLOOKUP(Z672,有效性!$D$2:$E$6,2,0),0)","v":0},0,0,0,0,0,null,0,null,0,0,0,0,0,null,0,0,null,0,"不涉及",0,0,0,0,0,0,0,"","否","正确","正确"]
[null,null,null,null,null,null,null,null,null,null,null,null,null,null,null,null,0,null,{"$error":"#DIV/0!"},{"$error":"#DIV/0!"},0,{"$error":"#DIV/0!"},{"$error":"#DIV/0!"},0,null,null,null,null,null,null,0,0,0,null,0,{"$f":"IFERROR(VLOOKUP(Z681,有效性!$D$2:$E$6,2,0),0)","v":0},0,0,0,0,0,null,0,null,0,0,0,0,0,null,0,0,null,0,"不涉及",0,0,0,0,0,0,0,"","否","正确","正确"]
[null,null,null,null,null,null,null,null,null,null,null,null,null,null,null,null,0,null,{"$error":"#DIV/0!"},{"$error":"#DIV/0!"},0,{"$error":"#DIV/0!"},{"$error":"#DIV/0!"},0,null,null,null,null,null,null,0,0,0,null,0,{"$f":"IFERROR(VLOOKUP(Z690,有效性!$D$2:$E$6,2,0),0)","v":0},0,0,0,0,0,null,0,null,0,0,0,0,0,null,0,0,null,0,"不涉及",0,0,0,0,0,0,0,"","否","正确","正确"]
[null,null,null,null,null,null,null,null,null,null,null,null,null,null,null,null,0,null,{"$error":"#DIV/0!"},{"$error":"#DIV/0!"},0,{"$error":"#DIV/0!"},{"$error":"#DIV/0!"},0,null,null,null,null,null,null,0,0,0,null,0,{"$f":"IFERROR(VLOOKUP(Z693,有效性!$D$2:$E$6,2,0),0)","v":0},0,0,0,0,0,null,0,null,0,0,0,0,0,null,0,0,null,0,"不涉及",0,0,0,0,0,0,0,"","否","正确","正确"]
[null,null,null,null,null,null,null,null,null,null,null,null,null,null,null,null,0,null,{"$error":"#DIV/0!"},{"$error":"#DIV/0!"},0,{"$error":"#DIV/0!"},{"$error":"#DIV/0!"},0,null,null,null,null,null,null,0,0,0,null,0,{"$f":"IFERROR(VLOOKUP(Z705,有效性!$D$2:$E$6,2,0),0)","v":0},0,0,0,0,0,null,0,null,0,0,0,0,0,null,0,0,null,0,"不涉及",0,0,0,0,0,0,0,"","否","正确","正确"]
[null,null,null,null,null,null,null,null,null,null,null,null,null,null,null,null,0,null,{"$error":"#DIV/0!"},{"$error":"#DIV/0!"},0,{"$error":"#DIV/0!"},{"$error":"#DIV/0!"},0,null,null,null,null,null,null,0,0,0,null,0,{"$f":"IFERROR(VLOOKUP(Z712,有效性!$D$2:$E$6,2,0),0)","v":0},0,0,0,0,0,null,0,null,0,0,0,0,0,null,0,0,null,0,"不涉及",0,0,0,0,0,0,0,"","否","正确","正确"]
[null,null,null,null,null,null,null,null,null,null,null,null,null,null,null,null,0,null,{"$error":"#DIV/0!"},{"$error":"#DIV/0!"},0,{"$error":"#DIV/0!"},{"$error":"#DIV/0!"},0,null,null,null,null,null,null,0,0,0,null,0,{"$f":"IFERROR(VLOOKUP(Z723,有效性!$D$2:$E$6,2,0),0)","v":0},0,0,0,0,0,null,0,null,0,0,0,0,0,null,0,0,null,0,"不涉及",0,0,0,0,0,0,0,"","否","正确","正确"]
[null,null,null,null,null,null,null,null,null,null,null,null,null,null,null,null,0,null,{"$error":"#DIV/0!"},{"$error":"#DIV/0!"},0,{"$error":"#DIV/0!"},{"$error":"#DIV/0!"},0,null,null,null,null,null,null,0,0,0,null,0,{"$f":"IFERROR(VLOOKUP(Z735,有效性!$D$2:$E$6,2,0),0)","v":0},0,0,0,0,0,null,0,null,0,0,0,0,0,null,0,0,null,0,"不涉及",0,0,0,0,0,0,0,"","否","正确","正确"]
[null,null,null,null,null,null,null,null,null,null,null,null,null,null,null,null,0,null,{"$error":"#DIV/0!"},{"$error":"#DIV/0!"},0,{"$error":"#DIV/0!"},{"$error":"#DIV/0!"},0,null,null,null,null,null,null,0,0,0,null,0,{"$f":"IFERROR(VLOOKUP(Z742,有效性!$D$2:$E$6,2,0),0)","v":0},0,0,0,0,0,null,0,null,0,0,0,0,0,null,0,0,null,0,"不涉及",0,0,0,0,0,0,0,"","否","正确","正确"]
[null,null,null,null,null,null,null,null,null,null,null,null,null,null,null,null,0,null,{"$error":"#DIV/0!"},{"$error":"#DIV/0!"},0,{"$error":"#DIV/0!"},{"$error":"#DIV/0!"},0,null,null,null,null,null,null,0,0,0,null,0,{"$f":"IFERROR(VLOOKUP(Z751,有效性!$D$2:$E$6,2,0),0)","v":0},0,0,0,0,0,null,0,null,0,0,0,0,0,null,0,0,null,0,"不涉及",0,0,0,0,0,0,0,"","否","正确","正确"]
[null,null,null,null,null,null,null,null,null,null,null,null,null,null,null,null,0,null,{"$error":"#DIV/0!"},{"$error":"#DIV/0!"},0,{"$error":"#DIV/0!"},{"$error":"#DIV/0!"},0,null,null,null,null,null,null,0,0,0,null,0,{"$f":"IFERROR(VLOOKUP(Z760,有效性!$D$2:$E$6,2,0),0)","v":0},0,0,0,0,0,null,0,null,0,0,0,0,0,null,0,0,null,0,"不涉及",0,0,0,0,0,0,0,"","否","正确","正确"]
[null,null,null,null,null,null,null,null,null,null,null,null,null,null,null,null,0,null,{"$error":"#DIV/0!"},{"$error":"#DIV/0!"},0,{"$error":"#DIV/0!"},{"$error":"#DIV/0!"},0,null,null,null,null,null,null,0,0,0,null,0,{"$f":"IFERROR(VLOOKUP(Z763,有效性!$D$2:$E$6,2,0),0)","v":0},0,0,0,0,0,null,0,null,0,0,0,0,0,null,0,0,null,0,"不涉及",0,0,0,0,0,0,0,"","否","正确","正确"]
[null,null,null,null,null,null,null,null,null,null,null,null,null,null,null,null,0,null,{"$error":"#DIV/0!"},{"$error":"#DIV/0!"},0,{"$error":"#DIV/0!"},{"$error":"#DIV/0!"},0,null,null,null,null,null,null,0,0,0,null,0,{"$f":"IFERROR(VLOOKUP(Z775,有效性!$D$2:$E$6,2,0),0)","v":0},0,0,0,0,0,null,0,null,0,0,0,0,0,null,0,0,null,0,"不涉及",0,0,0,0,0,0,0,"","否","正确","正确"]
[null,null,null,null,null,null,null,null,null,null,null,null,null,null,null,null,0,null,{"$error":"#DIV/0!"},{"$error":"#DIV/0!"},0,{"$error":"#DIV/0!"},{"$error":"#DIV/0!"},0,null,null,null,null,null,null,0,0,0,null,0,{"$f":"IFERROR(VLOOKUP(Z782,有效性!$D$2:$E$6,2,0),0)","v":0},0,0,0,0,0,null,0,null,0,0,0,0,0,null,0,0,null,0,"不涉及",0,0,0,0,0,0,0,"","否","正确","正确"]
[null,null,null,null,null,null,null,null,null,null,null,null,null,null,null,null,0,null,{"$error":"#DIV/0!"},{"$error":"#DIV/0!"},0,{"$error":"#DIV/0!"},{"$error":"#DIV/0!"},0,null,null,null,null,null,null,0,0,0,null,0,{"$f":"IFERROR(VLOOKUP(Z793,有效性!$D$2:$E$6,2,0),0)","v":0},0,0,0,0,0,null,0,null,0,0,0,0,0,null,0,0,null,0,"不涉及",0,0,0,0,0,0,0,"","否","正确","正确"]
[null,null,null,null,null,null,null,null,null,null,null,null,null,null,null,null,0,null,{"$error":"#DIV/0!"},{"$error":"#DIV/0!"},0,{"$error":"#DIV/0!"},{"$error":"#DIV/0!"},0,null,null,null,null,null,null,0,0,0,null,0,{"$f":"IFERROR(VLOOKUP(Z805,有效性!$D$2:$E$6,2,0),0)","v":0},0,0,0,0,0,null,0,null,0,0,0,0,0,null,0,0,null,0,"不涉及",0,0,0,0,0,0,0,"","否","正确","正确"]
[null,null,null,null,null,null,null,null,null,null,null,null,null,null,null,null,0,null,{"$error":"#DIV/0!"},{"$error":"#DIV/0!"},0,{"$error":"#DIV/0!"},{"$error":"#DIV/0!"},0,null,null,null,null,null,null,0,0,0,null,0,{"$f":"IFERROR(VLOOKUP(Z812,有效性!$D$2:$E$6,2,0),0)","v":0},0,0,0,0,0,null,0,null,0,0,0,0,0,null,0,0,null,0,"不涉及",0,0,0,0,0,0,0,"","否","正确","正确"]
[null,null,null,null,null,null,null,null,null,null,null,null,null,null,null,null,0,null,{"$error":"#DIV/0!"},{"$error":"#DIV/0!"},0,{"$error":"#DIV/0!"},{"$error":"#DIV/0!"},0,null,null,null,null,null,null,0,0,0,null,0,{"$f":"IFERROR(VLOOKUP(Z821,有效性!$D$2:$E$6,2,0),0)","v":0},0,0,0,0,0,null,0,null,0,0,0,0,0,null,0,0,null,0,"不涉及",0,0,0,0,0,0,0,"","否","正确","正确"]
[null,null,null,null,null,null,null,null,null,null,null,null,null,null,null,null,0,null,{"$error":"#DIV/0!"},{"$error":"#DIV/0!"},0,{"$error":"#DIV/0!"},{"$error":"#DIV/0!"},0,null,null,null,null,null,null,0,0,0,null,0,{"$f":"IFERROR(VLOOKUP(Z830,有效性!$D$2:$E$6,2,0),0)","v":0},0,0,0,0,0,null,0,null,0,0,0,0,0,null,0,0,null,0,"不涉及",0,0,0,0,0,0,0,"","否","正确","正确"]
[null,null,null,null,null,null,null,null,null,null,null,null,null,null,null,null,0,null,{"$error":"#DIV/0!"},{"$error":"#DIV/0!"},0,{"$error":"#DIV/0!"},{"$error":"#DIV/0!"},0,null,null,null,null,null,null,0,0,0,null,0,{"$f":"IFERROR(VLOOKUP(Z833,有效性!$D$2:$E$6,2,0),0)","v":0},0,0,0,0,0,null,0,null,0,0,0,0,0,null,0,0,null,0,"不涉及",0,0,0,0,0,0,0,"","否","正确","正确"]
[null,null,null,null,null,null,null,null,null,null,null,null,null,null,null,null,0,null,{"$error":"#DIV/0!"},{"$error":"#DIV/0!"},0,{"$error":"#DIV/0!"},{"$error":"#DIV/0!"},0,null,null,null,null,null,null,0,0,0,null,0,{"$f":"IFERROR(VLOOKUP(Z845,有效性!$D$2:$E$6,2,0),0)","v":0},0,0,0,0,0,null,0,null,0,0,0,0,0,null,0,0,null,0,"不涉及",0,0,0,0,0,0,0,"","否","正确","正确"]
[null,null,null,null,null,null,null,null,null,null,null,null,null,null,null,null,0,null,{"$error":"#DIV/0!"},{"$error":"#DIV/0!"},0,{"$error":"#DIV/0!"},{"$error":"#DIV/0!"},0,null,null,null,null,null,null,0,0,0,null,0,{"$f":"IFERROR(VLOOKUP(Z852,有效性!$D$2:$E$6,2,0),0)","v":0},0,0,0,0,0,null,0,null,0,0,0,0,0,null,0,0,null,0,"不涉及",0,0,0,0,0,0,0,"","否","正确","正确"]
[null,null,null,null,null,null,null,null,null,null,null,null,null,null,null,null,0,null,{"$error":"#DIV/0!"},{"$error":"#DIV/0!"},0,{"$error":"#DIV/0!"},{"$error":"#DIV/0!"},0,null,null,null,null,null,null,0,0,0,null,0,{"$f":"IFERROR(VLOOKUP(Z863,有效性!$D$2:$E$6,2,0),0)","v":0},0,0,0,0,0,null,0,null,0,0,0,0,0,null,0,0,null,0,"不涉及",0,0,0,0,0,0,0,"","否","正确","正确"]
[null,null,null,null,null,null,null,null,null,null,null,null,null,null,null,null,0,null,{"$error":"#DIV/0!"},{"$error":"#DIV/0!"},0,{"$error":"#DIV/0!"},{"$error":"#DIV/0!"},0,null,null,null,null,null,null,0,0,0,null,0,{"$f":"IFERROR(VLOOKUP(Z870,有效性!$D$2:$E$6,2,0),0)","v":0},0,0,0,0,0,null,0,null,0,0,0,0,0,null,0,0,null,0,"不涉及",0,0,0,0,0,0,0,"","否","正确","正确"]
[null,null,null,null,null,null,null,null,null,null,null,null,null,null,null,null,0,null,{"$error":"#DIV/0!"},{"$error":"#DIV/0!"},0,{"$error":"#DIV/0!"},{"$error":"#DIV/0!"},0,null,null,null,null,null,null,0,0,0,null,0,{"$f":"IFERROR(VLOOKUP(Z882,有效性!$D$2:$E$6,2,0),0)","v":0},0,0,0,0,0,null,0,null,0,0,0,0,0,null,0,0,null,0,"不涉及",0,0,0,0,0,0,0,"","否","正确","正确"]
[null,null,null,null,null,null,null,null,null,null,null,null,null,null,null,null,0,null,{"$error":"#DIV/0!"},{"$error":"#DIV/0!"},0,{"$error":"#DIV/0!"},{"$error":"#DIV/0!"},0,null,null,null,null,null,null,0,0,0,null,0,{"$f":"IFERROR(VLOOKUP(Z891,有效性!$D$2:$E$6,2,0),0)","v":0},0,0,0,0,0,null,0,null,0,0,0,0,0,null,0,0,null,0,"不涉及",0,0,0,0,0,0,0,"","否","正确","正确"]
[null,null,null,null,null,null,null,null,null,null,null,null,null,null,null,null,0,null,{"$f":"(1-I900)/(K900*12)","v":{"$error":"#DIV/0!"}},{"$f":"ROUND(G900*S900,2)","v":{"$error":"#DIV/0!"}},{"$f":"IF($T$2<YEAR(J900),0,IF($T$2=YEAR(J900),MAX($V$2-MONTH(J900),0),IF($T$2>YEAR(J900)+K900,0,IF($T$2=YEAR(J900)+K900,MIN(MONTH($J900),$V$2),$V$2))))","v":0},{"$f":"T900*U900","v":{"$error":"#DIV/0!"}},{"$f":"IF(ABS(Q900-V900)<=$X$2,0,Q900-V900)","v":{"$error":"#DIV/0!"}},{"$f":"IFERROR(IF((W900/V900)<$Y$2,0,W900/V900),0)","v":0},null,null,null,null,null,null,{"$f":"G900-AD900","v":0},{"$f":"IF(ISNUMBER(FIND(\"计税基础差异\",AA900)),IF(YEAR(J900)+K900=$T$2,Q900-((G900-AD900)*(1-I900)-AH900),AD900*S900*U900),0)","v":0},{"$f":"IF(ISNUMBER(FIND(\"计税基础差异\",AA900)),IF(AB900=\"是\",Q900-AF900,0),0)","v":0},null,{"$f":"ROUND(AH900+AG900,2)","v":0},{"$f":"IFERROR(VLOOKUP(Z900,有效性!$D$2:$E$6,2,0),0)","v":0},{"$f":"IFERROR((1-I900)/(AJ900*12),0)","v":0},{"$f":"G900*AK900","v":0},{"$f":"IF($T$2<YEAR(J900),0,IF($T$2=YEAR(J900),MAX($V$2-MONTH(J900),0),IF($T$2>YEAR(J900)+AJ900,0,IF($T$2=YEAR(J900)+AJ900,MIN(MONTH($J900),$V$2),$V$2))))","v":0},{"$f":"IF(ISNUMBER(FIND(\"折旧年限差异\",AA900)),IF(YEAR(J900)+AJ900=$T$2,AP900,AL900*AM900),0)","v":0},{"$f":"ROUND(IF(ISNUMBER(FIND(\"折旧年限差异\",AA900)),IF(AB900=\"是\",Q900-AN900,0),0),2)","v":0},null,{"$f":"ROUND(AO900+AP900,2)","v":0},null,{"$f":"IF(ISNUMBER(FIND(\"缩短年限60%\",AA900)),IFERROR((1-I900)/(AR900*12),0),0)","v":0},{"$f":"G900*AS900","v":0},{"$f":"IF($T$2<YEAR(J900),0,IF($T$2=YEAR(J900),MAX($V$2-MONTH(J900),0),IF($T$2>YEAR(J900)+AR900,0,IF($T$2=YEAR(J900)+AR900,MIN(MONTH($J900),$V$2),$V$2))))","v":0},{"$f":"ROUND(IF(ISNUMBER(FIND(\"加速折旧\",AA900)),IF(OR(ISNUMBER(FIND(\"500万元以下一次性扣除\",AA900)),ISNUMBER(FIND(\"5000元以下一次性扣除\",AA900))),IF(OR(AND(YEAR(J900)=$T$2,MONTH(J900)<>12),AND(YEAR(J900)=$T$2-1,MONTH(J900)=12)),G900,0),IF(ISNUMBER(FIND(\"缩短年限60%\",AA900)),IF(YEAR(J900)+AR900=$T$2,G900*(1-I900)-(O900-AX900),AT900*AU900),0)),0),2)","v":0},{"$f":"ROUND(IF(ISNUMBER(FIND(\"加速折旧\",AA900)),IF(AB900=\"是\",Q900-AV900,0),0),2)","v":0},null,{"$f":"ROUND(AX900+AW900,20)","v":0},{"$f":"IFERROR(IF(ISNUMBER(FIND(\"不得扣除折旧资产\",AA900)),IF(AB900=\"是\",Q900,0),0),0)","v":0},null,{"$f":"BA900+AZ900","v":0},"不涉及",{"$f":"IF(OR(AC900=\"否\",BC900=\"不涉及\"),0,Q900-AG900-AO900-AW900)","v":0},{"$f":"IF(BC900=\"不涉及\",0,IF(BC900=\"是\",BD900-Q900,BD900))","v":0},{"$f":"AH900+AP900+AX900+BA900","v":0},{"$f":"MAX(0,BJ900)","v":0},{"$f":"MIN(0,BJ900)","v":0},{"$f":"AI900+AQ900+AY900+BB900","v":0},{"$f":"AG900+AO900+AW900+AZ900","v":0},{"$f":"_xlfn.IFS(BJ900>0,\"本年调增\",BJ900<0,\"本年调减\",BJ900=0,\"\")","v":""},"否",{"$f":"IF(AND(BL900=\"是\",BI900<>0),\"请检查\",\"正确\")","v":"正确"},{"$f":"IF(Q900-BJ900<0,\"错误\",\"正确\")","v":"正确"}]
[null,null,null,null,null,null,null,null,null,null,null,null,null,null,null,null,0,null,{"$error":"#DIV/0!"},{"$error":"#DIV/0!"},0,{"$error":"#DIV/0!"},{"$error":"#DIV/0!"},0,null,null,null,null,null,null,0,0,0,null,0,{"$f":"IFERROR(VLOOKUP(Z903,有效性!$D$2:$E$6,2,0),0)","v":0},0,0,0,0,0,null,0,null,0,0,0,0,0,null,0,0,null,0,"不涉及",0,0,0,0,0,0,0,"","否","正确","正确"]
[null,null,null,null,null,null,null,null,null,null,null,null,null,null,null,null,0,null,{"$error":"#DIV/0!"},{"$error":"#DIV/0!"},0,{"$error":"#DIV/0!"},{"$error":"#DIV/0!"},0,null,null,null,null,null,null,0,0,0,null,0,{"$f":"IFERROR(VLOOKUP(Z915,有效性!$D$2:$E$6,2,0),0)","v":0},0,0,0,0,0,null,0,null,0,0,0,0,0,null,0,0,null,0,"不涉及",0,0,0,0,0,0,0,"","否","正确","正确"]
[null,null,null,null,null,null,null,null,null,null,null,null,null,null,null,null,0,null,{"$error":"#DIV/0!"},{"$error":"#DIV/0!"},0,{"$error":"#DIV/0!"},{"$error":"#DIV/0!"},0,null,null,null,null,null,null,0,0,0,null,0,{"$f":"IFERROR(VLOOKUP(Z922,有效性!$D$2:$E$6,2,0),0)","v":0},0,0,0,0,0,null,0,null,0,0,0,0,0,null,0,0,null,0,"不涉及",0,0,0,0,0,0,0,"","否","正确","正确"]
[null,null,null,null,null,null,null,null,null,null,null,null,null,null,null,null,0,null,{"$error":"#DIV/0!"},{"$error":"#DIV/0!"},0,{"$error":"#DIV/0!"},{"$error":"#DIV/0!"},0,null,null,null,null,null,null,0,0,0,null,0,{"$f":"IFERROR(VLOOKUP(Z933,有效性!$D$2:$E$6,2,0),0)","v":0},0,0,0,0,0,null,0,null,0,0,0,0,0,null,0,0,null,0,"不涉及",0,0,0,0,0,0,0,"","否","正确","正确"]
[null,null,null,null,null,null,null,null,null,null,null,null,null,null,null,null,0,null,{"$error":"#DIV/0!"},{"$error":"#DIV/0!"},0,{"$error":"#DIV/0!"},{"$error":"#DIV/0!"},0,null,null,null,null,null,null,0,0,0,null,0,{"$f":"IFERROR(VLOOKUP(Z940,有效性!$D$2:$E$6,2,0),0)","v":0},0,0,0,0,0,null,0,null,0,0,0,0,0,null,0,0,null,0,"不涉及",0,0,0,0,0,0,0,"","否","正确","正确"]
[null,null,null,null,null,null,null,null,null,null,null,null,null,null,null,null,0,null,{"$error":"#DIV/0!"},{"$error":"#DIV/0!"},0,{"$error":"#DIV/0!"},{"$error":"#DIV/0!"},0,null,null,null,null,null,null,0,0,0,null,0,{"$f":"IFERROR(VLOOKUP(Z952,有效性!$D$2:$E$6,2,0),0)","v":0},0,0,0,0,0,null,0,null,0,0,0,0,0,null,0,0,null,0,"不涉及",0,0,0,0,0,0,0,"","否","正确","正确"]
[null,null,null,null,null,null,null,null,null,null,null,null,null,null,null,null,0,null,{"$error":"#DIV/0!"},{"$error":"#DIV/0!"},0,{"$error":"#DIV/0!"},{"$error":"#DIV/0!"},0,null,null,null,null,null,null,0,0,0,null,0,{"$f":"IFERROR(VLOOKUP(Z961,有效性!$D$2:$E$6,2,0),0)","v":0},0,0,0,0,0,null,0,null,0,0,0,0,0,null,0,0,null,0,"不涉及",0,0,0,0,0,0,0,"","否","正确","正确"]
[null,null,null,null,null,null,null,null,null,null,null,null,null,null,null,null,0,null,{"$error":"#DIV/0!"},{"$error":"#DIV/0!"},0,{"$error":"#DIV/0!"},{"$error":"#DIV/0!"},0,null,null,null,null,null,null,0,0,0,null,0,{"$f":"IFERROR(VLOOKUP(Z970,有效性!$D$2:$E$6,2,0),0)","v":0},0,0,0,0,0,null,0,null,0,0,0,0,0,null,0,0,null,0,"不涉及",0,0,0,0,0,0,0,"","否","正确","正确"]
[null,null,null,null,null,null,null,null,null,null,null,null,null,null,null,null,0,null,{"$error":"#DIV/0!"},{"$error":"#DIV/0!"},0,{"$error":"#DIV/0!"},{"$error":"#DIV/0!"},0,null,null,null,null,null,null,0,0,0,null,0,{"$f":"IFERROR(VLOOKUP(Z973,有效性!$D$2:$E$6,2,0),0)","v":0},0,0,0,0,0,null,0,null,0,0,0,0,0,null,0,0,null,0,"不涉及",0,0,0,0,0,0,0,"","否","正确","正确"]
[null,null,null,null,null,null,null,null,null,null,null,null,null,null,null,null,0,null,{"$error":"#DIV/0!"},{"$error":"#DIV/0!"},0,{"$error":"#DIV/0!"},{"$error":"#DIV/0!"},0,null,null,null,null,null,null,0,0,0,null,0,{"$f":"IFERROR(VLOOKUP(Z989,有效性!$D$2:$E$6,2,0),0)","v":0},0,0,0,0,0,null,0,null,0,0,0,0,0,null,0,0,null,0,"不涉及",0,0,0,0,0,0,0,"","否","正确","正确"]
[null,null,null,null,null,null,null,null,null,null,null,null,null,null,null,null,0,null,{"$error":"#DIV/0!"},{"$error":"#DIV/0!"},0,{"$error":"#DIV/0!"},{"$error":"#DIV/0!"},0,null,null,null,null,null,null,0,0,0,null,0,{"$f":"IFERROR(VLOOKUP(Z992,有效性!$D$2:$E$6,2,0),0)","v":0},0,0,0,0,0,null,0,null,0,0,0,0,0,null,0,0,null,0,"不涉及",0,0,0,0,0,0,0,"","否","正确","正确"]
[null,null,null,null,null,null,null,null,null,null,null,null,null,null,null,null,0,null,{"$error":"#DIV/0!"},{"$error":"#DIV/0!"},0,{"$error":"#DIV/0!"},{"$error":"#DIV/0!"},0,null,null,null,null,null,null,0,0,0,null,0,{"$f":"IFERROR(VLOOKUP(Z1003,有效性!$D$2:$E$6,2,0),0)","v":0},0,0,0,0,0,null,0,null,0,0,0,0,0,null,0,0,null,0,"不涉及",0,0,0,0,0,0,0,"","否","正确","正确"]
[null,null,null,null,null,null,null,null,null,null,null,null,null,null,null,null,0,null,{"$error":"#DIV/0!"},{"$error":"#DIV/0!"},0,{"$error":"#DIV/0!"},{"$error":"#DIV/0!"},0,null,null,null,null,null,null,0,0,0,null,0,{"$f":"IFERROR(VLOOKUP(Z1010,有效性!$D$2:$E$6,2,0),0)","v":0},0,0,0,0,0,null,0,null,0,0,0,0,0,null,0,0,null,0,"不涉及",0,0,0,0,0,0,0,"","否","正确","正确"]
[null,null,null,null,null,null,null,null,null,null,null,null,null,null,null,null,0,null,{"$error":"#DIV/0!"},{"$error":"#DIV/0!"},0,{"$error":"#DIV/0!"},{"$error":"#DIV/0!"},0,null,null,null,null,null,null,0,0,0,null,0,{"$f":"IFERROR(VLOOKUP(Z1022,有效性!$D$2:$E$6,2,0),0)","v":0},0,0,0,0,0,null,0,null,0,0,0,0,0,null,0,0,null,0,"不涉及",0,0,0,0,0,0,0,"","否","正确","正确"]
[null,null,null,null,null,null,null,null,null,null,null,null,null,null,null,null,0,null,{"$error":"#DIV/0!"},{"$error":"#DIV/0!"},0,{"$error":"#DIV/0!"},{"$error":"#DIV/0!"},0,null,null,null,null,null,null,0,0,0,null,0,{"$f":"IFERROR(VLOOKUP(Z1031,有效性!$D$2:$E$6,2,0),0)","v":0},0,0,0,0,0,null,0,null,0,0,0,0,0,null,0,0,null,0,"不涉及",0,0,0,0,0,0,0,"","否","正确","正确"]
[null,null,null,null,null,null,null,null,null,null,null,null,null,null,null,null,0,null,{"$error":"#DIV/0!"},{"$error":"#DIV/0!"},0,{"$error":"#DIV/0!"},{"$error":"#DIV/0!"},0,null,null,null,null,null,null,0,0,0,null,0,{"$f":"IFERROR(VLOOKUP(Z1040,有效性!$D$2:$E$6,2,0),0)","v":0},0,0,0,0,0,null,0,null,0,0,0,0,0,null,0,0,null,0,"否",0,0,0,0,0,0,0,"","否","正确","正确"]
[null,null,null,null,null,null,null,null,null,null,null,null,null,null,null,null,0,null,{"$error":"#DIV/0!"},{"$error":"#DIV/0!"},0,{"$error":"#DIV/0!"},{"$error":"#DIV/0!"},0,null,null,null,null,null,null,0,0,0,null,0,{"$f":"IFERROR(VLOOKUP(Z1043,有效性!$D$2:$E$6,2,0),0)","v":0},0,0,0,0,0,null,0,null,0,0,0,0,0,null,0,0,null,0,"不涉及",0,0,0,0,0,0,0,"","否","正确","正确"]
[null,null,null,null,null,null,null,null,null,null,null,null,null,null,null,null,0,null,{"$error":"#DIV/0!"},{"$error":"#DIV/0!"},0,{"$error":"#DIV/0!"},{"$error":"#DIV/0!"},0,null,null,null,null,null,null,0,0,0,null,0,{"$f":"IFERROR(VLOOKUP(Z1059,有效性!$D$2:$E$6,2,0),0)","v":0},0,0,0,0,0,null,0,null,0,0,0,0,0,null,0,0,null,0,"否",0,0,0,0,0,0,0,"","否","正确","正确"]
[null,null,null,null,null,null,null,null,null,null,null,null,null,null,null,null,0,null,{"$error":"#DIV/0!"},{"$error":"#DIV/0!"},0,{"$error":"#DIV/0!"},{"$error":"#DIV/0!"},0,null,null,null,null,null,null,0,0,0,null,0,{"$f":"IFERROR(VLOOKUP(Z1062,有效性!$D$2:$E$6,2,0),0)","v":0},0,0,0,0,0,null,0,null,0,0,0,0,0,null,0,0,null,0,"不涉及",0,0,0,0,0,0,0,"","否","正确","正确"]
[null,null,null,null,null,null,null,null,null,null,null,null,null,null,null,null,0,null,{"$error":"#DIV/0!"},{"$error":"#DIV/0!"},0,{"$error":"#DIV/0!"},{"$error":"#DIV/0!"},0,null,null,null,null,null,null,0,0,0,null,0,{"$f":"IFERROR(VLOOKUP(Z1073,有效性!$D$2:$E$6,2,0),0)","v":0},0,0,0,0,0,null,0,null,0,0,0,0,0,null,0,0,null,0,"不涉及",0,0,0,0,0,0,0,"","否","正确","正确"]
[null,null,null,null,null,null,null,null,null,null,null,null,null,null,null,null,0,null,{"$error":"#DIV/0!"},{"$error":"#DIV/0!"},0,{"$error":"#DIV/0!"},{"$error":"#DIV/0!"},0,null,null,null,null,null,null,0,0,0,null,0,{"$f":"IFERROR(VLOOKUP(Z1080,有效性!$D$2:$E$6,2,0),0)","v":0},0,0,0,0,0,null,0,null,0,0,0,0,0,null,0,0,null,0,"不涉及",0,0,0,0,0,0,0,"","否","正确","正确"]
[null,null,null,null,null,null,null,null,null,null,null,null,null,null,null,null,0,null,{"$f":"(1-I1092)/(K1092*12)","v":{"$error":"#DIV/0!"}},{"$f":"ROUND(G1092*S1092,2)","v":{"$error":"#DIV/0!"}},{"$f":"IF($T$2<YEAR(J1092),0,IF($T$2=YEAR(J1092),MAX($V$2-MONTH(J1092),0),IF($T$2>YEAR(J1092)+K1092,0,IF($T$2=YEAR(J1092)+K1092,MIN(MONTH($J1092),$V$2),$V$2))))","v":0},{"$f":"T1092*U1092","v":{"$error":"#DIV/0!"}},{"$f":"IF(ABS(Q1092-V1092)<=$X$2,0,Q1092-V1092)","v":{"$error":"#DIV/0!"}},{"$f":"IFERROR(IF((W1092/V1092)<$Y$2,0,W1092/V1092),0)","v":0},null,null,null,null,null,null,{"$f":"G1092-AD1092","v":0},{"$f":"IF(ISNUMBER(FIND(\"计税基础差异\",AA1092)),IF(YEAR(J1092)+K1092=$T$2,Q1092-((G1092-AD1092)*(1-I1092)-AH1092),AD1092*S1092*U1092),0)","v":0},{"$f":"IF(ISNUMBER(FIND(\"计税基础差异\",AA1092)),IF(AB1092=\"是\",Q1092-AF1092,0),0)","v":0},null,{"$f":"ROUND(AH1092+AG1092,2)","v":0},{"$f":"IFERROR(VLOOKUP(Z1092,有效性!$D$2:$E$6,2,0),0)","v":0},{"$f":"IFERROR((1-I1092)/(AJ1092*12),0)","v":0},{"$f":"G1092*AK1092","v":0},{"$f":"IF($T$2<YEAR(J1092),0,IF($T$2=YEAR(J1092),MAX($V$2-MONTH(J1092),0),IF($T$2>YEAR(J1092)+AJ1092,0,IF($T$2=YEAR(J1092)+AJ1092,MIN(MONTH($J1092),$V$2),$V$2))))","v":0},{"$f":"IF(ISNUMBER(FIND(\"折旧年限差异\",AA1092)),IF(YEAR(J1092)+AJ1092=$T$2,AP1092,AL1092*AM1092),0)","v":0},{"$f":"ROUND(IF(ISNUMBER(FIND(\"折旧年限差异\",AA1092)),IF(AB1092=\"是\",Q1092-AN1092,0),0),2)","v":0},null,{"$f":"ROUND(AO1092+AP1092,2)","v":0},null,{"$f":"IF(ISNUMBER(FIND(\"缩短年限60%\",AA1092)),IFERROR((1-I1092)/(AR1092*12),0),0)","v":0},{"$f":"G1092*AS1092","v":0},{"$f":"IF($T$2<YEAR(J1092),0,IF($T$2=YEAR(J1092),MAX($V$2-MONTH(J1092),0),IF($T$2>YEAR(J1092)+AR1092,0,IF($T$2=YEAR(J1092)+AR1092,MIN(MONTH($J1092),$V$2),$V$2))))","v":0},{"$f":"ROUND(IF(ISNUMBER(FIND(\"加速折旧\",AA1092)),IF(OR(ISNUMBER(FIND(\"500万元以下一次性扣除\",AA1092)),ISNUMBER(FIND(\"5000元以下一次性扣除\",AA1092))),IF(OR(AND(YEAR(J1092)=$T$2,MONTH(J1092)<>12),AND(YEAR(J1092)=$T$2-1,MONTH(J1092)=12)),G1092,0),IF(ISNUMBER(FIND(\"缩短年限60%\",AA1092)),IF(YEAR(J1092)+AR1092=$T$2,G1092*(1-I1092)-(O1092-AX1092),AT1092*AU1092),0)),0),2)","v":0},{"$f":"ROUND(IF(ISNUMBER(FIND(\"加速折旧\",AA1092)),IF(AB1092=\"是\",Q1092-AV1092,0),0),2)","v":0},null,{"$f":"ROUND(AX1092+AW1092,20)","v":0},{"$f":"IFERROR(IF(ISNUMBER(FIND(\"不得扣除折旧资产\",AA1092)),IF(AB1092=\"是\",Q1092,0),0),0)","v":0},null,{"$f":"BA1092+AZ1092","v":0},"不涉及",{"$f":"IF(OR(AC1092=\"否\",BC1092=\"不涉及\"),0,Q1092-AG1092-AO1092-AW1092)","v":0},{"$f":"IF(BC1092=\"不涉及\",0,IF(BC1092=\"是\",BD1092-Q1092,BD1092))","v":0},{"$f":"AH1092+AP1092+AX1092+BA1092","v":0},{"$f":"MAX(0,BJ1092)","v":0},{"$f":"MIN(0,BJ1092)","v":0},{"$f":"AI1092+AQ1092+AY1092+BB1092","v":0},{"$f":"AG1092+AO1092+AW1092+AZ1092","v":0},{"$f":"_xlfn.IFS(BJ1092>0,\"本年调增\",BJ1092<0,\"本年调减\",BJ1092=0,\"\")","v":""},"否",{"$f":"IF(AND(BL1092=\"是\",BI1092<>0),\"请检查\",\"正确\")","v":"正确"},{"$f":"IF(Q1092-BJ1092<0,\"错误\",\"正确\")","v":"正确"}]
[null,null,null,null,null,null,null,null,null,null,null,null,null,null,null,null,0,null,{"$error":"#DIV/0!"},{"$error":"#DIV/0!"},0,{"$error":"#DIV/0!"},{"$error":"#DIV/0!"},0,null,null,null,null,null,null,0,0,0,null,0,{"$f":"IFERROR(VLOOKUP(Z1101,有效性!$D$2:$E$6,2,0),0)","v":0},0,0,0,0,0,null,0,null,0,0,0,0,0,null,0,0,null,0,"不涉及",0,0,0,0,0,0,0,"","否","正确","正确"]
[null,null,null,null,null,null,null,null,null,null,null,null,null,null,null,null,0,null,{"$error":"#DIV/0!"},{"$error":"#DIV/0!"},0,{"$error":"#DIV/0!"},{"$error":"#DIV/0!"},0,null,null,null,null,null,null,0,0,0,null,0,{"$f":"IFERROR(VLOOKUP(Z1110,有效性!$D$2:$E$6,2,0),0)","v":0},0,0,0,0,0,null,0,null,0,0,0,0,0,null,0,0,null,0,"不涉及",0,0,0,0,0,0,0,"","否","正确","正确"]
[null,null,null,null,null,null,null,null,null,null,null,null,null,null,null,null,0,null,{"$error":"#DIV/0!"},{"$error":"#DIV/0!"},0,{"$error":"#DIV/0!"},{"$error":"#DIV/0!"},0,null,null,null,null,null,null,0,0,0,null,0,{"$f":"IFERROR(VLOOKUP(Z1113,有效性!$D$2:$E$6,2,0),0)","v":0},0,0,0,0,0,null,0,null,0,0,0,0,0,null,0,0,null,0,"不涉及",0,0,0,0,0,0,0,"","否","正确","正确"]
[null,null,null,null,null,null,null,null,null,null,null,null,null,null,null,null,0,null,{"$error":"#DIV/0!"},{"$error":"#DIV/0!"},0,{"$error":"#DIV/0!"},{"$error":"#DIV/0!"},0,null,null,null,null,null,null,0,0,0,null,0,{"$f":"IFERROR(VLOOKUP(Z1129,有效性!$D$2:$E$6,2,0),0)","v":0},0,0,0,0,0,null,0,null,0,0,0,0,0,null,0,0,null,0,"不涉及",0,0,0,0,0,0,0,"","否","正确","正确"]
[null,null,null,null,null,null,null,null,null,null,null,null,null,null,null,null,0,null,{"$error":"#DIV/0!"},{"$error":"#DIV/0!"},0,{"$error":"#DIV/0!"},{"$error":"#DIV/0!"},0,null,null,null,null,null,null,0,0,0,null,0,{"$f":"IFERROR(VLOOKUP(Z1132,有效性!$D$2:$E$6,2,0),0)","v":0},0,0,0,0,0,null,0,null,0,0,0,0,0,null,0,0,null,0,"不涉及",0,0,0,0,0,0,0,"","否","正确","正确"]
[null,null,null,null,null,null,null,null,null,null,null,null,null,null,null,null,0,null,{"$error":"#DIV/0!"},{"$error":"#DIV/0!"},0,{"$error":"#DIV/0!"},{"$error":"#DIV/0!"},0,null,null,null,null,null,null,0,0,0,null,0,{"$f":"IFERROR(VLOOKUP(Z1143,有效性!$D$2:$E$6,2,0),0)","v":0},0,0,0,0,0,null,0,null,0,0,0,0,0,null,0,0,null,0,"不涉及",0,0,0,0,0,0,0,"","否","正确","正确"]
[null,null,null,null,null,null,null,null,null,null,null,null,null,null,null,null,0,null,{"$error":"#DIV/0!"},{"$error":"#DIV/0!"},0,{"$error":"#DIV/0!"},{"$error":"#DIV/0!"},0,null,null,null,null,null,null,0,0,0,null,0,{"$f":"IFERROR(VLOOKUP(Z1150,有效性!$D$2:$E$6,2,0),0)","v":0},0,0,0,0,0,null,0,null,0,0,0,0,0,null,0,0,null,0,"不涉及",0,0,0,0,0,0,0,"","否","正确","正确"]
[null,null,null,null,null,null,null,null,null,null,null,null,null,null,null,null,0,null,{"$error":"#DIV/0!"},{"$error":"#DIV/0!"},0,{"$error":"#DIV/0!"},{"$error":"#DIV/0!"},0,null,null,null,null,null,null,0,0,0,null,0,{"$f":"IFERROR(VLOOKUP(Z1162,有效性!$D$2:$E$6,2,0),0)","v":0},0,0,0,0,0,null,0,null,0,0,0,0,0,null,0,0,null,0,"不涉及",0,0,0,0,0,0,0,"","否","正确","正确"]
[null,null,null,null,null,null,null,null,null,null,null,null,null,null,null,null,0,null,{"$error":"#DIV/0!"},{"$error":"#DIV/0!"},0,{"$error":"#DIV/0!"},{"$error":"#DIV/0!"},0,null,null,null,null,null,null,0,0,0,null,0,{"$f":"IFERROR(VLOOKUP(Z1171,有效性!$D$2:$E$6,2,0),0)","v":0},0,0,0,0,0,null,0,null,0,0,0,0,0,null,0,0,null,0,"不涉及",0,0,0,0,0,0,0,"","否","正确","正确"]
[null,null,null,null,null,null,null,null,null,null,null,null,null,null,null,null,0,null,{"$error":"#DIV/0!"},{"$error":"#DIV/0!"},0,{"$error":"#DIV/0!"},{"$error":"#DIV/0!"},0,null,null,null,null,null,null,0,0,0,null,0,{"$f":"IFERROR(VLOOKUP(Z1180,有效性!$D$2:$E$6,2,0),0)","v":0},0,0,0,0,0,null,0,null,0,0,0,0,0,null,0,0,null,0,"不涉及",0,0,0,0,0,0,0,"","否","正确","正确"]
[null,null,null,null,null,null,null,null,null,null,null,null,null,null,null,null,0,null,{"$error":"#DIV/0!"},{"$error":"#DIV/0!"},0,{"$error":"#DIV/0!"},{"$error":"#DIV/0!"},0,null,null,null,null,null,null,0,0,0,null,0,{"$f":"IFERROR(VLOOKUP(Z1183,有效性!$D$2:$E$6,2,0),0)","v":0},0,0,0,0,0,null,0,null,0,0,0,0,0,null,0,0,null,0,"不涉及",0,0,0,0,0,0,0,"","否","正确","正确"]
[null,null,null,null,null,null,null,null,null,null,null,null,null,null,null,null,0,null,{"$error":"#DIV/0!"},{"$error":"#DIV/0!"},0,{"$error":"#DIV/0!"},{"$error":"#DIV/0!"},0,null,null,null,null,null,null,0,0,0,null,0,{"$f":"IFERROR(VLOOKUP(Z1199,有效性!$D$2:$E$6,2,0),0)","v":0},0,0,0,0,0,null,0,null,0,0,0,0,0,null,0,0,null,0,"不涉及",0,0,0,0,0,0,0,"","否","正确","正确"]
[null,null,null,null,null,null,null,null,null,null,null,null,null,null,null,null,0,null,{"$error":"#DIV/0!"},{"$error":"#DIV/0!"},0,{"$error":"#DIV/0!"},{"$error":"#DIV/0!"},0,null,null,null,null,null,null,0,0,0,null,0,{"$f":"IFERROR(VLOOKUP(Z1202,有效性!$D$2:$E$6,2,0),0)","v":0},0,0,0,0,0,null,0,null,0,0,0,0,0,null,0,0,null,0,"不涉及",0,0,0,0,0,0,0,"","否","正确","正确"]
[null,null,null,null,null,null,null,null,null,null,null,null,null,null,null,null,0,null,{"$error":"#DIV/0!"},{"$error":"#DIV/0!"},0,{"$error":"#DIV/0!"},{"$error":"#DIV/0!"},0,null,null,null,null,null,null,0,0,0,null,0,{"$f":"IFERROR(VLOOKUP(Z1213,有效性!$D$2:$E$6,2,0),0)","v":0},0,0,0,0,0,null,0,null,0,0,0,0,0,null,0,0,null,0,"不涉及",0,0,0,0,0,0,0,"","否","正确","正确"]
[null,null,null,null,null,null,null,null,null,null,null,null,null,null,null,null,0,null,{"$f":"(1-I1220)/(K1220*12)","v":{"$error":"#DIV/0!"}},{"$f":"ROUND(G1220*S1220,2)","v":{"$error":"#DIV/0!"}},{"$f":"IF($T$2<YEAR(J1220),0,IF($T$2=YEAR(J1220),MAX($V$2-MONTH(J1220),0),IF($T$2>YEAR(J1220)+K1220,0,IF($T$2=YEAR(J1220)+K1220,MIN(MONTH($J1220),$V$2),$V$2))))","v":0},{"$f":"T1220*U1220","v":{"$error":"#DIV/0!"}},{"$f":"IF(ABS(Q1220-V1220)<=$X$2,0,Q1220-V1220)","v":{"$error":"#DIV/0!"}},{"$f":"IFERROR(IF((W1220/V1220)<$Y$2,0,W1220/V1220),0)","v":0},null,null,null,null,null,null,{"$f":"G1220-AD1220","v":0},{"$f":"IF(ISNUMBER(FIND(\"计税基础差异\",AA1220)),IF(YEAR(J1220)+K1220=$T$2,Q1220-((G1220-AD1220)*(1-I1220)-AH1220),AD1220*S1220*U1220),0)","v":0},{"$f":"IF(ISNUMBER(FIND(\"计税基础差异\",AA1220)),IF(AB1220=\"是\",Q1220-AF1220,0),0)","v":0},null,{"$f":"ROUND(AH1220+AG1220,2)","v":0},{"$f":"IFERROR(VLOOKUP(Z1220,有效性!$D$2:$E$6,2,0),0)","v":0},{"$f":"IFERROR((1-I1220)/(AJ1220*12),0)","v":0},{"$f":"G1220*AK1220","v":0},{"$f":"IF($T$2<YEAR(J1220),0,IF($T$2=YEAR(J1220),MAX($V$2-MONTH(J1220),0),IF($T$2>YEAR(J1220)+AJ1220,0,IF($T$2=YEAR(J1220)+AJ1220,MIN(MONTH($J1220),$V$2),$V$2))))","v":0},{"$f":"IF(ISNUMBER(FIND(\"折旧年限差异\",AA1220)),IF(YEAR(J1220)+AJ1220=$T$2,AP1220,AL1220*AM1220),0)","v":0},{"$f":"ROUND(IF(ISNUMBER(FIND(\"折旧年限差异\",AA1220)),IF(AB1220=\"是\",Q1220-AN1220,0),0),2)","v":0},null,{"$f":"ROUND(AO1220+AP1220,2)","v":0},null,{"$f":"IF(ISNUMBER(FIND(\"缩短年限60%\",AA1220)),IFERROR((1-I1220)/(AR1220*12),0),0)","v":0},{"$f":"G1220*AS1220","v":0},{"$f":"IF($T$2<YEAR(J1220),0,IF($T$2=YEAR(J1220),MAX($V$2-MONTH(J1220),0),IF($T$2>YEAR(J1220)+AR1220,0,IF($T$2=YEAR(J1220)+AR1220,MIN(MONTH($J1220),$V$2),$V$2))))","v":0},{"$f":"ROUND(IF(ISNUMBER(FIND(\"加速折旧\",AA1220)),IF(OR(ISNUMBER(FIND(\"500万元以下一次性扣除\",AA1220)),ISNUMBER(FIND(\"5000元以下一次性扣除\",AA1220))),IF(OR(AND(YEAR(J1220)=$T$2,MONTH(J1220)<>12),AND(YEAR(J1220)=$T$2-1,MONTH(J1220)=12)),G1220,0),IF(ISNUMBER(FIND(\"缩短年限60%\",AA1220)),IF(YEAR(J1220)+AR1220=$T$2,G1220*(1-I1220)-(O1220-AX1220),AT1220*AU1220),0)),0),2)","v":0},{"$f":"ROUND(IF(ISNUMBER(FIND(\"加速折旧\",AA1220)),IF(AB1220=\"是\",Q1220-AV1220,0),0),2)","v":0},null,{"$f":"ROUND(AX1220+AW1220,20)","v":0},{"$f":"IFERROR(IF(ISNUMBER(FIND(\"不得扣除折旧资产\",AA1220)),IF(AB1220=\"是\",Q1220,0),0),0)","v":0},null,{"$f":"BA1220+AZ1220","v":0},"不涉及",{"$f":"IF(OR(AC1220=\"否\",BC1220=\"不涉及\"),0,Q1220-AG1220-AO1220-AW1220)","v":0},{"$f":"IF(BC1220=\"不涉及\",0,IF(BC1220=\"是\",BD1220-Q1220,BD1220))","v":0},{"$f":"AH1220+AP1220+AX1220+BA1220","v":0},{"$f":"MAX(0,BJ1220)","v":0},{"$f":"MIN(0,BJ1220)","v":0},{"$f":"AI1220+AQ1220+AY1220+BB1220","v":0},{"$f":"AG1220+AO1220+AW1220+AZ1220","v":0},{"$f":"_xlfn.IFS(BJ1220>0,\"本年调增\",BJ1220<0,\"本年调减\",BJ1220=0,\"\")","v":""},"否",{"$f":"IF(AND(BL1220=\"是\",BI1220<>0),\"请检查\",\"正确\")","v":"正确"},{"$f":"IF(Q1220-BJ1220<0,\"错误\",\"正确\")","v":"正确"}]
[null,null,null,null,null,null,null,null,null,null,null,null,null,null,null,null,0,null,{"$error":"#DIV/0!"},{"$error":"#DIV/0!"},0,{"$error":"#DIV/0!"},{"$error":"#DIV/0!"},0,null,null,null,null,null,null,0,0,0,null,0,{"$f":"IFERROR(VLOOKUP(Z1232,有效性!$D$2:$E$6,2,0),0)","v":0},0,0,0,0,0,null,0,null,0,0,0,0,0,null,0,0,null,0,"不涉及",0,0,0,0,0,0,0,"","否","正确","正确"]
[null,null,null,null,null,null,null,null,null,null,null,null,null,null,null,null,0,null,{"$error":"#DIV/0!"},{"$error":"#DIV/0!"},0,{"$error":"#DIV/0!"},{"$error":"#DIV/0!"},0,null,null,null,null,null,null,0,0,0,null,0,{"$f":"IFERROR(VLOOKUP(Z1241,有效性!$D$2:$E$6,2,0),0)","v":0},0,0,0,0,0,null,0,null,0,0,0,0,0,null,0,0,null,0,"不涉及",0,0,0,0,0,0,0,"","否","正确","正确"]
[null,null,null,null,null,null,null,null,null,null,null,null,null,null,null,null,0,null,{"$error":"#DIV/0!"},{"$error":"#DIV/0!"},0,{"$error":"#DIV/0!"},{"$error":"#DIV/0!"},0,null,null,null,null,null,null,0,0,0,null,0,{"$f":"IFERROR(VLOOKUP(Z1250,有效性!$D$2:$E$6,2,0),0)","v":0},0,0,0,0,0,null,0,null,0,0,0,0,0,null,0,0,null,0,"不涉及",0,0,0,0,0,0,0,"","否","正确","正确"]
[null,null,null,null,null,null,null,null,null,null,null,null,null,null,null,null,0,null,{"$error":"#DIV/0!"},{"$error":"#DIV/0!"},0,{"$error":"#DIV/0!"},{"$error":"#DIV/0!"},0,null,null,null,null,null,null,0,0,0,null,0,{"$f":"IFERROR(VLOOKUP(Z1253,有效性!$D$2:$E$6,2,0),0)","v":0},0,0,0,0,0,null,0,null,0,0,0,0,0,null,0,0,null,0,"不涉及",0,0,0,0,0,0,0,"","否","正确","正确"]
[null,null,null,null,null,null,null,null,null,null,null,null,null,null,null,null,0,null,{"$error":"#DIV/0!"},{"$error":"#DIV/0!"},0,{"$error":"#DIV/0!"},{"$error":"#DIV/0!"},0,null,null,null,null,null,null,0,0,0,null,0,{"$f":"IFERROR(VLOOKUP(Z1269,有效性!$D$2:$E$6,2,0),0)","v":0},0,0,0,0,0,null,0,null,0,0,0,0,0,null,0,0,null,0,"不涉及",0,0,0,0,0,0,0,"","否","正确","正确"]
[null,null,null,null,null,null,null,null,null,null,null,null,null,null,null,null,0,null,{"$error":"#DIV/0!"},{"$error":"#DIV/0!"},0,{"$error":"#DIV/0!"},{"$error":"#DIV/0!"},0,null,null,null,null,null,null,0,0,0,null,0,{"$f":"IFERROR(VLOOKUP(Z1272,有效性!$D$2:$E$6,2,0),0)","v":0},0,0,0,0,0,null,0,null,0,0,0,0,0,null,0,0,null,0,"不涉及",0,0,0,0,0,0,0,"","否","正确","正确"]
[null,null,null,null,null,null,null,null,null,null,null,null,null,null,null,null,0,null,{"$error":"#DIV/0!"},{"$error":"#DIV/0!"},0,{"$error":"#DIV/0!"},{"$error":"#DIV/0!"},0,null,null,null,null,null,null,0,0,0,null,0,{"$f":"IFERROR(VLOOKUP(Z1283,有效性!$D$2:$E$6,2,0),0)","v":0},0,0,0,0,0,null,0,null,0,0,0,0,0,null,0,0,null,0,"不涉及",0,0,0,0,0,0,0,"","否","正确","正确"]
[null,null,null,null,null,null,null,null,null,null,null,null,null,null,null,null,0,null,{"$error":"#DIV/0!"},{"$error":"#DIV/0!"},0,{"$error":"#DIV/0!"},{"$error":"#DIV/0!"},0,null,null,null,null,null,null,0,0,0,null,0,{"$f":"IFERROR(VLOOKUP(Z1290,有效性!$D$2:$E$6,2,0),0)","v":0},0,0,0,0,0,null,0,null,0,0,0,0,0,null,0,0,null,0,"否",0,0,0,0,0,0,0,"","否","正确","正确"]
[null,null,null,null,null,null,null,null,null,null,null,null,null,null,null,null,0,null,{"$error":"#DIV/0!"},{"$error":"#DIV/0!"},0,{"$error":"#DIV/0!"},{"$error":"#DIV/0!"},0,null,null,null,null,null,null,0,0,0,null,0,{"$f":"IFERROR(VLOOKUP(Z1302,有效性!$D$2:$E$6,2,0),0)","v":0},0,0,0,0,0,null,0,null,0,0,0,0,0,null,0,0,null,0,"不涉及",0,0,0,0,0,0,0,"","否","正确","正确"]
[null,null,null,null,null,null,null,null,null,null,null,null,null,null,null,null,0,null,{"$error":"#DIV/0!"},{"$error":"#DIV/0!"},0,{"$error":"#DIV/0!"},{"$error":"#DIV/0!"},0,null,null,null,null,null,null,0,0,0,null,0,{"$f":"IFERROR(VLOOKUP(Z1311,有效性!$D$2:$E$6,2,0),0)","v":0},0,0,0,0,0,null,0,null,0,0,0,0,0,null,0,0,null,0,"不涉及",0,0,0,0,0,0,0,"","否","正确","正确"]
[null,null,null,null,null,null,null,null,null,null,null,null,null,null,null,null,0,null,{"$error":"#DIV/0!"},{"$error":"#DIV/0!"},0,{"$error":"#DIV/0!"},{"$error":"#DIV/0!"},0,null,null,null,null,null,null,0,0,0,null,0,{"$f":"IFERROR(VLOOKUP(Z1320,有效性!$D$2:$E$6,2,0),0)","v":0},0,0,0,0,0,null,0,null,0,0,0,0,0,null,0,0,null,0,"不涉及",0,0,0,0,0,0,0,"","否","正确","正确"]
[null,null,null,null,null,null,null,null,null,null,null,null,null,null,null,null,0,null,{"$error":"#DIV/0!"},{"$error":"#DIV/0!"},0,{"$error":"#DIV/0!"},{"$error":"#DIV/0!"},0,null,null,null,null,null,null,0,0,0,null,0,{"$f":"IFERROR(VLOOKUP(Z1323,有效性!$D$2:$E$6,2,0),0)","v":0},0,0,0,0,0,null,0,null,0,0,0,0,0,null,0,0,null,0,"不涉及",0,0,0,0,0,0,0,"","否","正确","正确"]
[null,null,null,null,null,null,null,null,null,null,null,null,null,null,null,null,0,null,{"$error":"#DIV/0!"},{"$error":"#DIV/0!"},0,{"$error":"#DIV/0!"},{"$error":"#DIV/0!"},0,null,null,null,null,null,null,0,0,0,null,0,{"$f":"IFERROR(VLOOKUP(Z1339,有效性!$D$2:$E$6,2,0),0)","v":0},0,0,0,0,0,null,0,null,0,0,0,0,0,null,0,0,null,0,"不涉及",0,0,0,0,0,0,0,"","否","正确","正确"]
[null,null,null,null,null,null,null,null,null,null,null,null,null,null,null,null,0,null,{"$error":"#DIV/0!"},{"$error":"#DIV/0!"},0,{"$error":"#DIV/0!"},{"$error":"#DIV/0!"},0,null,null,null,null,null,null,0,0,0,null,0,{"$f":"IFERROR(VLOOKUP(Z1342,有效性!$D$2:$E$6,2,0),0)","v":0},0,0,0,0,0,null,0,null,0,0,0,0,0,null,0,0,null,0,"不涉及",0,0,0,0,0,0,0,"","否","正确","正确"]
[null,null,null,null,null,null,null,null,null,null,null,null,null,null,null,null,0,null,{"$error":"#DIV/0!"},{"$error":"#DIV/0!"},0,{"$error":"#DIV/0!"},{"$error":"#DIV/0!"},0,null,null,null,null,null,null,0,0,0,null,0,{"$f":"IFERROR(VLOOKUP(Z1357,有效性!$D$2:$E$6,2,0),0)","v":0},0,0,0,0,0,null,0,null,0,0,0,0,0,null,0,0,null,0,"不涉及",0,0,0,0,0,0,0,"","否","正确","正确"]
[null,null,null,null,null,null,null,null,null,null,null,null,null,null,null,null,0,null,{"$error":"#DIV/0!"},{"$error":"#DIV/0!"},0,{"$error":"#DIV/0!"},{"$error":"#DIV/0!"},0,null,null,null,null,null,null,0,0,0,null,0,{"$f":"IFERROR(VLOOKUP(Z1360,有效性!$D$2:$E$6,2,0),0)","v":0},0,0,0,0,0,null,0,null,0,0,0,0,0,null,0,0,null,0,"不涉及",0,0,0,0,0,0,0,"","否","正确","正确"]
[null,null,null,null,null,null,null,null,null,null,null,null,null,null,null,null,0,null,{"$error":"#DIV/0!"},{"$error":"#DIV/0!"},0,{"$error":"#DIV/0!"},{"$error":"#DIV/0!"},0,null,null,null,null,null,null,0,0,0,null,0,{"$f":"IFERROR(VLOOKUP(Z1372,有效性!$D$2:$E$6,2,0),0)","v":0},0,0,0,0,0,null,0,null,0,0,0,0,0,null,0,0,null,0,"不涉及",0,0,0,0,0,0,0,"","否","正确","正确"]
[null,null,null,null,null,null,null,null,null,null,null,null,null,null,null,null,0,null,{"$error":"#DIV/0!"},{"$error":"#DIV/0!"},0,{"$error":"#DIV/0!"},{"$error":"#DIV/0!"},0,null,null,null,null,null,null,0,0,0,null,0,{"$f":"IFERROR(VLOOKUP(Z1381,有效性!$D$2:$E$6,2,0),0)","v":0},0,0,0,0,0,null,0,null,0,0,0,0,0,null,0,0,null,0,"不涉及",0,0,0,0,0,0,0,"","否","正确","正确"]
[null,null,null,null,null,null,null,null,null,null,null,null,null,null,null,null,0,null,{"$error":"#DIV/0!"},{"$error":"#DIV/0!"},0,{"$error":"#DIV/0!"},{"$error":"#DIV/0!"},0,null,null,null,null,null,null,0,0,0,null,0,{"$f":"IFERROR(VLOOKUP(Z1390,有效性!$D$2:$E$6,2,0),0)","v":0},0,0,0,0,0,null,0,null,0,0,0,0,0,null,0,0,null,0,"不涉及",0,0,0,0,0,0,0,"","否","正确","正确"]
[null,null,null,null,null,null,null,null,null,null,null,null,null,null,null,null,0,null,{"$error":"#DIV/0!"},{"$error":"#DIV/0!"},0,{"$error":"#DIV/0!"},{"$error":"#DIV/0!"},0,null,null,null,null,null,null,0,0,0,null,0,{"$f":"IFERROR(VLOOKUP(Z1393,有效性!$D$2:$E$6,2,0),0)","v":0},0,0,0,0,0,null,0,null,0,0,0,0,0,null,0,0,null,0,"不涉及",0,0,0,0,0,0,0,"","否","正确","正确"]
[null,null,null,null,null,null,null,null,null,null,null,null,null,null,null,null,0,null,{"$error":"#DIV/0!"},{"$error":"#DIV/0!"},0,{"$error":"#DIV/0!"},{"$error":"#DIV/0!"},0,null,null,null,null,null,null,0,0,0,null,0,{"$f":"IFERROR(VLOOKUP(Z1409,有效性!$D$2:$E$6,2,0),0)","v":0},0,0,0,0,0,null,0,null,0,0,0,0,0,null,0,0,null,0,"不涉及",0,0,0,0,0,0,0,"","否","正确","正确"]
[null,null,null,null,null,null,null,null,null,null,null,null,null,null,null,null,0,null,{"$f":"(1-I1412)/(K1412*12)","v":{"$error":"#DIV/0!"}},{"$f":"ROUND(G1412*S1412,2)","v":{"$error":"#DIV/0!"}},{"$f":"IF($T$2<YEAR(J1412),0,IF($T$2=YEAR(J1412),MAX($V$2-MONTH(J1412),0),IF($T$2>YEAR(J1412)+K1412,0,IF($T$2=YEAR(J1412)+K1412,MIN(MONTH($J1412),$V$2),$V$2))))","v":0},{"$f":"T1412*U1412","v":{"$error":"#DIV/0!"}},{"$f":"IF(ABS(Q1412-V1412)<=$X$2,0,Q1412-V1412)","v":{"$error":"#DIV/0!"}},{"$f":"IFERROR(IF((W1412/V1412)<$Y$2,0,W1412/V1412),0)","v":0},null,null,null,null,null,null,{"$f":"G1412-AD1412","v":0},{"$f":"IF(ISNUMBER(FIND(\"计税基础差异\",AA1412)),IF(YEAR(J1412)+K1412=$T$2,Q1412-((G1412-AD1412)*(1-I1412)-AH1412),AD1412*S1412*U1412),0)","v":0},{"$f":"IF(ISNUMBER(FIND(\"计税基础差异\",AA1412)),IF(AB1412=\"是\",Q1412-AF1412,0),0)","v":0},null,{"$f":"ROUND(AH1412+AG1412,2)","v":0},{"$f":"IFERROR(VLOOKUP(Z1412,有效性!$D$2:$E$6,2,0),0)","v":0},{"$f":"IFERROR((1-I1412)/(AJ1412*12),0)","v":0},{"$f":"G1412*AK1412","v":0},{"$f":"IF($T$2<YEAR(J1412),0,IF($T$2=YEAR(J1412),MAX($V$2-MONTH(J1412),0),IF($T$2>YEAR(J1412)+AJ1412,0,IF($T$2=YEAR(J1412)+AJ1412,MIN(MONTH($J1412),$V$2),$V$2))))","v":0},{"$f":"IF(ISNUMBER(FIND(\"折旧年限差异\",AA1412)),IF(YEAR(J1412)+AJ1412=$T$2,AP1412,AL1412*AM1412),0)","v":0},{"$f":"ROUND(IF(ISNUMBER(FIND(\"折旧年限差异\",AA1412)),IF(AB1412=\"是\",Q1412-AN1412,0),0),2)","v":0},null,{"$f":"ROUND(AO1412+AP1412,2)","v":0},null,{"$f":"IF(ISNUMBER(FIND(\"缩短年限60%\",AA1412)),IFERROR((1-I1412)/(AR1412*12),0),0)","v":0},{"$f":"G1412*AS1412","v":0},{"$f":"IF($T$2<YEAR(J1412),0,IF($T$2=YEAR(J1412),MAX($V$2-MONTH(J1412),0),IF($T$2>YEAR(J1412)+AR1412,0,IF($T$2=YEAR(J1412)+AR1412,MIN(MONTH($J1412),$V$2),$V$2))))","v":0},{"$f":"ROUND(IF(ISNUMBER(FIND(\"加速折旧\",AA1412)),IF(OR(ISNUMBER(FIND(\"500万元以下一次性扣除\",AA1412)),ISNUMBER(FIND(\"5000元以下一次性扣除\",AA1412))),IF(OR(AND(YEAR(J1412)=$T$2,MONTH(J1412)<>12),AND(YEAR(J1412)=$T$2-1,MONTH(J1412)=12)),G1412,0),IF(ISNUMBER(FIND(\"缩短年限60%\",AA1412)),IF(YEAR(J1412)+AR1412=$T$2,G1412*(1-I1412)-(O1412-AX1412),AT1412*AU1412),0)),0),2)","v":0},{"$f":"ROUND(IF(ISNUMBER(FIND(\"加速折旧\",AA1412)),IF(AB1412=\"是\",Q1412-AV1412,0),0),2)","v":0},null,{"$f":"ROUND(AX1412+AW1412,20)","v":0},{"$f":"IFERROR(IF(ISNUMBER(FIND(\"不得扣除折旧资产\",AA1412)),IF(AB1412=\"是\",Q1412,0),0),0)","v":0},null,{"$f":"BA1412+AZ1412","v":0},"不涉及",{"$f":"IF(OR(AC1412=\"否\",BC1412=\"不涉及\"),0,Q1412-AG1412-AO1412-AW1412)","v":0},{"$f":"IF(BC1412=\"不涉及\",0,IF(BC1412=\"是\",BD1412-Q1412,BD1412))","v":0},{"$f":"AH1412+AP1412+AX1412+BA1412","v":0},{"$f":"MAX(0,BJ1412)","v":0},{"$f":"MIN(0,BJ1412)","v":0},{"$f":"AI1412+AQ1412+AY1412+BB1412","v":0},{"$f":"AG1412+AO1412+AW1412+AZ1412","v":0},{"$f":"_xlfn.IFS(BJ1412>0,\"本年调增\",BJ1412<0,\"本年调减\",BJ1412=0,\"\")","v":""},"否",{"$f":"IF(AND(BL1412=\"是\",BI1412<>0),\"请检查\",\"正确\")","v":"正确"},{"$f":"IF(Q1412-BJ1412<0,\"错误\",\"正确\")","v":"正确"}]
[null,null,null,null,null,null,null,null,null,null,null,null,null,null,null,null,0,null,{"$error":"#DIV/0!"},{"$error":"#DIV/0!"},0,{"$error":"#DIV/0!"},{"$error":"#DIV/0!"},0,null,null,null,null,null,null,0,0,0,null,0,{"$f":"IFERROR(VLOOKUP(Z1427,有效性!$D$2:$E$6,2,0),0)","v":0},0,0,0,0,0,null,0,null,0,0,0,0,0,null,0,0,null,0,"不涉及",0,0,0,0,0,0,0,"","否","正确","正确"]
[null,null,null,null,null,null,null,null,null,null,null,null,null,null,null,null,0,null,{"$error":"#DIV/0!"},{"$error":"#DIV/0!"},0,{"$error":"#DIV/0!"},{"$error":"#DIV/0!"},0,null,null,null,null,null,null,0,0,0,null,0,{"$f":"IFERROR(VLOOKUP(Z1430,有效性!$D$2:$E$6,2,0),0)","v":0},0,0,0,0,0,null,0,null,0,0,0,0,0,null,0,0,null,0,"不涉及",0,0,0,0,0,0,0,"","否","正确","正确"]
[null,null,null,null,null,null,null,null,null,null,null,null,null,null,null,null,0,null,{"$error":"#DIV/0!"},{"$error":"#DIV/0!"},0,{"$error":"#DIV/0!"},{"$error":"#DIV/0!"},0,null,null,null,null,null,null,0,0,0,null,0,{"$f":"IFERROR(VLOOKUP(Z1442,有效性!$D$2:$E$6,2,0),0)","v":0},0,0,0,0,0,null,0,null,0,0,0,0,0,null,0,0,null,0,"不涉及",0,0,0,0,0,0,0,"","否","正确","正确"]
[null,null,null,null,null,null,null,null,null,null,null,null,null,null,null,null,0,null,{"$error":"#DIV/0!"},{"$error":"#DIV/0!"},0,{"$error":"#DIV/0!"},{"$error":"#DIV/0!"},0,null,null,null,null,null,null,0,0,0,null,0,{"$f":"IFERROR(VLOOKUP(Z1451,有效性!$D$2:$E$6,2,0),0)","v":0},0,0,0,0,0,null,0,null,0,0,0,0,0,null,0,0,null,0,"不涉及",0,0,0,0,0,0,0,"","否","正确","正确"]
[null,null,null,null,null,null,null,null,null,null,null,null,null,null,null,null,0,null,{"$error":"#DIV/0!"},{"$error":"#DIV/0!"},0,{"$error":"#DIV/0!"},{"$error":"#DIV/0!"},0,null,null,null,null,null,null,0,0,0,null,0,{"$f":"IFERROR(VLOOKUP(Z1460,有效性!$D$2:$E$6,2,0),0)","v":0},0,0,0,0,0,null,0,null,0,0,0,0,0,null,0,0,null,0,"不涉及",0,0,0,0,0,0,0,"","否","正确","正确"]
[null,null,null,null,null,null,null,null,null,null,null,null,null,null,null,null,0,null,{"$error":"#DIV/0!"},{"$error":"#DIV/0!"},0,{"$error":"#DIV/0!"},{"$error":"#DIV/0!"},0,null,null,null,null,null,null,0,0,0,null,0,{"$f":"IFERROR(VLOOKUP(Z1467,有效性!$D$2:$E$6,2,0),0)","v":0},0,0,0,0,0,null,0,null,0,0,0,0,0,null,0,0,null,0,"不涉及",0,0,0,0,0,0,0,"","否","正确","正确"]
[null,null,null,null,null,null,null,null,null,null,null,null,null,null,null,null,0,null,{"$error":"#DIV/0!"},{"$error":"#DIV/0!"},0,{"$error":"#DIV/0!"},{"$error":"#DIV/0!"},0,null,null,null,null,null,null,0,0,0,null,0,{"$f":"IFERROR(VLOOKUP(Z1479,有效性!$D$2:$E$6,2,0),0)","v":0},0,0,0,0,0,null,0,null,0,0,0,0,0,null,0,0,null,0,"不涉及",0,0,0,0,0,0,0,"","否","正确","正确"]
[null,null,null,null,null,null,null,null,null,null,null,null,null,null,null,null,0,null,{"$error":"#DIV/0!"},{"$error":"#DIV/0!"},0,{"$error":"#DIV/0!"},{"$error":"#DIV/0!"},0,null,null,null,null,null,null,0,0,0,null,0,{"$f":"IFERROR(VLOOKUP(Z1482,有效性!$D$2:$E$6,2,0),0)","v":0},0,0,0,0,0,null,0,null,0,0,0,0,0,null,0,0,null,0,"不涉及",0,0,0,0,0,0,0,"","否","正确","正确"]
[null,null,null,null,null,null,null,null,null,null,null,null,null,null,null,null,0,null,{"$error":"#DIV/0!"},{"$error":"#DIV/0!"},0,{"$error":"#DIV/0!"},{"$error":"#DIV/0!"},0,null,null,null,null,null,null,0,0,0,null,0,{"$f":"IFERROR(VLOOKUP(Z1497,有效性!$D$2:$E$6,2,0),0)","v":0},0,0,0,0,0,null,0,null,0,0,0,0,0,null,0,0,null,0,"否",0,0,0,0,0,0,0,"","否","正确","正确"]
[null,null,null,null,null,null,null,null,null,null,null,null,null,null,null,null,0,null,{"$error":"#DIV/0!"},{"$error":"#DIV/0!"},0,{"$error":"#DIV/0!"},{"$error":"#DIV/0!"},0,null,null,null,null,null,null,0,0,0,null,0,{"$f":"IFERROR(VLOOKUP(Z1500,有效性!$D$2:$E$6,2,0),0)","v":0},0,0,0,0,0,null,0,null,0,0,0,0,0,null,0,0,null,0,"否",0,0,0,0,0,0,0,"","否","正确","正确"]
[null,null,null,null,null,null,null,null,null,null,null,null,null,null,null,null,0,null,{"$error":"#DIV/0!"},{"$error":"#DIV/0!"},0,{"$error":"#DIV/0!"},{"$error":"#DIV/0!"},0,null,null,null,null,null,null,0,0,0,null,0,{"$f":"IFERROR(VLOOKUP(Z1512,有效性!$D$2:$E$6,2,0),0)","v":0},0,0,0,0,0,null,0,null,0,0,0,0,0,null,0,0,null,0,"否",0,0,0,0,0,0,0,"","否","正确","正确"]
[null,null,null,null,null,null,null,null,null,null,null,null,null,null,null,null,0,null,{"$error":"#DIV/0!"},{"$error":"#DIV/0!"},0,{"$error":"#DIV/0!"},{"$error":"#DIV/0!"},0,null,null,null,null,null,null,0,0,0,null,0,{"$f":"IFERROR(VLOOKUP(Z1521,有效性!$D$2:$E$6,2,0),0)","v":0},0,0,0,0,0,null,0,null,0,0,0,0,0,null,0,0,null,0,"否",0,0,0,0,0,0,0,"","否","正确","正确"]
[null,null,null,null,null,null,null,null,null,null,null,null,null,null,null,null,0,null,{"$error":"#DIV/0!"},{"$error":"#DIV/0!"},0,{"$error":"#DIV/0!"},{"$error":"#DIV/0!"},0,null,null,null,null,null,null,0,0,0,null,0,{"$f":"IFERROR(VLOOKUP(Z1530,有效性!$D$2:$E$6,2,0),0)","v":0},0,0,0,0,0,null,0,null,0,0,0,0,0,null,0,0,null,0,"否",0,0,0,0,0,0,0,"","否","正确","正确"]
[null,null,null,null,null,null,null,null,null,null,null,null,null,null,null,null,0,null,{"$error":"#DIV/0!"},{"$error":"#DIV/0!"},0,{"$error":"#DIV/0!"},{"$error":"#DIV/0!"},0,null,null,null,null,null,null,0,0,0,null,0,{"$f":"IFERROR(VLOOKUP(Z1537,有效性!$D$2:$E$6,2,0),0)","v":0},0,0,0,0,0,null,0,null,0,0,0,0,0,null,0,0,null,0,"不涉及",0,0,0,0,0,0,0,"","否","正确","正确"]
[null,null,null,null,null,null,null,null,null,null,null,null,null,null,null,null,0,null,{"$error":"#DIV/0!"},{"$error":"#DIV/0!"},0,{"$error":"#DIV/0!"},{"$error":"#DIV/0!"},0,null,null,null,null,null,null,0,0,0,null,0,{"$f":"IFERROR(VLOOKUP(Z1549,有效性!$D$2:$E$6,2,0),0)","v":0},0,0,0,0,0,null,0,null,0,0,0,0,0,null,0,0,null,0,"不涉及",0,0,0,0,0,0,0,"","否","正确","正确"]
[null,null,null,null,null,null,null,null,null,null,null,null,null,null,null,null,0,null,{"$error":"#DIV/0!"},{"$error":"#DIV/0!"},0,{"$error":"#DIV/0!"},{"$error":"#DIV/0!"},0,null,null,null,null,null,null,0,0,0,null,0,{"$f":"IFERROR(VLOOKUP(Z1552,有效性!$D$2:$E$6,2,0),0)","v":0},0,0,0,0,0,null,0,null,0,0,0,0,0,null,0,0,null,0,"否",0,0,0,0,0,0,0,"","否","正确","正确"]
[null,null,null,null,null,null,null,null,null,null,null,null,null,null,null,null,0,null,{"$error":"#DIV/0!"},{"$error":"#DIV/0!"},0,{"$error":"#DIV/0!"},{"$error":"#DIV/0!"},0,null,null,null,null,null,null,0,0,0,null,0,{"$f":"IFERROR(VLOOKUP(Z1567,有效性!$D$2:$E$6,2,0),0)","v":0},0,0,0,0,0,null,0,null,0,0,0,0,0,null,0,0,null,0,"不涉及",0,0,0,0,0,0,0,"","否","正确","正确"]
[null,null,null,null,null,null,null,null,null,null,null,null,null,null,null,null,0,null,{"$error":"#DIV/0!"},{"$error":"#DIV/0!"},0,{"$error":"#DIV/0!"},{"$error":"#DIV/0!"},0,null,null,null,null,null,null,0,0,0,null,0,{"$f":"IFERROR(VLOOKUP(Z1570,有效性!$D$2:$E$6,2,0),0)","v":0},0,0,0,0,0,null,0,null,0,0,0,0,0,null,0,0,null,0,"否",0,0,0,0,0,0,0,"","否","正确","正确"]
[null,null,null,null,null,null,null,null,null,null,null,null,null,null,null,null,0,null,{"$error":"#DIV/0!"},{"$error":"#DIV/0!"},0,{"$error":"#DIV/0!"},{"$error":"#DIV/0!"},0,null,null,null,null,null,null,0,0,0,null,0,{"$f":"IFERROR(VLOOKUP(Z1582,有效性!$D$2:$E$6,2,0),0)","v":0},0,0,0,0,0,null,0,null,0,0,0,0,0,null,0,0,null,0,"否",0,0,0,0,0,0,0,"","否","正确","正确"]
[null,null,null,null,null,null,null,null,null,null,null,null,null,null,null,null,0,null,{"$error":"#DIV/0!"},{"$error":"#DIV/0!"},0,{"$error":"#DIV/0!"},{"$error":"#DIV/0!"},0,null,null,null,null,null,null,0,0,0,null,0,{"$f":"IFERROR(VLOOKUP(Z1591,有效性!$D$2:$E$6,2,0),0)","v":0},0,0,0,0,0,null,0,null,0,0,0,0,0,null,0,0,null,0,"否",0,0,0,0,0,0,0,"","否","正确","正确"]
[null,null,null,null,null,null,null,null,null,null,null,null,null,null,null,null,0,null,{"$error":"#DIV/0!"},{"$error":"#DIV/0!"},0,{"$error":"#DIV/0!"},{"$error":"#DIV/0!"},0,null,null,null,null,null,null,0,0,0,null,0,{"$f":"IFERROR(VLOOKUP(Z1600,有效性!$D$2:$E$6,2,0),0)","v":0},0,0,0,0,0,null,0,null,0,0,0,0,0,null,0,0,null,0,"否",0,0,0,0,0,0,0,"","否","正确","正确"]
[null,null,null,null,null,null,null,null,null,null,null,null,null,null,null,null,0,null,{"$error":"#DIV/0!"},{"$error":"#DIV/0!"},0,{"$error":"#DIV/0!"},{"$error":"#DIV/0!"},0,null,null,null,null,null,null,0,0,0,null,0,{"$f":"IFERROR(VLOOKUP(Z1607,有效性!$D$2:$E$6,2,0),0)","v":0},0,0,0,0,0,null,0,null,0,0,0,0,0,null,0,0,null,0,"不涉及",0,0,0,0,0,0,0,"","否","正确","正确"]
[null,null,null,null,null,null,null,null,null,null,null,null,null,null,null,null,0,null,{"$error":"#DIV/0!"},{"$error":"#DIV/0!"},0,{"$error":"#DIV/0!"},{"$error":"#DIV/0!"},0,null,null,null,null,null,null,0,0,0,null,0,{"$f":"IFERROR(VLOOKUP(Z1619,有效性!$D$2:$E$6,2,0),0)","v":0},0,0,0,0,0,null,0,null,0,0,0,0,0,null,0,0,null,0,"不涉及",0,0,0,0,0,0,0,"","否","正确","正确"]
[null,null,null,null,null,null,null,null,null,null,null,null,null,null,null,null,0,null,{"$error":"#DIV/0!"},{"$error":"#DIV/0!"},0,{"$error":"#DIV/0!"},{"$error":"#DIV/0!"},0,null,null,null,null,null,null,0,0,0,null,0,{"$f":"IFERROR(VLOOKUP(Z1622,有效性!$D$2:$E$6,2,0),0)","v":0},0,0,0,0,0,null,0,null,0,0,0,0,0,null,0,0,null,0,"不涉及",0,0,0,0,0,0,0,"","否","正确","正确"]
[null,null,null,null,null,null,null,null,null,null,null,null,null,null,null,null,0,null,{"$error":"#DIV/0!"},{"$error":"#DIV/0!"},0,{"$error":"#DIV/0!"},{"$error":"#DIV/0!"},0,null,null,null,null,null,null,0,0,0,null,0,{"$f":"IFERROR(VLOOKUP(Z1637,有效性!$D$2:$E$6,2,0),0)","v":0},0,0,0,0,0,null,0,null,0,0,0,0,0,null,0,0,null,0,"不涉及",0,0,0,0,0,0,0,"","否","正确","正确"]
[null,null,null,null,null,null,null,null,null,null,null,null,null,null,null,null,0,null,{"$error":"#DIV/0!"},{"$error":"#DIV/0!"},0,{"$error":"#DIV/0!"},{"$error":"#DIV/0!"},0,null,null,null,null,null,null,0,0,0,null,0,{"$f":"IFERROR(VLOOKUP(Z1640,有效性!$D$2:$E$6,2,0),0)","v":0},0,0,0,0,0,null,0,null,0,0,0,0,0,null,0,0,null,0,"不涉及",0,0,0,0,0,0,0,"","否","正确","正确"]
[null,null,null,null,null,null,null,null,null,null,null,null,null,null,null,null,0,null,{"$error":"#DIV/0!"},{"$error":"#DIV/0!"},0,{"$error":"#DIV/0!"},{"$error":"#DIV/0!"},0,null,null,null,null,null,null,0,0,0,null,0,{"$f":"IFERROR(VLOOKUP(Z1647,有效性!$D$2:$E$6,2,0),0)","v":0},0,0,0,0,0,null,0,null,0,0,0,0,0,null,0,0,null,0,"不涉及",0,0,0,0,0,0,0,"","否","正确","正确"]
[null,null,null,null,null,null,null,null,null,null,null,null,null,null,null,null,0,null,{"$error":"#DIV/0!"},{"$error":"#DIV/0!"},0,{"$error":"#DIV/0!"},{"$error":"#DIV/0!"},0,null,null,null,null,null,null,0,0,0,null,0,{"$f":"IFERROR(VLOOKUP(Z1661,有效性!$D$2:$E$6,2,0),0)","v":0},0,0,0,0,0,null,0,null,0,0,0,0,0,null,0,0,null,0,"不涉及",0,0,0,0,0,0,0,"","否","正确","正确"]
[null,null,null,null,null,null,null,null,null,null,null,null,null,null,null,null,0,null,{"$error":"#DIV/0!"},{"$error":"#DIV/0!"},0,{"$error":"#DIV/0!"},{"$error":"#DIV/0!"},0,null,null,null,null,null,null,0,0,0,null,0,{"$f":"IFERROR(VLOOKUP(Z1670,有效性!$D$2:$E$6,2,0),0)","v":0},0,0,0,0,0,null,0,null,0,0,0,0,0,null,0,0,null,0,"不涉及",0,0,0,0,0,0,0,"","否","正确","正确"]
[null,null,null,null,null,null,null,null,null,null,null,null,null,null,null,null,0,null,{"$error":"#DIV/0!"},{"$error":"#DIV/0!"},0,{"$error":"#DIV/0!"},{"$error":"#DIV/0!"},0,null,null,null,null,null,null,0,0,0,null,0,{"$f":"IFERROR(VLOOKUP(Z1677,有效性!$D$2:$E$6,2,0),0)","v":0},0,0,0,0,0,null,0,null,0,0,0,0,0,null,0,0,null,0,"不涉及",0,0,0,0,0,0,0,"","否","正确","正确"]
[null,null,null,null,null,null,null,null,null,null,null,null,null,null,null,null,0,null,{"$error":"#DIV/0!"},{"$error":"#DIV/0!"},0,{"$error":"#DIV/0!"},{"$error":"#DIV/0!"},0,null,null,null,null,null,null,0,0,0,null,0,{"$f":"IFERROR(VLOOKUP(Z1689,有效性!$D$2:$E$6,2,0),0)","v":0},0,0,0,0,0,null,0,null,0,0,0,0,0,null,0,0,null,0,"不涉及",0,0,0,0,0,0,0,"","否","正确","正确"]
[null,null,null,null,null,null,null,null,null,null,null,null,null,null,null,null,0,null,{"$error":"#DIV/0!"},{"$error":"#DIV/0!"},0,{"$error":"#DIV/0!"},{"$error":"#DIV/0!"},0,null,null,null,null,null,null,0,0,0,null,0,{"$f":"IFERROR(VLOOKUP(Z1692,有效性!$D$2:$E$6,2,0),0)","v":0},0,0,0,0,0,null,0,null,0,0,0,0,0,null,0,0,null,0,"不涉及",0,0,0,0,0,0,0,"","否","正确","正确"]
[null,null,null,null,null,null,null,null,null,null,null,null,null,null,null,null,0,null,{"$error":"#DIV/0!"},{"$error":"#DIV/0!"},0,{"$error":"#DIV/0!"},{"$error":"#DIV/0!"},0,null,null,null,null,null,null,0,0,0,null,0,{"$f":"IFERROR(VLOOKUP(Z1707,有效性!$D$2:$E$6,2,0),0)","v":0},0,0,0,0,0,null,0,null,0,0,0,0,0,null,0,0,null,0,"不涉及",0,0,0,0,0,0,0,"","否","正确","正确"]
[null,null,null,null,null,null,null,null,null,null,null,null,null,null,null,null,0,null,{"$error":"#DIV/0!"},{"$error":"#DIV/0!"},0,{"$error":"#DIV/0!"},{"$error":"#DIV/0!"},0,null,null,null,null,null,null,0,0,0,null,0,{"$f":"IFERROR(VLOOKUP(Z1710,有效性!$D$2:$E$6,2,0),0)","v":0},0,0,0,0,0,null,0,null,0,0,0,0,0,null,0,0,null,0,"不涉及",0,0,0,0,0,0,0,"","否","正确","正确"]
[null,null,null,null,null,null,null,null,null,null,null,null,null,null,null,null,0,null,{"$error":"#DIV/0!"},{"$error":"#DIV/0!"},0,{"$error":"#DIV/0!"},{"$error":"#DIV/0!"},0,null,null,null,null,null,null,0,0,0,null,0,{"$f":"IFERROR(VLOOKUP(Z1717,有效性!$D$2:$E$6,2,0),0)","v":0},0,0,0,0,0,null,0,null,0,0,0,0,0,null,0,0,null,0,"不涉及",0,0,0,0,0,0,0,"","否","正确","正确"]
[null,null,null,null,null,null,null,null,null,null,null,null,null,null,null,null,0,null,{"$error":"#DIV/0!"},{"$error":"#DIV/0!"},0,{"$error":"#DIV/0!"},{"$error":"#DIV/0!"},0,null,null,null,null,null,null,0,0,0,null,0,{"$f":"IFERROR(VLOOKUP(Z1731,有效性!$D$2:$E$6,2,0),0)","v":0},0,0,0,0,0,null,0,null,0,0,0,0,0,null,0,0,null,0,"不涉及",0,0,0,0,0,0,0,"","否","正确","正确"]
[null,null,null,null,null,null,null,null,null,null,null,null,null,null,null,null,0,null,{"$error":"#DIV/0!"},{"$error":"#DIV/0!"},0,{"$error":"#DIV/0!"},{"$error":"#DIV/0!"},0,null,null,null,null,null,null,0,0,0,null,0,{"$f":"IFERROR(VLOOKUP(Z1740,有效性!$D$2:$E$6,2,0),0)","v":0},0,0,0,0,0,null,0,null,0,0,0,0,0,null,0,0,null,0,"不涉及",0,0,0,0,0,0,0,"","否","正确","正确"]
[null,null,null,null,null,null,null,null,null,null,null,null,null,null,null,null,0,null,{"$error":"#DIV/0!"},{"$error":"#DIV/0!"},0,{"$error":"#DIV/0!"},{"$error":"#DIV/0!"},0,null,null,null,null,null,null,0,0,0,null,0,{"$f":"IFERROR(VLOOKUP(Z1747,有效性!$D$2:$E$6,2,0),0)","v":0},0,0,0,0,0,null,0,null,0,0,0,0,0,null,0,0,null,0,"不涉及",0,0,0,0,0,0,0,"","否","正确","正确"]
[null,null,null,null,null,null,null,null,null,null,null,null,null,null,null,null,0,null,{"$error":"#DIV/0!"},{"$error":"#DIV/0!"},0,{"$error":"#DIV/0!"},{"$error":"#DIV/0!"},0,null,null,null,null,null,null,0,0,0,null,0,{"$f":"IFERROR(VLOOKUP(Z1759,有效性!$D$2:$E$6,2,0),0)","v":0},0,0,0,0,0,null,0,null,0,0,0,0,0,null,0,0,null,0,"不涉及",0,0,0,0,0,0,0,"","否","正确","正确"]
[null,null,null,null,null,null,null,null,null,null,null,null,null,null,null,null,0,null,{"$error":"#DIV/0!"},{"$error":"#DIV/0!"},0,{"$error":"#DIV/0!"},{"$error":"#DIV/0!"},0,null,null,null,null,null,null,0,0,0,null,0,{"$f":"IFERROR(VLOOKUP(Z1762,有效性!$D$2:$E$6,2,0),0)","v":0},0,0,0,0,0,null,0,null,0,0,0,0,0,null,0,0,null,0,"不涉及",0,0,0,0,0,0,0,"","否","正确","正确"]
[null,null,null,null,null,null,null,null,null,null,null,null,null,null,null,null,0,null,{"$error":"#DIV/0!"},{"$error":"#DIV/0!"},0,{"$error":"#DIV/0!"},{"$error":"#DIV/0!"},0,null,null,null,null,null,null,0,0,0,null,0,{"$f":"IFERROR(VLOOKUP(Z1777,有效性!$D$2:$E$6,2,0),0)","v":0},0,0,0,0,0,null,0,null,0,0,0,0,0,null,0,0,null,0,"不涉及",0,0,0,0,0,0,0,"","否","正确","正确"]
[null,null,null,null,null,null,null,null,null,null,null,null,null,null,null,null,0,null,{"$error":"#DIV/0!"},{"$error":"#DIV/0!"},0,{"$error":"#DIV/0!"},{"$error":"#DIV/0!"},0,null,null,null,null,null,null,0,0,0,null,0,{"$f":"IFERROR(VLOOKUP(Z1780,有效性!$D$2:$E$6,2,0),0)","v":0},0,0,0,0,0,null,0,null,0,0,0,0,0,null,0,0,null,0,"不涉及",0,0,0,0,0,0,0,"","否","正确","正确"]
[null,null,null,null,null,null,null,null,null,null,null,null,null,null,null,null,0,null,{"$error":"#DIV/0!"},{"$error":"#DIV/0!"},0,{"$error":"#DIV/0!"},{"$error":"#DIV/0!"},0,null,null,null,null,null,null,0,0,0,null,0,{"$f":"IFERROR(VLOOKUP(Z1787,有效性!$D$2:$E$6,2,0),0)","v":0},0,0,0,0,0,null,0,null,0,0,0,0,0,null,0,0,null,0,"否",0,0,0,0,0,0,0,"","否","正确","正确"]
[null,null,null,null,null,null,null,null,null,null,null,null,null,null,null,null,0,null,{"$error":"#DIV/0!"},{"$error":"#DIV/0!"},0,{"$error":"#DIV/0!"},{"$error":"#DIV/0!"},0,null,null,null,null,null,null,0,0,0,null,0,{"$f":"IFERROR(VLOOKUP(Z1801,有效性!$D$2:$E$6,2,0),0)","v":0},0,0,0,0,0,null,0,null,0,0,0,0,0,null,0,0,null,0,"不涉及",0,0,0,0,0,0,0,"","否","正确","正确"]
[null,null,null,null,null,null,null,null,null,null,null,null,null,null,null,null,0,null,{"$error":"#DIV/0!"},{"$error":"#DIV/0!"},0,{"$error":"#DIV/0!"},{"$error":"#DIV/0!"},0,null,null,null,null,null,null,0,0,0,null,0,{"$f":"IFERROR(VLOOKUP(Z1810,有效性!$D$2:$E$6,2,0),0)","v":0},0,0,0,0,0,null,0,null,0,0,0,0,0,null,0,0,null,0,"不涉及",0,0,0,0,0,0,0,"","否","正确","正确"]
[null,null,null,null,null,null,null,null,null,null,null,null,null,null,null,null,0,null,{"$error":"#DIV/0!"},{"$error":"#DIV/0!"},0,{"$error":"#DIV/0!"},{"$error":"#DIV/0!"},0,null,null,null,null,null,null,0,0,0,null,0,{"$f":"IFERROR(VLOOKUP(Z1817,有效性!$D$2:$E$6,2,0),0)","v":0},0,0,0,0,0,null,0,null,0,0,0,0,0,null,0,0,null,0,"不涉及",0,0,0,0,0,0,0,"","否","正确","正确"]
[null,null,null,null,null,null,null,null,null,null,null,null,null,null,null,null,0,null,{"$error":"#DIV/0!"},{"$error":"#DIV/0!"},0,{"$error":"#DIV/0!"},{"$error":"#DIV/0!"},0,null,null,null,null,null,null,0,0,0,null,0,{"$f":"IFERROR(VLOOKUP(Z1829,有效性!$D$2:$E$6,2,0),0)","v":0},0,0,0,0,0,null,0,null,0,0,0,0,0,null,0,0,null,0,"不涉及",0,0,0,0,0,0,0,"","否","正确","正确"]
[null,null,null,null,null,null,null,null,null,null,null,null,null,null,null,null,0,null,{"$error":"#DIV/0!"},{"$error":"#DIV/0!"},0,{"$error":"#DIV/0!"},{"$error":"#DIV/0!"},0,null,null,null,null,null,null,0,0,0,null,0,{"$f":"IFERROR(VLOOKUP(Z1832,有效性!$D$2:$E$6,2,0),0)","v":0},0,0,0,0,0,null,0,null,0,0,0,0,0,null,0,0,null,0,"不涉及",0,0,0,0,0,0,0,"","否","正确","正确"]
[null,null,null,null,null,null,null,null,null,null,null,null,null,null,null,null,0,null,{"$error":"#DIV/0!"},{"$error":"#DIV/0!"},0,{"$error":"#DIV/0!"},{"$error":"#DIV/0!"},0,null,null,null,null,null,null,0,0,0,null,0,{"$f":"IFERROR(VLOOKUP(Z1847,有效性!$D$2:$E$6,2,0),0)","v":0},0,0,0,0,0,null,0,null,0,0,0,0,0,null,0,0,null,0,"不涉及",0,0,0,0,0,0,0,"","否","正确","正确"]
[null,null,null,null,null,null,null,null,null,null,null,null,null,null,null,null,0,null,{"$error":"#DIV/0!"},{"$error":"#DIV/0!"},0,{"$error":"#DIV/0!"},{"$error":"#DIV/0!"},0,null,null,null,null,null,null,0,0,0,null,0,{"$f":"IFERROR(VLOOKUP(Z1850,有效性!$D$2:$E$6,2,0),0)","v":0},0,0,0,0,0,null,0,null,0,0,0,0,0,null,0,0,null,0,"不涉及",0,0,0,0,0,0,0,"","否","正确","正确"]
[null,null,null,null,null,null,null,null,null,null,null,null,null,null,null,null,0,null,{"$error":"#DIV/0!"},{"$error":"#DIV/0!"},0,{"$error":"#DIV/0!"},{"$error":"#DIV/0!"},0,null,null,null,null,null,null,0,0,0,null,0,{"$f":"IFERROR(VLOOKUP(Z1857,有效性!$D$2:$E$6,2,0),0)","v":0},0,0,0,0,0,null,0,null,0,0,0,0,0,null,0,0,null,0,"不涉及",0,0,0,0,0,0,0,"","否","正确","正确"]
[null,null,null,null,null,null,null,null,null,null,null,null,null,null,null,null,0,null,{"$error":"#DIV/0!"},{"$error":"#DIV/0!"},0,{"$error":"#DIV/0!"},{"$error":"#DIV/0!"},0,null,null,null,null,null,null,0,0,0,null,0,{"$f":"IFERROR(VLOOKUP(Z1871,有效性!$D$2:$E$6,2,0),0)","v":0},0,0,0,0,0,null,0,null,0,0,0,0,0,null,0,0,null,0,"不涉及",0,0,0,0,0,0,0,"","否","正确","正确"]
[null,null,null,null,null,null,null,null,null,null,null,null,null,null,null,null,0,null,{"$error":"#DIV/0!"},{"$error":"#DIV/0!"},0,{"$error":"#DIV/0!"},{"$error":"#DIV/0!"},0,null,null,null,null,null,null,0,0,0,null,0,{"$f":"IFERROR(VLOOKUP(Z1880,有效性!$D$2:$E$6,2,0),0)","v":0},0,0,0,0,0,null,0,null,0,0,0,0,0,null,0,0,null,0,"不涉及",0,0,0,0,0,0,0,"","否","正确","正确"]
[null,null,null,null,null,null,null,null,null,null,null,null,null,null,null,null,0,null,{"$error":"#DIV/0!"},{"$error":"#DIV/0!"},0,{"$error":"#DIV/0!"},{"$error":"#DIV/0!"},0,null,null,null,null,null,null,0,0,0,null,0,{"$f":"IFERROR(VLOOKUP(Z1887,有效性!$D$2:$E$6,2,0),0)","v":0},0,0,0,0,0,null,0,null,0,0,0,0,0,null,0,0,null,0,"不涉及",0,0,0,0,0,0,0,"","否","正确","正确"]
[null,null,null,null,null,null,null,null,null,null,null,null,null,null,null,null,0,null,{"$error":"#DIV/0!"},{"$error":"#DIV/0!"},0,{"$error":"#DIV/0!"},{"$error":"#DIV/0!"},0,null,null,null,null,null,null,0,0,0,null,0,{"$f":"IFERROR(VLOOKUP(Z1899,有效性!$D$2:$E$6,2,0),0)","v":0},0,0,0,0,0,null,0,null,0,0,0,0,0,null,0,0,null,0,"不涉及",0,0,0,0,0,0,0,"","否","正确","正确"]
[null,null,null,null,null,null,null,null,null,null,null,null,null,null,null,null,0,null,{"$error":"#DIV/0!"},{"$error":"#DIV/0!"},0,{"$error":"#DIV/0!"},{"$error":"#DIV/0!"},0,null,null,null,null,null,null,0,0,0,null,0,{"$f":"IFERROR(VLOOKUP(Z1902,有效性!$D$2:$E$6,2,0),0)","v":0},0,0,0,0,0,null,0,null,0,0,0,0,0,null,0,0,null,0,"不涉及",0,0,0,0,0,0,0,"","否","正确","正确"]
[null,null,null,null,null,null,null,null,null,null,null,null,null,null,null,null,0,null,{"$error":"#DIV/0!"},{"$error":"#DIV/0!"},0,{"$error":"#DIV/0!"},{"$error":"#DIV/0!"},0,null,null,null,null,null,null,0,0,0,null,0,{"$f":"IFERROR(VLOOKUP(Z1917,有效性!$D$2:$E$6,2,0),0)","v":0},0,0,0,0,0,null,0,null,0,0,0,0,0,null,0,0,null,0,"不涉及",0,0,0,0,0,0,0,"","否","正确","正确"]
[null,null,null,null,null,null,null,null,null,null,null,null,null,null,null,null,0,null,{"$error":"#DIV/0!"},{"$error":"#DIV/0!"},0,{"$error":"#DIV/0!"},{"$error":"#DIV/0!"},0,null,null,null,null,null,null,0,0,0,null,0,{"$f":"IFERROR(VLOOKUP(Z1920,有效性!$D$2:$E$6,2,0),0)","v":0},0,0,0,0,0,null,0,null,0,0,0,0,0,null,0,0,null,0,"不涉及",0,0,0,0,0,0,0,"","否","正确","正确"]
[null,null,null,null,null,null,null,null,null,null,null,null,null,null,null,null,0,null,{"$error":"#DIV/0!"},{"$error":"#DIV/0!"},0,{"$error":"#DIV/0!"},{"$error":"#DIV/0!"},0,null,null,null,null,null,null,0,0,0,null,0,{"$f":"IFERROR(VLOOKUP(Z1927,有效性!$D$2:$E$6,2,0),0)","v":0},0,0,0,0,0,null,0,null,0,0,0,0,0,null,0,0,null,0,"不涉及",0,0,0,0,0,0,0,"","否","正确","正确"]
[null,null,null,null,null,null,null,null,null,null,null,null,null,null,null,null,0,null,{"$error":"#DIV/0!"},{"$error":"#DIV/0!"},0,{"$error":"#DIV/0!"},{"$error":"#DIV/0!"},0,null,null,null,null,null,null,0,0,0,null,0,{"$f":"IFERROR(VLOOKUP(Z1941,有效性!$D$2:$E$6,2,0),0)","v":0},0,0,0,0,0,null,0,null,0,0,0,0,0,null,0,0,null,0,"不涉及",0,0,0,0,0,0,0,"","否","正确","正确"]
[null,null,null,null,null,null,null,null,null,null,null,null,null,null,null,null,0,null,{"$error":"#DIV/0!"},{"$error":"#DIV/0!"},0,{"$error":"#DIV/0!"},{"$error":"#DIV/0!"},0,null,null,null,null,null,null,0,0,0,null,0,{"$f":"IFERROR(VLOOKUP(Z1945,有效性!$D$2:$E$6,2,0),0)","v":0},0,0,0,0,0,null,0,null,0,0,0,0,0,null,0,0,null,0,"不涉及",0,0,0,0,0,0,0,"","否","正确","正确"]
[null,null,null,null,null,null,null,null,null,null,null,null,null,null,null,null,0,null,{"$error":"#DIV/0!"},{"$error":"#DIV/0!"},0,{"$error":"#DIV/0!"},{"$error":"#DIV/0!"},0,null,null,null,null,null,null,0,0,0,null,0,{"$f":"IFERROR(VLOOKUP(Z1957,有效性!$D$2:$E$6,2,0),0)","v":0},0,0,0,0,0,null,0,null,0,0,0,0,0,null,0,0,null,0,"不涉及",0,0,0,0,0,0,0,"","否","正确","正确"]
[null,null,null,null,null,null,null,null,null,null,null,null,null,null,null,null,0,null,{"$error":"#DIV/0!"},{"$error":"#DIV/0!"},0,{"$error":"#DIV/0!"},{"$error":"#DIV/0!"},0,null,null,null,null,null,null,0,0,0,null,0,{"$f":"IFERROR(VLOOKUP(Z1969,有效性!$D$2:$E$6,2,0),0)","v":0},0,0,0,0,0,null,0,null,0,0,0,0,0,null,0,0,null,0,"不涉及",0,0,0,0,0,0,0,"","否","正确","正确"]
[null,null,null,null,null,null,null,null,null,null,null,null,null,null,null,null,0,null,{"$error":"#DIV/0!"},{"$error":"#DIV/0!"},0,{"$error":"#DIV/0!"},{"$error":"#DIV/0!"},0,null,null,null,null,null,null,0,0,0,null,0,{"$f":"IFERROR(VLOOKUP(Z1972,有效性!$D$2:$E$6,2,0),0)","v":0},0,0,0,0,0,null,0,null,0,0,0,0,0,null,0,0,null,0,"不涉及",0,0,0,0,0,0,0,"","否","正确","正确"]
[null,null,null,null,null,null,null,null,null,null,null,null,null,null,null,null,0,null,{"$error":"#DIV/0!"},{"$error":"#DIV/0!"},0,{"$error":"#DIV/0!"},{"$error":"#DIV/0!"},0,null,null,null,null,null,null,0,0,0,null,0,{"$f":"IFERROR(VLOOKUP(Z1987,有效性!$D$2:$E$6,2,0),0)","v":0},0,0,0,0,0,null,0,null,0,0,0,0,0,null,0,0,null,0,"不涉及",0,0,0,0,0,0,0,"","否","正确","正确"]
[null,null,null,null,null,null,null,null,null,null,null,null,null,null,null,null,0,null,{"$error":"#DIV/0!"},{"$error":"#DIV/0!"},0,{"$error":"#DIV/0!"},{"$error":"#DIV/0!"},0,null,null,null,null,null,null,0,0,0,null,0,{"$f":"IFERROR(VLOOKUP(Z1990,有效性!$D$2:$E$6,2,0),0)","v":0},0,0,0,0,0,null,0,null,0,0,0,0,0,null,0,0,null,0,"不涉及",0,0,0,0,0,0,0,"","否","正确","正确"]
[null,null,null,null,null,null,null,null,null,null,null,null,null,null,null,null,0,null,{"$error":"#DIV/0!"},{"$error":"#DIV/0!"},0,{"$error":"#DIV/0!"},{"$error":"#DIV/0!"},0,null,null,null,null,null,null,0,0,0,null,0,{"$f":"IFERROR(VLOOKUP(Z1997,有效性!$D$2:$E$6,2,0),0)","v":0},0,0,0,0,0,null,0,null,0,0,0,0,0,null,0,0,null,0,"不涉及",0,0,0,0,0,0,0,"","否","正确","正确"]
[null,null,null,null,null,null,null,null,null,null,null,null,null,null,null,null,0,null,{"$error":"#DIV/0!"},{"$error":"#DIV/0!"},0,{"$error":"#DIV/0!"},{"$error":"#DIV/0!"},0,null,null,null,null,null,null,0,0,0,null,0,{"$f":"IFERROR(VLOOKUP(Z2011,有效性!$D$2:$E$6,2,0),0)","v":0},0,0,0,0,0,null,0,null,0,0,0,0,0,null,0,0,null,0,"不涉及",0,0,0,0,0,0,0,"","否","正确","正确"]
[null,null,null,null,null,null,null,null,null,null,null,null,null,null,null,null,0,null,{"$error":"#DIV/0!"},{"$error":"#DIV/0!"},0,{"$error":"#DIV/0!"},{"$error":"#DIV/0!"},0,null,null,null,null,null,null,0,0,0,null,0,{"$f":"IFERROR(VLOOKUP(Z2015,有效性!$D$2:$E$6,2,0),0)","v":0},0,0,0,0,0,null,0,null,0,0,0,0,0,null,0,0,null,0,"不涉及",0,0,0,0,0,0,0,"","否","正确","正确"]
[null,null,null,null,null,null,null,null,null,null,null,null,null,null,null,null,0,null,{"$error":"#DIV/0!"},{"$error":"#DIV/0!"},0,{"$error":"#DIV/0!"},{"$error":"#DIV/0!"},0,null,null,null,null,null,null,0,0,0,null,0,{"$f":"IFERROR(VLOOKUP(Z2027,有效性!$D$2:$E$6,2,0),0)","v":0},0,0,0,0,0,null,0,null,0,0,0,0,0,null,0,0,null,0,"不涉及",0,0,0,0,0,0,0,"","否","正确","正确"]
[null,null,null,null,null,null,null,null,null,null,null,null,null,null,null,null,0,null,{"$error":"#DIV/0!"},{"$error":"#DIV/0!"},0,{"$error":"#DIV/0!"},{"$error":"#DIV/0!"},0,null,null,null,null,null,null,0,0,0,null,0,{"$f":"IFERROR(VLOOKUP(Z2039,有效性!$D$2:$E$6,2,0),0)","v":0},0,0,0,0,0,null,0,null,0,0,0,0,0,null,0,0,null,0,"不涉及",0,0,0,0,0,0,0,"","否","正确","正确"]
[null,null,null,null,null,null,null,null,null,null,null,null,null,null,null,null,0,null,{"$error":"#DIV/0!"},{"$error":"#DIV/0!"},0,{"$error":"#DIV/0!"},{"$error":"#DIV/0!"},0,null,null,null,null,null,null,0,0,0,null,0,{"$f":"IFERROR(VLOOKUP(Z2042,有效性!$D$2:$E$6,2,0),0)","v":0},0,0,0,0,0,null,0,null,0,0,0,0,0,null,0,0,null,0,"不涉及",0,0,0,0,0,0,0,"","否","正确","正确"]
[null,null,null,null,null,null,null,null,null,null,null,null,null,null,null,null,0,null,{"$error":"#DIV/0!"},{"$error":"#DIV/0!"},0,{"$error":"#DIV/0!"},{"$error":"#DIV/0!"},0,null,null,null,null,null,null,0,0,0,null,0,{"$f":"IFERROR(VLOOKUP(Z2057,有效性!$D$2:$E$6,2,0),0)","v":0},0,0,0,0,0,null,0,null,0,0,0,0,0,null,0,0,null,0,"不涉及",0,0,0,0,0,0,0,"","否","正确","正确"]
[null,null,null,null,null,null,null,null,null,null,null,null,null,null,null,null,0,null,{"$error":"#DIV/0!"},{"$error":"#DIV/0!"},0,{"$error":"#DIV/0!"},{"$error":"#DIV/0!"},0,null,null,null,null,null,null,0,0,0,null,0,{"$f":"IFERROR(VLOOKUP(Z2060,有效性!$D$2:$E$6,2,0),0)","v":0},0,0,0,0,0,null,0,null,0,0,0,0,0,null,0,0,null,0,"不涉及",0,0,0,0,0,0,0,"","否","正确","正确"]
[null,null,null,null,null,null,null,null,null,null,null,null,null,null,null,null,0,null,{"$error":"#DIV/0!"},{"$error":"#DIV/0!"},0,{"$error":"#DIV/0!"},{"$error":"#DIV/0!"},0,null,null,null,null,null,null,0,0,0,null,0,{"$f":"IFERROR(VLOOKUP(Z2067,有效性!$D$2:$E$6,2,0),0)","v":0},0,0,0,0,0,null,0,null,0,0,0,0,0,null,0,0,null,0,"不涉及",0,0,0,0,0,0,0,"","否","正确","正确"]
[null,null,null,null,null,null,null,null,null,null,null,null,null,null,null,null,0,null,{"$error":"#DIV/0!"},{"$error":"#DIV/0!"},0,{"$error":"#DIV/0!"},{"$error":"#DIV/0!"},0,null,null,null,null,null,null,0,0,0,null,0,{"$f":"IFERROR(VLOOKUP(Z2081,有效性!$D$2:$E$6,2,0),0)","v":0},0,0,0,0,0,null,0,null,0,0,0,0,0,null,0,0,null,0,"不涉及",0,0,0,0,0,0,0,"","否","正确","正确"]
[null,null,null,null,null,null,null,null,null,null,null,null,null,null,null,null,0,null,{"$error":"#DIV/0!"},{"$error":"#DIV/0!"},0,{"$error":"#DIV/0!"},{"$error":"#DIV/0!"},0,null,null,null,null,null,null,0,0,0,null,0,{"$f":"IFERROR(VLOOKUP(Z2085,有效性!$D$2:$E$6,2,0),0)","v":0},0,0,0,0,0,null,0,null,0,0,0,0,0,null,0,0,null,0,"不涉及",0,0,0,0,0,0,0,"","否","正确","正确"]
[null,null,null,null,null,null,null,null,null,null,null,null,null,null,null,null,0,null,{"$error":"#DIV/0!"},{"$error":"#DIV/0!"},0,{"$error":"#DIV/0!"},{"$error":"#DIV/0!"},0,null,null,null,null,null,null,0,0,0,null,0,{"$f":"IFERROR(VLOOKUP(Z2097,有效性!$D$2:$E$6,2,0),0)","v":0},0,0,0,0,0,null,0,null,0,0,0,0,0,null,0,0,null,0,"不涉及",0,0,0,0,0,0,0,"","否","正确","正确"]
[null,null,null,null,null,null,null,null,null,null,null,null,null,null,null,null,0,null,{"$error":"#DIV/0!"},{"$error":"#DIV/0!"},0,{"$error":"#DIV/0!"},{"$error":"#DIV/0!"},0,null,null,null,null,null,null,0,0,0,null,0,{"$f":"IFERROR(VLOOKUP(Z2109,有效性!$D$2:$E$6,2,0),0)","v":0},0,0,0,0,0,null,0,null,0,0,0,0,0,null,0,0,null,0,"不涉及",0,0,0,0,0,0,0,"","否","正确","正确"]
[null,null,null,null,null,null,null,null,null,null,null,null,null,null,null,null,0,null,{"$error":"#DIV/0!"},{"$error":"#DIV/0!"},0,{"$error":"#DIV/0!"},{"$error":"#DIV/0!"},0,null,null,null,null,null,null,0,0,0,null,0,{"$f":"IFERROR(VLOOKUP(Z2112,有效性!$D$2:$E$6,2,0),0)","v":0},0,0,0,0,0,null,0,null,0,0,0,0,0,null,0,0,null,0,"不涉及",0,0,0,0,0,0,0,"","否","正确","正确"]
[null,null,null,null,null,null,null,null,null,null,null,null,null,null,null,null,0,null,{"$error":"#DIV/0!"},{"$error":"#DIV/0!"},0,{"$error":"#DIV/0!"},{"$error":"#DIV/0!"},0,null,null,null,null,null,null,0,0,0,null,0,{"$f":"IFERROR(VLOOKUP(Z2127,有效性!$D$2:$E$6,2,0),0)","v":0},0,0,0,0,0,null,0,null,0,0,0,0,0,null,0,0,null,0,"不涉及",0,0,0,0,0,0,0,"","否","正确","正确"]
[null,null,null,null,null,null,null,null,null,null,null,null,null,null,null,null,0,null,{"$error":"#DIV/0!"},{"$error":"#DIV/0!"},0,{"$error":"#DIV/0!"},{"$error":"#DIV/0!"},0,null,null,null,null,null,null,0,0,0,null,0,{"$f":"IFERROR(VLOOKUP(Z2134,有效性!$D$2:$E$6,2,0),0)","v":0},0,0,0,0,0,null,0,null,0,0,0,0,0,null,0,0,null,0,"不涉及",0,0,0,0,0,0,0,"","否","正确","正确"]
[null,null,null,null,null,null,null,null,null,null,null,null,null,null,null,null,0,null,{"$error":"#DIV/0!"},{"$error":"#DIV/0!"},0,{"$error":"#DIV/0!"},{"$error":"#DIV/0!"},0,null,null,null,null,null,null,0,0,0,null,0,{"$f":"IFERROR(VLOOKUP(Z2137,有效性!$D$2:$E$6,2,0),0)","v":0},0,0,0,0,0,null,0,null,0,0,0,0,0,null,0,0,null,0,"不涉及",0,0,0,0,0,0,0,"","否","正确","正确"]
[null,null,null,null,null,null,null,null,null,null,null,null,null,null,null,null,0,null,{"$error":"#DIV/0!"},{"$error":"#DIV/0!"},0,{"$error":"#DIV/0!"},{"$error":"#DIV/0!"},0,null,null,null,null,null,null,0,0,0,null,0,{"$f":"IFERROR(VLOOKUP(Z2151,有效性!$D$2:$E$6,2,0),0)","v":0},0,0,0,0,0,null,0,null,0,0,0,0,0,null,0,0,null,0,"不涉及",0,0,0,0,0,0,0,"","否","正确","正确"]
[null,null,null,null,null,null,null,null,null,null,null,null,null,null,null,null,0,null,{"$error":"#DIV/0!"},{"$error":"#DIV/0!"},0,{"$error":"#DIV/0!"},{"$error":"#DIV/0!"},0,null,null,null,null,null,null,0,0,0,null,0,{"$f":"IFERROR(VLOOKUP(Z2155,有效性!$D$2:$E$6,2,0),0)","v":0},0,0,0,0,0,null,0,null,0,0,0,0,0,null,0,0,null,0,"不涉及",0,0,0,0,0,0,0,"","否","正确","正确"]
[null,null,null,null,null,null,null,null,null,null,null,null,null,null,null,null,0,null,{"$error":"#DIV/0!"},{"$error":"#DIV/0!"},0,{"$error":"#DIV/0!"},{"$error":"#DIV/0!"},0,null,null,null,null,null,null,0,0,0,null,0,{"$f":"IFERROR(VLOOKUP(Z2167,有效性!$D$2:$E$6,2,0),0)","v":0},0,0,0,0,0,null,0,null,0,0,0,0,0,null,0,0,null,0,"不涉及",0,0,0,0,0,0,0,"","否","正确","正确"]
[null,null,null,null,null,null,null,null,null,null,null,null,null,null,null,null,0,null,{"$error":"#DIV/0!"},{"$error":"#DIV/0!"},0,{"$error":"#DIV/0!"},{"$error":"#DIV/0!"},0,null,null,null,null,null,null,0,0,0,null,0,{"$f":"IFERROR(VLOOKUP(Z2179,有效性!$D$2:$E$6,2,0),0)","v":0},0,0,0,0,0,null,0,null,0,0,0,0,0,null,0,0,null,0,"不涉及",0,0,0,0,0,0,0,"","否","正确","正确"]
[null,null,null,null,null,null,null,null,null,null,null,null,null,null,null,null,0,null,{"$error":"#DIV/0!"},{"$error":"#DIV/0!"},0,{"$error":"#DIV/0!"},{"$error":"#DIV/0!"},0,null,null,null,null,null,null,0,0,0,null,0,{"$f":"IFERROR(VLOOKUP(Z2182,有效性!$D$2:$E$6,2,0),0)","v":0},0,0,0,0,0,null,0,null,0,0,0,0,0,null,0,0,null,0,"不涉及",0,0,0,0,0,0,0,"","否","正确","正确"]
[null,null,null,null,null,null,null,null,null,null,null,null,null,null,null,null,0,null,{"$error":"#DIV/0!"},{"$error":"#DIV/0!"},0,{"$error":"#DIV/0!"},{"$error":"#DIV/0!"},0,null,null,null,null,null,null,0,0,0,null,0,{"$f":"IFERROR(VLOOKUP(Z2197,有效性!$D$2:$E$6,2,0),0)","v":0},0,0,0,0,0,null,0,null,0,0,0,0,0,null,0,0,null,0,"不涉及",0,0,0,0,0,0,0,"","否","正确","正确"]
[null,null,null,null,null,null,null,null,null,null,null,null,null,null,null,null,0,null,{"$error":"#DIV/0!"},{"$error":"#DIV/0!"},0,{"$error":"#DIV/0!"},{"$error":"#DIV/0!"},0,null,null,null,null,null,null,0,0,0,null,0,{"$f":"IFERROR(VLOOKUP(Z2204,有效性!$D$2:$E$6,2,0),0)","v":0},0,0,0,0,0,null,0,null,0,0,0,0,0,null,0,0,null,0,"不涉及",0,0,0,0,0,0,0,"","否","正确","正确"]
[null,null,null,null,null,null,null,null,null,null,null,null,null,null,null,null,0,null,{"$error":"#DIV/0!"},{"$error":"#DIV/0!"},0,{"$error":"#DIV/0!"},{"$error":"#DIV/0!"},0,null,null,null,null,null,null,0,0,0,null,0,{"$f":"IFERROR(VLOOKUP(Z2207,有效性!$D$2:$E$6,2,0),0)","v":0},0,0,0,0,0,null,0,null,0,0,0,0,0,null,0,0,null,0,"不涉及",0,0,0,0,0,0,0,"","否","正确","正确"]
[null,null,null,null,null,null,null,null,null,null,null,null,null,null,null,null,0,null,{"$error":"#DIV/0!"},{"$error":"#DIV/0!"},0,{"$error":"#DIV/0!"},{"$error":"#DIV/0!"},0,null,null,null,null,null,null,0,0,0,null,0,{"$f":"IFERROR(VLOOKUP(Z2221,有效性!$D$2:$E$6,2,0),0)","v":0},0,0,0,0,0,null,0,null,0,0,0,0,0,null,0,0,null,0,"不涉及",0,0,0,0,0,0,0,"","否","正确","正确"]
[null,null,null,null,null,null,null,null,null,null,null,null,null,null,null,null,0,null,{"$error":"#DIV/0!"},{"$error":"#DIV/0!"},0,{"$error":"#DIV/0!"},{"$error":"#DIV/0!"},0,null,null,null,null,null,null,0,0,0,null,0,{"$f":"IFERROR(VLOOKUP(Z2225,有效性!$D$2:$E$6,2,0),0)","v":0},0,0,0,0,0,null,0,null,0,0,0,0,0,null,0,0,null,0,"不涉及",0,0,0,0,0,0,0,"","否","正确","正确"]
[null,null,null,null,null,null,null,null,null,null,null,null,null,null,null,null,0,null,{"$error":"#DIV/0!"},{"$error":"#DIV/0!"},0,{"$error":"#DIV/0!"},{"$error":"#DIV/0!"},0,null,null,null,null,null,null,0,0,0,null,0,{"$f":"IFERROR(VLOOKUP(Z2237,有效性!$D$2:$E$6,2,0),0)","v":0},0,0,0,0,0,null,0,null,0,0,0,0,0,null,0,0,null,0,"不涉及",0,0,0,0,0,0,0,"","否","正确","正确"]
[null,null,null,null,null,null,null,null,null,null,null,null,null,null,null,null,0,null,{"$f":"(1-I2244)/(K2244*12)","v":{"$error":"#DIV/0!"}},{"$f":"ROUND(G2244*S2244,2)","v":{"$error":"#DIV/0!"}},{"$f":"IF($T$2<YEAR(J2244),0,IF($T$2=YEAR(J2244),MAX($V$2-MONTH(J2244),0),IF($T$2>YEAR(J2244)+K2244,0,IF($T$2=YEAR(J2244)+K2244,MIN(MONTH($J2244),$V$2),$V$2))))","v":0},{"$f":"T2244*U2244","v":{"$error":"#DIV/0!"}},{"$f":"IF(ABS(Q2244-V2244)<=$X$2,0,Q2244-V2244)","v":{"$error":"#DIV/0!"}},{"$f":"IFERROR(IF((W2244/V2244)<$Y$2,0,W2244/V2244),0)","v":0},null,null,null,null,null,null,{"$f":"G2244-AD2244","v":0},{"$f":"IF(ISNUMBER(FIND(\"计税基础差异\",AA2244)),IF(YEAR(J2244)+K2244=$T$2,Q2244-((G2244-AD2244)*(1-I2244)-AH2244),AD2244*S2244*U2244),0)","v":0},{"$f":"IF(ISNUMBER(FIND(\"计税基础差异\",AA2244)),IF(AB2244=\"是\",Q2244-AF2244,0),0)","v":0},null,{"$f":"ROUND(AH2244+AG2244,2)","v":0},{"$f":"IFERROR(VLOOKUP(Z2244,有效性!$D$2:$E$6,2,0),0)","v":0},{"$f":"IFERROR((1-I2244)/(AJ2244*12),0)","v":0},{"$f":"G2244*AK2244","v":0},{"$f":"IF($T$2<YEAR(J2244),0,IF($T$2=YEAR(J2244),MAX($V$2-MONTH(J2244),0),IF($T$2>YEAR(J2244)+AJ2244,0,IF($T$2=YEAR(J2244)+AJ2244,MIN(MONTH($J2244),$V$2),$V$2))))","v":0},{"$f":"IF(ISNUMBER(FIND(\"折旧年限差异\",AA2244)),IF(YEAR(J2244)+AJ2244=$T$2,AP2244,AL2244*AM2244),0)","v":0},{"$f":"ROUND(IF(ISNUMBER(FIND(\"折旧年限差异\",AA2244)),IF(AB2244=\"是\",Q2244-AN2244,0),0),2)","v":0},null,{"$f":"ROUND(AO2244+AP2244,2)","v":0},null,{"$f":"IF(ISNUMBER(FIND(\"缩短年限60%\",AA2244)),IFERROR((1-I2244)/(AR2244*12),0),0)","v":0},{"$f":"G2244*AS2244","v":0},{"$f":"IF($T$2<YEAR(J2244),0,IF($T$2=YEAR(J2244),MAX($V$2-MONTH(J2244),0),IF($T$2>YEAR(J2244)+AR2244,0,IF($T$2=YEAR(J2244)+AR2244,MIN(MONTH($J2244),$V$2),$V$2))))","v":0},{"$f":"ROUND(IF(ISNUMBER(FIND(\"加速折旧\",AA2244)),IF(OR(ISNUMBER(FIND(\"500万元以下一次性扣除\",AA2244)),ISNUMBER(FIND(\"5000元以下一次性扣除\",AA2244))),IF(OR(AND(YEAR(J2244)=$T$2,MONTH(J2244)<>12),AND(YEAR(J2244)=$T$2-1,MONTH(J2244)=12)),G2244,0),IF(ISNUMBER(FIND(\"缩短年限60%\",AA2244)),IF(YEAR(J2244)+AR2244=$T$2,G2244*(1-I2244)-(O2244-AX2244),AT2244*AU2244),0)),0),2)","v":0},{"$f":"ROUND(IF(ISNUMBER(FIND(\"加速折旧\",AA2244)),IF(AB2244=\"是\",Q2244-AV2244,0),0),2)","v":0},null,{"$f":"ROUND(AX2244+AW2244,20)","v":0},{"$f":"IFERROR(IF(ISNUMBER(FIND(\"不得扣除折旧资产\",AA2244)),IF(AB2244=\"是\",Q2244,0),0),0)","v":0},null,{"$f":"BA2244+AZ2244","v":0},"不涉及",{"$f":"IF(OR(AC2244=\"否\",BC2244=\"不涉及\"),0,Q2244-AG2244-AO2244-AW2244)","v":0},{"$f":"IF(BC2244=\"不涉及\",0,IF(BC2244=\"是\",BD2244-Q2244,BD2244))","v":0},{"$f":"AH2244+AP2244+AX2244+BA2244","v":0},{"$f":"MAX(0,BJ2244)","v":0},{"$f":"MIN(0,BJ2244)","v":0},{"$f":"AI2244+AQ2244+AY2244+BB2244","v":0},{"$f":"AG2244+AO2244+AW2244+AZ2244","v":0},{"$f":"_xlfn.IFS(BJ2244>0,\"本年调增\",BJ2244<0,\"本年调减\",BJ2244=0,\"\")","v":""},"否",{"$f":"IF(AND(BL2244=\"是\",BI2244<>0),\"请检查\",\"正确\")","v":"正确"},{"$f":"IF(Q2244-BJ2244<0,\"错误\",\"正确\")","v":"正确"}]
[null,null,null,null,null,null,null,null,null,null,null,null,null,null,null,null,0,null,{"$error":"#DIV/0!"},{"$error":"#DIV/0!"},0,{"$error":"#DIV/0!"},{"$error":"#DIV/0!"},0,null,null,null,null,null,null,0,0,0,null,0,{"$f":"IFERROR(VLOOKUP(Z2252,有效性!$D$2:$E$6,2,0),0)","v":0},0,0,0,0,0,null,0,null,0,0,0,0,0,null,0,0,null,0,"不涉及",0,0,0,0,0,0,0,"","否","正确","正确"]
[null,null,null,null,null,null,null,null,null,null,null,null,null,null,null,null,0,null,{"$error":"#DIV/0!"},{"$error":"#DIV/0!"},0,{"$error":"#DIV/0!"},{"$error":"#DIV/0!"},0,null,null,null,null,null,null,0,0,0,null,0,{"$f":"IFERROR(VLOOKUP(Z2267,有效性!$D$2:$E$6,2,0),0)","v":0},0,0,0,0,0,null,0,null,0,0,0,0,0,null,0,0,null,0,"不涉及",0,0,0,0,0,0,0,"","否","正确","正确"]
[null,null,null,null,null,null,null,null,null,null,null,null,null,null,null,null,0,null,{"$error":"#DIV/0!"},{"$error":"#DIV/0!"},0,{"$error":"#DIV/0!"},{"$error":"#DIV/0!"},0,null,null,null,null,null,null,0,0,0,null,0,{"$f":"IFERROR(VLOOKUP(Z2274,有效性!$D$2:$E$6,2,0),0)","v":0},0,0,0,0,0,null,0,null,0,0,0,0,0,null,0,0,null,0,"不涉及",0,0,0,0,0,0,0,"","否","正确","正确"]
[null,null,null,null,null,null,null,null,null,null,null,null,null,null,null,null,0,null,{"$error":"#DIV/0!"},{"$error":"#DIV/0!"},0,{"$error":"#DIV/0!"},{"$error":"#DIV/0!"},0,null,null,null,null,null,null,0,0,0,null,0,{"$f":"IFERROR(VLOOKUP(Z2277,有效性!$D$2:$E$6,2,0),0)","v":0},0,0,0,0,0,null,0,null,0,0,0,0,0,null,0,0,null,0,"不涉及",0,0,0,0,0,0,0,"","否","正确","正确"]
[null,null,null,null,null,null,null,null,null,null,null,null,null,null,null,null,0,null,{"$error":"#DIV/0!"},{"$error":"#DIV/0!"},0,{"$error":"#DIV/0!"},{"$error":"#DIV/0!"},0,null,null,null,null,null,null,0,0,0,null,0,{"$f":"IFERROR(VLOOKUP(Z2291,有效性!$D$2:$E$6,2,0),0)","v":0},0,0,0,0,0,null,0,null,0,0,0,0,0,null,0,0,null,0,"不涉及",0,0,0,0,0,0,0,"","否","正确","正确"]
[null,null,null,null,null,null,null,null,null,null,null,null,null,null,null,null,0,null,{"$error":"#DIV/0!"},{"$error":"#DIV/0!"},0,{"$error":"#DIV/0!"},{"$error":"#DIV/0!"},0,null,null,null,null,null,null,0,0,0,null,0,{"$f":"IFERROR(VLOOKUP(Z2295,有效性!$D$2:$E$6,2,0),0)","v":0},0,0,0,0,0,null,0,null,0,0,0,0,0,null,0,0,null,0,"不涉及",0,0,0,0,0,0,0,"","否","正确","正确"]
[null,null,null,null,null,null,null,null,null,null,null,null,null,null,null,null,0,null,{"$error":"#DIV/0!"},{"$error":"#DIV/0!"},0,{"$error":"#DIV/0!"},{"$error":"#DIV/0!"},0,null,null,null,null,null,null,0,0,0,null,0,{"$f":"IFERROR(VLOOKUP(Z2307,有效性!$D$2:$E$6,2,0),0)","v":0},0,0,0,0,0,null,0,null,0,0,0,0,0,null,0,0,null,0,"不涉及",0,0,0,0,0,0,0,"","否","正确","正确"]
[null,null,null,null,null,null,null,null,null,null,null,null,null,null,null,null,0,null,{"$error":"#DIV/0!"},{"$error":"#DIV/0!"},0,{"$error":"#DIV/0!"},{"$error":"#DIV/0!"},0,null,null,null,null,null,null,0,0,0,null,0,{"$f":"IFERROR(VLOOKUP(Z2314,有效性!$D$2:$E$6,2,0),0)","v":0},0,0,0,0,0,null,0,null,0,0,0,0,0,null,0,0,null,0,"不涉及",0,0,0,0,0,0,0,"","否","正确","正确"]
[null,null,null,null,null,null,null,null,null,null,null,null,null,null,null,null,0,null,{"$error":"#DIV/0!"},{"$error":"#DIV/0!"},0,{"$error":"#DIV/0!"},{"$error":"#DIV/0!"},0,null,null,null,null,null,null,0,0,0,null,0,{"$f":"IFERROR(VLOOKUP(Z2322,有效性!$D$2:$E$6,2,0),0)","v":0},0,0,0,0,0,null,0,null,0,0,0,0,0,null,0,0,null,0,"不涉及",0,0,0,0,0,0,0,"","否","正确","正确"]
[null,null,null,null,null,null,null,null,null,null,null,null,null,null,null,null,0,null,{"$error":"#DIV/0!"},{"$error":"#DIV/0!"},0,{"$error":"#DIV/0!"},{"$error":"#DIV/0!"},0,null,null,null,null,null,null,0,0,0,null,0,{"$f":"IFERROR(VLOOKUP(Z2337,有效性!$D$2:$E$6,2,0),0)","v":0},0,0,0,0,0,null,0,null,0,0,0,0,0,null,0,0,null,0,"不涉及",0,0,0,0,0,0,0,"","否","正确","正确"]
[null,null,null,null,null,null,null,null,null,null,null,null,null,null,null,null,0,null,{"$error":"#DIV/0!"},{"$error":"#DIV/0!"},0,{"$error":"#DIV/0!"},{"$error":"#DIV/0!"},0,null,null,null,null,null,null,0,0,0,null,0,{"$f":"IFERROR(VLOOKUP(Z2344,有效性!$D$2:$E$6,2,0),0)","v":0},0,0,0,0,0,null,0,null,0,0,0,0,0,null,0,0,null,0,"不涉及",0,0,0,0,0,0,0,"","否","正确","正确"]
[null,null,null,null,null,null,null,null,null,null,null,null,null,null,null,null,0,null,{"$error":"#DIV/0!"},{"$error":"#DIV/0!"},0,{"$error":"#DIV/0!"},{"$error":"#DIV/0!"},0,null,null,null,null,null,null,0,0,0,null,0,{"$f":"IFERROR(VLOOKUP(Z2347,有效性!$D$2:$E$6,2,0),0)","v":0},0,0,0,0,0,null,0,null,0,0,0,0,0,null,0,0,null,0,"不涉及",0,0,0,0,0,0,0,"","否","正确","正确"]
[null,null,null,null,null,null,null,null,null,null,null,null,null,null,null,null,0,null,{"$error":"#DIV/0!"},{"$error":"#DIV/0!"},0,{"$error":"#DIV/0!"},{"$error":"#DIV/0!"},0,null,null,null,null,null,null,0,0,0,null,0,{"$f":"IFERROR(VLOOKUP(Z2361,有效性!$D$2:$E$6,2,0),0)","v":0},0,0,0,0,0,null,0,null,0,0,0,0,0,null,0,0,null,0,"不涉及",0,0,0,0,0,0,0,"","否","正确","正确"]
[null,null,null,null,null,null,null,null,null,null,null,null,null,null,null,null,0,null,{"$error":"#DIV/0!"},{"$error":"#DIV/0!"},0,{"$error":"#DIV/0!"},{"$error":"#DIV/0!"},0,null,null,null,null,null,null,0,0,0,null,0,{"$f":"IFERROR(VLOOKUP(Z2365,有效性!$D$2:$E$6,2,0),0)","v":0},0,0,0,0,0,null,0,null,0,0,0,0,0,null,0,0,null,0,"不涉及",0,0,0,0,0,0,0,"","否","正确","正确"]
[null,null,null,null,null,null,null,null,null,null,null,null,null,null,null,null,0,null,{"$error":"#DIV/0!"},{"$error":"#DIV/0!"},0,{"$error":"#DIV/0!"},{"$error":"#DIV/0!"},0,null,null,null,null,null,null,0,0,0,null,0,{"$f":"IFERROR(VLOOKUP(Z2377,有效性!$D$2:$E$6,2,0),0)","v":0},0,0,0,0,0,null,0,null,0,0,0,0,0,null,0,0,null,0,"不涉及",0,0,0,0,0,0,0,"","否","正确","正确"]
[null,null,null,null,null,null,null,null,null,null,null,null,null,null,null,null,0,null,{"$error":"#DIV/0!"},{"$error":"#DIV/0!"},0,{"$error":"#DIV/0!"},{"$error":"#DIV/0!"},0,null,null,null,null,null,null,0,0,0,null,0,{"$f":"IFERROR(VLOOKUP(Z2384,有效性!$D$2:$E$6,2,0),0)","v":0},0,0,0,0,0,null,0,null,0,0,0,0,0,null,0,0,null,0,"不涉及",0,0,0,0,0,0,0,"","否","正确","正确"]
[null,null,null,null,null,null,null,null,null,null,null,null,null,null,null,null,0,null,{"$error":"#DIV/0!"},{"$error":"#DIV/0!"},0,{"$error":"#DIV/0!"},{"$error":"#DIV/0!"},0,null,null,null,null,null,null,0,0,0,null,0,{"$f":"IFERROR(VLOOKUP(Z2392,有效性!$D$2:$E$6,2,0),0)","v":0},0,0,0,0,0,null,0,null,0,0,0,0,0,null,0,0,null,0,"不涉及",0,0,0,0,0,0,0,"","否","正确","正确"]
[null,null,null,null,null,null,null,null,null,null,null,null,null,null,null,null,0,null,{"$error":"#DIV/0!"},{"$error":"#DIV/0!"},0,{"$error":"#DIV/0!"},{"$error":"#DIV/0!"},0,null,null,null,null,null,null,0,0,0,null,0,{"$f":"IFERROR(VLOOKUP(Z2407,有效性!$D$2:$E$6,2,0),0)","v":0},0,0,0,0,0,null,0,null,0,0,0,0,0,null,0,0,null,0,"不涉及",0,0,0,0,0,0,0,"","否","正确","正确"]
[null,null,null,null,null,null,null,null,null,null,null,null,null,null,null,null,0,null,{"$error":"#DIV/0!"},{"$error":"#DIV/0!"},0,{"$error":"#DIV/0!"},{"$error":"#DIV/0!"},0,null,null,null,null,null,null,0,0,0,null,0,{"$f":"IFERROR(VLOOKUP(Z2414,有效性!$D$2:$E$6,2,0),0)","v":0},0,0,0,0,0,null,0,null,0,0,0,0,0,null,0,0,null,0,"不涉及",0,0,0,0,0,0,0,"","否","正确","正确"]
[null,null,null,null,null,null,null,null,null,null,null,null,null,null,null,null,0,null,{"$error":"#DIV/0!"},{"$error":"#DIV/0!"},0,{"$error":"#DIV/0!"},{"$error":"#DIV/0!"},0,null,null,null,null,null,null,0,0,0,null,0,{"$f":"IFERROR(VLOOKUP(Z2417,有效性!$D$2:$E$6,2,0),0)","v":0},0,0,0,0,0,null,0,null,0,0,0,0,0,null,0,0,null,0,"不涉及",0,0,0,0,0,0,0,"","否","正确","正确"]
[null,null,null,null,null,null,null,null,null,null,null,null,null,null,null,null,0,null,{"$error":"#DIV/0!"},{"$error":"#DIV/0!"},0,{"$error":"#DIV/0!"},{"$error":"#DIV/0!"},0,null,null,null,null,null,null,0,0,0,null,0,{"$f":"IFERROR(VLOOKUP(Z2431,有效性!$D$2:$E$6,2,0),0)","v":0},0,0,0,0,0,null,0,null,0,0,0,0,0,null,0,0,null,0,"不涉及",0,0,0,0,0,0,0,"","否","正确","正确"]
[null,null,null,null,null,null,null,null,null,null,null,null,null,null,null,null,0,null,{"$error":"#DIV/0!"},{"$error":"#DIV/0!"},0,{"$error":"#DIV/0!"},{"$error":"#DIV/0!"},0,null,null,null,null,null,null,0,0,0,null,0,{"$f":"IFERROR(VLOOKUP(Z2435,有效性!$D$2:$E$6,2,0),0)","v":0},0,0,0,0,0,null,0,null,0,0,0,0,0,null,0,0,null,0,"不涉及",0,0,0,0,0,0,0,"","否","正确","正确"]
[null,null,null,null,null,null,null,null,null,null,null,null,null,null,null,null,0,null,{"$error":"#DIV/0!"},{"$error":"#DIV/0!"},0,{"$error":"#DIV/0!"},{"$error":"#DIV/0!"},0,null,null,null,null,null,null,0,0,0,null,0,{"$f":"IFERROR(VLOOKUP(Z2447,有效性!$D$2:$E$6,2,0),0)","v":0},0,0,0,0,0,null,0,null,0,0,0,0,0,null,0,0,null,0,"不涉及",0,0,0,0,0,0,0,"","否","正确","正确"]
[null,null,null,null,null,null,null,null,null,null,null,null,null,null,null,null,0,null,{"$error":"#DIV/0!"},{"$error":"#DIV/0!"},0,{"$error":"#DIV/0!"},{"$error":"#DIV/0!"},0,null,null,null,null,null,null,0,0,0,null,0,{"$f":"IFERROR(VLOOKUP(Z2454,有效性!$D$2:$E$6,2,0),0)","v":0},0,0,0,0,0,null,0,null,0,0,0,0,0,null,0,0,null,0,"不涉及",0,0,0,0,0,0,0,"","否","正确","正确"]
[null,null,null,null,null,null,null,null,null,null,null,null,null,null,null,null,0,null,{"$error":"#DIV/0!"},{"$error":"#DIV/0!"},0,{"$error":"#DIV/0!"},{"$error":"#DIV/0!"},0,null,null,null,null,null,null,0,0,0,null,0,{"$f":"IFERROR(VLOOKUP(Z2462,有效性!$D$2:$E$6,2,0),0)","v":0},0,0,0,0,0,null,0,null,0,0,0,0,0,null,0,0,null,0,"不涉及",0,0,0,0,0,0,0,"","否","正确","正确"]
[null,null,null,null,null,null,null,null,null,null,null,null,null,null,null,null,0,null,{"$error":"#DIV/0!"},{"$error":"#DIV/0!"},0,{"$error":"#DIV/0!"},{"$error":"#DIV/0!"},0,null,null,null,null,null,null,0,0,0,null,0,{"$f":"IFERROR(VLOOKUP(Z2477,有效性!$D$2:$E$6,2,0),0)","v":0},0,0,0,0,0,null,0,null,0,0,0,0,0,null,0,0,null,0,"不涉及",0,0,0,0,0,0,0,"","否","正确","正确"]
[null,null,null,null,null,null,null,null,null,null,null,null,null,null,null,null,0,null,{"$error":"#DIV/0!"},{"$error":"#DIV/0!"},0,{"$error":"#DIV/0!"},{"$error":"#DIV/0!"},0,null,null,null,null,null,null,0,0,0,null,0,{"$f":"IFERROR(VLOOKUP(Z2484,有效性!$D$2:$E$6,2,0),0)","v":0},0,0,0,0,0,null,0,null,0,0,0,0,0,null,0,0,null,0,"不涉及",0,0,0,0,0,0,0,"","否","正确","正确"]
[null,null,null,null,null,null,null,null,null,null,null,null,null,null,null,null,0,null,{"$error":"#DIV/0!"},{"$error":"#DIV/0!"},0,{"$error":"#DIV/0!"},{"$error":"#DIV/0!"},0,null,null,null,null,null,null,0,0,0,null,0,{"$f":"IFERROR(VLOOKUP(Z2487,有效性!$D$2:$E$6,2,0),0)","v":0},0,0,0,0,0,null,0,null,0,0,0,0,0,null,0,0,null,0,"不涉及",0,0,0,0,0,0,0,"","否","正确","正确"]
[null,null,null,null,null,null,null,null,null,null,null,null,null,null,null,null,{"$f":"P2501-O2501","v":0},null,{"$error":"#DIV/0!"},{"$error":"#DIV/0!"},0,{"$error":"#DIV/0!"},{"$error":"#DIV/0!"},0,null,null,null,null,null,null,0,0,0,null,0,{"$f":"IFERROR(VLOOKUP(Z2501,有效性!$D$2:$E$6,2,0),0)","v":0},0,0,0,0,0,null,0,null,0,0,0,0,0,null,0,0,null,0,"不涉及",0,0,0,0,0,0,0,"","否","正确","正确"]
[null,null,null,null,null,null,null,null,null,null,null,null,null,null,null,null,0,null,{"$error":"#DIV/0!"},{"$error":"#DIV/0!"},0,{"$error":"#DIV/0!"},{"$error":"#DIV/0!"},0,null,null,null,null,null,null,0,0,0,null,0,{"$f":"IFERROR(VLOOKUP(Z2505,有效性!$D$2:$E$6,2,0),0)","v":0},0,0,0,0,0,null,0,null,0,0,0,0,0,null,0,0,null,0,"不涉及",0,0,0,0,0,0,0,"","否","正确","正确"]
[null,null,null,null,null,null,null,null,null,null,null,null,null,null,null,null,0,null,{"$error":"#DIV/0!"},{"$error":"#DIV/0!"},0,{"$error":"#DIV/0!"},{"$error":"#DIV/0!"},0,null,null,null,null,null,null,0,0,0,null,0,{"$f":"IFERROR(VLOOKUP(Z2517,有效性!$D$2:$E$6,2,0),0)","v":0},0,0,0,0,0,null,0,null,0,0,0,0,0,null,0,0,null,0,"不涉及",0,0,0,0,0,0,0,"","否","正确","正确"]
[null,null,null,null,null,null,null,null,null,null,null,null,null,null,null,null,0,null,{"$error":"#DIV/0!"},{"$error":"#DIV/0!"},0,{"$error":"#DIV/0!"},{"$error":"#DIV/0!"},0,null,null,null,null,null,null,0,0,0,null,0,{"$f":"IFERROR(VLOOKUP(Z2524,有效性!$D$2:$E$6,2,0),0)","v":0},0,0,0,0,0,null,0,null,0,0,0,0,0,null,0,0,null,0,"不涉及",0,0,0,0,0,0,0,"","否","正确","正确"]
[null,null,null,null,null,null,null,null,null,null,null,null,null,null,null,null,0,null,{"$error":"#DIV/0!"},{"$error":"#DIV/0!"},0,{"$error":"#DIV/0!"},{"$error":"#DIV/0!"},0,null,null,null,null,null,null,0,0,0,null,0,{"$f":"IFERROR(VLOOKUP(Z2532,有效性!$D$2:$E$6,2,0),0)","v":0},0,0,0,0,0,null,0,null,0,0,0,0,0,null,0,0,null,0,"不涉及",0,0,0,0,0,0,0,"","否","正确","正确"]
[null,null,null,null,null,null,null,null,null,null,null,null,null,null,null,null,0,null,{"$error":"#DIV/0!"},{"$error":"#DIV/0!"},0,{"$error":"#DIV/0!"},{"$error":"#DIV/0!"},0,null,null,null,null,null,null,0,0,0,null,0,{"$f":"IFERROR(VLOOKUP(Z2547,有效性!$D$2:$E$6,2,0),0)","v":0},0,0,0,0,0,null,0,null,0,0,0,0,0,null,0,0,null,0,"不涉及",0,0,0,0,0,0,0,"","否","正确","正确"]
[null,null,null,null,null,null,null,null,null,null,null,null,null,null,null,null,0,null,{"$error":"#DIV/0!"},{"$error":"#DIV/0!"},0,{"$error":"#DIV/0!"},{"$error":"#DIV/0!"},0,null,null,null,null,null,null,0,0,0,null,0,{"$f":"IFERROR(VLOOKUP(Z2554,有效性!$D$2:$E$6,2,0),0)","v":0},0,0,0,0,0,null,0,null,0,0,0,0,0,null,0,0,null,0,"不涉及",0,0,0,0,0,0,0,"","否","正确","正确"]
[null,null,null,null,null,null,null,null,null,null,null,null,null,null,null,null,0,null,{"$error":"#DIV/0!"},{"$error":"#DIV/0!"},0,{"$error":"#DIV/0!"},{"$error":"#DIV/0!"},0,null,null,null,null,null,null,0,0,0,null,0,{"$f":"IFERROR(VLOOKUP(Z2557,有效性!$D$2:$E$6,2,0),0)","v":0},0,0,0,0,0,null,0,null,0,0,0,0,0,null,0,0,null,0,"不涉及",0,0,0,0,0,0,0,"","否","正确","正确"]
[null,null,null,null,null,null,null,null,null,null,null,null,null,null,null,null,0,null,{"$error":"#DIV/0!"},{"$error":"#DIV/0!"},0,{"$error":"#DIV/0!"},{"$error":"#DIV/0!"},0,null,null,null,null,null,null,0,0,0,null,0,{"$f":"IFERROR(VLOOKUP(Z2571,有效性!$D$2:$E$6,2,0),0)","v":0},0,0,0,0,0,null,0,null,0,0,0,0,0,null,0,0,null,0,"不涉及",0,0,0,0,0,0,0,"","否","正确","正确"]
[null,null,null,null,null,null,null,null,null,null,null,null,null,null,null,null,0,null,{"$error":"#DIV/0!"},{"$error":"#DIV/0!"},0,{"$error":"#DIV/0!"},{"$error":"#DIV/0!"},0,null,null,null,null,null,null,0,0,0,null,0,{"$f":"IFERROR(VLOOKUP(Z2575,有效性!$D$2:$E$6,2,0),0)","v":0},0,0,0,0,0,null,0,null,0,0,0,0,0,null,0,0,null,0,"不涉及",0,0,0,0,0,0,0,"","否","正确","正确"]
[null,null,null,null,null,null,null,null,null,null,null,null,null,null,null,null,0,null,{"$error":"#DIV/0!"},{"$error":"#DIV/0!"},0,{"$error":"#DIV/0!"},{"$error":"#DIV/0!"},0,null,null,null,null,null,null,0,0,0,null,0,{"$f":"IFERROR(VLOOKUP(Z2587,有效性!$D$2:$E$6,2,0),0)","v":0},0,0,0,0,0,null,0,null,0,0,0,0,0,null,0,0,null,0,"不涉及",0,0,0,0,0,0,0,"","否","正确","正确"]
[null,null,null,null,null,null,null,null,null,null,null,null,null,null,null,null,0,null,{"$error":"#DIV/0!"},{"$error":"#DIV/0!"},0,{"$error":"#DIV/0!"},{"$error":"#DIV/0!"},0,null,null,null,null,null,null,0,0,0,null,0,{"$f":"IFERROR(VLOOKUP(Z2594,有效性!$D$2:$E$6,2,0),0)","v":0},0,0,0,0,0,null,0,null,0,0,0,0,0,null,0,0,null,0,"不涉及",0,0,0,0,0,0,0,"","否","正确","正确"]
[null,null,null,null,null,null,null,null,null,null,null,null,null,null,null,null,0,null,{"$error":"#DIV/0!"},{"$error":"#DIV/0!"},0,{"$error":"#DIV/0!"},{"$error":"#DIV/0!"},0,null,null,null,null,null,null,0,0,0,null,0,{"$f":"IFERROR(VLOOKUP(Z2602,有效性!$D$2:$E$6,2,0),0)","v":0},0,0,0,0,0,null,0,null,0,0,0,0,0,null,0,0,null,0,"不涉及",0,0,0,0,0,0,0,"","否","正确","正确"]
[null,null,null,null,null,null,null,null,null,null,null,null,null,null,null,null,0,null,{"$error":"#DIV/0!"},{"$error":"#DIV/0!"},0,{"$error":"#DIV/0!"},{"$error":"#DIV/0!"},0,null,null,null,null,null,null,0,0,0,null,0,{"$f":"IFERROR(VLOOKUP(Z2612,有效性!$D$2:$E$6,2,0),0)","v":0},0,0,0,0,0,null,0,null,0,0,0,0,0,null,0,0,null,0,"不涉及",0,0,0,0,0,0,0,"","否","正确","正确"]
[null,null,null,null,null,null,null,null,null,null,null,null,null,null,null,null,0,null,{"$error":"#DIV/0!"},{"$error":"#DIV/0!"},0,{"$error":"#DIV/0!"},{"$error":"#DIV/0!"},0,null,null,null,null,null,null,0,0,0,null,0,{"$f":"IFERROR(VLOOKUP(Z2624,有效性!$D$2:$E$6,2,0),0)","v":0},0,0,0,0,0,null,0,null,0,0,0,0,0,null,0,0,null,0,"不涉及",0,0,0,0,0,0,0,"","否","正确","正确"]
[null,null,null,null,null,null,null,null,null,null,null,null,null,null,null,null,0,null,{"$error":"#DIV/0!"},{"$error":"#DIV/0!"},0,{"$error":"#DIV/0!"},{"$error":"#DIV/0!"},0,null,null,null,null,null,null,0,0,0,null,0,{"$f":"IFERROR(VLOOKUP(Z2627,有效性!$D$2:$E$6,2,0),0)","v":0},0,0,0,0,0,null,0,null,0,0,0,0,0,null,0,0,null,0,"不涉及",0,0,0,0,0,0,0,"","否","正确","正确"]
[null,null,null,null,null,null,null,null,null,null,null,null,null,null,null,null,0,null,{"$error":"#DIV/0!"},{"$error":"#DIV/0!"},0,{"$error":"#DIV/0!"},{"$error":"#DIV/0!"},0,null,null,null,null,null,null,0,0,0,null,0,{"$f":"IFERROR(VLOOKUP(Z2641,有效性!$D$2:$E$6,2,0),0)","v":0},0,0,0,0,0,null,0,null,0,0,0,0,0,null,0,0,null,0,"不涉及",0,0,0,0,0,0,0,"","否","正确","正确"]
[null,null,null,null,null,null,null,null,null,null,null,null,null,null,null,null,0,null,{"$error":"#DIV/0!"},{"$error":"#DIV/0!"},0,{"$error":"#DIV/0!"},{"$error":"#DIV/0!"},0,null,null,null,null,null,null,0,0,0,null,0,{"$f":"IFERROR(VLOOKUP(Z2645,有效性!$D$2:$E$6,2,0),0)","v":0},0,0,0,0,0,null,0,null,0,0,0,0,0,null,0,0,null,0,"不涉及",0,0,0,0,0,0,0,"","否","正确","正确"]
[null,null,null,null,null,null,null,null,null,null,null,null,null,null,null,null,0,null,{"$error":"#DIV/0!"},{"$error":"#DIV/0!"},0,{"$error":"#DIV/0!"},{"$error":"#DIV/0!"},0,null,null,null,null,null,null,0,0,0,null,0,{"$f":"IFERROR(VLOOKUP(Z2657,有效性!$D$2:$E$6,2,0),0)","v":0},0,0,0,0,0,null,0,null,0,0,0,0,0,null,0,0,null,0,"不涉及",0,0,0,0,0,0,0,"","否","正确","正确"]
[null,null,null,null,null,null,null,null,null,null,null,null,null,null,null,null,0,null,{"$error":"#DIV/0!"},{"$error":"#DIV/0!"},0,{"$error":"#DIV/0!"},{"$error":"#DIV/0!"},0,null,null,null,null,null,null,0,0,0,null,0,{"$f":"IFERROR(VLOOKUP(Z2664,有效性!$D$2:$E$6,2,0),0)","v":0},0,0,0,0,0,null,0,null,0,0,0,0,0,null,0,0,null,0,"不涉及",0,0,0,0,0,0,0,"","否","正确","正确"]
[null,null,null,null,null,null,null,null,null,null,null,null,null,null,null,null,0,null,{"$error":"#DIV/0!"},{"$error":"#DIV/0!"},0,{"$error":"#DIV/0!"},{"$error":"#DIV/0!"},0,null,null,null,null,null,null,0,0,0,null,0,{"$f":"IFERROR(VLOOKUP(Z2672,有效性!$D$2:$E$6,2,0),0)","v":0},0,0,0,0,0,null,0,null,0,0,0,0,0,null,0,0,null,0,"不涉及",0,0,0,0,0,0,0,"","否","正确","正确"]
[null,null,null,null,null,null,null,null,null,null,null,null,null,null,null,null,0,null,{"$error":"#DIV/0!"},{"$error":"#DIV/0!"},0,{"$error":"#DIV/0!"},{"$error":"#DIV/0!"},0,null,null,null,null,null,null,0,0,0,null,0,{"$f":"IFERROR(VLOOKUP(Z2682,有效性!$D$2:$E$6,2,0),0)","v":0},0,0,0,0,0,null,0,null,0,0,0,0,0,null,0,0,null,0,"不涉及",0,0,0,0,0,0,0,"","否","正确","正确"]
[null,null,null,null,null,null,null,null,null,null,null,null,null,null,null,null,0,null,{"$error":"#DIV/0!"},{"$error":"#DIV/0!"},0,{"$error":"#DIV/0!"},{"$error":"#DIV/0!"},0,null,null,null,null,null,null,0,0,0,null,0,{"$f":"IFERROR(VLOOKUP(Z2694,有效性!$D$2:$E$6,2,0),0)","v":0},0,0,0,0,0,null,0,null,0,0,0,0,0,null,0,0,null,0,"不涉及",0,0,0,0,0,0,0,"","否","正确","正确"]
[null,null,null,null,null,null,null,null,null,null,null,null,null,null,null,null,0,null,{"$error":"#DIV/0!"},{"$error":"#DIV/0!"},0,{"$error":"#DIV/0!"},{"$error":"#DIV/0!"},0,null,null,null,null,null,null,0,0,0,null,0,{"$f":"IFERROR(VLOOKUP(Z2697,有效性!$D$2:$E$6,2,0),0)","v":0},0,0,0,0,0,null,0,null,0,0,0,0,0,null,0,0,null,0,"不涉及",0,0,0,0,0,0,0,"","否","正确","正确"]
[null,null,null,null,null,null,null,null,null,null,null,null,null,null,null,null,0,null,{"$error":"#DIV/0!"},{"$error":"#DIV/0!"},0,{"$error":"#DIV/0!"},{"$error":"#DIV/0!"},0,null,null,null,null,null,null,0,0,0,null,0,{"$f":"IFERROR(VLOOKUP(Z2711,有效性!$D$2:$E$6,2,0),0)","v":0},0,0,0,0,0,null,0,null,0,0,0,0,0,null,0,0,null,0,"否",0,0,0,0,0,0,0,"","否","正确","正确"]
[null,null,null,null,null,null,null,null,null,null,null,null,null,null,null,null,0,null,{"$error":"#DIV/0!"},{"$error":"#DIV/0!"},0,{"$error":"#DIV/0!"},{"$error":"#DIV/0!"},0,null,null,null,null,null,null,0,0,0,null,0,{"$f":"IFERROR(VLOOKUP(Z2715,有效性!$D$2:$E$6,2,0),0)","v":0},0,0,0,0,0,null,0,null,0,0,0,0,0,null,0,0,null,0,"不涉及",0,0,0,0,0,0,0,"","否","正确","正确"]
[null,null,null,null,null,null,null,null,null,null,null,null,null,null,null,null,0,null,{"$error":"#DIV/0!"},{"$error":"#DIV/0!"},0,{"$error":"#DIV/0!"},{"$error":"#DIV/0!"},0,null,null,null,null,null,null,0,0,0,null,0,{"$f":"IFERROR(VLOOKUP(Z2731,有效性!$D$2:$E$6,2,0),0)","v":0},0,0,0,0,0,null,0,null,0,0,0,0,0,null,0,0,null,0,"不涉及",0,0,0,0,0,0,0,"","否","正确","正确"]
[null,null,null,null,null,null,null,null,null,null,null,null,null,null,null,null,0,null,{"$error":"#DIV/0!"},{"$error":"#DIV/0!"},0,{"$error":"#DIV/0!"},{"$error":"#DIV/0!"},0,null,null,null,null,null,null,0,0,0,null,0,{"$f":"IFERROR(VLOOKUP(Z2734,有效性!$D$2:$E$6,2,0),0)","v":0},0,0,0,0,0,null,0,null,0,0,0,0,0,null,0,0,null,0,"不涉及",0,0,0,0,0,0,0,"","否","正确","正确"]
[null,null,null,null,null,null,null,null,null,null,null,null,null,null,null,null,0,null,{"$error":"#DIV/0!"},{"$error":"#DIV/0!"},0,{"$error":"#DIV/0!"},{"$error":"#DIV/0!"},0,null,null,null,null,null,null,0,0,0,null,0,{"$f":"IFERROR(VLOOKUP(Z2742,有效性!$D$2:$E$6,2,0),0)","v":0},0,0,0,0,0,null,0,null,0,0,0,0,0,null,0,0,null,0,"不涉及",0,0,0,0,0,0,0,"","否","正确","正确"]
[null,null,null,null,null,null,null,null,null,null,null,null,null,null,null,null,0,null,{"$error":"#DIV/0!"},{"$error":"#DIV/0!"},0,{"$error":"#DIV/0!"},{"$error":"#DIV/0!"},0,null,null,null,null,null,null,0,0,0,null,0,{"$f":"IFERROR(VLOOKUP(Z2752,有效性!$D$2:$E$6,2,0),0)","v":0},0,0,0,0,0,null,0,null,0,0,0,0,0,null,0,0,null,0,"不涉及",0,0,0,0,0,0,0,"","否","正确","正确"]
[null,null,null,null,null,null,null,null,null,null,null,null,null,null,null,null,0,null,{"$error":"#DIV/0!"},{"$error":"#DIV/0!"},0,{"$error":"#DIV/0!"},{"$error":"#DIV/0!"},0,null,null,null,null,null,null,0,0,0,null,0,{"$f":"IFERROR(VLOOKUP(Z2764,有效性!$D$2:$E$6,2,0),0)","v":0},0,0,0,0,0,null,0,null,0,0,0,0,0,null,0,0,null,0,"不涉及",0,0,0,0,0,0,0,"","否","正确","正确"]
[null,null,null,null,null,null,null,null,null,null,null,null,null,null,null,null,0,null,{"$error":"#DIV/0!"},{"$error":"#DIV/0!"},0,{"$error":"#DIV/0!"},{"$error":"#DIV/0!"},0,null,null,null,null,null,null,0,0,0,null,0,{"$f":"IFERROR(VLOOKUP(Z2767,有效性!$D$2:$E$6,2,0),0)","v":0},0,0,0,0,0,null,0,null,0,0,0,0,0,null,0,0,null,0,"不涉及",0,0,0,0,0,0,0,"","否","正确","正确"]
[null,null,null,null,null,null,null,null,null,null,null,null,null,null,null,null,0,null,{"$error":"#DIV/0!"},{"$error":"#DIV/0!"},0,{"$error":"#DIV/0!"},{"$error":"#DIV/0!"},0,null,null,null,null,null,null,0,0,0,null,0,{"$f":"IFERROR(VLOOKUP(Z2781,有效性!$D$2:$E$6,2,0),0)","v":0},0,0,0,0,0,null,0,null,0,0,0,0,0,null,0,0,null,0,"不涉及",0,0,0,0,0,0,0,"","否","正确","正确"]
[null,null,null,null,null,null,null,null,null,null,null,null,null,null,null,null,0,null,{"$error":"#DIV/0!"},{"$error":"#DIV/0!"},0,{"$error":"#DIV/0!"},{"$error":"#DIV/0!"},0,null,null,null,null,null,null,0,0,0,null,0,{"$f":"IFERROR(VLOOKUP(Z2785,有效性!$D$2:$E$6,2,0),0)","v":0},0,0,0,0,0,null,0,null,0,0,0,0,0,null,0,0,null,0,"不涉及",0,0,0,0,0,0,0,"","否","正确","正确"]
[null,null,null,null,null,null,null,null,null,null,null,null,null,null,null,null,0,null,{"$error":"#DIV/0!"},{"$error":"#DIV/0!"},0,{"$error":"#DIV/0!"},{"$error":"#DIV/0!"},0,null,null,null,null,null,null,0,0,0,null,0,{"$f":"IFERROR(VLOOKUP(Z2801,有效性!$D$2:$E$6,2,0),0)","v":0},0,0,0,0,0,null,0,null,0,0,0,0,0,null,0,0,null,0,"不涉及",0,0,0,0,0,0,0,"","否","正确","正确"]
[null,null,null,null,null,null,null,null,null,null,null,null,null,null,null,null,0,null,{"$error":"#DIV/0!"},{"$error":"#DIV/0!"},0,{"$error":"#DIV/0!"},{"$error":"#DIV/0!"},0,null,null,null,null,null,null,0,0,0,null,0,{"$f":"IFERROR(VLOOKUP(Z2804,有效性!$D$2:$E$6,2,0),0)","v":0},0,0,0,0,0,null,0,null,0,0,0,0,0,null,0,0,null,0,"不涉及",0,0,0,0,0,0,0,"","否","正确","正确"]
[null,null,null,null,null,null,null,null,null,null,null,null,null,null,null,null,0,null,{"$error":"#DIV/0!"},{"$error":"#DIV/0!"},0,{"$error":"#DIV/0!"},{"$error":"#DIV/0!"},0,null,null,null,null,null,null,0,0,0,null,0,{"$f":"IFERROR(VLOOKUP(Z2812,有效性!$D$2:$E$6,2,0),0)","v":0},0,0,0,0,0,null,0,null,0,0,0,0,0,null,0,0,null,0,"不涉及",0,0,0,0,0,0,0,"","否","正确","正确"]
[null,null,null,null,null,null,null,null,null,null,null,null,null,null,null,null,0,null,{"$error":"#DIV/0!"},{"$error":"#DIV/0!"},0,{"$error":"#DIV/0!"},{"$error":"#DIV/0!"},0,null,null,null,null,null,null,0,0,0,null,0,{"$f":"IFERROR(VLOOKUP(Z2822,有效性!$D$2:$E$6,2,0),0)","v":0},0,0,0,0,0,null,0,null,0,0,0,0,0,null,0,0,null,0,"不涉及",0,0,0,0,0,0,0,"","否","正确","正确"]
[null,null,null,null,null,null,null,null,null,null,null,null,null,null,null,null,0,null,{"$error":"#DIV/0!"},{"$error":"#DIV/0!"},0,{"$error":"#DIV/0!"},{"$error":"#DIV/0!"},0,null,null,null,null,null,null,0,0,0,null,0,{"$f":"IFERROR(VLOOKUP(Z2834,有效性!$D$2:$E$6,2,0),0)","v":0},0,0,0,0,0,null,0,null,0,0,0,0,0,null,0,0,null,0,"不涉及",0,0,0,0,0,0,0,"","否","正确","正确"]
[null,null,null,null,null,null,null,null,null,null,null,null,null,null,null,null,0,null,{"$error":"#DIV/0!"},{"$error":"#DIV/0!"},0,{"$error":"#DIV/0!"},{"$error":"#DIV/0!"},0,null,null,null,null,null,null,0,0,0,null,0,{"$f":"IFERROR(VLOOKUP(Z2837,有效性!$D$2:$E$6,2,0),0)","v":0},0,0,0,0,0,null,0,null,0,0,0,0,0,null,0,0,null,0,"不涉及",0,0,0,0,0,0,0,"","否","正确","正确"]
[null,null,null,null,null,null,null,null,null,null,null,null,null,null,null,null,0,null,{"$error":"#DIV/0!"},{"$error":"#DIV/0!"},0,{"$error":"#DIV/0!"},{"$error":"#DIV/0!"},0,null,null,null,null,null,null,0,0,0,null,0,{"$f":"IFERROR(VLOOKUP(Z2851,有效性!$D$2:$E$6,2,0),0)","v":0},0,0,0,0,0,null,0,null,0,0,0,0,0,null,0,0,null,0,"不涉及",0,0,0,0,0,0,0,"","否","正确","正确"]
[null,null,null,null,null,null,null,null,null,null,null,null,null,null,null,null,0,null,{"$error":"#DIV/0!"},{"$error":"#DIV/0!"},0,{"$error":"#DIV/0!"},{"$error":"#DIV/0!"},0,null,null,null,null,null,null,0,0,0,null,0,{"$f":"IFERROR(VLOOKUP(Z2855,有效性!$D$2:$E$6,2,0),0)","v":0},0,0,0,0,0,null,0,null,0,0,0,0,0,null,0,0,null,0,"不涉及",0,0,0,0,0,0,0,"","否","正确","正确"]
[null,null,null,null,null,null,null,null,null,null,null,null,null,null,null,null,0,null,{"$error":"#DIV/0!"},{"$error":"#DIV/0!"},0,{"$error":"#DIV/0!"},{"$error":"#DIV/0!"},0,null,null,null,null,null,null,0,0,0,null,0,{"$f":"IFERROR(VLOOKUP(Z2871,有效性!$D$2:$E$6,2,0),0)","v":0},0,0,0,0,0,null,0,null,0,0,0,0,0,null,0,0,null,0,"不涉及",0,0,0,0,0,0,0,"","否","正确","正确"]
[null,null,null,null,null,null,null,null,null,null,null,null,null,null,null,null,0,null,{"$error":"#DIV/0!"},{"$error":"#DIV/0!"},0,{"$error":"#DIV/0!"},{"$error":"#DIV/0!"},0,null,null,null,null,null,null,0,0,0,null,0,{"$f":"IFERROR(VLOOKUP(Z2874,有效性!$D$2:$E$6,2,0),0)","v":0},0,0,0,0,0,null,0,null,0,0,0,0,0,null,0,0,null,0,"不涉及",0,0,0,0,0,0,0,"","否","正确","正确"]
[null,null,null,null,null,null,null,null,null,null,null,null,null,null,null,null,0,null,{"$error":"#DIV/0!"},{"$error":"#DIV/0!"},0,{"$error":"#DIV/0!"},{"$error":"#DIV/0!"},0,null,null,null,null,null,null,0,0,0,null,0,{"$f":"IFERROR(VLOOKUP(Z2882,有效性!$D$2:$E$6,2,0),0)","v":0},0,0,0,0,0,null,0,null,0,0,0,0,0,null,0,0,null,0,"不涉及",0,0,0,0,0,0,0,"","否","正确","正确"]
[null,null,null,null,null,null,null,null,null,null,null,null,null,null,null,null,0,null,{"$error":"#DIV/0!"},{"$error":"#DIV/0!"},0,{"$error":"#DIV/0!"},{"$error":"#DIV/0!"},0,null,null,null,null,null,null,0,0,0,null,0,{"$f":"IFERROR(VLOOKUP(Z2892,有效性!$D$2:$E$6,2,0),0)","v":0},0,0,0,0,0,null,0,null,0,0,0,0,0,null,0,0,null,0,"不涉及",0,0,0,0,0,0,0,"","否","正确","正确"]
[null,null,null,null,null,null,null,null,null,null,null,null,null,null,null,null,0,null,{"$error":"#DIV/0!"},{"$error":"#DIV/0!"},0,{"$error":"#DIV/0!"},{"$error":"#DIV/0!"},0,null,null,null,null,null,null,0,0,0,null,0,{"$f":"IFERROR(VLOOKUP(Z2904,有效性!$D$2:$E$6,2,0),0)","v":0},0,0,0,0,0,null,0,null,0,0,0,0,0,null,0,0,null,0,"不涉及",0,0,0,0,0,0,0,"","否","正确","正确"]
[null,null,null,null,null,null,null,null,null,null,null,null,null,null,null,null,0,null,{"$error":"#DIV/0!"},{"$error":"#DIV/0!"},0,{"$error":"#DIV/0!"},{"$error":"#DIV/0!"},0,null,null,null,null,null,null,0,0,0,null,0,{"$f":"IFERROR(VLOOKUP(Z2911,有效性!$D$2:$E$6,2,0),0)","v":0},0,0,0,0,0,null,0,null,0,0,0,0,0,null,0,0,null,0,"不涉及",0,0,0,0,0,0,0,"","否","正确","正确"]
[null,null,null,null,null,null,null,null,null,null,null,null,null,null,null,null,0,null,{"$error":"#DIV/0!"},{"$error":"#DIV/0!"},0,{"$error":"#DIV/0!"},{"$error":"#DIV/0!"},0,null,null,null,null,null,null,0,0,0,null,0,{"$f":"IFERROR(VLOOKUP(Z2921,有效性!$D$2:$E$6,2,0),0)","v":0},0,0,0,0,0,null,0,null,0,0,0,0,0,null,0,0,null,0,"不涉及",0,0,0,0,0,0,0,"","否","正确","正确"]
[null,null,null,null,null,null,null,null,null,null,null,null,null,null,null,null,0,null,{"$error":"#DIV/0!"},{"$error":"#DIV/0!"},0,{"$error":"#DIV/0!"},{"$error":"#DIV/0!"},0,null,null,null,null,null,null,0,0,0,null,0,{"$f":"IFERROR(VLOOKUP(Z2925,有效性!$D$2:$E$6,2,0),0)","v":0},0,0,0,0,0,null,0,null,0,0,0,0,0,null,0,0,null,0,"不涉及",0,0,0,0,0,0,0,"","否","正确","正确"]
[null,null,null,null,null,null,null,null,null,null,null,null,null,null,null,null,0,null,{"$error":"#DIV/0!"},{"$error":"#DIV/0!"},0,{"$error":"#DIV/0!"},{"$error":"#DIV/0!"},0,null,null,null,null,null,null,0,0,0,null,0,{"$f":"IFERROR(VLOOKUP(Z2941,有效性!$D$2:$E$6,2,0),0)","v":0},0,0,0,0,0,null,0,null,0,0,0,0,0,null,0,0,null,0,"不涉及",0,0,0,0,0,0,0,"","否","正确","正确"]
[null,null,null,null,null,null,null,null,null,null,null,null,null,null,null,null,0,null,{"$error":"#DIV/0!"},{"$error":"#DIV/0!"},0,{"$error":"#DIV/0!"},{"$error":"#DIV/0!"},0,null,null,null,null,null,null,0,0,0,null,0,{"$f":"IFERROR(VLOOKUP(Z2944,有效性!$D$2:$E$6,2,0),0)","v":0},0,0,0,0,0,null,0,null,0,0,0,0,0,null,0,0,null,0,"不涉及",0,0,0,0,0,0,0,"","否","正确","正确"]
[null,null,null,null,null,null,null,null,null,null,null,null,null,null,null,null,0,null,{"$error":"#DIV/0!"},{"$error":"#DIV/0!"},0,{"$error":"#DIV/0!"},{"$error":"#DIV/0!"},0,null,null,null,null,null,null,0,0,0,null,0,{"$f":"IFERROR(VLOOKUP(Z2952,有效性!$D$2:$E$6,2,0),0)","v":0},0,0,0,0,0,null,0,null,0,0,0,0,0,null,0,0,null,0,"不涉及",0,0,0,0,0,0,0,"","否","正确","正确"]
[null,null,null,null,null,null,null,null,null,null,null,null,null,null,null,null,0,null,{"$error":"#DIV/0!"},{"$error":"#DIV/0!"},0,{"$error":"#DIV/0!"},{"$error":"#DIV/0!"},0,null,null,null,null,null,null,0,0,0,null,0,{"$f":"IFERROR(VLOOKUP(Z2962,有效性!$D$2:$E$6,2,0),0)","v":0},0,0,0,0,0,null,0,null,0,0,0,0,0,null,0,0,null,0,"不涉及",0,0,0,0,0,0,0,"","否","正确","正确"]
[null,null,null,null,null,null,null,null,null,null,null,null,null,null,null,null,0,null,{"$error":"#DIV/0!"},{"$error":"#DIV/0!"},0,{"$error":"#DIV/0!"},{"$error":"#DIV/0!"},0,null,null,null,null,null,null,0,0,0,null,0,{"$f":"IFERROR(VLOOKUP(Z2974,有效性!$D$2:$E$6,2,0),0)","v":0},0,0,0,0,0,null,0,null,0,0,0,0,0,null,0,0,null,0,"不涉及",0,0,0,0,0,0,0,"","否","正确","正确"]
[null,null,null,null,null,null,null,null,null,null,null,null,null,null,null,null,0,null,{"$error":"#DIV/0!"},{"$error":"#DIV/0!"},0,{"$error":"#DIV/0!"},{"$error":"#DIV/0!"},0,null,null,null,null,null,null,0,0,0,null,0,{"$f":"IFERROR(VLOOKUP(Z2981,有效性!$D$2:$E$6,2,0),0)","v":0},0,0,0,0,0,null,0,null,0,0,0,0,0,null,0,0,null,0,"不涉及",0,0,0,0,0,0,0,"","否","正确","正确"]
[null,null,null,null,null,null,null,null,null,null,null,null,null,null,null,null,0,null,{"$error":"#DIV/0!"},{"$error":"#DIV/0!"},0,{"$error":"#DIV/0!"},{"$error":"#DIV/0!"},0,null,null,null,null,null,null,0,0,0,null,0,{"$f":"IFERROR(VLOOKUP(Z2991,有效性!$D$2:$E$6,2,0),0)","v":0},0,0,0,0,0,null,0,null,0,0,0,0,0,null,0,0,null,0,"不涉及",0,0,0,0,0,0,0,"","否","正确","正确"]
[null,null,null,null,null,null,null,null,null,null,null,null,null,null,null,null,0,null,{"$error":"#DIV/0!"},{"$error":"#DIV/0!"},0,{"$error":"#DIV/0!"},{"$error":"#DIV/0!"},0,null,null,null,null,null,null,0,0,0,null,0,{"$f":"IFERROR(VLOOKUP(Z2995,有效性!$D$2:$E$6,2,0),0)","v":0},0,0,0,0,0,null,0,null,0,0,0,0,0,null,0,0,null,0,"不涉及",0,0,0,0,0,0,0,"","否","正确","正确"]
[null,null,null,null,null,null,null,null,null,null,null,null,null,null,null,null,0,null,{"$error":"#DIV/0!"},{"$error":"#DIV/0!"},0,{"$error":"#DIV/0!"},{"$error":"#DIV/0!"},0,null,null,null,null,null,null,0,0,0,null,0,{"$f":"IFERROR(VLOOKUP(Z3011,有效性!$D$2:$E$6,2,0),0)","v":0},0,0,0,0,0,null,0,null,0,0,0,0,0,null,0,0,null,0,"不涉及",0,0,0,0,0,0,0,"","否","正确","正确"]
[null,null,null,null,null,null,null,null,null,null,null,null,null,null,null,null,0,null,{"$error":"#DIV/0!"},{"$error":"#DIV/0!"},0,{"$error":"#DIV/0!"},{"$error":"#DIV/0!"},0,null,null,null,null,null,null,0,0,0,null,0,{"$f":"IFERROR(VLOOKUP(Z3014,有效性!$D$2:$E$6,2,0),0)","v":0},0,0,0,0,0,null,0,null,0,0,0,0,0,null,0,0,null,0,"不涉及",0,0,0,0,0,0,0,"","否","正确","正确"]
[null,null,null,null,null,null,null,null,null,null,null,null,null,null,null,null,0,null,{"$error":"#DIV/0!"},{"$error":"#DIV/0!"},0,{"$error":"#DIV/0!"},{"$error":"#DIV/0!"},0,null,null,null,null,null,null,0,0,0,null,0,{"$f":"IFERROR(VLOOKUP(Z3022,有效性!$D$2:$E$6,2,0),0)","v":0},0,0,0,0,0,null,0,null,0,0,0,0,0,null,0,0,null,0,"不涉及",0,0,0,0,0,0,0,"","否","正确","正确"]
[null,null,null,null,null,null,null,null,null,null,null,null,null,null,null,null,0,null,{"$error":"#DIV/0!"},{"$error":"#DIV/0!"},0,{"$error":"#DIV/0!"},{"$error":"#DIV/0!"},0,null,null,null,null,null,null,0,0,0,null,0,{"$f":"IFERROR(VLOOKUP(Z3032,有效性!$D$2:$E$6,2,0),0)","v":0},0,0,0,0,0,null,0,null,0,0,0,0,0,null,0,0,null,0,"不涉及",0,0,0,0,0,0,0,"","否","正确","正确"]
[null,null,null,null,null,null,null,null,null,null,null,null,null,null,null,null,0,null,{"$error":"#DIV/0!"},{"$error":"#DIV/0!"},0,{"$error":"#DIV/0!"},{"$error":"#DIV/0!"},0,null,null,null,null,null,null,0,0,0,null,0,{"$f":"IFERROR(VLOOKUP(Z3044,有效性!$D$2:$E$6,2,0),0)","v":0},0,0,0,0,0,null,0,null,0,0,0,0,0,null,0,0,null,0,"不涉及",0,0,0,0,0,0,0,"","否","正确","正确"]
[null,null,null,null,null,null,null,null,null,null,null,null,null,null,null,null,0,null,{"$error":"#DIV/0!"},{"$error":"#DIV/0!"},0,{"$error":"#DIV/0!"},{"$error":"#DIV/0!"},0,null,null,null,null,null,null,0,0,0,null,0,{"$f":"IFERROR(VLOOKUP(Z3051,有效性!$D$2:$E$6,2,0),0)","v":0},0,0,0,0,0,null,0,null,0,0,0,0,0,null,0,0,null,0,"不涉及",0,0,0,0,0,0,0,"","否","正确","正确"]
[null,null,null,null,null,null,null,null,null,null,null,null,null,null,null,null,0,null,{"$error":"#DIV/0!"},{"$error":"#DIV/0!"},0,{"$error":"#DIV/0!"},{"$error":"#DIV/0!"},0,null,null,null,null,null,null,0,0,0,null,0,{"$f":"IFERROR(VLOOKUP(Z3061,有效性!$D$2:$E$6,2,0),0)","v":0},0,0,0,0,0,null,0,null,0,0,0,0,0,null,0,0,null,0,"不涉及",0,0,0,0,0,0,0,"","否","正确","正确"]
[null,null,null,null,null,null,null,null,null,null,null,null,null,null,null,null,0,null,{"$error":"#DIV/0!"},{"$error":"#DIV/0!"},0,{"$error":"#DIV/0!"},{"$error":"#DIV/0!"},0,null,null,null,null,null,null,0,0,0,null,0,{"$f":"IFERROR(VLOOKUP(Z3065,有效性!$D$2:$E$6,2,0),0)","v":0},0,0,0,0,0,null,0,null,0,0,0,0,0,null,0,0,null,0,"不涉及",0,0,0,0,0,0,0,"","否","正确","正确"]
[null,null,null,null,null,null,null,null,null,null,null,null,null,null,null,null,0,null,{"$error":"#DIV/0!"},{"$error":"#DIV/0!"},0,{"$error":"#DIV/0!"},{"$error":"#DIV/0!"},0,null,null,null,null,null,null,0,0,0,null,0,{"$f":"IFERROR(VLOOKUP(Z3081,有效性!$D$2:$E$6,2,0),0)","v":0},0,0,0,0,0,null,0,null,0,0,0,0,0,null,0,0,null,0,"不涉及",0,0,0,0,0,0,0,"","否","正确","正确"]
[null,null,null,null,null,null,null,null,null,null,null,null,null,null,null,null,0,null,{"$error":"#DIV/0!"},{"$error":"#DIV/0!"},0,{"$error":"#DIV/0!"},{"$error":"#DIV/0!"},0,null,null,null,null,null,null,0,0,0,null,0,{"$f":"IFERROR(VLOOKUP(Z3084,有效性!$D$2:$E$6,2,0),0)","v":0},0,0,0,0,0,null,0,null,0,0,0,0,0,null,0,0,null,0,"不涉及",0,0,0,0,0,0,0,"","否","正确","正确"]
[null,null,null,null,null,null,null,null,null,null,null,null,null,null,null,null,0,null,{"$error":"#DIV/0!"},{"$error":"#DIV/0!"},0,{"$error":"#DIV/0!"},{"$error":"#DIV/0!"},0,null,null,null,null,null,null,0,0,0,null,0,{"$f":"IFERROR(VLOOKUP(Z3092,有效性!$D$2:$E$6,2,0),0)","v":0},0,0,0,0,0,null,0,null,0,0,0,0,0,null,0,0,null,0,"不涉及",0,0,0,0,0,0,0,"","否","正确","正确"]
[null,null,null,null,null,null,null,null,null,null,null,null,null,null,null,null,0,null,{"$error":"#DIV/0!"},{"$error":"#DIV/0!"},0,{"$error":"#DIV/0!"},{"$error":"#DIV/0!"},0,null,null,null,null,null,null,0,0,0,null,0,{"$f":"IFERROR(VLOOKUP(Z3102,有效性!$D$2:$E$6,2,0),0)","v":0},0,0,0,0,0,null,0,null,0,0,0,0,0,null,0,0,null,0,"不涉及",0,0,0,0,0,0,0,"","否","正确","正确"]
[null,null,null,null,null,null,null,null,null,null,null,null,null,null,null,null,0,null,{"$error":"#DIV/0!"},{"$error":"#DIV/0!"},0,{"$error":"#DIV/0!"},{"$error":"#DIV/0!"},0,null,null,null,null,null,null,0,0,0,null,0,{"$f":"IFERROR(VLOOKUP(Z3114,有效性!$D$2:$E$6,2,0),0)","v":0},0,0,0,0,0,null,0,null,0,0,0,0,0,null,0,0,null,0,"不涉及",0,0,0,0,0,0,0,"","否","正确","正确"]
[null,null,null,null,null,null,null,null,null,null,null,null,null,null,null,null,0,null,{"$error":"#DIV/0!"},{"$error":"#DIV/0!"},0,{"$error":"#DIV/0!"},{"$error":"#DIV/0!"},0,null,null,null,null,null,null,0,0,0,null,0,{"$f":"IFERROR(VLOOKUP(Z3121,有效性!$D$2:$E$6,2,0),0)","v":0},0,0,0,0,0,null,0,null,0,0,0,0,0,null,0,0,null,0,"不涉及",0,0,0,0,0,0,0,"","否","正确","正确"]
[null,null,null,null,null,null,null,null,null,null,null,null,null,null,null,null,0,null,{"$error":"#DIV/0!"},{"$error":"#DIV/0!"},0,{"$error":"#DIV/0!"},{"$error":"#DIV/0!"},0,null,null,null,null,null,null,0,0,0,null,0,{"$f":"IFERROR(VLOOKUP(Z3131,有效性!$D$2:$E$6,2,0),0)","v":0},0,0,0,0,0,null,0,null,0,0,0,0,0,null,0,0,null,0,"不涉及",0,0,0,0,0,0,0,"","否","正确","正确"]
[null,null,null,null,null,null,null,null,null,null,null,null,null,null,null,null,0,null,{"$error":"#DIV/0!"},{"$error":"#DIV/0!"},0,{"$error":"#DIV/0!"},{"$error":"#DIV/0!"},0,null,null,null,null,null,null,0,0,0,null,0,{"$f":"IFERROR(VLOOKUP(Z3135,有效性!$D$2:$E$6,2,0),0)","v":0},0,0,0,0,0,null,0,null,0,0,0,0,0,null,0,0,null,0,"不涉及",0,0,0,0,0,0,0,"","否","正确","正确"]
[null,null,null,null,null,null,null,null,null,null,null,null,null,null,null,null,0,null,{"$error":"#DIV/0!"},{"$error":"#DIV/0!"},0,{"$error":"#DIV/0!"},{"$error":"#DIV/0!"},0,null,null,null,null,null,null,0,0,0,null,0,{"$f":"IFERROR(VLOOKUP(Z3151,有效性!$D$2:$E$6,2,0),0)","v":0},0,0,0,0,0,null,0,null,0,0,0,0,0,null,0,0,null,0,"不涉及",0,0,0,0,0,0,0,"","否","正确","正确"]
[null,null,null,null,null,null,null,null,null,null,null,null,null,null,null,null,0,null,{"$error":"#DIV/0!"},{"$error":"#DIV/0!"},0,{"$error":"#DIV/0!"},{"$error":"#DIV/0!"},0,null,null,null,null,null,null,0,0,0,null,0,{"$f":"IFERROR(VLOOKUP(Z3154,有效性!$D$2:$E$6,2,0),0)","v":0},0,0,0,0,0,null,0,null,0,0,0,0,0,null,0,0,null,0,"不涉及",0,0,0,0,0,0,0,"","否","正确","正确"]
[null,null,null,null,null,null,null,null,null,null,null,null,null,null,null,null,0,null,{"$error":"#DIV/0!"},{"$error":"#DIV/0!"},0,{"$error":"#DIV/0!"},{"$error":"#DIV/0!"},0,null,null,null,null,null,null,0,0,0,null,0,{"$f":"IFERROR(VLOOKUP(Z3162,有效性!$D$2:$E$6,2,0),0)","v":0},0,0,0,0,0,null,0,null,0,0,0,0,0,null,0,0,null,0,"不涉及",0,0,0,0,0,0,0,"","否","正确","正确"]
[null,null,null,null,null,null,null,null,null,null,null,null,null,null,null,null,0,null,{"$error":"#DIV/0!"},{"$error":"#DIV/0!"},0,{"$error":"#DIV/0!"},{"$error":"#DIV/0!"},0,null,null,null,null,null,null,0,0,0,null,0,{"$f":"IFERROR(VLOOKUP(Z3172,有效性!$D$2:$E$6,2,0),0)","v":0},0,0,0,0,0,null,0,null,0,0,0,0,0,null,0,0,null,0,"不涉及",0,0,0,0,0,0,0,"","否","正确","正确"]
[null,null,null,null,null,null,null,null,null,null,null,null,null,null,null,null,0,null,{"$error":"#DIV/0!"},{"$error":"#DIV/0!"},0,{"$error":"#DIV/0!"},{"$error":"#DIV/0!"},0,null,null,null,null,null,null,0,0,0,null,0,{"$f":"IFERROR(VLOOKUP(Z3184,有效性!$D$2:$E$6,2,0),0)","v":0},0,0,0,0,0,null,0,null,0,0,0,0,0,null,0,0,null,0,"不涉及",0,0,0,0,0,0,0,"","否","正确","正确"]
[null,null,null,null,null,null,null,null,null,null,null,null,null,null,null,null,0,null,{"$error":"#DIV/0!"},{"$error":"#DIV/0!"},0,{"$error":"#DIV/0!"},{"$error":"#DIV/0!"},0,null,null,null,null,null,null,0,0,0,null,0,{"$f":"IFERROR(VLOOKUP(Z3191,有效性!$D$2:$E$6,2,0),0)","v":0},0,0,0,0,0,null,0,null,0,0,0,0,0,null,0,0,null,0,"不涉及",0,0,0,0,0,0,0,"","否","正确","正确"]
[null,null,null,null,null,null,null,null,null,null,null,null,null,null,null,null,0,null,{"$error":"#DIV/0!"},{"$error":"#DIV/0!"},0,{"$error":"#DIV/0!"},{"$error":"#DIV/0!"},0,null,null,null,null,null,null,0,0,0,null,0,{"$f":"IFERROR(VLOOKUP(Z3201,有效性!$D$2:$E$6,2,0),0)","v":0},0,0,0,0,0,null,0,null,0,0,0,0,0,null,0,0,null,0,"不涉及",0,0,0,0,0,0,0,"","否","正确","正确"]
[null,null,null,null,null,null,null,null,null,null,null,null,null,null,null,null,0,null,{"$error":"#DIV/0!"},{"$error":"#DIV/0!"},0,{"$error":"#DIV/0!"},{"$error":"#DIV/0!"},0,null,null,null,null,null,null,0,0,0,null,0,{"$f":"IFERROR(VLOOKUP(Z3209,有效性!$D$2:$E$6,2,0),0)","v":0},0,0,0,0,0,null,0,null,0,0,0,0,0,null,0,0,null,0,"不涉及",0,0,0,0,0,0,0,"","否","正确","正确"]
[null,null,null,null,null,null,null,null,null,null,null,null,null,null,null,null,0,null,{"$error":"#DIV/0!"},{"$error":"#DIV/0!"},0,{"$error":"#DIV/0!"},{"$error":"#DIV/0!"},0,null,null,null,null,null,null,0,0,0,null,0,{"$f":"IFERROR(VLOOKUP(Z3221,有效性!$D$2:$E$6,2,0),0)","v":0},0,0,0,0,0,null,0,null,0,0,0,0,0,null,0,0,null,0,"不涉及",0,0,0,0,0,0,0,"","否","正确","正确"]
[null,null,null,null,null,null,null,null,null,null,null,null,null,null,null,null,0,null,{"$error":"#DIV/0!"},{"$error":"#DIV/0!"},0,{"$error":"#DIV/0!"},{"$error":"#DIV/0!"},0,null,null,null,null,null,null,0,0,0,null,0,{"$f":"IFERROR(VLOOKUP(Z3224,有效性!$D$2:$E$6,2,0),0)","v":0},0,0,0,0,0,null,0,null,0,0,0,0,0,null,0,0,null,0,"不涉及",0,0,0,0,0,0,0,"","否","正确","正确"]
[null,null,null,null,null,null,null,null,null,null,null,null,null,null,null,null,0,null,{"$error":"#DIV/0!"},{"$error":"#DIV/0!"},0,{"$error":"#DIV/0!"},{"$error":"#DIV/0!"},0,null,null,null,null,null,null,0,0,0,null,0,{"$f":"IFERROR(VLOOKUP(Z3232,有效性!$D$2:$E$6,2,0),0)","v":0},0,0,0,0,0,null,0,null,0,0,0,0,0,null,0,0,null,0,"不涉及",0,0,0,0,0,0,0,"","否","正确","正确"]
[null,null,null,null,null,null,null,null,null,null,null,null,null,null,null,null,0,null,{"$error":"#DIV/0!"},{"$error":"#DIV/0!"},0,{"$error":"#DIV/0!"},{"$error":"#DIV/0!"},0,null,null,null,null,null,null,0,0,0,null,0,{"$f":"IFERROR(VLOOKUP(Z3242,有效性!$D$2:$E$6,2,0),0)","v":0},0,0,0,0,0,null,0,null,0,0,0,0,0,null,0,0,null,0,"不涉及",0,0,0,0,0,0,0,"","否","正确","正确"]
[null,null,null,null,null,null,null,null,null,null,null,null,null,null,null,null,0,null,{"$error":"#DIV/0!"},{"$error":"#DIV/0!"},0,{"$error":"#DIV/0!"},{"$error":"#DIV/0!"},0,null,null,null,null,null,null,0,0,0,null,0,{"$f":"IFERROR(VLOOKUP(Z3254,有效性!$D$2:$E$6,2,0),0)","v":0},0,0,0,0,0,null,0,null,0,0,0,0,0,null,0,0,null,0,"不涉及",0,0,0,0,0,0,0,"","否","正确","正确"]
[null,null,null,null,null,null,null,null,null,null,null,null,null,null,null,null,0,null,{"$error":"#DIV/0!"},{"$error":"#DIV/0!"},0,{"$error":"#DIV/0!"},{"$error":"#DIV/0!"},0,null,null,null,null,null,null,0,0,0,null,0,{"$f":"IFERROR(VLOOKUP(Z3261,有效性!$D$2:$E$6,2,0),0)","v":0},0,0,0,0,0,null,0,null,0,0,0,0,0,null,0,0,null,0,"不涉及",0,0,0,0,0,0,0,"","否","正确","正确"]
[null,null,null,null,null,null,null,null,null,null,null,null,null,null,null,null,0,null,{"$error":"#DIV/0!"},{"$error":"#DIV/0!"},0,{"$error":"#DIV/0!"},{"$error":"#DIV/0!"},0,null,null,null,null,null,null,0,0,0,null,0,{"$f":"IFERROR(VLOOKUP(Z3271,有效性!$D$2:$E$6,2,0),0)","v":0},0,0,0,0,0,null,0,null,0,0,0,0,0,null,0,0,null,0,"不涉及",0,0,0,0,0,0,0,"","否","正确","正确"]
[null,null,null,null,null,null,null,null,null,null,null,null,null,null,null,null,0,null,{"$error":"#DIV/0!"},{"$error":"#DIV/0!"},0,{"$error":"#DIV/0!"},{"$error":"#DIV/0!"},0,null,null,null,null,null,null,0,0,0,null,0,{"$f":"IFERROR(VLOOKUP(Z3279,有效性!$D$2:$E$6,2,0),0)","v":0},0,0,0,0,0,null,0,null,0,0,0,0,0,null,0,0,null,0,"不涉及",0,0,0,0,0,0,0,"","否","正确","正确"]
[null,null,null,null,null,null,null,null,null,null,null,null,null,null,null,null,0,null,{"$error":"#DIV/0!"},{"$error":"#DIV/0!"},0,{"$error":"#DIV/0!"},{"$error":"#DIV/0!"},0,null,null,null,null,null,null,0,0,0,null,0,{"$f":"IFERROR(VLOOKUP(Z3291,有效性!$D$2:$E$6,2,0),0)","v":0},0,0,0,0,0,null,0,null,0,0,0,0,0,null,0,0,null,0,"不涉及",0,0,0,0,0,0,0,"","否","正确","正确"]
[null,null,null,null,null,null,null,null,null,null,null,null,null,null,null,null,0,null,{"$error":"#DIV/0!"},{"$error":"#DIV/0!"},0,{"$error":"#DIV/0!"},{"$error":"#DIV/0!"},0,null,null,null,null,null,null,0,0,0,null,0,{"$f":"IFERROR(VLOOKUP(Z3294,有效性!$D$2:$E$6,2,0),0)","v":0},0,0,0,0,0,null,0,null,0,0,0,0,0,null,0,0,null,0,"不涉及",0,0,0,0,0,0,0,"","否","正确","正确"]
[null,null,null,null,null,null,null,null,null,null,null,null,null,null,null,null,0,null,{"$error":"#DIV/0!"},{"$error":"#DIV/0!"},0,{"$error":"#DIV/0!"},{"$error":"#DIV/0!"},0,null,null,null,null,null,null,0,0,0,null,0,{"$f":"IFERROR(VLOOKUP(Z3302,有效性!$D$2:$E$6,2,0),0)","v":0},0,0,0,0,0,null,0,null,0,0,0,0,0,null,0,0,null,0,"不涉及",0,0,0,0,0,0,0,"","否","正确","正确"]
[null,null,null,null,null,null,null,null,null,null,null,null,null,null,null,null,0,null,{"$error":"#DIV/0!"},{"$error":"#DIV/0!"},0,{"$error":"#DIV/0!"},{"$error":"#DIV/0!"},0,null,null,null,null,null,null,0,0,0,null,0,{"$f":"IFERROR(VLOOKUP(Z3312,有效性!$D$2:$E$6,2,0),0)","v":0},0,0,0,0,0,null,0,null,0,0,0,0,0,null,0,0,null,0,"不涉及",0,0,0,0,0,0,0,"","否","正确","正确"]
[null,null,null,null,null,null,null,null,null,null,null,null,null,null,null,null,0,null,{"$error":"#DIV/0!"},{"$error":"#DIV/0!"},0,{"$error":"#DIV/0!"},{"$error":"#DIV/0!"},0,null,null,null,null,null,null,0,0,0,null,0,{"$f":"IFERROR(VLOOKUP(Z3324,有效性!$D$2:$E$6,2,0),0)","v":0},0,0,0,0,0,null,0,null,0,0,0,0,0,null,0,0,null,0,"不涉及",0,0,0,0,0,0,0,"","否","正确","正确"]
[null,null,null,null,null,null,null,null,null,null,null,null,null,null,null,null,0,null,{"$error":"#DIV/0!"},{"$error":"#DIV/0!"},0,{"$error":"#DIV/0!"},{"$error":"#DIV/0!"},0,null,null,null,null,null,null,0,0,0,null,0,{"$f":"IFERROR(VLOOKUP(Z3331,有效性!$D$2:$E$6,2,0),0)","v":0},0,0,0,0,0,null,0,null,0,0,0,0,0,null,0,0,null,0,"不涉及",0,0,0,0,0,0,0,"","否","正确","正确"]
[null,null,null,null,null,null,null,null,null,null,null,null,null,null,null,null,0,null,{"$error":"#DIV/0!"},{"$error":"#DIV/0!"},0,{"$error":"#DIV/0!"},{"$error":"#DIV/0!"},0,null,null,null,null,null,null,0,0,0,null,0,{"$f":"IFERROR(VLOOKUP(Z3341,有效性!$D$2:$E$6,2,0),0)","v":0},0,0,0,0,0,null,0,null,0,0,0,0,0,null,0,0,null,0,"不涉及",0,0,0,0,0,0,0,"","否","正确","正确"]
[null,null,null,null,null,null,null,null,null,null,null,null,null,null,null,null,0,null,{"$error":"#DIV/0!"},{"$error":"#DIV/0!"},0,{"$error":"#DIV/0!"},{"$error":"#DIV/0!"},0,null,null,null,null,null,null,0,0,0,null,0,{"$f":"IFERROR(VLOOKUP(Z3349,有效性!$D$2:$E$6,2,0),0)","v":0},0,0,0,0,0,null,0,null,0,0,0,0,0,null,0,0,null,0,"不涉及",0,0,0,0,0,0,0,"","否","正确","正确"]
[null,null,null,null,null,null,null,null,null,null,null,null,null,null,null,null,0,null,{"$error":"#DIV/0!"},{"$error":"#DIV/0!"},0,{"$error":"#DIV/0!"},{"$error":"#DIV/0!"},0,null,null,null,null,null,null,0,0,0,null,0,{"$f":"IFERROR(VLOOKUP(Z3361,有效性!$D$2:$E$6,2,0),0)","v":0},0,0,0,0,0,null,0,null,0,0,0,0,0,null,0,0,null,0,"不涉及",0,0,0,0,0,0,0,"","否","正确","正确"]
[null,null,null,null,null,null,null,null,null,null,null,null,null,null,null,null,0,null,{"$error":"#DIV/0!"},{"$error":"#DIV/0!"},0,{"$error":"#DIV/0!"},{"$error":"#DIV/0!"},0,null,null,null,null,null,null,0,0,0,null,0,{"$f":"IFERROR(VLOOKUP(Z3364,有效性!$D$2:$E$6,2,0),0)","v":0},0,0,0,0,0,null,0,null,0,0,0,0,0,null,0,0,null,0,"不涉及",0,0,0,0,0,0,0,"","否","正确","正确"]
[null,null,null,null,null,null,null,null,null,null,null,null,null,null,null,null,0,null,{"$error":"#DIV/0!"},{"$error":"#DIV/0!"},0,{"$error":"#DIV/0!"},{"$error":"#DIV/0!"},0,null,null,null,null,null,null,0,0,0,null,0,{"$f":"IFERROR(VLOOKUP(Z3372,有效性!$D$2:$E$6,2,0),0)","v":0},0,0,0,0,0,null,0,null,0,0,0,0,0,null,0,0,null,0,"不涉及",0,0,0,0,0,0,0,"","否","正确","正确"]
[null,null,null,null,null,null,null,null,null,null,null,null,null,null,null,null,0,null,{"$error":"#DIV/0!"},{"$error":"#DIV/0!"},0,{"$error":"#DIV/0!"},{"$error":"#DIV/0!"},0,null,null,null,null,null,null,0,0,0,null,0,{"$f":"IFERROR(VLOOKUP(Z3382,有效性!$D$2:$E$6,2,0),0)","v":0},0,0,0,0,0,null,0,null,0,0,0,0,0,null,0,0,null,0,"不涉及",0,0,0,0,0,0,0,"","否","正确","正确"]
[null,null,null,null,null,null,null,null,null,null,null,null,null,null,null,null,0,null,{"$error":"#DIV/0!"},{"$error":"#DIV/0!"},0,{"$error":"#DIV/0!"},{"$error":"#DIV/0!"},0,null,null,null,null,null,null,0,0,0,null,0,{"$f":"IFERROR(VLOOKUP(Z3389,有效性!$D$2:$E$6,2,0),0)","v":0},0,0,0,0,0,null,0,null,0,0,0,0,0,null,0,0,null,0,"不涉及",0,0,0,0,0,0,0,"","否","正确","正确"]
[null,null,null,null,null,null,null,null,null,null,null,null,null,null,null,null,0,null,{"$error":"#DIV/0!"},{"$error":"#DIV/0!"},0,{"$error":"#DIV/0!"},{"$error":"#DIV/0!"},0,null,null,null,null,null,null,0,0,0,null,0,{"$f":"IFERROR(VLOOKUP(Z3401,有效性!$D$2:$E$6,2,0),0)","v":0},0,0,0,0,0,null,0,null,0,0,0,0,0,null,0,0,null,0,"不涉及",0,0,0,0,0,0,0,"","否","正确","正确"]
[null,null,null,null,null,null,null,null,null,null,null,null,null,null,null,null,0,null,{"$error":"#DIV/0!"},{"$error":"#DIV/0!"},0,{"$error":"#DIV/0!"},{"$error":"#DIV/0!"},0,null,null,null,null,null,null,0,0,0,null,0,{"$f":"IFERROR(VLOOKUP(Z3411,有效性!$D$2:$E$6,2,0),0)","v":0},0,0,0,0,0,null,0,null,0,0,0,0,0,null,0,0,null,0,"不涉及",0,0,0,0,0,0,0,"","否","正确","正确"]
[null,null,null,null,null,null,null,null,null,null,null,null,null,null,null,null,0,null,{"$error":"#DIV/0!"},{"$error":"#DIV/0!"},0,{"$error":"#DIV/0!"},{"$error":"#DIV/0!"},0,null,null,null,null,null,null,0,0,0,null,0,{"$f":"IFERROR(VLOOKUP(Z3419,有效性!$D$2:$E$6,2,0),0)","v":0},0,0,0,0,0,null,0,null,0,0,0,0,0,null,0,0,null,0,"不涉及",0,0,0,0,0,0,0,"","否","正确","正确"]
[null,null,null,null,null,null,null,null,null,null,null,null,null,null,null,null,0,null,{"$error":"#DIV/0!"},{"$error":"#DIV/0!"},0,{"$error":"#DIV/0!"},{"$error":"#DIV/0!"},0,null,null,null,null,null,null,0,0,0,null,0,{"$f":"IFERROR(VLOOKUP(Z3431,有效性!$D$2:$E$6,2,0),0)","v":0},0,0,0,0,0,null,0,null,0,0,0,0,0,null,0,0,null,0,"不涉及",0,0,0,0,0,0,0,"","否","正确","正确"]
[null,null,null,null,null,null,null,null,null,null,null,null,null,null,null,null,0,null,{"$error":"#DIV/0!"},{"$error":"#DIV/0!"},0,{"$error":"#DIV/0!"},{"$error":"#DIV/0!"},0,null,null,null,null,null,null,0,0,0,null,0,{"$f":"IFERROR(VLOOKUP(Z3434,有效性!$D$2:$E$6,2,0),0)","v":0},0,0,0,0,0,null,0,null,0,0,0,0,0,null,0,0,null,0,"不涉及",0,0,0,0,0,0,0,"","否","正确","正确"]
[null,null,null,null,null,null,null,null,null,null,null,null,null,null,null,null,0,null,{"$error":"#DIV/0!"},{"$error":"#DIV/0!"},0,{"$error":"#DIV/0!"},{"$error":"#DIV/0!"},0,null,null,null,null,null,null,0,0,0,null,0,{"$f":"IFERROR(VLOOKUP(Z3442,有效性!$D$2:$E$6,2,0),0)","v":0},0,0,0,0,0,null,0,null,0,0,0,0,0,null,0,0,null,0,"不涉及",0,0,0,0,0,0,0,"","否","正确","正确"]
[null,null,null,null,null,null,null,null,null,null,null,null,null,null,null,null,0,null,{"$error":"#DIV/0!"},{"$error":"#DIV/0!"},0,{"$error":"#DIV/0!"},{"$error":"#DIV/0!"},0,null,null,null,null,null,null,0,0,0,null,0,{"$f":"IFERROR(VLOOKUP(Z3452,有效性!$D$2:$E$6,2,0),0)","v":0},0,0,0,0,0,null,0,null,0,0,0,0,0,null,0,0,null,0,"不涉及",0,0,0,0,0,0,0,"","否","正确","正确"]
[null,null,null,null,null,null,null,null,null,null,null,null,null,null,null,null,0,null,{"$error":"#DIV/0!"},{"$error":"#DIV/0!"},0,{"$error":"#DIV/0!"},{"$error":"#DIV/0!"},0,null,null,null,null,null,null,0,0,0,null,0,{"$f":"IFERROR(VLOOKUP(Z3459,有效性!$D$2:$E$6,2,0),0)","v":0},0,0,0,0,0,null,0,null,0,0,0,0,0,null,0,0,null,0,"不涉及",0,0,0,0,0,0,0,"","否","正确","正确"]
[null,null,null,null,null,null,null,null,null,null,null,null,null,null,null,null,0,null,{"$error":"#DIV/0!"},{"$error":"#DIV/0!"},0,{"$error":"#DIV/0!"},{"$error":"#DIV/0!"},0,null,null,null,null,null,null,0,0,0,null,0,{"$f":"IFERROR(VLOOKUP(Z3471,有效性!$D$2:$E$6,2,0),0)","v":0},0,0,0,0,0,null,0,null,0,0,0,0,0,null,0,0,null,0,"不涉及",0,0,0,0,0,0,0,"","否","正确","正确"]
[null,null,null,null,null,null,null,null,null,null,null,null,null,null,null,null,0,null,{"$error":"#DIV/0!"},{"$error":"#DIV/0!"},0,{"$error":"#DIV/0!"},{"$error":"#DIV/0!"},0,null,null,null,null,null,null,0,0,0,null,0,{"$f":"IFERROR(VLOOKUP(Z3481,有效性!$D$2:$E$6,2,0),0)","v":0},0,0,0,0,0,null,0,null,0,0,0,0,0,null,0,0,null,0,"不涉及",0,0,0,0,0,0,0,"","否","正确","正确"]
[null,null,null,null,null,null,null,null,null,null,null,null,null,null,null,null,0,null,{"$error":"#DIV/0!"},{"$error":"#DIV/0!"},0,{"$error":"#DIV/0!"},{"$error":"#DIV/0!"},0,null,null,null,null,null,null,0,0,0,null,0,{"$f":"IFERROR(VLOOKUP(Z3489,有效性!$D$2:$E$6,2,0),0)","v":0},0,0,0,0,0,null,0,null,0,0,0,0,0,null,0,0,null,0,"不涉及",0,0,0,0,0,0,0,"","否","正确","正确"]
[null,null,null,null,null,null,null,null,null,null,null,null,null,null,null,null,0,null,{"$error":"#DIV/0!"},{"$error":"#DIV/0!"},0,{"$error":"#DIV/0!"},{"$error":"#DIV/0!"},0,null,null,null,null,null,null,0,0,0,null,0,{"$f":"IFERROR(VLOOKUP(Z3501,有效性!$D$2:$E$6,2,0),0)","v":0},0,0,0,0,0,null,0,null,0,0,0,0,0,null,0,0,null,0,"不涉及",0,0,0,0,0,0,0,"","否","正确","正确"]
[null,null,null,null,null,null,null,null,null,null,null,null,null,null,null,null,0,null,{"$error":"#DIV/0!"},{"$error":"#DIV/0!"},0,{"$error":"#DIV/0!"},{"$error":"#DIV/0!"},0,null,null,null,null,null,null,0,0,0,null,0,{"$f":"IFERROR(VLOOKUP(Z3508,有效性!$D$2:$E$6,2,0),0)","v":0},0,0,0,0,0,null,0,null,0,0,0,0,0,null,0,0,null,0,"不涉及",0,0,0,0,0,0,0,"","否","正确","正确"]
[null,null,null,null,null,null,null,null,null,null,null,null,null,null,null,null,0,null,{"$error":"#DIV/0!"},{"$error":"#DIV/0!"},0,{"$error":"#DIV/0!"},{"$error":"#DIV/0!"},0,null,null,null,null,null,null,0,0,0,null,0,{"$f":"IFERROR(VLOOKUP(Z3512,有效性!$D$2:$E$6,2,0),0)","v":0},0,0,0,0,0,null,0,null,0,0,0,0,0,null,0,0,null,0,"不涉及",0,0,0,0,0,0,0,"","否","正确","正确"]
[null,null,null,null,null,null,null,null,null,null,null,null,null,null,null,null,0,null,{"$error":"#DIV/0!"},{"$error":"#DIV/0!"},0,{"$error":"#DIV/0!"},{"$error":"#DIV/0!"},0,null,null,null,null,null,null,0,0,0,null,0,{"$f":"IFERROR(VLOOKUP(Z3522,有效性!$D$2:$E$6,2,0),0)","v":0},0,0,0,0,0,null,0,null,0,0,0,0,0,null,0,0,null,0,"不涉及",0,0,0,0,0,0,0,"","否","正确","正确"]
[null,null,null,null,null,null,null,null,null,null,null,null,null,null,null,null,0,null,{"$error":"#DIV/0!"},{"$error":"#DIV/0!"},0,{"$error":"#DIV/0!"},{"$error":"#DIV/0!"},0,null,null,null,null,null,null,0,0,0,null,0,{"$f":"IFERROR(VLOOKUP(Z3529,有效性!$D$2:$E$6,2,0),0)","v":0},0,0,0,0,0,null,0,null,0,0,0,0,0,null,0,0,null,0,"不涉及",0,0,0,0,0,0,0,"","否","正确","正确"]
[null,null,null,null,null,null,null,null,null,null,null,null,null,null,null,null,0,null,{"$error":"#DIV/0!"},{"$error":"#DIV/0!"},0,{"$error":"#DIV/0!"},{"$error":"#DIV/0!"},0,null,null,null,null,null,null,0,0,0,null,0,{"$f":"IFERROR(VLOOKUP(Z3541,有效性!$D$2:$E$6,2,0),0)","v":0},0,0,0,0,0,null,0,null,0,0,0,0,0,null,0,0,null,0,"不涉及",0,0,0,0,0,0,0,"","否","正确","正确"]
[null,null,null,null,null,null,null,null,null,null,null,null,null,null,null,null,0,null,{"$error":"#DIV/0!"},{"$error":"#DIV/0!"},0,{"$error":"#DIV/0!"},{"$error":"#DIV/0!"},0,null,null,null,null,null,null,0,0,0,null,0,{"$f":"IFERROR(VLOOKUP(Z3551,有效性!$D$2:$E$6,2,0),0)","v":0},0,0,0,0,0,null,0,null,0,0,0,0,0,null,0,0,null,0,"不涉及",0,0,0,0,0,0,0,"","否","正确","正确"]
[null,null,null,null,null,null,null,null,null,null,null,null,null,null,null,null,0,null,{"$error":"#DIV/0!"},{"$error":"#DIV/0!"},0,{"$error":"#DIV/0!"},{"$error":"#DIV/0!"},0,null,null,null,null,null,null,0,0,0,null,0,{"$f":"IFERROR(VLOOKUP(Z3559,有效性!$D$2:$E$6,2,0),0)","v":0},0,0,0,0,0,null,0,null,0,0,0,0,0,null,0,0,null,0,"不涉及",0,0,0,0,0,0,0,"","否","正确","正确"]
[null,null,null,null,null,null,null,null,null,null,null,null,null,null,null,null,0,null,{"$error":"#DIV/0!"},{"$error":"#DIV/0!"},0,{"$error":"#DIV/0!"},{"$error":"#DIV/0!"},0,null,null,null,null,null,null,0,0,0,null,0,{"$f":"IFERROR(VLOOKUP(Z3571,有效性!$D$2:$E$6,2,0),0)","v":0},0,0,0,0,0,null,0,null,0,0,0,0,0,null,0,0,null,0,"不涉及",0,0,0,0,0,0,0,"","否","正确","正确"]
[null,null,null,null,null,null,null,null,null,null,null,null,null,null,null,null,0,null,{"$error":"#DIV/0!"},{"$error":"#DIV/0!"},0,{"$error":"#DIV/0!"},{"$error":"#DIV/0!"},0,null,null,null,null,null,null,0,0,0,null,0,{"$f":"IFERROR(VLOOKUP(Z3578,有效性!$D$2:$E$6,2,0),0)","v":0},0,0,0,0,0,null,0,null,0,0,0,0,0,null,0,0,null,0,"不涉及",0,0,0,0,0,0,0,"","否","正确","正确"]
[null,null,null,null,null,null,null,null,null,null,null,null,null,null,null,null,0,null,{"$error":"#DIV/0!"},{"$error":"#DIV/0!"},0,{"$error":"#DIV/0!"},{"$error":"#DIV/0!"},0,null,null,null,null,null,null,0,0,0,null,0,{"$f":"IFERROR(VLOOKUP(Z3582,有效性!$D$2:$E$6,2,0),0)","v":0},0,0,0,0,0,null,0,null,0,0,0,0,0,null,0,0,null,0,"不涉及",0,0,0,0,0,0,0,"","否","正确","正确"]
[null,null,null,null,null,null,null,null,null,null,null,null,null,null,null,null,0,null,{"$error":"#DIV/0!"},{"$error":"#DIV/0!"},0,{"$error":"#DIV/0!"},{"$error":"#DIV/0!"},0,null,null,null,null,null,null,0,0,0,null,0,{"$f":"IFERROR(VLOOKUP(Z3592,有效性!$D$2:$E$6,2,0),0)","v":0},0,0,0,0,0,null,0,null,0,0,0,0,0,null,0,0,null,0,"不涉及",0,0,0,0,0,0,0,"","否","正确","正确"]
[null,null,null,null,null,null,null,null,null,null,null,null,null,null,null,null,0,null,{"$error":"#DIV/0!"},{"$error":"#DIV/0!"},0,{"$error":"#DIV/0!"},{"$error":"#DIV/0!"},0,null,null,null,null,null,null,0,0,0,null,0,{"$f":"IFERROR(VLOOKUP(Z3599,有效性!$D$2:$E$6,2,0),0)","v":0},0,0,0,0,0,null,0,null,0,0,0,0,0,null,0,0,null,0,"不涉及",0,0,0,0,0,0,0,"","否","正确","正确"]
[null,null,null,null,null,null,null,null,null,null,null,null,null,null,null,null,0,null,{"$error":"#DIV/0!"},{"$error":"#DIV/0!"},0,{"$error":"#DIV/0!"},{"$error":"#DIV/0!"},0,null,null,null,null,null,null,0,0,0,null,0,{"$f":"IFERROR(VLOOKUP(Z3611,有效性!$D$2:$E$6,2,0),0)","v":0},0,0,0,0,0,null,0,null,0,0,0,0,0,null,0,0,null,0,"不涉及",0,0,0,0,0,0,0,"","否","正确","正确"]
[null,null,null,null,null,null,null,null,null,null,null,null,null,null,null,null,0,null,{"$error":"#DIV/0!"},{"$error":"#DIV/0!"},0,{"$error":"#DIV/0!"},{"$error":"#DIV/0!"},0,null,null,null,null,null,null,0,0,0,null,0,{"$f":"IFERROR(VLOOKUP(Z3621,有效性!$D$2:$E$6,2,0),0)","v":0},0,0,0,0,0,null,0,null,0,0,0,0,0,null,0,0,null,0,"不涉及",0,0,0,0,0,0,0,"","否","正确","正确"]
[null,null,null,null,null,null,null,null,null,null,null,null,null,null,null,null,0,null,{"$error":"#DIV/0!"},{"$error":"#DIV/0!"},0,{"$error":"#DIV/0!"},{"$error":"#DIV/0!"},0,null,null,null,null,null,null,0,0,0,null,0,{"$f":"IFERROR(VLOOKUP(Z3629,有效性!$D$2:$E$6,2,0),0)","v":0},0,0,0,0,0,null,0,null,0,0,0,0,0,null,0,0,null,0,"不涉及",0,0,0,0,0,0,0,"","否","正确","正确"]
[null,null,null,null,null,null,null,null,null,null,null,null,null,null,null,null,0,null,{"$error":"#DIV/0!"},{"$error":"#DIV/0!"},0,{"$error":"#DIV/0!"},{"$error":"#DIV/0!"},0,null,null,null,null,null,null,0,0,0,null,0,{"$f":"IFERROR(VLOOKUP(Z3641,有效性!$D$2:$E$6,2,0),0)","v":0},0,0,0,0,0,null,0,null,0,0,0,0,0,null,0,0,null,0,"不涉及",0,0,0,0,0,0,0,"","否","正确","正确"]
[null,null,null,null,null,null,null,null,null,null,null,null,null,null,null,null,0,null,{"$error":"#DIV/0!"},{"$error":"#DIV/0!"},0,{"$error":"#DIV/0!"},{"$error":"#DIV/0!"},0,null,null,null,null,null,null,0,0,0,null,0,{"$f":"IFERROR(VLOOKUP(Z3648,有效性!$D$2:$E$6,2,0),0)","v":0},0,0,0,0,0,null,0,null,0,0,0,0,0,null,0,0,null,0,"不涉及",0,0,0,0,0,0,0,"","否","正确","正确"]
[null,null,null,null,null,null,null,null,null,null,null,null,null,null,null,null,0,null,{"$f":"(1-I3652)/(K3652*12)","v":{"$error":"#DIV/0!"}},{"$f":"ROUND(G3652*S3652,2)","v":{"$error":"#DIV/0!"}},{"$f":"IF($T$2<YEAR(J3652),0,IF($T$2=YEAR(J3652),MAX($V$2-MONTH(J3652),0),IF($T$2>YEAR(J3652)+K3652,0,IF($T$2=YEAR(J3652)+K3652,MIN(MONTH($J3652),$V$2),$V$2))))","v":0},{"$f":"T3652*U3652","v":{"$error":"#DIV/0!"}},{"$f":"IF(ABS(Q3652-V3652)<=$X$2,0,Q3652-V3652)","v":{"$error":"#DIV/0!"}},{"$f":"IFERROR(IF((W3652/V3652)<$Y$2,0,W3652/V3652),0)","v":0},null,null,null,null,null,null,{"$f":"G3652-AD3652","v":0},{"$f":"IF(ISNUMBER(FIND(\"计税基础差异\",AA3652)),IF(YEAR(J3652)+K3652=$T$2,Q3652-((G3652-AD3652)*(1-I3652)-AH3652),AD3652*S3652*U3652),0)","v":0},{"$f":"IF(ISNUMBER(FIND(\"计税基础差异\",AA3652)),IF(AB3652=\"是\",Q3652-AF3652,0),0)","v":0},null,{"$f":"ROUND(AH3652+AG3652,2)","v":0},{"$f":"IFERROR(VLOOKUP(Z3652,有效性!$D$2:$E$6,2,0),0)","v":0},{"$f":"IFERROR((1-I3652)/(AJ3652*12),0)","v":0},{"$f":"G3652*AK3652","v":0},{"$f":"IF($T$2<YEAR(J3652),0,IF($T$2=YEAR(J3652),MAX($V$2-MONTH(J3652),0),IF($T$2>YEAR(J3652)+AJ3652,0,IF($T$2=YEAR(J3652)+AJ3652,MIN(MONTH($J3652),$V$2),$V$2))))","v":0},{"$f":"IF(ISNUMBER(FIND(\"折旧年限差异\",AA3652)),IF(YEAR(J3652)+AJ3652=$T$2,AP3652,AL3652*AM3652),0)","v":0},{"$f":"ROUND(IF(ISNUMBER(FIND(\"折旧年限差异\",AA3652)),IF(AB3652=\"是\",Q3652-AN3652,0),0),2)","v":0},null,{"$f":"ROUND(AO3652+AP3652,2)","v":0},null,{"$f":"IF(ISNUMBER(FIND(\"缩短年限60%\",AA3652)),IFERROR((1-I3652)/(AR3652*12),0),0)","v":0},{"$f":"G3652*AS3652","v":0},{"$f":"IF($T$2<YEAR(J3652),0,IF($T$2=YEAR(J3652),MAX($V$2-MONTH(J3652),0),IF($T$2>YEAR(J3652)+AR3652,0,IF($T$2=YEAR(J3652)+AR3652,MIN(MONTH($J3652),$V$2),$V$2))))","v":0},{"$f":"ROUND(IF(ISNUMBER(FIND(\"加速折旧\",AA3652)),IF(OR(ISNUMBER(FIND(\"500万元以下一次性扣除\",AA3652)),ISNUMBER(FIND(\"5000元以下一次性扣除\",AA3652))),IF(OR(AND(YEAR(J3652)=$T$2,MONTH(J3652)<>12),AND(YEAR(J3652)=$T$2-1,MONTH(J3652)=12)),G3652,0),IF(ISNUMBER(FIND(\"缩短年限60%\",AA3652)),IF(YEAR(J3652)+AR3652=$T$2,G3652*(1-I3652)-(O3652-AX3652),AT3652*AU3652),0)),0),2)","v":0},{"$f":"ROUND(IF(ISNUMBER(FIND(\"加速折旧\",AA3652)),IF(AB3652=\"是\",Q3652-AV3652,0),0),2)","v":0},null,{"$f":"ROUND(AX3652+AW3652,20)","v":0},{"$f":"IFERROR(IF(ISNUMBER(FIND(\"不得扣除折旧资产\",AA3652)),IF(AB3652=\"是\",Q3652,0),0),0)","v":0},null,{"$f":"BA3652+AZ3652","v":0},"不涉及",{"$f":"IF(OR(AC3652=\"否\",BC3652=\"不涉及\"),0,Q3652-AG3652-AO3652-AW3652)","v":0},{"$f":"IF(BC3652=\"不涉及\",0,IF(BC3652=\"是\",BD3652-Q3652,BD3652))","v":0},{"$f":"AH3652+AP3652+AX3652+BA3652","v":0},{"$f":"MAX(0,BJ3652)","v":0},{"$f":"MIN(0,BJ3652)","v":0},{"$f":"AI3652+AQ3652+AY3652+BB3652","v":0},{"$f":"AG3652+AO3652+AW3652+AZ3652","v":0},{"$f":"_xlfn.IFS(BJ3652>0,\"本年调增\",BJ3652<0,\"本年调减\",BJ3652=0,\"\")","v":""},"否",{"$f":"IF(AND(BL3652=\"是\",BI3652<>0),\"请检查\",\"正确\")","v":"正确"},{"$f":"IF(Q3652-BJ3652<0,\"错误\",\"正确\")","v":"正确"}]
[null,null,null,null,null,null,null,null,null,null,null,null,null,null,null,null,0,null,{"$error":"#DIV/0!"},{"$error":"#DIV/0!"},0,{"$error":"#DIV/0!"},{"$error":"#DIV/0!"},0,null,null,null,null,null,null,0,0,0,null,0,{"$f":"IFERROR(VLOOKUP(Z3662,有效性!$D$2:$E$6,2,0),0)","v":0},0,0,0,0,0,null,0,null,0,0,0,0,0,null,0,0,null,0,"不涉及",0,0,0,0,0,0,0,"","否","正确","正确"]
[null,null,null,null,null,null,null,null,null,null,null,null,null,null,null,null,0,null,{"$error":"#DIV/0!"},{"$error":"#DIV/0!"},0,{"$error":"#DIV/0!"},{"$error":"#DIV/0!"},0,null,null,null,null,null,null,0,0,0,null,0,{"$f":"IFERROR(VLOOKUP(Z3669,有效性!$D$2:$E$6,2,0),0)","v":0},0,0,0,0,0,null,0,null,0,0,0,0,0,null,0,0,null,0,"不涉及",0,0,0,0,0,0,0,"","否","正确","正确"]
[null,null,null,null,null,null,null,null,null,null,null,null,null,null,null,null,0,null,{"$error":"#DIV/0!"},{"$error":"#DIV/0!"},0,{"$error":"#DIV/0!"},{"$error":"#DIV/0!"},0,null,null,null,null,null,null,0,0,0,null,0,{"$f":"IFERROR(VLOOKUP(Z3681,有效性!$D$2:$E$6,2,0),0)","v":0},0,0,0,0,0,null,0,null,0,0,0,0,0,null,0,0,null,0,"不涉及",0,0,0,0,0,0,0,"","否","正确","正确"]
[null,null,null,null,null,null,null,null,null,null,null,null,null,null,null,null,0,null,{"$error":"#DIV/0!"},{"$error":"#DIV/0!"},0,{"$error":"#DIV/0!"},{"$error":"#DIV/0!"},0,null,null,null,null,null,null,0,0,0,null,0,{"$f":"IFERROR(VLOOKUP(Z3691,有效性!$D$2:$E$6,2,0),0)","v":0},0,0,0,0,0,null,0,null,0,0,0,0,0,null,0,0,null,0,"不涉及",0,0,0,0,0,0,0,"","否","正确","正确"]
[null,null,null,null,null,null,null,null,null,null,null,null,null,null,null,null,0,null,{"$error":"#DIV/0!"},{"$error":"#DIV/0!"},0,{"$error":"#DIV/0!"},{"$error":"#DIV/0!"},0,null,null,null,null,null,null,0,0,0,null,0,{"$f":"IFERROR(VLOOKUP(Z3699,有效性!$D$2:$E$6,2,0),0)","v":0},0,0,0,0,0,null,0,null,0,0,0,0,0,null,0,0,null,0,"不涉及",0,0,0,0,0,0,0,"","否","正确","正确"]
[null,null,null,null,null,null,null,null,null,null,null,null,null,null,null,null,0,null,{"$error":"#DIV/0!"},{"$error":"#DIV/0!"},0,{"$error":"#DIV/0!"},{"$error":"#DIV/0!"},0,null,null,null,null,null,null,0,0,0,null,0,{"$f":"IFERROR(VLOOKUP(Z3711,有效性!$D$2:$E$6,2,0),0)","v":0},0,0,0,0,0,null,0,null,0,0,0,0,0,null,0,0,null,0,"不涉及",0,0,0,0,0,0,0,"","否","正确","正确"]
[null,null,null,null,null,null,null,null,null,null,null,null,null,null,null,null,0,null,{"$error":"#DIV/0!"},{"$error":"#DIV/0!"},0,{"$error":"#DIV/0!"},{"$error":"#DIV/0!"},0,null,null,null,null,null,null,0,0,0,null,0,{"$f":"IFERROR(VLOOKUP(Z3718,有效性!$D$2:$E$6,2,0),0)","v":0},0,0,0,0,0,null,0,null,0,0,0,0,0,null,0,0,null,0,"不涉及",0,0,0,0,0,0,0,"","否","正确","正确"]
[null,null,null,null,null,null,null,null,null,null,null,null,null,null,null,null,0,null,{"$error":"#DIV/0!"},{"$error":"#DIV/0!"},0,{"$error":"#DIV/0!"},{"$error":"#DIV/0!"},0,null,null,null,null,null,null,0,0,0,null,0,{"$f":"IFERROR(VLOOKUP(Z3722,有效性!$D$2:$E$6,2,0),0)","v":0},0,0,0,0,0,null,0,null,0,0,0,0,0,null,0,0,null,0,"不涉及",0,0,0,0,0,0,0,"","否","正确","正确"]
[null,null,null,null,null,null,null,null,null,null,null,null,null,null,null,null,0,null,{"$error":"#DIV/0!"},{"$error":"#DIV/0!"},0,{"$error":"#DIV/0!"},{"$error":"#DIV/0!"},0,null,null,null,null,null,null,0,0,0,null,0,{"$f":"IFERROR(VLOOKUP(Z3732,有效性!$D$2:$E$6,2,0),0)","v":0},0,0,0,0,0,null,0,null,0,0,0,0,0,null,0,0,null,0,"不涉及",0,0,0,0,0,0,0,"","否","正确","正确"]
[null,null,null,null,null,null,null,null,null,null,null,null,null,null,null,null,0,null,{"$error":"#DIV/0!"},{"$error":"#DIV/0!"},0,{"$error":"#DIV/0!"},{"$error":"#DIV/0!"},0,null,null,null,null,null,null,0,0,0,null,0,{"$f":"IFERROR(VLOOKUP(Z3739,有效性!$D$2:$E$6,2,0),0)","v":0},0,0,0,0,0,null,0,null,0,0,0,0,0,null,0,0,null,0,"不涉及",0,0,0,0,0,0,0,"","否","正确","正确"]
[null,null,null,null,null,null,null,null,null,null,null,null,null,null,null,null,0,null,{"$error":"#DIV/0!"},{"$error":"#DIV/0!"},0,{"$error":"#DIV/0!"},{"$error":"#DIV/0!"},0,null,null,null,null,null,null,0,0,0,null,0,{"$f":"IFERROR(VLOOKUP(Z3751,有效性!$D$2:$E$6,2,0),0)","v":0},0,0,0,0,0,null,0,null,0,0,0,0,0,null,0,0,null,0,"不涉及",0,0,0,0,0,0,0,"","否","正确","正确"]
[null,null,null,null,null,null,null,null,null,null,null,null,null,null,null,null,0,null,{"$error":"#DIV/0!"},{"$error":"#DIV/0!"},0,{"$error":"#DIV/0!"},{"$error":"#DIV/0!"},0,null,null,null,null,null,null,0,0,0,null,0,{"$f":"IFERROR(VLOOKUP(Z3761,有效性!$D$2:$E$6,2,0),0)","v":0},0,0,0,0,0,null,0,null,0,0,0,0,0,null,0,0,null,0,"不涉及",0,0,0,0,0,0,0,"","否","正确","正确"]
[null,null,null,null,null,null,null,null,null,null,null,null,null,null,null,null,0,null,{"$error":"#DIV/0!"},{"$error":"#DIV/0!"},0,{"$error":"#DIV/0!"},{"$error":"#DIV/0!"},0,null,null,null,null,null,null,0,0,0,null,0,{"$f":"IFERROR(VLOOKUP(Z3769,有效性!$D$2:$E$6,2,0),0)","v":0},0,0,0,0,0,null,0,null,0,0,0,0,0,null,0,0,null,0,"不涉及",0,0,0,0,0,0,0,"","否","正确","正确"]
[null,null,null,null,null,null,null,null,null,null,null,null,null,null,null,null,{"$f":"P3781-O3781","v":0},null,{"$error":"#DIV/0!"},{"$error":"#DIV/0!"},0,{"$error":"#DIV/0!"},{"$error":"#DIV/0!"},0,null,null,null,null,null,null,0,0,0,null,0,{"$f":"IFERROR(VLOOKUP(Z3781,有效性!$D$2:$E$6,2,0),0)","v":0},0,0,0,0,0,null,0,null,0,0,0,0,0,null,0,0,null,0,"不涉及",0,0,0,0,0,0,0,"","否","正确","正确"]
[null,null,null,null,null,null,null,null,null,null,null,null,null,null,null,null,0,null,{"$error":"#DIV/0!"},{"$error":"#DIV/0!"},0,{"$error":"#DIV/0!"},{"$error":"#DIV/0!"},0,null,null,null,null,null,null,0,0,0,null,0,{"$f":"IFERROR(VLOOKUP(Z3788,有效性!$D$2:$E$6,2,0),0)","v":0},0,0,0,0,0,null,0,null,0,0,0,0,0,null,0,0,null,0,"不涉及",0,0,0,0,0,0,0,"","否","正确","正确"]
[null,null,null,null,null,null,null,null,null,null,null,null,null,null,null,null,0,null,{"$error":"#DIV/0!"},{"$error":"#DIV/0!"},0,{"$error":"#DIV/0!"},{"$error":"#DIV/0!"},0,null,null,null,null,null,null,0,0,0,null,0,{"$f":"IFERROR(VLOOKUP(Z3792,有效性!$D$2:$E$6,2,0),0)","v":0},0,0,0,0,0,null,0,null,0,0,0,0,0,null,0,0,null,0,"不涉及",0,0,0,0,0,0,0,"","否","正确","正确"]
[null,null,null,null,null,null,null,null,null,null,null,null,null,null,null,null,0,null,{"$error":"#DIV/0!"},{"$error":"#DIV/0!"},0,{"$error":"#DIV/0!"},{"$error":"#DIV/0!"},0,null,null,null,null,null,null,0,0,0,null,0,{"$f":"IFERROR(VLOOKUP(Z3806,有效性!$D$2:$E$6,2,0),0)","v":0},0,0,0,0,0,null,0,null,0,0,0,0,0,null,0,0,null,0,"不涉及",0,0,0,0,0,0,0,"","否","正确","正确"]
[null,null,null,null,null,null,null,null,null,null,null,null,null,null,null,null,0,null,{"$error":"#DIV/0!"},{"$error":"#DIV/0!"},0,{"$error":"#DIV/0!"},{"$error":"#DIV/0!"},0,null,null,null,null,null,null,0,0,0,null,0,{"$f":"IFERROR(VLOOKUP(Z3809,有效性!$D$2:$E$6,2,0),0)","v":0},0,0,0,0,0,null,0,null,0,0,0,0,0,null,0,0,null,0,"不涉及",0,0,0,0,0,0,0,"","否","正确","正确"]
[null,null,null,null,null,null,null,null,null,null,null,null,null,null,null,null,0,null,{"$error":"#DIV/0!"},{"$error":"#DIV/0!"},0,{"$error":"#DIV/0!"},{"$error":"#DIV/0!"},0,null,null,null,null,null,null,0,0,0,null,0,{"$f":"IFERROR(VLOOKUP(Z3821,有效性!$D$2:$E$6,2,0),0)","v":0},0,0,0,0,0,null,0,null,0,0,0,0,0,null,0,0,null,0,"不涉及",0,0,0,0,0,0,0,"","否","正确","正确"]
[null,null,null,null,null,null,null,null,null,null,null,null,null,null,null,null,0,null,{"$error":"#DIV/0!"},{"$error":"#DIV/0!"},0,{"$error":"#DIV/0!"},{"$error":"#DIV/0!"},0,null,null,null,null,null,null,0,0,0,null,0,{"$f":"IFERROR(VLOOKUP(Z3831,有效性!$D$2:$E$6,2,0),0)","v":0},0,0,0,0,0,null,0,null,0,0,0,0,0,null,0,0,null,0,"不涉及",0,0,0,0,0,0,0,"","否","正确","正确"]
[null,null,null,null,null,null,null,null,null,null,null,null,null,null,null,null,0,null,{"$error":"#DIV/0!"},{"$error":"#DIV/0!"},0,{"$error":"#DIV/0!"},{"$error":"#DIV/0!"},0,null,null,null,null,null,null,0,0,0,null,0,{"$f":"IFERROR(VLOOKUP(Z3839,有效性!$D$2:$E$6,2,0),0)","v":0},0,0,0,0,0,null,0,null,0,0,0,0,0,null,0,0,null,0,"不涉及",0,0,0,0,0,0,0,"","否","正确","正确"]
[null,null,null,null,null,null,null,null,null,null,null,null,null,null,null,null,0,null,{"$error":"#DIV/0!"},{"$error":"#DIV/0!"},0,{"$error":"#DIV/0!"},{"$error":"#DIV/0!"},0,null,null,null,null,null,null,0,0,0,null,0,{"$f":"IFERROR(VLOOKUP(Z3851,有效性!$D$2:$E$6,2,0),0)","v":0},0,0,0,0,0,null,0,null,0,0,0,0,0,null,0,0,null,0,"不涉及",0,0,0,0,0,0,0,"","否","正确","正确"]
[null,null,null,null,null,null,null,null,null,null,null,null,null,null,null,null,0,null,{"$error":"#DIV/0!"},{"$error":"#DIV/0!"},0,{"$error":"#DIV/0!"},{"$error":"#DIV/0!"},0,null,null,null,null,null,null,0,0,0,null,0,{"$f":"IFERROR(VLOOKUP(Z3858,有效性!$D$2:$E$6,2,0),0)","v":0},0,0,0,0,0,null,0,null,0,0,0,0,0,null,0,0,null,0,"不涉及",0,0,0,0,0,0,0,"","否","正确","正确"]
[null,null,null,null,null,null,null,null,null,null,null,null,null,null,null,null,0,null,{"$error":"#DIV/0!"},{"$error":"#DIV/0!"},0,{"$error":"#DIV/0!"},{"$error":"#DIV/0!"},0,null,null,null,null,null,null,0,0,0,null,0,{"$f":"IFERROR(VLOOKUP(Z3862,有效性!$D$2:$E$6,2,0),0)","v":0},0,0,0,0,0,null,0,null,0,0,0,0,0,null,0,0,null,0,"不涉及",0,0,0,0,0,0,0,"","否","正确","正确"]
[null,null,null,null,null,null,null,null,null,null,null,null,null,null,null,null,0,null,{"$error":"#DIV/0!"},{"$error":"#DIV/0!"},0,{"$error":"#DIV/0!"},{"$error":"#DIV/0!"},0,null,null,null,null,null,null,0,0,0,null,0,{"$f":"IFERROR(VLOOKUP(Z3876,有效性!$D$2:$E$6,2,0),0)","v":0},0,0,0,0,0,null,0,null,0,0,0,0,0,null,0,0,null,0,"不涉及",0,0,0,0,0,0,0,"","否","正确","正确"]
[null,null,null,null,null,null,null,null,null,null,null,null,null,null,null,null,0,null,{"$error":"#DIV/0!"},{"$error":"#DIV/0!"},0,{"$error":"#DIV/0!"},{"$error":"#DIV/0!"},0,null,null,null,null,null,null,0,0,0,null,0,{"$f":"IFERROR(VLOOKUP(Z3879,有效性!$D$2:$E$6,2,0),0)","v":0},0,0,0,0,0,null,0,null,0,0,0,0,0,null,0,0,null,0,"不涉及",0,0,0,0,0,0,0,"","否","正确","正确"]
[null,null,null,null,null,null,null,null,null,null,null,null,null,null,null,null,0,null,{"$error":"#DIV/0!"},{"$error":"#DIV/0!"},0,{"$error":"#DIV/0!"},{"$error":"#DIV/0!"},0,null,null,null,null,null,null,0,0,0,null,0,{"$f":"IFERROR(VLOOKUP(Z3891,有效性!$D$2:$E$6,2,0),0)","v":0},0,0,0,0,0,null,0,null,0,0,0,0,0,null,0,0,null,0,"不涉及",0,0,0,0,0,0,0,"","否","正确","正确"]
[null,null,null,null,null,null,null,null,null,null,null,null,null,null,null,null,0,null,{"$error":"#DIV/0!"},{"$error":"#DIV/0!"},0,{"$error":"#DIV/0!"},{"$error":"#DIV/0!"},0,null,null,null,null,null,null,0,0,0,null,0,{"$f":"IFERROR(VLOOKUP(Z3901,有效性!$D$2:$E$6,2,0),0)","v":0},0,0,0,0,0,null,0,null,0,0,0,0,0,null,0,0,null,0,"不涉及",0,0,0,0,0,0,0,"","否","正确","正确"]
[null,null,null,null,null,null,null,null,null,null,null,null,null,null,null,null,{"$f":"P3909-O3909","v":0},null,{"$error":"#DIV/0!"},{"$error":"#DIV/0!"},0,{"$error":"#DIV/0!"},{"$error":"#DIV/0!"},0,null,null,null,null,null,null,0,0,0,null,0,{"$f":"IFERROR(VLOOKUP(Z3909,有效性!$D$2:$E$6,2,0),0)","v":0},0,0,0,0,0,null,0,null,0,0,0,0,0,null,0,0,null,0,"不涉及",0,0,0,0,0,0,0,"","否","正确","正确"]
[null,null,null,null,null,null,null,null,null,null,null,null,null,null,null,null,0,null,{"$error":"#DIV/0!"},{"$error":"#DIV/0!"},0,{"$error":"#DIV/0!"},{"$error":"#DIV/0!"},0,null,null,null,null,null,null,0,0,0,null,0,{"$f":"IFERROR(VLOOKUP(Z3921,有效性!$D$2:$E$6,2,0),0)","v":0},0,0,0,0,0,null,0,null,0,0,0,0,0,null,0,0,null,0,"不涉及",0,0,0,0,0,0,0,"","否","正确","正确"]
[null,null,null,null,null,null,null,null,null,null,null,null,null,null,null,null,0,null,{"$error":"#DIV/0!"},{"$error":"#DIV/0!"},0,{"$error":"#DIV/0!"},{"$error":"#DIV/0!"},0,null,null,null,null,null,null,0,0,0,null,0,{"$f":"IFERROR(VLOOKUP(Z3928,有效性!$D$2:$E$6,2,0),0)","v":0},0,0,0,0,0,null,0,null,0,0,0,0,0,null,0,0,null,0,"不涉及",0,0,0,0,0,0,0,"","否","正确","正确"]
[null,null,null,null,null,null,null,null,null,null,null,null,null,null,null,null,0,null,{"$error":"#DIV/0!"},{"$error":"#DIV/0!"},0,{"$error":"#DIV/0!"},{"$error":"#DIV/0!"},0,null,null,null,null,null,null,0,0,0,null,0,{"$f":"IFERROR(VLOOKUP(Z3932,有效性!$D$2:$E$6,2,0),0)","v":0},0,0,0,0,0,null,0,null,0,0,0,0,0,null,0,0,null,0,"不涉及",0,0,0,0,0,0,0,"","否","正确","正确"]
[null,null,null,null,null,null,null,null,null,null,null,null,null,null,null,null,0,null,{"$error":"#DIV/0!"},{"$error":"#DIV/0!"},0,{"$error":"#DIV/0!"},{"$error":"#DIV/0!"},0,null,null,null,null,null,null,0,0,0,null,0,{"$f":"IFERROR(VLOOKUP(Z3946,有效性!$D$2:$E$6,2,0),0)","v":0},0,0,0,0,0,null,0,null,0,0,0,0,0,null,0,0,null,0,"不涉及",0,0,0,0,0,0,0,"","否","正确","正确"]
[null,null,null,null,null,null,null,null,null,null,null,null,null,null,null,null,0,null,{"$error":"#DIV/0!"},{"$error":"#DIV/0!"},0,{"$error":"#DIV/0!"},{"$error":"#DIV/0!"},0,null,null,null,null,null,null,0,0,0,null,0,{"$f":"IFERROR(VLOOKUP(Z3949,有效性!$D$2:$E$6,2,0),0)","v":0},0,0,0,0,0,null,0,null,0,0,0,0,0,null,0,0,null,0,"不涉及",0,0,0,0,0,0,0,"","否","正确","正确"]
[null,null,null,null,null,null,null,null,null,null,null,null,null,null,null,null,0,null,{"$error":"#DIV/0!"},{"$error":"#DIV/0!"},0,{"$error":"#DIV/0!"},{"$error":"#DIV/0!"},0,null,null,null,null,null,null,0,0,0,null,0,{"$f":"IFERROR(VLOOKUP(Z3961,有效性!$D$2:$E$6,2,0),0)","v":0},0,0,0,0,0,null,0,null,0,0,0,0,0,null,0,0,null,0,"不涉及",0,0,0,0,0,0,0,"","否","正确","正确"]
[null,null,null,null,null,null,null,null,null,null,null,null,null,null,null,null,0,null,{"$error":"#DIV/0!"},{"$error":"#DIV/0!"},0,{"$error":"#DIV/0!"},{"$error":"#DIV/0!"},0,null,null,null,null,null,null,0,0,0,null,0,{"$f":"IFERROR(VLOOKUP(Z3971,有效性!$D$2:$E$6,2,0),0)","v":0},0,0,0,0,0,null,0,null,0,0,0,0,0,null,0,0,null,0,"不涉及",0,0,0,0,0,0,0,"","否","正确","正确"]
[null,null,null,null,null,null,null,null,null,null,null,null,null,null,null,null,0,null,{"$error":"#DIV/0!"},{"$error":"#DIV/0!"},0,{"$error":"#DIV/0!"},{"$error":"#DIV/0!"},0,null,null,null,null,null,null,0,0,0,null,0,{"$f":"IFERROR(VLOOKUP(Z3979,有效性!$D$2:$E$6,2,0),0)","v":0},0,0,0,0,0,null,0,null,0,0,0,0,0,null,0,0,null,0,"不涉及",0,0,0,0,0,0,0,"","否","正确","正确"]
[null,null,null,null,null,null,null,null,null,null,null,null,null,null,null,null,0,null,{"$error":"#DIV/0!"},{"$error":"#DIV/0!"},0,{"$error":"#DIV/0!"},{"$error":"#DIV/0!"},0,null,null,null,null,null,null,0,0,0,null,0,{"$f":"IFERROR(VLOOKUP(Z3986,有效性!$D$2:$E$6,2,0),0)","v":0},0,0,0,0,0,null,0,null,0,0,0,0,0,null,0,0,null,0,"不涉及",0,0,0,0,0,0,0,"","否","正确","正确"]
[null,null,null,null,null,null,null,null,null,null,null,null,null,null,null,null,0,null,{"$error":"#DIV/0!"},{"$error":"#DIV/0!"},0,{"$error":"#DIV/0!"},{"$error":"#DIV/0!"},0,null,null,null,null,null,null,0,0,0,null,0,{"$f":"IFERROR(VLOOKUP(Z3998,有效性!$D$2:$E$6,2,0),0)","v":0},0,0,0,0,0,null,0,null,0,0,0,0,0,null,0,0,null,0,"不涉及",0,0,0,0,0,0,0,"","否","正确","正确"]
[null,null,null,null,null,null,null,null,null,null,null,null,null,null,null,null,0,null,{"$error":"#DIV/0!"},{"$error":"#DIV/0!"},0,{"$error":"#DIV/0!"},{"$error":"#DIV/0!"},0,null,null,null,null,null,null,0,0,0,null,0,{"$f":"IFERROR(VLOOKUP(Z4002,有效性!$D$2:$E$6,2,0),0)","v":0},0,0,0,0,0,null,0,null,0,0,0,0,0,null,0,0,null,0,"不涉及",0,0,0,0,0,0,0,"","否","正确","正确"]
[null,null,null,null,null,null,null,null,null,null,null,null,null,null,null,null,0,null,{"$error":"#DIV/0!"},{"$error":"#DIV/0!"},0,{"$error":"#DIV/0!"},{"$error":"#DIV/0!"},0,null,null,null,null,null,null,0,0,0,null,0,{"$f":"IFERROR(VLOOKUP(Z4016,有效性!$D$2:$E$6,2,0),0)","v":0},0,0,0,0,0,null,0,null,0,0,0,0,0,null,0,0,null,0,"不涉及",0,0,0,0,0,0,0,"","否","正确","正确"]
[null,null,null,null,null,null,null,null,null,null,null,null,null,null,null,null,0,null,{"$error":"#DIV/0!"},{"$error":"#DIV/0!"},0,{"$error":"#DIV/0!"},{"$error":"#DIV/0!"},0,null,null,null,null,null,null,0,0,0,null,0,{"$f":"IFERROR(VLOOKUP(Z4019,有效性!$D$2:$E$6,2,0),0)","v":0},0,0,0,0,0,null,0,null,0,0,0,0,0,null,0,0,null,0,"不涉及",0,0,0,0,0,0,0,"","否","正确","正确"]
[null,null,null,null,null,null,null,null,null,null,null,null,null,null,null,null,0,null,{"$error":"#DIV/0!"},{"$error":"#DIV/0!"},0,{"$error":"#DIV/0!"},{"$error":"#DIV/0!"},0,null,null,null,null,null,null,0,0,0,null,0,{"$f":"IFERROR(VLOOKUP(Z4031,有效性!$D$2:$E$6,2,0),0)","v":0},0,0,0,0,0,null,0,null,0,0,0,0,0,null,0,0,null,0,"不涉及",0,0,0,0,0,0,0,"","否","正确","正确"]
[null,null,null,null,null,null,null,null,null,null,null,null,null,null,null,null,0,null,{"$error":"#DIV/0!"},{"$error":"#DIV/0!"},0,{"$error":"#DIV/0!"},{"$error":"#DIV/0!"},0,null,null,null,null,null,null,0,0,0,null,0,{"$f":"IFERROR(VLOOKUP(Z4041,有效性!$D$2:$E$6,2,0),0)","v":0},0,0,0,0,0,null,0,null,0,0,0,0,0,null,0,0,null,0,"不涉及",0,0,0,0,0,0,0,"","否","正确","正确"]
[null,null,null,null,null,null,null,null,null,null,null,null,null,null,null,null,0,null,{"$error":"#DIV/0!"},{"$error":"#DIV/0!"},0,{"$error":"#DIV/0!"},{"$error":"#DIV/0!"},0,null,null,null,null,null,null,0,0,0,null,0,{"$f":"IFERROR(VLOOKUP(Z4049,有效性!$D$2:$E$6,2,0),0)","v":0},0,0,0,0,0,null,0,null,0,0,0,0,0,null,0,0,null,0,"不涉及",0,0,0,0,0,0,0,"","否","正确","正确"]
[null,null,null,null,null,null,null,null,null,null,null,null,null,null,null,null,0,null,{"$error":"#DIV/0!"},{"$error":"#DIV/0!"},0,{"$error":"#DIV/0!"},{"$error":"#DIV/0!"},0,null,null,null,null,null,null,0,0,0,null,0,{"$f":"IFERROR(VLOOKUP(Z4056,有效性!$D$2:$E$6,2,0),0)","v":0},0,0,0,0,0,null,0,null,0,0,0,0,0,null,0,0,null,0,"不涉及",0,0,0,0,0,0,0,"","否","正确","正确"]
[null,null,null,null,null,null,null,null,null,null,null,null,null,null,null,null,0,null,{"$error":"#DIV/0!"},{"$error":"#DIV/0!"},0,{"$error":"#DIV/0!"},{"$error":"#DIV/0!"},0,null,null,null,null,null,null,0,0,0,null,0,{"$f":"IFERROR(VLOOKUP(Z4068,有效性!$D$2:$E$6,2,0),0)","v":0},0,0,0,0,0,null,0,null,0,0,0,0,0,null,0,0,null,0,"不涉及",0,0,0,0,0,0,0,"","否","正确","正确"]
[null,null,null,null,null,null,null,null,null,null,null,null,null,null,null,null,0,null,{"$error":"#DIV/0!"},{"$error":"#DIV/0!"},0,{"$error":"#DIV/0!"},{"$error":"#DIV/0!"},0,null,null,null,null,null,null,0,0,0,null,0,{"$f":"IFERROR(VLOOKUP(Z4072,有效性!$D$2:$E$6,2,0),0)","v":0},0,0,0,0,0,null,0,null,0,0,0,0,0,null,0,0,null,0,"不涉及",0,0,0,0,0,0,0,"","否","正确","正确"]
[null,null,null,null,null,null,null,null,null,null,null,null,null,null,null,null,0,null,{"$error":"#DIV/0!"},{"$error":"#DIV/0!"},0,{"$error":"#DIV/0!"},{"$error":"#DIV/0!"},0,null,null,null,null,null,null,0,0,0,null,0,{"$f":"IFERROR(VLOOKUP(Z4086,有效性!$D$2:$E$6,2,0),0)","v":0},0,0,0,0,0,null,0,null,0,0,0,0,0,null,0,0,null,0,"不涉及",0,0,0,0,0,0,0,"","否","正确","正确"]
[null,null,null,null,null,null,null,null,null,null,null,null,null,null,null,null,0,null,{"$error":"#DIV/0!"},{"$error":"#DIV/0!"},0,{"$error":"#DIV/0!"},{"$error":"#DIV/0!"},0,null,null,null,null,null,null,0,0,0,null,0,{"$f":"IFERROR(VLOOKUP(Z4089,有效性!$D$2:$E$6,2,0),0)","v":0},0,0,0,0,0,null,0,null,0,0,0,0,0,null,0,0,null,0,"不涉及",0,0,0,0,0,0,0,"","否","正确","正确"]
[null,null,null,null,null,null,null,null,null,null,null,null,null,null,null,null,{"$f":"P4101-O4101","v":0},null,{"$error":"#DIV/0!"},{"$error":"#DIV/0!"},0,{"$error":"#DIV/0!"},{"$error":"#DIV/0!"},0,null,null,null,null,null,null,0,0,0,null,0,{"$f":"IFERROR(VLOOKUP(Z4101,有效性!$D$2:$E$6,2,0),0)","v":0},0,0,0,0,0,null,0,null,0,0,0,0,0,null,0,0,null,0,"不涉及",0,0,0,0,0,0,0,"","否","正确","正确"]
[null,null,null,null,null,null,null,null,null,null,null,null,null,null,null,null,0,null,{"$error":"#DIV/0!"},{"$error":"#DIV/0!"},0,{"$error":"#DIV/0!"},{"$error":"#DIV/0!"},0,null,null,null,null,null,null,0,0,0,null,0,{"$f":"IFERROR(VLOOKUP(Z4111,有效性!$D$2:$E$6,2,0),0)","v":0},0,0,0,0,0,null,0,null,0,0,0,0,0,null,0,0,null,0,"不涉及",0,0,0,0,0,0,0,"","否","正确","正确"]
[null,null,null,null,null,null,null,null,null,null,null,null,null,null,null,null,0,null,{"$error":"#DIV/0!"},{"$error":"#DIV/0!"},0,{"$error":"#DIV/0!"},{"$error":"#DIV/0!"},0,null,null,null,null,null,null,0,0,0,null,0,{"$f":"IFERROR(VLOOKUP(Z4119,有效性!$D$2:$E$6,2,0),0)","v":0},0,0,0,0,0,null,0,null,0,0,0,0,0,null,0,0,null,0,"不涉及",0,0,0,0,0,0,0,"","否","正确","正确"]
[null,null,null,null,null,null,null,null,null,null,null,null,null,null,null,null,0,null,{"$error":"#DIV/0!"},{"$error":"#DIV/0!"},0,{"$error":"#DIV/0!"},{"$error":"#DIV/0!"},0,null,null,null,null,null,null,0,0,0,null,0,{"$f":"IFERROR(VLOOKUP(Z4126,有效性!$D$2:$E$6,2,0),0)","v":0},0,0,0,0,0,null,0,null,0,0,0,0,0,null,0,0,null,0,"不涉及",0,0,0,0,0,0,0,"","否","正确","正确"]
[null,null,null,null,null,null,null,null,null,null,null,null,null,null,null,null,0,null,{"$error":"#DIV/0!"},{"$error":"#DIV/0!"},0,{"$error":"#DIV/0!"},{"$error":"#DIV/0!"},0,null,null,null,null,null,null,0,0,0,null,0,{"$f":"IFERROR(VLOOKUP(Z4138,有效性!$D$2:$E$6,2,0),0)","v":0},0,0,0,0,0,null,0,null,0,0,0,0,0,null,0,0,null,0,"不涉及",0,0,0,0,0,0,0,"","否","正确","正确"]
[null,null,null,null,null,null,null,null,null,null,null,null,null,null,null,null,0,null,{"$error":"#DIV/0!"},{"$error":"#DIV/0!"},0,{"$error":"#DIV/0!"},{"$error":"#DIV/0!"},0,null,null,null,null,null,null,0,0,0,null,0,{"$f":"IFERROR(VLOOKUP(Z4142,有效性!$D$2:$E$6,2,0),0)","v":0},0,0,0,0,0,null,0,null,0,0,0,0,0,null,0,0,null,0,"不涉及",0,0,0,0,0,0,0,"","否","正确","正确"]
[null,null,null,null,null,null,null,null,null,null,null,null,null,null,null,null,0,null,{"$error":"#DIV/0!"},{"$error":"#DIV/0!"},0,{"$error":"#DIV/0!"},{"$error":"#DIV/0!"},0,null,null,null,null,null,null,0,0,0,null,0,{"$f":"IFERROR(VLOOKUP(Z4156,有效性!$D$2:$E$6,2,0),0)","v":0},0,0,0,0,0,null,0,null,0,0,0,0,0,null,0,0,null,0,"不涉及",0,0,0,0,0,0,0,"","否","正确","正确"]
[null,null,null,null,null,null,null,null,null,null,null,null,null,null,null,null,0,null,{"$error":"#DIV/0!"},{"$error":"#DIV/0!"},0,{"$error":"#DIV/0!"},{"$error":"#DIV/0!"},0,null,null,null,null,null,null,0,0,0,null,0,{"$f":"IFERROR(VLOOKUP(Z4159,有效性!$D$2:$E$6,2,0),0)","v":0},0,0,0,0,0,null,0,null,0,0,0,0,0,null,0,0,null,0,"不涉及",0,0,0,0,0,0,0,"","否","正确","正确"]
[null,null,null,null,null,null,null,null,null,null,null,null,null,null,null,null,0,null,{"$error":"#DIV/0!"},{"$error":"#DIV/0!"},0,{"$error":"#DIV/0!"},{"$error":"#DIV/0!"},0,null,null,null,null,null,null,0,0,0,null,0,{"$f":"IFERROR(VLOOKUP(Z4175,有效性!$D$2:$E$6,2,0),0)","v":0},0,0,0,0,0,null,0,null,0,0,0,0,0,null,0,0,null,0,"不涉及",0,0,0,0,0,0,0,"","否","正确","正确"]
[null,null,null,null,null,null,null,null,null,null,null,null,null,null,null,null,0,null,{"$error":"#DIV/0!"},{"$error":"#DIV/0!"},0,{"$error":"#DIV/0!"},{"$error":"#DIV/0!"},0,null,null,null,null,null,null,0,0,0,null,0,{"$f":"IFERROR(VLOOKUP(Z4181,有效性!$D$2:$E$6,2,0),0)","v":0},0,0,0,0,0,null,0,null,0,0,0,0,0,null,0,0,null,0,"不涉及",0,0,0,0,0,0,0,"","否","正确","正确"]
[null,null,null,null,null,null,null,null,null,null,null,null,null,null,null,null,0,null,{"$error":"#DIV/0!"},{"$error":"#DIV/0!"},0,{"$error":"#DIV/0!"},{"$error":"#DIV/0!"},0,null,null,null,null,null,null,0,0,0,null,0,{"$f":"IFERROR(VLOOKUP(Z4189,有效性!$D$2:$E$6,2,0),0)","v":0},0,0,0,0,0,null,0,null,0,0,0,0,0,null,0,0,null,0,"不涉及",0,0,0,0,0,0,0,"","否","正确","正确"]
[null,null,null,null,null,null,null,null,null,null,null,null,null,null,null,null,0,null,{"$error":"#DIV/0!"},{"$error":"#DIV/0!"},0,{"$error":"#DIV/0!"},{"$error":"#DIV/0!"},0,null,null,null,null,null,null,0,0,0,null,0,{"$f":"IFERROR(VLOOKUP(Z4196,有效性!$D$2:$E$6,2,0),0)","v":0},0,0,0,0,0,null,0,null,0,0,0,0,0,null,0,0,null,0,"不涉及",0,0,0,0,0,0,0,"","否","正确","正确"]
[null,null,null,null,null,null,null,null,null,null,null,null,null,null,null,null,0,null,{"$error":"#DIV/0!"},{"$error":"#DIV/0!"},0,{"$error":"#DIV/0!"},{"$error":"#DIV/0!"},0,null,null,null,null,null,null,0,0,0,null,0,{"$f":"IFERROR(VLOOKUP(Z4208,有效性!$D$2:$E$6,2,0),0)","v":0},0,0,0,0,0,null,0,null,0,0,0,0,0,null,0,0,null,0,"不涉及",0,0,0,0,0,0,0,"","否","正确","正确"]
[null,null,null,null,null,null,null,null,null,null,null,null,null,null,null,null,0,null,{"$error":"#DIV/0!"},{"$error":"#DIV/0!"},0,{"$error":"#DIV/0!"},{"$error":"#DIV/0!"},0,null,null,null,null,null,null,0,0,0,null,0,{"$f":"IFERROR(VLOOKUP(Z4212,有效性!$D$2:$E$6,2,0),0)","v":0},0,0,0,0,0,null,0,null,0,0,0,0,0,null,0,0,null,0,"不涉及",0,0,0,0,0,0,0,"","否","正确","正确"]
[null,null,null,null,null,null,null,null,null,null,null,null,null,null,null,null,0,null,{"$error":"#DIV/0!"},{"$error":"#DIV/0!"},0,{"$error":"#DIV/0!"},{"$error":"#DIV/0!"},0,null,null,null,null,null,null,0,0,0,null,0,{"$f":"IFERROR(VLOOKUP(Z4226,有效性!$D$2:$E$6,2,0),0)","v":0},0,0,0,0,0,null,0,null,0,0,0,0,0,null,0,0,null,0,"不涉及",0,0,0,0,0,0,0,"","否","正确","正确"]
[null,null,null,null,null,null,null,null,null,null,null,null,null,null,null,null,{"$f":"P4229-O4229","v":0},null,{"$error":"#DIV/0!"},{"$error":"#DIV/0!"},0,{"$error":"#DIV/0!"},{"$error":"#DIV/0!"},0,null,null,null,null,null,null,0,0,0,null,0,{"$f":"IFERROR(VLOOKUP(Z4229,有效性!$D$2:$E$6,2,0),0)","v":0},0,0,0,0,0,null,0,null,0,0,0,0,0,null,0,0,null,0,"不涉及",0,0,0,0,0,0,0,"","否","正确","正确"]
[null,null,null,null,null,null,null,null,null,null,null,null,null,null,null,null,0,null,{"$error":"#DIV/0!"},{"$error":"#DIV/0!"},0,{"$error":"#DIV/0!"},{"$error":"#DIV/0!"},0,null,null,null,null,null,null,0,0,0,null,0,{"$f":"IFERROR(VLOOKUP(Z4245,有效性!$D$2:$E$6,2,0),0)","v":0},0,0,0,0,0,null,0,null,0,0,0,0,0,null,0,0,null,0,"不涉及",0,0,0,0,0,0,0,"","否","正确","正确"]
[null,null,null,null,null,null,null,null,null,null,null,null,null,null,null,null,0,null,{"$error":"#DIV/0!"},{"$error":"#DIV/0!"},0,{"$error":"#DIV/0!"},{"$error":"#DIV/0!"},0,null,null,null,null,null,null,0,0,0,null,0,{"$f":"IFERROR(VLOOKUP(Z4251,有效性!$D$2:$E$6,2,0),0)","v":0},0,0,0,0,0,null,0,null,0,0,0,0,0,null,0,0,null,0,"不涉及",0,0,0,0,0,0,0,"","否","正确","正确"]
[null,null,null,null,null,null,null,null,null,null,null,null,null,null,null,null,0,null,{"$error":"#DIV/0!"},{"$error":"#DIV/0!"},0,{"$error":"#DIV/0!"},{"$error":"#DIV/0!"},0,null,null,null,null,null,null,0,0,0,null,0,{"$f":"IFERROR(VLOOKUP(Z4259,有效性!$D$2:$E$6,2,0),0)","v":0},0,0,0,0,0,null,0,null,0,0,0,0,0,null,0,0,null,0,"不涉及",0,0,0,0,0,0,0,"","否","正确","正确"]
[null,null,null,null,null,null,null,null,null,null,null,null,null,null,null,null,0,null,{"$error":"#DIV/0!"},{"$error":"#DIV/0!"},0,{"$error":"#DIV/0!"},{"$error":"#DIV/0!"},0,null,null,null,null,null,null,0,0,0,null,0,{"$f":"IFERROR(VLOOKUP(Z4266,有效性!$D$2:$E$6,2,0),0)","v":0},0,0,0,0,0,null,0,null,0,0,0,0,0,null,0,0,null,0,"不涉及",0,0,0,0,0,0,0,"","否","正确","正确"]
[null,null,null,null,null,null,null,null,null,null,null,null,null,null,null,null,0,null,{"$error":"#DIV/0!"},{"$error":"#DIV/0!"},0,{"$error":"#DIV/0!"},{"$error":"#DIV/0!"},0,null,null,null,null,null,null,0,0,0,null,0,{"$f":"IFERROR(VLOOKUP(Z4278,有效性!$D$2:$E$6,2,0),0)","v":0},0,0,0,0,0,null,0,null,0,0,0,0,0,null,0,0,null,0,"不涉及",0,0,0,0,0,0,0,"","否","正确","正确"]
[null,null,null,null,null,null,null,null,null,null,null,null,null,null,null,null,0,null,{"$error":"#DIV/0!"},{"$error":"#DIV/0!"},0,{"$error":"#DIV/0!"},{"$error":"#DIV/0!"},0,null,null,null,null,null,null,0,0,0,null,0,{"$f":"IFERROR(VLOOKUP(Z4282,有效性!$D$2:$E$6,2,0),0)","v":0},0,0,0,0,0,null,0,null,0,0,0,0,0,null,0,0,null,0,"不涉及",0,0,0,0,0,0,0,"","否","正确","正确"]
[null,null,null,null,null,null,null,null,null,null,null,null,null,null,null,null,0,null,{"$error":"#DIV/0!"},{"$error":"#DIV/0!"},0,{"$error":"#DIV/0!"},{"$error":"#DIV/0!"},0,null,null,null,null,null,null,0,0,0,null,0,{"$f":"IFERROR(VLOOKUP(Z4296,有效性!$D$2:$E$6,2,0),0)","v":0},0,0,0,0,0,null,0,null,0,0,0,0,0,null,0,0,null,0,"不涉及",0,0,0,0,0,0,0,"","否","正确","正确"]
[null,null,null,null,null,null,null,null,null,null,null,null,null,null,null,null,0,null,{"$error":"#DIV/0!"},{"$error":"#DIV/0!"},0,{"$error":"#DIV/0!"},{"$error":"#DIV/0!"},0,null,null,null,null,null,null,0,0,0,null,0,{"$f":"IFERROR(VLOOKUP(Z4299,有效性!$D$2:$E$6,2,0),0)","v":0},0,0,0,0,0,null,0,null,0,0,0,0,0,null,0,0,null,0,"不涉及",0,0,0,0,0,0,0,"","否","正确","正确"]
[null,null,null,null,null,null,null,null,null,null,null,null,null,null,null,null,0,null,{"$error":"#DIV/0!"},{"$error":"#DIV/0!"},0,{"$error":"#DIV/0!"},{"$error":"#DIV/0!"},0,null,null,null,null,null,null,0,0,0,null,0,{"$f":"IFERROR(VLOOKUP(Z4315,有效性!$D$2:$E$6,2,0),0)","v":0},0,0,0,0,0,null,0,null,0,0,0,0,0,null,0,0,null,0,"不涉及",0,0,0,0,0,0,0,"","否","正确","正确"]
[null,null,null,null,null,null,null,null,null,null,null,null,null,null,null,null,0,null,{"$error":"#DIV/0!"},{"$error":"#DIV/0!"},0,{"$error":"#DIV/0!"},{"$error":"#DIV/0!"},0,null,null,null,null,null,null,0,0,0,null,0,{"$f":"IFERROR(VLOOKUP(Z4321,有效性!$D$2:$E$6,2,0),0)","v":0},0,0,0,0,0,null,0,null,0,0,0,0,0,null,0,0,null,0,"不涉及",0,0,0,0,0,0,0,"","否","正确","正确"]
[null,null,null,null,null,null,null,null,null,null,null,null,null,null,null,null,0,null,{"$error":"#DIV/0!"},{"$error":"#DIV/0!"},0,{"$error":"#DIV/0!"},{"$error":"#DIV/0!"},0,null,null,null,null,null,null,0,0,0,null,0,{"$f":"IFERROR(VLOOKUP(Z4329,有效性!$D$2:$E$6,2,0),0)","v":0},0,0,0,0,0,null,0,null,0,0,0,0,0,null,0,0,null,0,"不涉及",0,0,0,0,0,0,0,"","否","正确","正确"]
[null,null,null,null,null,null,null,null,null,null,null,null,null,null,null,null,0,null,{"$error":"#DIV/0!"},{"$error":"#DIV/0!"},0,{"$error":"#DIV/0!"},{"$error":"#DIV/0!"},0,null,null,null,null,null,null,0,0,0,null,0,{"$f":"IFERROR(VLOOKUP(Z4336,有效性!$D$2:$E$6,2,0),0)","v":0},0,0,0,0,0,null,0,null,0,0,0,0,0,null,0,0,null,0,"不涉及",0,0,0,0,0,0,0,"","否","正确","正确"]
[null,null,null,null,null,null,null,null,null,null,null,null,null,null,null,null,0,null,{"$error":"#DIV/0!"},{"$error":"#DIV/0!"},0,{"$error":"#DIV/0!"},{"$error":"#DIV/0!"},0,null,null,null,null,null,null,0,0,0,null,0,{"$f":"IFERROR(VLOOKUP(Z4348,有效性!$D$2:$E$6,2,0),0)","v":0},0,0,0,0,0,null,0,null,0,0,0,0,0,null,0,0,null,0,"不涉及",0,0,0,0,0,0,0,"","否","正确","正确"]
[null,null,null,null,null,null,null,null,null,null,null,null,null,null,null,null,0,null,{"$error":"#DIV/0!"},{"$error":"#DIV/0!"},0,{"$error":"#DIV/0!"},{"$error":"#DIV/0!"},0,null,null,null,null,null,null,0,0,0,null,0,{"$f":"IFERROR(VLOOKUP(Z4352,有效性!$D$2:$E$6,2,0),0)","v":0},0,0,0,0,0,null,0,null,0,0,0,0,0,null,0,0,null,0,"不涉及",0,0,0,0,0,0,0,"","否","正确","正确"]
[null,null,null,null,null,null,null,null,null,null,null,null,null,null,null,null,0,null,{"$error":"#DIV/0!"},{"$error":"#DIV/0!"},0,{"$error":"#DIV/0!"},{"$error":"#DIV/0!"},0,null,null,null,null,null,null,0,0,0,null,0,{"$f":"IFERROR(VLOOKUP(Z4366,有效性!$D$2:$E$6,2,0),0)","v":0},0,0,0,0,0,null,0,null,0,0,0,0,0,null,0,0,null,0,"不涉及",0,0,0,0,0,0,0,"","否","正确","正确"]
[null,null,null,null,null,null,null,null,null,null,null,null,null,null,null,null,0,null,{"$error":"#DIV/0!"},{"$error":"#DIV/0!"},0,{"$error":"#DIV/0!"},{"$error":"#DIV/0!"},0,null,null,null,null,null,null,0,0,0,null,0,{"$f":"IFERROR(VLOOKUP(Z4369,有效性!$D$2:$E$6,2,0),0)","v":0},0,0,0,0,0,null,0,null,0,0,0,0,0,null,0,0,null,0,"不涉及",0,0,0,0,0,0,0,"","否","正确","正确"]
[null,null,null,null,null,null,null,null,null,null,null,null,null,null,null,null,0,null,{"$error":"#DIV/0!"},{"$error":"#DIV/0!"},0,{"$error":"#DIV/0!"},{"$error":"#DIV/0!"},0,null,null,null,null,null,null,0,0,0,null,0,{"$f":"IFERROR(VLOOKUP(Z4385,有效性!$D$2:$E$6,2,0),0)","v":0},0,0,0,0,0,null,0,null,0,0,0,0,0,null,0,0,null,0,"不涉及",0,0,0,0,0,0,0,"","否","正确","正确"]
[null,null,null,null,null,null,null,null,null,null,null,null,null,null,null,null,0,null,{"$error":"#DIV/0!"},{"$error":"#DIV/0!"},0,{"$error":"#DIV/0!"},{"$error":"#DIV/0!"},0,null,null,null,null,null,null,0,0,0,null,0,{"$f":"IFERROR(VLOOKUP(Z4391,有效性!$D$2:$E$6,2,0),0)","v":0},0,0,0,0,0,null,0,null,0,0,0,0,0,null,0,0,null,0,"不涉及",0,0,0,0,0,0,0,"","否","正确","正确"]
[null,null,null,null,null,null,null,null,null,null,null,null,null,null,null,null,0,null,{"$error":"#DIV/0!"},{"$error":"#DIV/0!"},0,{"$error":"#DIV/0!"},{"$error":"#DIV/0!"},0,null,null,null,null,null,null,0,0,0,null,0,{"$f":"IFERROR(VLOOKUP(Z4399,有效性!$D$2:$E$6,2,0),0)","v":0},0,0,0,0,0,null,0,null,0,0,0,0,0,null,0,0,null,0,"不涉及",0,0,0,0,0,0,0,"","否","正确","正确"]
[null,null,null,null,null,null,null,null,null,null,null,null,null,null,null,null,0,null,{"$error":"#DIV/0!"},{"$error":"#DIV/0!"},0,{"$error":"#DIV/0!"},{"$error":"#DIV/0!"},0,null,null,null,null,null,null,0,0,0,null,0,{"$f":"IFERROR(VLOOKUP(Z4406,有效性!$D$2:$E$6,2,0),0)","v":0},0,0,0,0,0,null,0,null,0,0,0,0,0,null,0,0,null,0,"不涉及",0,0,0,0,0,0,0,"","否","正确","正确"]
[null,null,null,null,null,null,null,null,null,null,null,null,null,null,null,null,0,null,{"$error":"#DIV/0!"},{"$error":"#DIV/0!"},0,{"$error":"#DIV/0!"},{"$error":"#DIV/0!"},0,null,null,null,null,null,null,0,0,0,null,0,{"$f":"IFERROR(VLOOKUP(Z4418,有效性!$D$2:$E$6,2,0),0)","v":0},0,0,0,0,0,null,0,null,0,0,0,0,0,null,0,0,null,0,"不涉及",0,0,0,0,0,0,0,"","否","正确","正确"]
[null,null,null,null,null,null,null,null,null,null,null,null,null,null,null,null,0,null,{"$error":"#DIV/0!"},{"$error":"#DIV/0!"},0,{"$error":"#DIV/0!"},{"$error":"#DIV/0!"},0,null,null,null,null,null,null,0,0,0,null,0,{"$f":"IFERROR(VLOOKUP(Z4422,有效性!$D$2:$E$6,2,0),0)","v":0},0,0,0,0,0,null,0,null,0,0,0,0,0,null,0,0,null,0,"不涉及",0,0,0,0,0,0,0,"","否","正确","正确"]
[null,null,null,null,null,null,null,null,null,null,null,null,null,null,null,null,0,null,{"$error":"#DIV/0!"},{"$error":"#DIV/0!"},0,{"$error":"#DIV/0!"},{"$error":"#DIV/0!"},0,null,null,null,null,null,null,0,0,0,null,0,{"$f":"IFERROR(VLOOKUP(Z4436,有效性!$D$2:$E$6,2,0),0)","v":0},0,0,0,0,0,null,0,null,0,0,0,0,0,null,0,0,null,0,"不涉及",0,0,0,0,0,0,0,"","否","正确","正确"]
[null,null,null,null,null,null,null,null,null,null,null,null,null,null,null,null,0,null,{"$error":"#DIV/0!"},{"$error":"#DIV/0!"},0,{"$error":"#DIV/0!"},{"$error":"#DIV/0!"},0,null,null,null,null,null,null,0,0,0,null,0,{"$f":"IFERROR(VLOOKUP(Z4439,有效性!$D$2:$E$6,2,0),0)","v":0},0,0,0,0,0,null,0,null,0,0,0,0,0,null,0,0,null,0,"不涉及",0,0,0,0,0,0,0,"","否","正确","正确"]
[null,null,null,null,null,null,null,null,null,null,null,null,null,null,null,null,0,null,{"$error":"#DIV/0!"},{"$error":"#DIV/0!"},0,{"$error":"#DIV/0!"},{"$error":"#DIV/0!"},0,null,null,null,null,null,null,0,0,0,null,0,{"$f":"IFERROR(VLOOKUP(Z4455,有效性!$D$2:$E$6,2,0),0)","v":0},0,0,0,0,0,null,0,null,0,0,0,0,0,null,0,0,null,0,"不涉及",0,0,0,0,0,0,0,"","否","正确","正确"]
[null,null,null,null,null,null,null,null,null,null,null,null,null,null,null,null,0,null,{"$error":"#DIV/0!"},{"$error":"#DIV/0!"},0,{"$error":"#DIV/0!"},{"$error":"#DIV/0!"},0,null,null,null,null,null,null,0,0,0,null,0,{"$f":"IFERROR(VLOOKUP(Z4461,有效性!$D$2:$E$6,2,0),0)","v":0},0,0,0,0,0,null,0,null,0,0,0,0,0,null,0,0,null,0,"不涉及",0,0,0,0,0,0,0,"","否","正确","正确"]
[null,null,null,null,null,null,null,null,null,null,null,null,null,null,null,null,0,null,{"$error":"#DIV/0!"},{"$error":"#DIV/0!"},0,{"$error":"#DIV/0!"},{"$error":"#DIV/0!"},0,null,null,null,null,null,null,0,0,0,null,0,{"$f":"IFERROR(VLOOKUP(Z4464,有效性!$D$2:$E$6,2,0),0)","v":0},0,0,0,0,0,null,0,null,0,0,0,0,0,null,0,0,null,0,"不涉及",0,0,0,0,0,0,0,"","否","正确","正确"]
[null,null,null,null,null,null,null,null,null,null,null,null,null,null,null,null,0,null,{"$error":"#DIV/0!"},{"$error":"#DIV/0!"},0,{"$error":"#DIV/0!"},{"$error":"#DIV/0!"},0,null,null,null,null,null,null,0,0,0,null,0,{"$f":"IFERROR(VLOOKUP(Z4476,有效性!$D$2:$E$6,2,0),0)","v":0},0,0,0,0,0,null,0,null,0,0,0,0,0,null,0,0,null,0,"不涉及",0,0,0,0,0,0,0,"","否","正确","正确"]
[null,null,null,null,null,null,null,null,null,null,null,null,null,null,null,null,0,null,{"$error":"#DIV/0!"},{"$error":"#DIV/0!"},0,{"$error":"#DIV/0!"},{"$error":"#DIV/0!"},0,null,null,null,null,null,null,0,0,0,null,0,{"$f":"IFERROR(VLOOKUP(Z4488,有效性!$D$2:$E$6,2,0),0)","v":0},0,0,0,0,0,null,0,null,0,0,0,0,0,null,0,0,null,0,"不涉及",0,0,0,0,0,0,0,"","否","正确","正确"]
[null,null,null,null,null,null,null,null,null,null,null,null,null,null,null,null,0,null,{"$error":"#DIV/0!"},{"$error":"#DIV/0!"},0,{"$error":"#DIV/0!"},{"$error":"#DIV/0!"},0,null,null,null,null,null,null,0,0,0,null,0,{"$f":"IFERROR(VLOOKUP(Z4492,有效性!$D$2:$E$6,2,0),0)","v":0},0,0,0,0,0,null,0,null,0,0,0,0,0,null,0,0,null,0,"不涉及",0,0,0,0,0,0,0,"","否","正确","正确"]
[null,null,null,null,null,null,null,null,null,null,null,null,null,null,null,null,0,null,{"$error":"#DIV/0!"},{"$error":"#DIV/0!"},0,{"$error":"#DIV/0!"},{"$error":"#DIV/0!"},0,null,null,null,null,null,null,0,0,0,null,0,{"$f":"IFERROR(VLOOKUP(Z4506,有效性!$D$2:$E$6,2,0),0)","v":0},0,0,0,0,0,null,0,null,0,0,0,0,0,null,0,0,null,0,"不涉及",0,0,0,0,0,0,0,"","否","正确","正确"]
[null,null,null,null,null,null,null,null,null,null,null,null,null,null,null,null,0,null,{"$error":"#DIV/0!"},{"$error":"#DIV/0!"},0,{"$error":"#DIV/0!"},{"$error":"#DIV/0!"},0,null,null,null,null,null,null,0,0,0,null,0,{"$f":"IFERROR(VLOOKUP(Z4509,有效性!$D$2:$E$6,2,0),0)","v":0},0,0,0,0,0,null,0,null,0,0,0,0,0,null,0,0,null,0,"不涉及",0,0,0,0,0,0,0,"","否","正确","正确"]
[null,null,null,null,null,null,null,null,null,null,null,null,null,null,null,null,0,null,{"$error":"#DIV/0!"},{"$error":"#DIV/0!"},0,{"$error":"#DIV/0!"},{"$error":"#DIV/0!"},0,null,null,null,null,null,null,0,0,0,null,0,{"$f":"IFERROR(VLOOKUP(Z4525,有效性!$D$2:$E$6,2,0),0)","v":0},0,0,0,0,0,null,0,null,0,0,0,0,0,null,0,0,null,0,"不涉及",0,0,0,0,0,0,0,"","否","正确","正确"]
[null,null,null,null,null,null,null,null,null,null,null,null,null,null,null,null,0,null,{"$error":"#DIV/0!"},{"$error":"#DIV/0!"},0,{"$error":"#DIV/0!"},{"$error":"#DIV/0!"},0,null,null,null,null,null,null,0,0,0,null,0,{"$f":"IFERROR(VLOOKUP(Z4531,有效性!$D$2:$E$6,2,0),0)","v":0},0,0,0,0,0,null,0,null,0,0,0,0,0,null,0,0,null,0,"不涉及",0,0,0,0,0,0,0,"","否","正确","正确"]
[null,null,null,null,null,null,null,null,null,null,null,null,null,null,null,null,0,null,{"$error":"#DIV/0!"},{"$error":"#DIV/0!"},0,{"$error":"#DIV/0!"},{"$error":"#DIV/0!"},0,null,null,null,null,null,null,0,0,0,null,0,{"$f":"IFERROR(VLOOKUP(Z4534,有效性!$D$2:$E$6,2,0),0)","v":0},0,0,0,0,0,null,0,null,0,0,0,0,0,null,0,0,null,0,"不涉及",0,0,0,0,0,0,0,"","否","正确","正确"]
[null,null,null,null,null,null,null,null,null,null,null,null,null,null,null,null,0,null,{"$error":"#DIV/0!"},{"$error":"#DIV/0!"},0,{"$error":"#DIV/0!"},{"$error":"#DIV/0!"},0,null,null,null,null,null,null,0,0,0,null,0,{"$f":"IFERROR(VLOOKUP(Z4546,有效性!$D$2:$E$6,2,0),0)","v":0},0,0,0,0,0,null,0,null,0,0,0,0,0,null,0,0,null,0,"不涉及",0,0,0,0,0,0,0,"","否","正确","正确"]
[null,null,null,null,null,null,null,null,null,null,null,null,null,null,null,null,0,null,{"$error":"#DIV/0!"},{"$error":"#DIV/0!"},0,{"$error":"#DIV/0!"},{"$error":"#DIV/0!"},0,null,null,null,null,null,null,0,0,0,null,0,{"$f":"IFERROR(VLOOKUP(Z4558,有效性!$D$2:$E$6,2,0),0)","v":0},0,0,0,0,0,null,0,null,0,0,0,0,0,null,0,0,null,0,"不涉及",0,0,0,0,0,0,0,"","否","正确","正确"]
[null,null,null,null,null,null,null,null,null,null,null,null,null,null,null,null,0,null,{"$error":"#DIV/0!"},{"$error":"#DIV/0!"},0,{"$error":"#DIV/0!"},{"$error":"#DIV/0!"},0,null,null,null,null,null,null,0,0,0,null,0,{"$f":"IFERROR(VLOOKUP(Z4562,有效性!$D$2:$E$6,2,0),0)","v":0},0,0,0,0,0,null,0,null,0,0,0,0,0,null,0,0,null,0,"不涉及",0,0,0,0,0,0,0,"","否","正确","正确"]
[null,null,null,null,null,null,null,null,null,null,null,null,null,null,null,null,0,null,{"$error":"#DIV/0!"},{"$error":"#DIV/0!"},0,{"$error":"#DIV/0!"},{"$error":"#DIV/0!"},0,null,null,null,null,null,null,0,0,0,null,0,{"$f":"IFERROR(VLOOKUP(Z4576,有效性!$D$2:$E$6,2,0),0)","v":0},0,0,0,0,0,null,0,null,0,0,0,0,0,null,0,0,null,0,"不涉及",0,0,0,0,0,0,0,"","否","正确","正确"]
[null,null,null,null,null,null,null,null,null,null,null,null,null,null,null,null,0,null,{"$error":"#DIV/0!"},{"$error":"#DIV/0!"},0,{"$error":"#DIV/0!"},{"$error":"#DIV/0!"},0,null,null,null,null,null,null,0,0,0,null,0,{"$f":"IFERROR(VLOOKUP(Z4579,有效性!$D$2:$E$6,2,0),0)","v":0},0,0,0,0,0,null,0,null,0,0,0,0,0,null,0,0,null,0,"不涉及",0,0,0,0,0,0,0,"","否","正确","正确"]
[null,null,null,null,null,null,null,null,null,null,null,null,null,null,null,null,0,null,{"$error":"#DIV/0!"},{"$error":"#DIV/0!"},0,{"$error":"#DIV/0!"},{"$error":"#DIV/0!"},0,null,null,null,null,null,null,0,0,0,null,0,{"$f":"IFERROR(VLOOKUP(Z4595,有效性!$D$2:$E$6,2,0),0)","v":0},0,0,0,0,0,null,0,null,0,0,0,0,0,null,0,0,null,0,"不涉及",0,0,0,0,0,0,0,"","否","正确","正确"]
[null,null,null,null,null,null,null,null,null,null,null,null,null,null,null,null,0,null,{"$error":"#DIV/0!"},{"$error":"#DIV/0!"},0,{"$error":"#DIV/0!"},{"$error":"#DIV/0!"},0,null,null,null,null,null,null,0,0,0,null,0,{"$f":"IFERROR(VLOOKUP(Z4601,有效性!$D$2:$E$6,2,0),0)","v":0},0,0,0,0,0,null,0,null,0,0,0,0,0,null,0,0,null,0,"不涉及",0,0,0,0,0,0,0,"","否","正确","正确"]
[null,null,null,null,null,null,null,null,null,null,null,null,null,null,null,null,0,null,{"$error":"#DIV/0!"},{"$error":"#DIV/0!"},0,{"$error":"#DIV/0!"},{"$error":"#DIV/0!"},0,null,null,null,null,null,null,0,0,0,null,0,{"$f":"IFERROR(VLOOKUP(Z4604,有效性!$D$2:$E$6,2,0),0)","v":0},0,0,0,0,0,null,0,null,0,0,0,0,0,null,0,0,null,0,"不涉及",0,0,0,0,0,0,0,"","否","正确","正确"]
[null,null,null,null,null,null,null,null,null,null,null,null,null,null,null,null,0,null,{"$error":"#DIV/0!"},{"$error":"#DIV/0!"},0,{"$error":"#DIV/0!"},{"$error":"#DIV/0!"},0,null,null,null,null,null,null,0,0,0,null,0,{"$f":"IFERROR(VLOOKUP(Z4616,有效性!$D$2:$E$6,2,0),0)","v":0},0,0,0,0,0,null,0,null,0,0,0,0,0,null,0,0,null,0,"不涉及",0,0,0,0,0,0,0,"","否","正确","正确"]
[null,null,null,null,null,null,null,null,null,null,null,null,null,null,null,null,0,null,{"$error":"#DIV/0!"},{"$error":"#DIV/0!"},0,{"$error":"#DIV/0!"},{"$error":"#DIV/0!"},0,null,null,null,null,null,null,0,0,0,null,0,{"$f":"IFERROR(VLOOKUP(Z4628,有效性!$D$2:$E$6,2,0),0)","v":0},0,0,0,0,0,null,0,null,0,0,0,0,0,null,0,0,null,0,"不涉及",0,0,0,0,0,0,0,"","否","正确","正确"]
[null,null,null,null,null,null,null,null,null,null,null,null,null,null,null,null,0,null,{"$error":"#DIV/0!"},{"$error":"#DIV/0!"},0,{"$error":"#DIV/0!"},{"$error":"#DIV/0!"},0,null,null,null,null,null,null,0,0,0,null,0,{"$f":"IFERROR(VLOOKUP(Z4632,有效性!$D$2:$E$6,2,0),0)","v":0},0,0,0,0,0,null,0,null,0,0,0,0,0,null,0,0,null,0,"不涉及",0,0,0,0,0,0,0,"","否","正确","正确"]
[null,null,null,null,null,null,null,null,null,null,null,null,null,null,null,null,0,null,{"$error":"#DIV/0!"},{"$error":"#DIV/0!"},0,{"$error":"#DIV/0!"},{"$error":"#DIV/0!"},0,null,null,null,null,null,null,0,0,0,null,0,{"$f":"IFERROR(VLOOKUP(Z4646,有效性!$D$2:$E$6,2,0),0)","v":0},0,0,0,0,0,null,0,null,0,0,0,0,0,null,0,0,null,0,"不涉及",0,0,0,0,0,0,0,"","否","正确","正确"]
[null,null,null,null,null,null,null,null,null,null,null,null,null,null,null,null,0,null,{"$error":"#DIV/0!"},{"$error":"#DIV/0!"},0,{"$error":"#DIV/0!"},{"$error":"#DIV/0!"},0,null,null,null,null,null,null,0,0,0,null,0,{"$f":"IFERROR(VLOOKUP(Z4653,有效性!$D$2:$E$6,2,0),0)","v":0},0,0,0,0,0,null,0,null,0,0,0,0,0,null,0,0,null,0,"不涉及",0,0,0,0,0,0,0,"","否","正确","正确"]
[null,null,null,null,null,null,null,null,null,null,null,null,null,null,null,null,0,null,{"$error":"#DIV/0!"},{"$error":"#DIV/0!"},0,{"$error":"#DIV/0!"},{"$error":"#DIV/0!"},0,null,null,null,null,null,null,0,0,0,null,0,{"$f":"IFERROR(VLOOKUP(Z4665,有效性!$D$2:$E$6,2,0),0)","v":0},0,0,0,0,0,null,0,null,0,0,0,0,0,null,0,0,null,0,"不涉及",0,0,0,0,0,0,0,"","否","正确","正确"]
[null,null,null,null,null,null,null,null,null,null,null,null,null,null,null,null,0,null,{"$error":"#DIV/0!"},{"$error":"#DIV/0!"},0,{"$error":"#DIV/0!"},{"$error":"#DIV/0!"},0,null,null,null,null,null,null,0,0,0,null,0,{"$f":"IFERROR(VLOOKUP(Z4671,有效性!$D$2:$E$6,2,0),0)","v":0},0,0,0,0,0,null,0,null,0,0,0,0,0,null,0,0,null,0,"不涉及",0,0,0,0,0,0,0,"","否","正确","正确"]
[null,null,null,null,null,null,null,null,null,null,null,null,null,null,null,null,0,null,{"$error":"#DIV/0!"},{"$error":"#DIV/0!"},0,{"$error":"#DIV/0!"},{"$error":"#DIV/0!"},0,null,null,null,null,null,null,0,0,0,null,0,{"$f":"IFERROR(VLOOKUP(Z4674,有效性!$D$2:$E$6,2,0),0)","v":0},0,0,0,0,0,null,0,null,0,0,0,0,0,null,0,0,null,0,"不涉及",0,0,0,0,0,0,0,"","否","正确","正确"]
[null,null,null,null,null,null,null,null,null,null,null,null,null,null,null,null,0,null,{"$error":"#DIV/0!"},{"$error":"#DIV/0!"},0,{"$error":"#DIV/0!"},{"$error":"#DIV/0!"},0,null,null,null,null,null,null,0,0,0,null,0,{"$f":"IFERROR(VLOOKUP(Z4686,有效性!$D$2:$E$6,2,0),0)","v":0},0,0,0,0,0,null,0,null,0,0,0,0,0,null,0,0,null,0,"不涉及",0,0,0,0,0,0,0,"","否","正确","正确"]
[null,null,null,null,null,null,null,null,null,null,null,null,null,null,null,null,0,null,{"$error":"#DIV/0!"},{"$error":"#DIV/0!"},0,{"$error":"#DIV/0!"},{"$error":"#DIV/0!"},0,null,null,null,null,null,null,0,0,0,null,0,{"$f":"IFERROR(VLOOKUP(Z4698,有效性!$D$2:$E$6,2,0),0)","v":0},0,0,0,0,0,null,0,null,0,0,0,0,0,null,0,0,null,0,"不涉及",0,0,0,0,0,0,0,"","否","正确","正确"]
[null,null,null,null,null,null,null,null,null,null,null,null,null,null,null,null,0,null,{"$error":"#DIV/0!"},{"$error":"#DIV/0!"},0,{"$error":"#DIV/0!"},{"$error":"#DIV/0!"},0,null,null,null,null,null,null,0,0,0,null,0,{"$f":"IFERROR(VLOOKUP(Z4702,有效性!$D$2:$E$6,2,0),0)","v":0},0,0,0,0,0,null,0,null,0,0,0,0,0,null,0,0,null,0,"不涉及",0,0,0,0,0,0,0,"","否","正确","正确"]
[null,null,null,null,null,null,null,null,null,null,null,null,null,null,null,null,0,null,{"$error":"#DIV/0!"},{"$error":"#DIV/0!"},0,{"$error":"#DIV/0!"},{"$error":"#DIV/0!"},0,null,null,null,null,null,null,0,0,0,null,0,{"$f":"IFERROR(VLOOKUP(Z4716,有效性!$D$2:$E$6,2,0),0)","v":0},0,0,0,0,0,null,0,null,0,0,0,0,0,null,0,0,null,0,"不涉及",0,0,0,0,0,0,0,"","否","正确","正确"]
[null,null,null,null,null,null,null,null,null,null,null,null,null,null,null,null,0,null,{"$error":"#DIV/0!"},{"$error":"#DIV/0!"},0,{"$error":"#DIV/0!"},{"$error":"#DIV/0!"},0,null,null,null,null,null,null,0,0,0,null,0,{"$f":"IFERROR(VLOOKUP(Z4723,有效性!$D$2:$E$6,2,0),0)","v":0},0,0,0,0,0,null,0,null,0,0,0,0,0,null,0,0,null,0,"不涉及",0,0,0,0,0,0,0,"","否","正确","正确"]
[null,null,null,null,null,null,null,null,null,null,null,null,null,null,null,null,0,null,{"$error":"#DIV/0!"},{"$error":"#DIV/0!"},0,{"$error":"#DIV/0!"},{"$error":"#DIV/0!"},0,null,null,null,null,null,null,0,0,0,null,0,{"$f":"IFERROR(VLOOKUP(Z4735,有效性!$D$2:$E$6,2,0),0)","v":0},0,0,0,0,0,null,0,null,0,0,0,0,0,null,0,0,null,0,"不涉及",0,0,0,0,0,0,0,"","否","正确","正确"]
[null,null,null,null,null,null,null,null,null,null,null,null,null,null,null,null,{"$f":"P4741-O4741","v":0},null,{"$error":"#DIV/0!"},{"$error":"#DIV/0!"},0,{"$error":"#DIV/0!"},{"$error":"#DIV/0!"},0,null,null,null,null,null,null,0,0,0,null,0,{"$f":"IFERROR(VLOOKUP(Z4741,有效性!$D$2:$E$6,2,0),0)","v":0},0,0,0,0,0,null,0,null,0,0,0,0,0,null,0,0,null,0,"不涉及",0,0,0,0,0,0,0,"","否","正确","正确"]
[null,null,null,null,null,null,null,null,null,null,null,null,null,null,null,null,0,null,{"$error":"#DIV/0!"},{"$error":"#DIV/0!"},0,{"$error":"#DIV/0!"},{"$error":"#DIV/0!"},0,null,null,null,null,null,null,0,0,0,null,0,{"$f":"IFERROR(VLOOKUP(Z4744,有效性!$D$2:$E$6,2,0),0)","v":0},0,0,0,0,0,null,0,null,0,0,0,0,0,null,0,0,null,0,"不涉及",0,0,0,0,0,0,0,"","否","正确","正确"]
[null,null,null,null,null,null,null,null,null,null,null,null,null,null,null,null,0,null,{"$error":"#DIV/0!"},{"$error":"#DIV/0!"},0,{"$error":"#DIV/0!"},{"$error":"#DIV/0!"},0,null,null,null,null,null,null,0,0,0,null,0,{"$f":"IFERROR(VLOOKUP(Z4756,有效性!$D$2:$E$6,2,0),0)","v":0},0,0,0,0,0,null,0,null,0,0,0,0,0,null,0,0,null,0,"不涉及",0,0,0,0,0,0,0,"","否","正确","正确"]
[null,null,null,null,null,null,null,null,null,null,null,null,null,null,null,null,0,null,{"$error":"#DIV/0!"},{"$error":"#DIV/0!"},0,{"$error":"#DIV/0!"},{"$error":"#DIV/0!"},0,null,null,null,null,null,null,0,0,0,null,0,{"$f":"IFERROR(VLOOKUP(Z4763,有效性!$D$2:$E$6,2,0),0)","v":0},0,0,0,0,0,null,0,null,0,0,0,0,0,null,0,0,null,0,"不涉及",0,0,0,0,0,0,0,"","否","正确","正确"]
[null,null,null,null,null,null,null,null,null,null,null,null,null,null,null,null,0,null,{"$error":"#DIV/0!"},{"$error":"#DIV/0!"},0,{"$error":"#DIV/0!"},{"$error":"#DIV/0!"},0,null,null,null,null,null,null,0,0,0,null,0,{"$f":"IFERROR(VLOOKUP(Z4772,有效性!$D$2:$E$6,2,0),0)","v":0},0,0,0,0,0,null,0,null,0,0,0,0,0,null,0,0,null,0,"不涉及",0,0,0,0,0,0,0,"","否","正确","正确"]
[null,null,null,null,null,null,null,null,null,null,null,null,null,null,null,null,0,null,{"$error":"#DIV/0!"},{"$error":"#DIV/0!"},0,{"$error":"#DIV/0!"},{"$error":"#DIV/0!"},0,null,null,null,null,null,null,0,0,0,null,0,{"$f":"IFERROR(VLOOKUP(Z4786,有效性!$D$2:$E$6,2,0),0)","v":0},0,0,0,0,0,null,0,null,0,0,0,0,0,null,0,0,null,0,"不涉及",0,0,0,0,0,0,0,"","否","正确","正确"]
[null,null,null,null,null,null,null,null,null,null,null,null,null,null,null,null,0,null,{"$error":"#DIV/0!"},{"$error":"#DIV/0!"},0,{"$error":"#DIV/0!"},{"$error":"#DIV/0!"},0,null,null,null,null,null,null,0,0,0,null,0,{"$f":"IFERROR(VLOOKUP(Z4793,有效性!$D$2:$E$6,2,0),0)","v":0},0,0,0,0,0,null,0,null,0,0,0,0,0,null,0,0,null,0,"不涉及",0,0,0,0,0,0,0,"","否","正确","正确"]
[null,null,null,null,null,null,null,null,null,null,null,null,null,null,null,null,{"$f":"P4805-O4805","v":0},null,{"$error":"#DIV/0!"},{"$error":"#DIV/0!"},0,{"$error":"#DIV/0!"},{"$error":"#DIV/0!"},0,null,null,null,null,null,null,0,0,0,null,0,{"$f":"IFERROR(VLOOKUP(Z4805,有效性!$D$2:$E$6,2,0),0)","v":0},0,0,0,0,0,null,0,null,0,0,0,0,0,null,0,0,null,0,"不涉及",0,0,0,0,0,0,0,"","否","正确","正确"]
[null,null,null,null,null,null,null,null,null,null,null,null,null,null,null,null,0,null,{"$error":"#DIV/0!"},{"$error":"#DIV/0!"},0,{"$error":"#DIV/0!"},{"$error":"#DIV/0!"},0,null,null,null,null,null,null,0,0,0,null,0,{"$f":"IFERROR(VLOOKUP(Z4811,有效性!$D$2:$E$6,2,0),0)","v":0},0,0,0,0,0,null,0,null,0,0,0,0,0,null,0,0,null,0,"不涉及",0,0,0,0,0,0,0,"","否","正确","正确"]
[null,null,null,null,null,null,null,null,null,null,null,null,null,null,null,null,0,null,{"$error":"#DIV/0!"},{"$error":"#DIV/0!"},0,{"$error":"#DIV/0!"},{"$error":"#DIV/0!"},0,null,null,null,null,null,null,0,0,0,null,0,{"$f":"IFERROR(VLOOKUP(Z4814,有效性!$D$2:$E$6,2,0),0)","v":0},0,0,0,0,0,null,0,null,0,0,0,0,0,null,0,0,null,0,"不涉及",0,0,0,0,0,0,0,"","否","正确","正确"]
[null,null,null,null,null,null,null,null,null,null,null,null,null,null,null,null,0,null,{"$error":"#DIV/0!"},{"$error":"#DIV/0!"},0,{"$error":"#DIV/0!"},{"$error":"#DIV/0!"},0,null,null,null,null,null,null,0,0,0,null,0,{"$f":"IFERROR(VLOOKUP(Z4826,有效性!$D$2:$E$6,2,0),0)","v":0},0,0,0,0,0,null,0,null,0,0,0,0,0,null,0,0,null,0,"不涉及",0,0,0,0,0,0,0,"","否","正确","正确"]
[null,null,null,null,null,null,null,null,null,null,null,null,null,null,null,null,0,null,{"$error":"#DIV/0!"},{"$error":"#DIV/0!"},0,{"$error":"#DIV/0!"},{"$error":"#DIV/0!"},0,null,null,null,null,null,null,0,0,0,null,0,{"$f":"IFERROR(VLOOKUP(Z4833,有效性!$D$2:$E$6,2,0),0)","v":0},0,0,0,0,0,null,0,null,0,0,0,0,0,null,0,0,null,0,"不涉及",0,0,0,0,0,0,0,"","否","正确","正确"]
[null,null,null,null,null,null,null,null,null,null,null,null,null,null,null,null,0,null,{"$error":"#DIV/0!"},{"$error":"#DIV/0!"},0,{"$error":"#DIV/0!"},{"$error":"#DIV/0!"},0,null,null,null,null,null,null,0,0,0,null,0,{"$f":"IFERROR(VLOOKUP(Z4842,有效性!$D$2:$E$6,2,0),0)","v":0},0,0,0,0,0,null,0,null,0,0,0,0,0,null,0,0,null,0,"不涉及",0,0,0,0,0,0,0,"","否","正确","正确"]
[null,null,null,null,null,null,null,null,null,null,null,null,null,null,null,null,0,null,{"$error":"#DIV/0!"},{"$error":"#DIV/0!"},0,{"$error":"#DIV/0!"},{"$error":"#DIV/0!"},0,null,null,null,null,null,null,0,0,0,null,0,{"$f":"IFERROR(VLOOKUP(Z4856,有效性!$D$2:$E$6,2,0),0)","v":0},0,0,0,0,0,null,0,null,0,0,0,0,0,null,0,0,null,0,"不涉及",0,0,0,0,0,0,0,"","否","正确","正确"]
[null,null,null,null,null,null,null,null,null,null,null,null,null,null,null,null,0,null,{"$error":"#DIV/0!"},{"$error":"#DIV/0!"},0,{"$error":"#DIV/0!"},{"$error":"#DIV/0!"},0,null,null,null,null,null,null,0,0,0,null,0,{"$f":"IFERROR(VLOOKUP(Z4863,有效性!$D$2:$E$6,2,0),0)","v":0},0,0,0,0,0,null,0,null,0,0,0,0,0,null,0,0,null,0,"不涉及",0,0,0,0,0,0,0,"","否","正确","正确"]
[null,null,null,null,null,null,null,null,null,null,null,null,null,null,null,null,0,null,{"$error":"#DIV/0!"},{"$error":"#DIV/0!"},0,{"$error":"#DIV/0!"},{"$error":"#DIV/0!"},0,null,null,null,null,null,null,0,0,0,null,0,{"$f":"IFERROR(VLOOKUP(Z4875,有效性!$D$2:$E$6,2,0),0)","v":0},0,0,0,0,0,null,0,null,0,0,0,0,0,null,0,0,null,0,"不涉及",0,0,0,0,0,0,0,"","否","正确","正确"]
[null,null,null,null,null,null,null,null,null,null,null,null,null,null,null,null,0,null,{"$error":"#DIV/0!"},{"$error":"#DIV/0!"},0,{"$error":"#DIV/0!"},{"$error":"#DIV/0!"},0,null,null,null,null,null,null,0,0,0,null,0,{"$f":"IFERROR(VLOOKUP(Z4876,有效性!$D$2:$E$6,2,0),0)","v":0},0,0,0,0,0,null,0,null,0,0,0,0,0,null,0,0,null,0,"不涉及",0,0,0,0,0,0,0,"","否","正确","正确"]
[null,null,null,null,null,null,null,null,null,null,null,null,null,null,null,null,0,null,{"$error":"#DIV/0!"},{"$error":"#DIV/0!"},0,{"$error":"#DIV/0!"},{"$error":"#DIV/0!"},0,null,null,null,null,null,null,0,0,0,null,0,{"$f":"IFERROR(VLOOKUP(Z4877,有效性!$D$2:$E$6,2,0),0)","v":0},0,0,0,0,0,null,0,null,0,0,0,0,0,null,0,0,null,0,"不涉及",0,0,0,0,0,0,0,"","否","正确","正确"]
[null,null,null,null,null,null,null,null,null,null,null,null,null,null,null,null,0,null,{"$error":"#DIV/0!"},{"$error":"#DIV/0!"},0,{"$error":"#DIV/0!"},{"$error":"#DIV/0!"},0,null,null,null,null,null,null,0,0,0,null,0,{"$f":"IFERROR(VLOOKUP(Z4878,有效性!$D$2:$E$6,2,0),0)","v":0},0,0,0,0,0,null,0,null,0,0,0,0,0,null,0,0,null,0,"不涉及",0,0,0,0,0,0,0,"","否","正确","正确"]
[null,null,null,null,null,null,null,null,null,null,null,null,null,null,null,null,0,null,{"$error":"#DIV/0!"},{"$error":"#DIV/0!"},0,{"$error":"#DIV/0!"},{"$error":"#DIV/0!"},0,null,null,null,null,null,null,0,0,0,null,0,{"$f":"IFERROR(VLOOKUP(Z4879,有效性!$D$2:$E$6,2,0),0)","v":0},0,0,0,0,0,null,0,null,0,0,0,0,0,null,0,0,null,0,"不涉及",0,0,0,0,0,0,0,"","否","正确","正确"]
[null,null,null,null,null,null,null,null,null,null,null,null,null,null,null,null,0,null,{"$error":"#DIV/0!"},{"$error":"#DIV/0!"},0,{"$error":"#DIV/0!"},{"$error":"#DIV/0!"},0,null,null,null,null,null,null,0,0,0,null,0,{"$f":"IFERROR(VLOOKUP(Z4880,有效性!$D$2:$E$6,2,0),0)","v":0},0,0,0,0,0,null,0,null,0,0,0,0,0,null,0,0,null,0,"不涉及",0,0,0,0,0,0,0,"","否","正确","正确"]
[null,null,null,null,null,null,null,null,null,null,null,null,null,null,null,null,0,null,{"$error":"#DIV/0!"},{"$error":"#DIV/0!"},0,{"$error":"#DIV/0!"},{"$error":"#DIV/0!"},0,null,null,null,null,null,null,0,0,0,null,0,{"$f":"IFERROR(VLOOKUP(Z4881,有效性!$D$2:$E$6,2,0),0)","v":0},0,0,0,0,0,null,0,null,0,0,0,0,0,null,0,0,null,0,"不涉及",0,0,0,0,0,0,0,"","否","正确","正确"]
[null,null,null,null,null,null,null,null,null,null,null,null,null,null,null,null,0,null,{"$error":"#DIV/0!"},{"$error":"#DIV/0!"},0,{"$error":"#DIV/0!"},{"$error":"#DIV/0!"},0,null,null,null,null,null,null,0,0,0,null,0,{"$f":"IFERROR(VLOOKUP(Z4882,有效性!$D$2:$E$6,2,0),0)","v":0},0,0,0,0,0,null,0,null,0,0,0,0,0,null,0,0,null,0,"不涉及",0,0,0,0,0,0,0,"","否","正确","正确"]
[null,null,null,null,null,null,null,null,null,null,null,null,null,null,null,null,0,null,{"$error":"#DIV/0!"},{"$error":"#DIV/0!"},0,{"$error":"#DIV/0!"},{"$error":"#DIV/0!"},0,null,null,null,null,null,null,0,0,0,null,0,{"$f":"IFERROR(VLOOKUP(Z4883,有效性!$D$2:$E$6,2,0),0)","v":0},0,0,0,0,0,null,0,null,0,0,0,0,0,null,0,0,null,0,"不涉及",0,0,0,0,0,0,0,"","否","正确","正确"]
[null,null,null,null,null,null,null,null,null,null,null,null,null,null,null,null,0,null,{"$error":"#DIV/0!"},{"$error":"#DIV/0!"},0,{"$error":"#DIV/0!"},{"$error":"#DIV/0!"},0,null,null,null,null,null,null,0,0,0,null,0,{"$f":"IFERROR(VLOOKUP(Z4884,有效性!$D$2:$E$6,2,0),0)","v":0},0,0,0,0,0,null,0,null,0,0,0,0,0,null,0,0,null,0,"不涉及",0,0,0,0,0,0,0,"","否","正确","正确"]
[null,null,null,null,null,null,null,null,null,null,null,null,null,null,null,null,0,null,{"$error":"#DIV/0!"},{"$error":"#DIV/0!"},0,{"$error":"#DIV/0!"},{"$error":"#DIV/0!"},0,null,null,null,null,null,null,0,0,0,null,0,{"$f":"IFERROR(VLOOKUP(Z4885,有效性!$D$2:$E$6,2,0),0)","v":0},0,0,0,0,0,null,0,null,0,0,0,0,0,null,0,0,null,0,"不涉及",0,0,0,0,0,0,0,"","否","正确","正确"]
[null,null,null,null,null,null,null,null,null,null,null,null,null,null,null,null,0,null,{"$error":"#DIV/0!"},{"$error":"#DIV/0!"},0,{"$error":"#DIV/0!"},{"$error":"#DIV/0!"},0,null,null,null,null,null,null,0,0,0,null,0,{"$f":"IFERROR(VLOOKUP(Z4886,有效性!$D$2:$E$6,2,0),0)","v":0},0,0,0,0,0,null,0,null,0,0,0,0,0,null,0,0,null,0,"不涉及",0,0,0,0,0,0,0,"","否","正确","正确"]
[null,null,null,null,null,null,null,null,null,null,null,null,null,null,null,null,0,null,{"$error":"#DIV/0!"},{"$error":"#DIV/0!"},0,{"$error":"#DIV/0!"},{"$error":"#DIV/0!"},0,null,null,null,null,null,null,0,0,0,null,0,{"$f":"IFERROR(VLOOKUP(Z4887,有效性!$D$2:$E$6,2,0),0)","v":0},0,0,0,0,0,null,0,null,0,0,0,0,0,null,0,0,null,0,"不涉及",0,0,0,0,0,0,0,"","否","正确","正确"]
[null,null,null,null,null,null,null,null,null,null,null,null,null,null,null,null,0,null,{"$error":"#DIV/0!"},{"$error":"#DIV/0!"},0,{"$error":"#DIV/0!"},{"$error":"#DIV/0!"},0,null,null,null,null,null,null,0,0,0,null,0,{"$f":"IFERROR(VLOOKUP(Z4888,有效性!$D$2:$E$6,2,0),0)","v":0},0,0,0,0,0,null,0,null,0,0,0,0,0,null,0,0,null,0,"不涉及",0,0,0,0,0,0,0,"","否","正确","正确"]
[null,null,null,null,null,null,null,null,null,null,null,null,null,null,null,null,0,null,{"$error":"#DIV/0!"},{"$error":"#DIV/0!"},0,{"$error":"#DIV/0!"},{"$error":"#DIV/0!"},0,null,null,null,null,null,null,0,0,0,null,0,{"$f":"IFERROR(VLOOKUP(Z4889,有效性!$D$2:$E$6,2,0),0)","v":0},0,0,0,0,0,null,0,null,0,0,0,0,0,null,0,0,null,0,"不涉及",0,0,0,0,0,0,0,"","否","正确","正确"]
[null,null,null,null,null,null,null,null,null,null,null,null,null,null,null,null,0,null,{"$error":"#DIV/0!"},{"$error":"#DIV/0!"},0,{"$error":"#DIV/0!"},{"$error":"#DIV/0!"},0,null,null,null,null,null,null,0,0,0,null,0,{"$f":"IFERROR(VLOOKUP(Z4890,有效性!$D$2:$E$6,2,0),0)","v":0},0,0,0,0,0,null,0,null,0,0,0,0,0,null,0,0,null,0,"不涉及",0,0,0,0,0,0,0,"","否","正确","正确"]
[null,null,null,null,null,null,null,null,null,null,null,null,null,null,null,null,0,null,{"$error":"#DIV/0!"},{"$error":"#DIV/0!"},0,{"$error":"#DIV/0!"},{"$error":"#DIV/0!"},0,null,null,null,null,null,null,0,0,0,null,0,{"$f":"IFERROR(VLOOKUP(Z4891,有效性!$D$2:$E$6,2,0),0)","v":0},0,0,0,0,0,null,0,null,0,0,0,0,0,null,0,0,null,0,"不涉及",0,0,0,0,0,0,0,"","否","正确","正确"]
[null,null,null,null,null,null,null,null,null,null,null,null,null,null,null,null,0,null,{"$error":"#DIV/0!"},{"$error":"#DIV/0!"},0,{"$error":"#DIV/0!"},{"$error":"#DIV/0!"},0,null,null,null,null,null,null,0,0,0,null,0,{"$f":"IFERROR(VLOOKUP(Z4892,有效性!$D$2:$E$6,2,0),0)","v":0},0,0,0,0,0,null,0,null,0,0,0,0,0,null,0,0,null,0,"不涉及",0,0,0,0,0,0,0,"","否","正确","正确"]
[null,null,null,null,null,null,null,null,null,null,null,null,null,null,null,null,0,null,{"$error":"#DIV/0!"},{"$error":"#DIV/0!"},0,{"$error":"#DIV/0!"},{"$error":"#DIV/0!"},0,null,null,null,null,null,null,0,0,0,null,0,{"$f":"IFERROR(VLOOKUP(Z4893,有效性!$D$2:$E$6,2,0),0)","v":0},0,0,0,0,0,null,0,null,0,0,0,0,0,null,0,0,null,0,"不涉及",0,0,0,0,0,0,0,"","否","正确","正确"]
[null,null,null,null,null,null,null,null,null,null,null,null,null,null,null,null,0,null,{"$error":"#DIV/0!"},{"$error":"#DIV/0!"},0,{"$error":"#DIV/0!"},{"$error":"#DIV/0!"},0,null,null,null,null,null,null,0,0,0,null,0,{"$f":"IFERROR(VLOOKUP(Z4894,有效性!$D$2:$E$6,2,0),0)","v":0},0,0,0,0,0,null,0,null,0,0,0,0,0,null,0,0,null,0,"不涉及",0,0,0,0,0,0,0,"","否","正确","正确"]
[null,null,null,null,null,null,null,null,null,null,null,null,null,null,null,null,0,null,{"$error":"#DIV/0!"},{"$error":"#DIV/0!"},0,{"$error":"#DIV/0!"},{"$error":"#DIV/0!"},0,null,null,null,null,null,null,0,0,0,null,0,{"$f":"IFERROR(VLOOKUP(Z4895,有效性!$D$2:$E$6,2,0),0)","v":0},0,0,0,0,0,null,0,null,0,0,0,0,0,null,0,0,null,0,"不涉及",0,0,0,0,0,0,0,"","否","正确","正确"]
[null,null,null,null,null,null,null,null,null,null,null,null,null,null,null,null,0,null,{"$error":"#DIV/0!"},{"$error":"#DIV/0!"},0,{"$error":"#DIV/0!"},{"$error":"#DIV/0!"},0,null,null,null,null,null,null,0,0,0,null,0,{"$f":"IFERROR(VLOOKUP(Z4896,有效性!$D$2:$E$6,2,0),0)","v":0},0,0,0,0,0,null,0,null,0,0,0,0,0,null,0,0,null,0,"不涉及",0,0,0,0,0,0,0,"","否","正确","正确"]
[null,null,null,null,null,null,null,null,null,null,null,null,null,null,null,null,0,null,{"$error":"#DIV/0!"},{"$error":"#DIV/0!"},0,{"$error":"#DIV/0!"},{"$error":"#DIV/0!"},0,null,null,null,null,null,null,0,0,0,null,0,{"$f":"IFERROR(VLOOKUP(Z4897,有效性!$D$2:$E$6,2,0),0)","v":0},0,0,0,0,0,null,0,null,0,0,0,0,0,null,0,0,null,0,"不涉及",0,0,0,0,0,0,0,"","否","正确","正确"]
[null,null,null,null,null,null,null,null,null,null,null,null,null,null,null,null,0,null,{"$error":"#DIV/0!"},{"$error":"#DIV/0!"},0,{"$error":"#DIV/0!"},{"$error":"#DIV/0!"},0,null,null,null,null,null,null,0,0,0,null,0,{"$f":"IFERROR(VLOOKUP(Z4898,有效性!$D$2:$E$6,2,0),0)","v":0},0,0,0,0,0,null,0,null,0,0,0,0,0,null,0,0,null,0,"不涉及",0,0,0,0,0,0,0,"","否","正确","正确"]
[null,null,null,null,null,null,null,null,null,null,null,null,null,null,null,null,0,null,{"$error":"#DIV/0!"},{"$error":"#DIV/0!"},0,{"$error":"#DIV/0!"},{"$error":"#DIV/0!"},0,null,null,null,null,null,null,0,0,0,null,0,{"$f":"IFERROR(VLOOKUP(Z4899,有效性!$D$2:$E$6,2,0),0)","v":0},0,0,0,0,0,null,0,null,0,0,0,0,0,null,0,0,null,0,"不涉及",0,0,0,0,0,0,0,"","否","正确","正确"]
[null,null,null,null,null,null,null,null,null,null,null,null,null,null,null,null,0,null,{"$error":"#DIV/0!"},{"$error":"#DIV/0!"},0,{"$error":"#DIV/0!"},{"$error":"#DIV/0!"},0,null,null,null,null,null,null,0,0,0,null,0,{"$f":"IFERROR(VLOOKUP(Z4900,有效性!$D$2:$E$6,2,0),0)","v":0},0,0,0,0,0,null,0,null,0,0,0,0,0,null,0,0,null,0,"不涉及",0,0,0,0,0,0,0,"","否","正确","正确"]
[null,null,null,null,null,null,null,null,null,null,null,null,null,null,null,null,0,null,{"$error":"#DIV/0!"},{"$error":"#DIV/0!"},0,{"$error":"#DIV/0!"},{"$error":"#DIV/0!"},0,null,null,null,null,null,null,0,0,0,null,0,{"$f":"IFERROR(VLOOKUP(Z4901,有效性!$D$2:$E$6,2,0),0)","v":0},0,0,0,0,0,null,0,null,0,0,0,0,0,null,0,0,null,0,"不涉及",0,0,0,0,0,0,0,"","否","正确","正确"]
[null,null,null,null,null,null,null,null,null,null,null,null,null,null,null,null,0,null,{"$error":"#DIV/0!"},{"$error":"#DIV/0!"},0,{"$error":"#DIV/0!"},{"$error":"#DIV/0!"},0,null,null,null,null,null,null,0,0,0,null,0,{"$f":"IFERROR(VLOOKUP(Z4902,有效性!$D$2:$E$6,2,0),0)","v":0},0,0,0,0,0,null,0,null,0,0,0,0,0,null,0,0,null,0,"不涉及",0,0,0,0,0,0,0,"","否","正确","正确"]
[null,null,null,null,null,null,null,null,null,null,null,null,null,null,null,null,0,null,{"$error":"#DIV/0!"},{"$error":"#DIV/0!"},0,{"$error":"#DIV/0!"},{"$error":"#DIV/0!"},0,null,null,null,null,null,null,0,0,0,null,0,{"$f":"IFERROR(VLOOKUP(Z4903,有效性!$D$2:$E$6,2,0),0)","v":0},0,0,0,0,0,null,0,null,0,0,0,0,0,null,0,0,null,0,"不涉及",0,0,0,0,0,0,0,"","否","正确","正确"]
[null,null,null,null,null,null,null,null,null,null,null,null,null,null,null,null,0,null,{"$error":"#DIV/0!"},{"$error":"#DIV/0!"},0,{"$error":"#DIV/0!"},{"$error":"#DIV/0!"},0,null,null,null,null,null,null,0,0,0,null,0,{"$f":"IFERROR(VLOOKUP(Z4904,有效性!$D$2:$E$6,2,0),0)","v":0},0,0,0,0,0,null,0,null,0,0,0,0,0,null,0,0,null,0,"不涉及",0,0,0,0,0,0,0,"","否","正确","正确"]
[null,null,null,null,null,null,null,null,null,null,null,null,null,null,null,null,0,null,{"$error":"#DIV/0!"},{"$error":"#DIV/0!"},0,{"$error":"#DIV/0!"},{"$error":"#DIV/0!"},0,null,null,null,null,null,null,0,0,0,null,0,{"$f":"IFERROR(VLOOKUP(Z4905,有效性!$D$2:$E$6,2,0),0)","v":0},0,0,0,0,0,null,0,null,0,0,0,0,0,null,0,0,null,0,"不涉及",0,0,0,0,0,0,0,"","否","正确","正确"]
[null,null,null,null,null,null,null,null,null,null,null,null,null,null,null,null,0,null,{"$error":"#DIV/0!"},{"$error":"#DIV/0!"},0,{"$error":"#DIV/0!"},{"$error":"#DIV/0!"},0,null,null,null,null,null,null,0,0,0,null,0,{"$f":"IFERROR(VLOOKUP(Z4906,有效性!$D$2:$E$6,2,0),0)","v":0},0,0,0,0,0,null,0,null,0,0,0,0,0,null,0,0,null,0,"不涉及",0,0,0,0,0,0,0,"","否","正确","正确"]
[null,null,null,null,null,null,null,null,null,null,null,null,null,null,null,null,0,null,{"$error":"#DIV/0!"},{"$error":"#DIV/0!"},0,{"$error":"#DIV/0!"},{"$error":"#DIV/0!"},0,null,null,null,null,null,null,0,0,0,null,0,{"$f":"IFERROR(VLOOKUP(Z4907,有效性!$D$2:$E$6,2,0),0)","v":0},0,0,0,0,0,null,0,null,0,0,0,0,0,null,0,0,null,0,"不涉及",0,0,0,0,0,0,0,"","否","正确","正确"]
[null,null,null,null,null,null,null,null,null,null,null,null,null,null,null,null,0,null,{"$error":"#DIV/0!"},{"$error":"#DIV/0!"},0,{"$error":"#DIV/0!"},{"$error":"#DIV/0!"},0,null,null,null,null,null,null,0,0,0,null,0,{"$f":"IFERROR(VLOOKUP(Z4908,有效性!$D$2:$E$6,2,0),0)","v":0},0,0,0,0,0,null,0,null,0,0,0,0,0,null,0,0,null,0,"不涉及",0,0,0,0,0,0,0,"","否","正确","正确"]
[null,null,null,null,null,null,null,null,null,null,null,null,null,null,null,null,0,null,{"$error":"#DIV/0!"},{"$error":"#DIV/0!"},0,{"$error":"#DIV/0!"},{"$error":"#DIV/0!"},0,null,null,null,null,null,null,0,0,0,null,0,{"$f":"IFERROR(VLOOKUP(Z4909,有效性!$D$2:$E$6,2,0),0)","v":0},0,0,0,0,0,null,0,null,0,0,0,0,0,null,0,0,null,0,"不涉及",0,0,0,0,0,0,0,"","否","正确","正确"]
[null,null,null,null,null,null,null,null,null,null,null,null,null,null,null,null,0,null,{"$error":"#DIV/0!"},{"$error":"#DIV/0!"},0,{"$error":"#DIV/0!"},{"$error":"#DIV/0!"},0,null,null,null,null,null,null,0,0,0,null,0,{"$f":"IFERROR(VLOOKUP(Z4910,有效性!$D$2:$E$6,2,0),0)","v":0},0,0,0,0,0,null,0,null,0,0,0,0,0,null,0,0,null,0,"不涉及",0,0,0,0,0,0,0,"","否","正确","正确"]
[null,null,null,null,null,null,null,null,null,null,null,null,null,null,null,null,0,null,{"$error":"#DIV/0!"},{"$error":"#DIV/0!"},0,{"$error":"#DIV/0!"},{"$error":"#DIV/0!"},0,null,null,null,null,null,null,0,0,0,null,0,{"$f":"IFERROR(VLOOKUP(Z4911,有效性!$D$2:$E$6,2,0),0)","v":0},0,0,0,0,0,null,0,null,0,0,0,0,0,null,0,0,null,0,"不涉及",0,0,0,0,0,0,0,"","否","正确","正确"]
[null,null,null,null,null,null,null,null,null,null,null,null,null,null,null,null,0,null,{"$error":"#DIV/0!"},{"$error":"#DIV/0!"},0,{"$error":"#DIV/0!"},{"$error":"#DIV/0!"},0,null,null,null,null,null,null,0,0,0,null,0,{"$f":"IFERROR(VLOOKUP(Z4912,有效性!$D$2:$E$6,2,0),0)","v":0},0,0,0,0,0,null,0,null,0,0,0,0,0,null,0,0,null,0,"不涉及",0,0,0,0,0,0,0,"","否","正确","正确"]
[null,null,null,null,null,null,null,null,null,null,null,null,null,null,null,null,0,null,{"$error":"#DIV/0!"},{"$error":"#DIV/0!"},0,{"$error":"#DIV/0!"},{"$error":"#DIV/0!"},0,null,null,null,null,null,null,0,0,0,null,0,{"$f":"IFERROR(VLOOKUP(Z4913,有效性!$D$2:$E$6,2,0),0)","v":0},0,0,0,0,0,null,0,null,0,0,0,0,0,null,0,0,null,0,"不涉及",0,0,0,0,0,0,0,"","否","正确","正确"]
[null,null,null,null,null,null,null,null,null,null,null,null,null,null,null,null,0,null,{"$error":"#DIV/0!"},{"$error":"#DIV/0!"},0,{"$error":"#DIV/0!"},{"$error":"#DIV/0!"},0,null,null,null,null,null,null,0,0,0,null,0,{"$f":"IFERROR(VLOOKUP(Z4914,有效性!$D$2:$E$6,2,0),0)","v":0},0,0,0,0,0,null,0,null,0,0,0,0,0,null,0,0,null,0,"不涉及",0,0,0,0,0,0,0,"","否","正确","正确"]
[null,null,null,null,null,null,null,null,null,null,null,null,null,null,null,null,0,null,{"$error":"#DIV/0!"},{"$error":"#DIV/0!"},0,{"$error":"#DIV/0!"},{"$error":"#DIV/0!"},0,null,null,null,null,null,null,0,0,0,null,0,{"$f":"IFERROR(VLOOKUP(Z4915,有效性!$D$2:$E$6,2,0),0)","v":0},0,0,0,0,0,null,0,null,0,0,0,0,0,null,0,0,null,0,"不涉及",0,0,0,0,0,0,0,"","否","正确","正确"]
[null,null,null,null,null,null,null,null,null,null,null,null,null,null,null,null,0,null,{"$error":"#DIV/0!"},{"$error":"#DIV/0!"},0,{"$error":"#DIV/0!"},{"$error":"#DIV/0!"},0,null,null,null,null,null,null,0,0,0,null,0,{"$f":"IFERROR(VLOOKUP(Z4916,有效性!$D$2:$E$6,2,0),0)","v":0},0,0,0,0,0,null,0,null,0,0,0,0,0,null,0,0,null,0,"不涉及",0,0,0,0,0,0,0,"","否","正确","正确"]
[null,null,null,null,null,null,null,null,null,null,null,null,null,null,null,null,0,null,{"$error":"#DIV/0!"},{"$error":"#DIV/0!"},0,{"$error":"#DIV/0!"},{"$error":"#DIV/0!"},0,null,null,null,null,null,null,0,0,0,null,0,{"$f":"IFERROR(VLOOKUP(Z4917,有效性!$D$2:$E$6,2,0),0)","v":0},0,0,0,0,0,null,0,null,0,0,0,0,0,null,0,0,null,0,"不涉及",0,0,0,0,0,0,0,"","否","正确","正确"]
[null,null,null,null,null,null,null,null,null,null,null,null,null,null,null,null,0,null,{"$error":"#DIV/0!"},{"$error":"#DIV/0!"},0,{"$error":"#DIV/0!"},{"$error":"#DIV/0!"},0,null,null,null,null,null,null,0,0,0,null,0,{"$f":"IFERROR(VLOOKUP(Z4918,有效性!$D$2:$E$6,2,0),0)","v":0},0,0,0,0,0,null,0,null,0,0,0,0,0,null,0,0,null,0,"不涉及",0,0,0,0,0,0,0,"","否","正确","正确"]
[null,null,null,null,null,null,null,null,null,null,null,null,null,null,null,null,0,null,{"$error":"#DIV/0!"},{"$error":"#DIV/0!"},0,{"$error":"#DIV/0!"},{"$error":"#DIV/0!"},0,null,null,null,null,null,null,0,0,0,null,0,{"$f":"IFERROR(VLOOKUP(Z4919,有效性!$D$2:$E$6,2,0),0)","v":0},0,0,0,0,0,null,0,null,0,0,0,0,0,null,0,0,null,0,"不涉及",0,0,0,0,0,0,0,"","否","正确","正确"]
[null,null,null,null,null,null,null,null,null,null,null,null,null,null,null,null,0,null,{"$error":"#DIV/0!"},{"$error":"#DIV/0!"},0,{"$error":"#DIV/0!"},{"$error":"#DIV/0!"},0,null,null,null,null,null,null,0,0,0,null,0,{"$f":"IFERROR(VLOOKUP(Z4920,有效性!$D$2:$E$6,2,0),0)","v":0},0,0,0,0,0,null,0,null,0,0,0,0,0,null,0,0,null,0,"不涉及",0,0,0,0,0,0,0,"","否","正确","正确"]
[null,null,null,null,null,null,null,null,null,null,null,null,null,null,null,null,0,null,{"$error":"#DIV/0!"},{"$error":"#DIV/0!"},0,{"$error":"#DIV/0!"},{"$error":"#DIV/0!"},0,null,null,null,null,null,null,0,0,0,null,0,{"$f":"IFERROR(VLOOKUP(Z4921,有效性!$D$2:$E$6,2,0),0)","v":0},0,0,0,0,0,null,0,null,0,0,0,0,0,null,0,0,null,0,"不涉及",0,0,0,0,0,0,0,"","否","正确","正确"]
[null,null,null,null,null,null,null,null,null,null,null,null,null,null,null,null,0,null,{"$error":"#DIV/0!"},{"$error":"#DIV/0!"},0,{"$error":"#DIV/0!"},{"$error":"#DIV/0!"},0,null,null,null,null,null,null,0,0,0,null,0,{"$f":"IFERROR(VLOOKUP(Z4922,有效性!$D$2:$E$6,2,0),0)","v":0},0,0,0,0,0,null,0,null,0,0,0,0,0,null,0,0,null,0,"不涉及",0,0,0,0,0,0,0,"","否","正确","正确"]
[null,null,null,null,null,null,null,null,null,null,null,null,null,null,null,null,0,null,{"$error":"#DIV/0!"},{"$error":"#DIV/0!"},0,{"$error":"#DIV/0!"},{"$error":"#DIV/0!"},0,null,null,null,null,null,null,0,0,0,null,0,{"$f":"IFERROR(VLOOKUP(Z4923,有效性!$D$2:$E$6,2,0),0)","v":0},0,0,0,0,0,null,0,null,0,0,0,0,0,null,0,0,null,0,"不涉及",0,0,0,0,0,0,0,"","否","正确","正确"]
[null,null,null,null,null,null,null,null,null,null,null,null,null,null,null,null,0,null,{"$error":"#DIV/0!"},{"$error":"#DIV/0!"},0,{"$error":"#DIV/0!"},{"$error":"#DIV/0!"},0,null,null,null,null,null,null,0,0,0,null,0,{"$f":"IFERROR(VLOOKUP(Z4924,有效性!$D$2:$E$6,2,0),0)","v":0},0,0,0,0,0,null,0,null,0,0,0,0,0,null,0,0,null,0,"不涉及",0,0,0,0,0,0,0,"","否","正确","正确"]
[null,null,null,null,null,null,null,null,null,null,null,null,null,null,null,null,0,null,{"$error":"#DIV/0!"},{"$error":"#DIV/0!"},0,{"$error":"#DIV/0!"},{"$error":"#DIV/0!"},0,null,null,null,null,null,null,0,0,0,null,0,{"$f":"IFERROR(VLOOKUP(Z4925,有效性!$D$2:$E$6,2,0),0)","v":0},0,0,0,0,0,null,0,null,0,0,0,0,0,null,0,0,null,0,"不涉及",0,0,0,0,0,0,0,"","否","正确","正确"]
[null,null,null,null,null,null,null,null,null,null,null,null,null,null,null,null,0,null,{"$error":"#DIV/0!"},{"$error":"#DIV/0!"},0,{"$error":"#DIV/0!"},{"$error":"#DIV/0!"},0,null,null,null,null,null,null,0,0,0,null,0,{"$f":"IFERROR(VLOOKUP(Z4926,有效性!$D$2:$E$6,2,0),0)","v":0},0,0,0,0,0,null,0,null,0,0,0,0,0,null,0,0,null,0,"不涉及",0,0,0,0,0,0,0,"","否","正确","正确"]
[null,null,null,null,null,null,null,null,null,null,null,null,null,null,null,null,0,null,{"$error":"#DIV/0!"},{"$error":"#DIV/0!"},0,{"$error":"#DIV/0!"},{"$error":"#DIV/0!"},0,null,null,null,null,null,null,0,0,0,null,0,{"$f":"IFERROR(VLOOKUP(Z4927,有效性!$D$2:$E$6,2,0),0)","v":0},0,0,0,0,0,null,0,null,0,0,0,0,0,null,0,0,null,0,"不涉及",0,0,0,0,0,0,0,"","否","正确","正确"]
[null,null,null,null,null,null,null,null,null,null,null,null,null,null,null,null,0,null,{"$error":"#DIV/0!"},{"$error":"#DIV/0!"},0,{"$error":"#DIV/0!"},{"$error":"#DIV/0!"},0,null,null,null,null,null,null,0,0,0,null,0,{"$f":"IFERROR(VLOOKUP(Z4928,有效性!$D$2:$E$6,2,0),0)","v":0},0,0,0,0,0,null,0,null,0,0,0,0,0,null,0,0,null,0,"不涉及",0,0,0,0,0,0,0,"","否","正确","正确"]
[null,null,null,null,null,null,null,null,null,null,null,null,null,null,null,null,0,null,{"$error":"#DIV/0!"},{"$error":"#DIV/0!"},0,{"$error":"#DIV/0!"},{"$error":"#DIV/0!"},0,null,null,null,null,null,null,0,0,0,null,0,{"$f":"IFERROR(VLOOKUP(Z4929,有效性!$D$2:$E$6,2,0),0)","v":0},0,0,0,0,0,null,0,null,0,0,0,0,0,null,0,0,null,0,"不涉及",0,0,0,0,0,0,0,"","否","正确","正确"]
[null,null,null,null,null,null,null,null,null,null,null,null,null,null,null,null,0,null,{"$error":"#DIV/0!"},{"$error":"#DIV/0!"},0,{"$error":"#DIV/0!"},{"$error":"#DIV/0!"},0,null,null,null,null,null,null,0,0,0,null,0,{"$f":"IFERROR(VLOOKUP(Z4930,有效性!$D$2:$E$6,2,0),0)","v":0},0,0,0,0,0,null,0,null,0,0,0,0,0,null,0,0,null,0,"不涉及",0,0,0,0,0,0,0,"","否","正确","正确"]
[null,null,null,null,null,null,null,null,null,null,null,null,null,null,null,null,0,null,{"$error":"#DIV/0!"},{"$error":"#DIV/0!"},0,{"$error":"#DIV/0!"},{"$error":"#DIV/0!"},0,null,null,null,null,null,null,0,0,0,null,0,{"$f":"IFERROR(VLOOKUP(Z4931,有效性!$D$2:$E$6,2,0),0)","v":0},0,0,0,0,0,null,0,null,0,0,0,0,0,null,0,0,null,0,"不涉及",0,0,0,0,0,0,0,"","否","正确","正确"]
[null,null,null,null,null,null,null,null,null,null,null,null,null,null,null,null,0,null,{"$f":"(1-I4932)/(K4932*12)","v":{"$error":"#DIV/0!"}},{"$f":"ROUND(G4932*S4932,2)","v":{"$error":"#DIV/0!"}},{"$f":"IF($T$2<YEAR(J4932),0,IF($T$2=YEAR(J4932),MAX($V$2-MONTH(J4932),0),IF($T$2>YEAR(J4932)+K4932,0,IF($T$2=YEAR(J4932)+K4932,MIN(MONTH($J4932),$V$2),$V$2))))","v":0},{"$f":"T4932*U4932","v":{"$error":"#DIV/0!"}},{"$f":"IF(ABS(Q4932-V4932)<=$X$2,0,Q4932-V4932)","v":{"$error":"#DIV/0!"}},{"$f":"IFERROR(IF((W4932/V4932)<$Y$2,0,W4932/V4932),0)","v":0},null,null,null,null,null,null,{"$f":"G4932-AD4932","v":0},{"$f":"IF(ISNUMBER(FIND(\"计税基础差异\",AA4932)),IF(YEAR(J4932)+K4932=$T$2,Q4932-((G4932-AD4932)*(1-I4932)-AH4932),AD4932*S4932*U4932),0)","v":0},{"$f":"IF(ISNUMBER(FIND(\"计税基础差异\",AA4932)),IF(AB4932=\"是\",Q4932-AF4932,0),0)","v":0},null,{"$f":"ROUND(AH4932+AG4932,2)","v":0},{"$f":"IFERROR(VLOOKUP(Z4932,有效性!$D$2:$E$6,2,0),0)","v":0},{"$f":"IFERROR((1-I4932)/(AJ4932*12),0)","v":0},{"$f":"G4932*AK4932","v":0},{"$f":"IF($T$2<YEAR(J4932),0,IF($T$2=YEAR(J4932),MAX($V$2-MONTH(J4932),0),IF($T$2>YEAR(J4932)+AJ4932,0,IF($T$2=YEAR(J4932)+AJ4932,MIN(MONTH($J4932),$V$2),$V$2))))","v":0},{"$f":"IF(ISNUMBER(FIND(\"折旧年限差异\",AA4932)),IF(YEAR(J4932)+AJ4932=$T$2,AP4932,AL4932*AM4932),0)","v":0},{"$f":"ROUND(IF(ISNUMBER(FIND(\"折旧年限差异\",AA4932)),IF(AB4932=\"是\",Q4932-AN4932,0),0),2)","v":0},null,{"$f":"ROUND(AO4932+AP4932,2)","v":0},null,{"$f":"IF(ISNUMBER(FIND(\"缩短年限60%\",AA4932)),IFERROR((1-I4932)/(AR4932*12),0),0)","v":0},{"$f":"G4932*AS4932","v":0},{"$f":"IF($T$2<YEAR(J4932),0,IF($T$2=YEAR(J4932),MAX($V$2-MONTH(J4932),0),IF($T$2>YEAR(J4932)+AR4932,0,IF($T$2=YEAR(J4932)+AR4932,MIN(MONTH($J4932),$V$2),$V$2))))","v":0},{"$f":"ROUND(IF(ISNUMBER(FIND(\"加速折旧\",AA4932)),IF(OR(ISNUMBER(FIND(\"500万元以下一次性扣除\",AA4932)),ISNUMBER(FIND(\"5000元以下一次性扣除\",AA4932))),IF(OR(AND(YEAR(J4932)=$T$2,MONTH(J4932)<>12),AND(YEAR(J4932)=$T$2-1,MONTH(J4932)=12)),G4932,0),IF(ISNUMBER(FIND(\"缩短年限60%\",AA4932)),IF(YEAR(J4932)+AR4932=$T$2,G4932*(1-I4932)-(O4932-AX4932),AT4932*AU4932),0)),0),2)","v":0},{"$f":"ROUND(IF(ISNUMBER(FIND(\"加速折旧\",AA4932)),IF(AB4932=\"是\",Q4932-AV4932,0),0),2)","v":0},null,{"$f":"ROUND(AX4932+AW4932,20)","v":0},{"$f":"IFERROR(IF(ISNUMBER(FIND(\"不得扣除折旧资产\",AA4932)),IF(AB4932=\"是\",Q4932,0),0),0)","v":0},null,{"$f":"BA4932+AZ4932","v":0},"不涉及",{"$f":"IF(OR(AC4932=\"否\",BC4932=\"不涉及\"),0,Q4932-AG4932-AO4932-AW4932)","v":0},{"$f":"IF(BC4932=\"不涉及\",0,IF(BC4932=\"是\",BD4932-Q4932,BD4932))","v":0},{"$f":"AH4932+AP4932+AX4932+BA4932","v":0},{"$f":"MAX(0,BJ4932)","v":0},{"$f":"MIN(0,BJ4932)","v":0},{"$f":"AI4932+AQ4932+AY4932+BB4932","v":0},{"$f":"AG4932+AO4932+AW4932+AZ4932","v":0},{"$f":"_xlfn.IFS(BJ4932>0,\"本年调增\",BJ4932<0,\"本年调减\",BJ4932=0,\"\")","v":""},"否",{"$f":"IF(AND(BL4932=\"是\",BI4932<>0),\"请检查\",\"正确\")","v":"正确"},{"$f":"IF(Q4932-BJ4932<0,\"错误\",\"正确\")","v":"正确"}]
[null,null,null,null,null,null,null,null,null,null,null,null,null,null,null,null,{"$f":"P4933-O4933","v":0},null,{"$error":"#DIV/0!"},{"$error":"#DIV/0!"},0,{"$error":"#DIV/0!"},{"$error":"#DIV/0!"},0,null,null,null,null,null,null,0,0,0,null,0,{"$f":"IFERROR(VLOOKUP(Z4933,有效性!$D$2:$E$6,2,0),0)","v":0},0,0,0,0,0,null,0,null,0,0,0,0,0,null,0,0,null,0,"不涉及",0,0,0,0,0,0,0,"","否","正确","正确"]
[null,null,null,null,null,null,null,null,null,null,null,null,null,null,null,null,0,null,{"$error":"#DIV/0!"},{"$error":"#DIV/0!"},0,{"$error":"#DIV/0!"},{"$error":"#DIV/0!"},0,null,null,null,null,null,null,0,0,0,null,0,{"$f":"IFERROR(VLOOKUP(Z4934,有效性!$D$2:$E$6,2,0),0)","v":0},0,0,0,0,0,null,0,null,0,0,0,0,0,null,0,0,null,0,"不涉及",0,0,0,0,0,0,0,"","否","正确","正确"]
[null,null,null,null,null,null,null,null,null,null,null,null,null,null,null,null,0,null,{"$error":"#DIV/0!"},{"$error":"#DIV/0!"},0,{"$error":"#DIV/0!"},{"$error":"#DIV/0!"},0,null,null,null,null,null,null,0,0,0,null,0,{"$f":"IFERROR(VLOOKUP(Z4935,有效性!$D$2:$E$6,2,0),0)","v":0},0,0,0,0,0,null,0,null,0,0,0,0,0,null,0,0,null,0,"不涉及",0,0,0,0,0,0,0,"","否","正确","正确"]
[null,null,null,null,null,null,null,null,null,null,null,null,null,null,null,null,0,null,{"$error":"#DIV/0!"},{"$error":"#DIV/0!"},0,{"$error":"#DIV/0!"},{"$error":"#DIV/0!"},0,null,null,null,null,null,null,0,0,0,null,0,{"$f":"IFERROR(VLOOKUP(Z4936,有效性!$D$2:$E$6,2,0),0)","v":0},0,0,0,0,0,null,0,null,0,0,0,0,0,null,0,0,null,0,"不涉及",0,0,0,0,0,0,0,"","否","正确","正确"]
[null,null,null,null,null,null,null,null,null,null,null,null,null,null,null,null,0,null,{"$error":"#DIV/0!"},{"$error":"#DIV/0!"},0,{"$error":"#DIV/0!"},{"$error":"#DIV/0!"},0,null,null,null,null,null,null,0,0,0,null,0,{"$f":"IFERROR(VLOOKUP(Z4937,有效性!$D$2:$E$6,2,0),0)","v":0},0,0,0,0,0,null,0,null,0,0,0,0,0,null,0,0,null,0,"不涉及",0,0,0,0,0,0,0,"","否","正确","正确"]
[null,null,null,null,null,null,null,null,null,null,null,null,null,null,null,null,0,null,{"$error":"#DIV/0!"},{"$error":"#DIV/0!"},0,{"$error":"#DIV/0!"},{"$error":"#DIV/0!"},0,null,null,null,null,null,null,0,0,0,null,0,{"$f":"IFERROR(VLOOKUP(Z4938,有效性!$D$2:$E$6,2,0),0)","v":0},0,0,0,0,0,null,0,null,0,0,0,0,0,null,0,0,null,0,"不涉及",0,0,0,0,0,0,0,"","否","正确","正确"]
[null,null,null,null,null,null,null,null,null,null,null,null,null,null,null,null,0,null,{"$error":"#DIV/0!"},{"$error":"#DIV/0!"},0,{"$error":"#DIV/0!"},{"$error":"#DIV/0!"},0,null,null,null,null,null,null,0,0,0,null,0,{"$f":"IFERROR(VLOOKUP(Z4939,有效性!$D$2:$E$6,2,0),0)","v":0},0,0,0,0,0,null,0,null,0,0,0,0,0,null,0,0,null,0,"不涉及",0,0,0,0,0,0,0,"","否","正确","正确"]
[null,null,null,null,null,null,null,null,null,null,null,null,null,null,null,null,0,null,{"$error":"#DIV/0!"},{"$error":"#DIV/0!"},0,{"$error":"#DIV/0!"},{"$error":"#DIV/0!"},0,null,null,null,null,null,null,0,0,0,null,0,{"$f":"IFERROR(VLOOKUP(Z4940,有效性!$D$2:$E$6,2,0),0)","v":0},0,0,0,0,0,null,0,null,0,0,0,0,0,null,0,0,null,0,"不涉及",0,0,0,0,0,0,0,"","否","正确","正确"]
[null,null,null,null,null,null,null,null,null,null,null,null,null,null,null,null,0,null,{"$error":"#DIV/0!"},{"$error":"#DIV/0!"},0,{"$error":"#DIV/0!"},{"$error":"#DIV/0!"},0,null,null,null,null,null,null,0,0,0,null,0,{"$f":"IFERROR(VLOOKUP(Z4941,有效性!$D$2:$E$6,2,0),0)","v":0},0,0,0,0,0,null,0,null,0,0,0,0,0,null,0,0,null,0,"不涉及",0,0,0,0,0,0,0,"","否","正确","正确"]
[null,null,null,null,null,null,null,null,null,null,null,null,null,null,null,null,0,null,{"$error":"#DIV/0!"},{"$error":"#DIV/0!"},0,{"$error":"#DIV/0!"},{"$error":"#DIV/0!"},0,null,null,null,null,null,null,0,0,0,null,0,{"$f":"IFERROR(VLOOKUP(Z4942,有效性!$D$2:$E$6,2,0),0)","v":0},0,0,0,0,0,null,0,null,0,0,0,0,0,null,0,0,null,0,"不涉及",0,0,0,0,0,0,0,"","否","正确","正确"]
[null,null,null,null,null,null,null,null,null,null,null,null,null,null,null,null,0,null,{"$error":"#DIV/0!"},{"$error":"#DIV/0!"},0,{"$error":"#DIV/0!"},{"$error":"#DIV/0!"},0,null,null,null,null,null,null,0,0,0,null,0,{"$f":"IFERROR(VLOOKUP(Z4943,有效性!$D$2:$E$6,2,0),0)","v":0},0,0,0,0,0,null,0,null,0,0,0,0,0,null,0,0,null,0,"不涉及",0,0,0,0,0,0,0,"","否","正确","正确"]
[null,null,null,null,null,null,null,null,null,null,null,null,null,null,null,null,0,null,{"$error":"#DIV/0!"},{"$error":"#DIV/0!"},0,{"$error":"#DIV/0!"},{"$error":"#DIV/0!"},0,null,null,null,null,null,null,0,0,0,null,0,{"$f":"IFERROR(VLOOKUP(Z4944,有效性!$D$2:$E$6,2,0),0)","v":0},0,0,0,0,0,null,0,null,0,0,0,0,0,null,0,0,null,0,"不涉及",0,0,0,0,0,0,0,"","否","正确","正确"]
[null,null,null,null,null,null,null,null,null,null,null,null,null,null,null,null,0,null,{"$error":"#DIV/0!"},{"$error":"#DIV/0!"},0,{"$error":"#DIV/0!"},{"$error":"#DIV/0!"},0,null,null,null,null,null,null,0,0,0,null,0,{"$f":"IFERROR(VLOOKUP(Z4945,有效性!$D$2:$E$6,2,0),0)","v":0},0,0,0,0,0,null,0,null,0,0,0,0,0,null,0,0,null,0,"不涉及",0,0,0,0,0,0,0,"","否","正确","正确"]
[null,null,null,null,null,null,null,null,null,null,null,null,null,null,null,null,0,null,{"$error":"#DIV/0!"},{"$error":"#DIV/0!"},0,{"$error":"#DIV/0!"},{"$error":"#DIV/0!"},0,null,null,null,null,null,null,0,0,0,null,0,{"$f":"IFERROR(VLOOKUP(Z4946,有效性!$D$2:$E$6,2,0),0)","v":0},0,0,0,0,0,null,0,null,0,0,0,0,0,null,0,0,null,0,"不涉及",0,0,0,0,0,0,0,"","否","正确","正确"]
[null,null,null,null,null,null,null,null,null,null,null,null,null,null,null,null,0,null,{"$error":"#DIV/0!"},{"$error":"#DIV/0!"},0,{"$error":"#DIV/0!"},{"$error":"#DIV/0!"},0,null,null,null,null,null,null,0,0,0,null,0,{"$f":"IFERROR(VLOOKUP(Z4947,有效性!$D$2:$E$6,2,0),0)","v":0},0,0,0,0,0,null,0,null,0,0,0,0,0,null,0,0,null,0,"不涉及",0,0,0,0,0,0,0,"","否","正确","正确"]
[null,null,null,null,null,null,null,null,null,null,null,null,null,null,null,null,0,null,{"$error":"#DIV/0!"},{"$error":"#DIV/0!"},0,{"$error":"#DIV/0!"},{"$error":"#DIV/0!"},0,null,null,null,null,null,null,0,0,0,null,0,{"$f":"IFERROR(VLOOKUP(Z4948,有效性!$D$2:$E$6,2,0),0)","v":0},0,0,0,0,0,null,0,null,0,0,0,0,0,null,0,0,null,0,"不涉及",0,0,0,0,0,0,0,"","否","正确","正确"]
[null,null,null,null,null,null,null,null,null,null,null,null,null,null,null,null,0,null,{"$error":"#DIV/0!"},{"$error":"#DIV/0!"},0,{"$error":"#DIV/0!"},{"$error":"#DIV/0!"},0,null,null,null,null,null,null,0,0,0,null,0,{"$f":"IFERROR(VLOOKUP(Z4949,有效性!$D$2:$E$6,2,0),0)","v":0},0,0,0,0,0,null,0,null,0,0,0,0,0,null,0,0,null,0,"不涉及",0,0,0,0,0,0,0,"","否","正确","正确"]
[null,null,null,null,null,null,null,null,null,null,null,null,null,null,null,null,0,null,{"$error":"#DIV/0!"},{"$error":"#DIV/0!"},0,{"$error":"#DIV/0!"},{"$error":"#DIV/0!"},0,null,null,null,null,null,null,0,0,0,null,0,{"$f":"IFERROR(VLOOKUP(Z4950,有效性!$D$2:$E$6,2,0),0)","v":0},0,0,0,0,0,null,0,null,0,0,0,0,0,null,0,0,null,0,"不涉及",0,0,0,0,0,0,0,"","否","正确","正确"]
[null,null,null,null,null,null,null,null,null,null,null,null,null,null,null,null,0,null,{"$error":"#DIV/0!"},{"$error":"#DIV/0!"},0,{"$error":"#DIV/0!"},{"$error":"#DIV/0!"},0,null,null,null,null,null,null,0,0,0,null,0,{"$f":"IFERROR(VLOOKUP(Z4951,有效性!$D$2:$E$6,2,0),0)","v":0},0,0,0,0,0,null,0,null,0,0,0,0,0,null,0,0,null,0,"不涉及",0,0,0,0,0,0,0,"","否","正确","正确"]
[null,null,null,null,null,null,null,null,null,null,null,null,null,null,null,null,0,null,{"$error":"#DIV/0!"},{"$error":"#DIV/0!"},0,{"$error":"#DIV/0!"},{"$error":"#DIV/0!"},0,null,null,null,null,null,null,0,0,0,null,0,{"$f":"IFERROR(VLOOKUP(Z4952,有效性!$D$2:$E$6,2,0),0)","v":0},0,0,0,0,0,null,0,null,0,0,0,0,0,null,0,0,null,0,"不涉及",0,0,0,0,0,0,0,"","否","正确","正确"]
[null,null,null,null,null,null,null,null,null,null,null,null,null,null,null,null,0,null,{"$error":"#DIV/0!"},{"$error":"#DIV/0!"},0,{"$error":"#DIV/0!"},{"$error":"#DIV/0!"},0,null,null,null,null,null,null,0,0,0,null,0,{"$f":"IFERROR(VLOOKUP(Z4953,有效性!$D$2:$E$6,2,0),0)","v":0},0,0,0,0,0,null,0,null,0,0,0,0,0,null,0,0,null,0,"不涉及",0,0,0,0,0,0,0,"","否","正确","正确"]
[null,null,null,null,null,null,null,null,null,null,null,null,null,null,null,null,0,null,{"$error":"#DIV/0!"},{"$error":"#DIV/0!"},0,{"$error":"#DIV/0!"},{"$error":"#DIV/0!"},0,null,null,null,null,null,null,0,0,0,null,0,{"$f":"IFERROR(VLOOKUP(Z4954,有效性!$D$2:$E$6,2,0),0)","v":0},0,0,0,0,0,null,0,null,0,0,0,0,0,null,0,0,null,0,"不涉及",0,0,0,0,0,0,0,"","否","正确","正确"]
[null,null,null,null,null,null,null,null,null,null,null,null,null,null,null,null,0,null,{"$error":"#DIV/0!"},{"$error":"#DIV/0!"},0,{"$error":"#DIV/0!"},{"$error":"#DIV/0!"},0,null,null,null,null,null,null,0,0,0,null,0,{"$f":"IFERROR(VLOOKUP(Z4955,有效性!$D$2:$E$6,2,0),0)","v":0},0,0,0,0,0,null,0,null,0,0,0,0,0,null,0,0,null,0,"不涉及",0,0,0,0,0,0,0,"","否","正确","正确"]
[null,null,null,null,null,null,null,null,null,null,null,null,null,null,null,null,0,null,{"$error":"#DIV/0!"},{"$error":"#DIV/0!"},0,{"$error":"#DIV/0!"},{"$error":"#DIV/0!"},0,null,null,null,null,null,null,0,0,0,null,0,{"$f":"IFERROR(VLOOKUP(Z4956,有效性!$D$2:$E$6,2,0),0)","v":0},0,0,0,0,0,null,0,null,0,0,0,0,0,null,0,0,null,0,"不涉及",0,0,0,0,0,0,0,"","否","正确","正确"]
[null,null,null,null,null,null,null,null,null,null,null,null,null,null,null,null,0,null,{"$error":"#DIV/0!"},{"$error":"#DIV/0!"},0,{"$error":"#DIV/0!"},{"$error":"#DIV/0!"},0,null,null,null,null,null,null,0,0,0,null,0,{"$f":"IFERROR(VLOOKUP(Z4957,有效性!$D$2:$E$6,2,0),0)","v":0},0,0,0,0,0,null,0,null,0,0,0,0,0,null,0,0,null,0,"不涉及",0,0,0,0,0,0,0,"","否","正确","正确"]
[null,null,null,null,null,null,null,null,null,null,null,null,null,null,null,null,0,null,{"$error":"#DIV/0!"},{"$error":"#DIV/0!"},0,{"$error":"#DIV/0!"},{"$error":"#DIV/0!"},0,null,null,null,null,null,null,0,0,0,null,0,{"$f":"IFERROR(VLOOKUP(Z4958,有效性!$D$2:$E$6,2,0),0)","v":0},0,0,0,0,0,null,0,null,0,0,0,0,0,null,0,0,null,0,"不涉及",0,0,0,0,0,0,0,"","否","正确","正确"]
[null,null,null,null,null,null,null,null,null,null,null,null,null,null,null,null,0,null,{"$error":"#DIV/0!"},{"$error":"#DIV/0!"},0,{"$error":"#DIV/0!"},{"$error":"#DIV/0!"},0,null,null,null,null,null,null,0,0,0,null,0,{"$f":"IFERROR(VLOOKUP(Z4959,有效性!$D$2:$E$6,2,0),0)","v":0},0,0,0,0,0,null,0,null,0,0,0,0,0,null,0,0,null,0,"不涉及",0,0,0,0,0,0,0,"","否","正确","正确"]
[null,null,null,null,null,null,null,null,null,null,null,null,null,null,null,null,0,null,{"$error":"#DIV/0!"},{"$error":"#DIV/0!"},0,{"$error":"#DIV/0!"},{"$error":"#DIV/0!"},0,null,null,null,null,null,null,0,0,0,null,0,{"$f":"IFERROR(VLOOKUP(Z4960,有效性!$D$2:$E$6,2,0),0)","v":0},0,0,0,0,0,null,0,null,0,0,0,0,0,null,0,0,null,0,"不涉及",0,0,0,0,0,0,0,"","否","正确","正确"]
[null,null,null,null,null,null,null,null,null,null,null,null,null,null,null,null,0,null,{"$error":"#DIV/0!"},{"$error":"#DIV/0!"},0,{"$error":"#DIV/0!"},{"$error":"#DIV/0!"},0,null,null,null,null,null,null,0,0,0,null,0,{"$f":"IFERROR(VLOOKUP(Z4961,有效性!$D$2:$E$6,2,0),0)","v":0},0,0,0,0,0,null,0,null,0,0,0,0,0,null,0,0,null,0,"不涉及",0,0,0,0,0,0,0,"","否","正确","正确"]
[null,null,null,null,null,null,null,null,null,null,null,null,null,null,null,null,0,null,{"$error":"#DIV/0!"},{"$error":"#DIV/0!"},0,{"$error":"#DIV/0!"},{"$error":"#DIV/0!"},0,null,null,null,null,null,null,0,0,0,null,0,{"$f":"IFERROR(VLOOKUP(Z4962,有效性!$D$2:$E$6,2,0),0)","v":0},0,0,0,0,0,null,0,null,0,0,0,0,0,null,0,0,null,0,"不涉及",0,0,0,0,0,0,0,"","否","正确","正确"]
[null,null,null,null,null,null,null,null,null,null,null,null,null,null,null,null,0,null,{"$error":"#DIV/0!"},{"$error":"#DIV/0!"},0,{"$error":"#DIV/0!"},{"$error":"#DIV/0!"},0,null,null,null,null,null,null,0,0,0,null,0,{"$f":"IFERROR(VLOOKUP(Z4963,有效性!$D$2:$E$6,2,0),0)","v":0},0,0,0,0,0,null,0,null,0,0,0,0,0,null,0,0,null,0,"不涉及",0,0,0,0,0,0,0,"","否","正确","正确"]
[null,null,null,null,null,null,null,null,null,null,null,null,null,null,null,null,0,null,{"$error":"#DIV/0!"},{"$error":"#DIV/0!"},0,{"$error":"#DIV/0!"},{"$error":"#DIV/0!"},0,null,null,null,null,null,null,0,0,0,null,0,{"$f":"IFERROR(VLOOKUP(Z4964,有效性!$D$2:$E$6,2,0),0)","v":0},0,0,0,0,0,null,0,null,0,0,0,0,0,null,0,0,null,0,"不涉及",0,0,0,0,0,0,0,"","否","正确","正确"]
[null,null,null,null,null,null,null,null,null,null,null,null,null,null,null,null,0,null,{"$error":"#DIV/0!"},{"$error":"#DIV/0!"},0,{"$error":"#DIV/0!"},{"$error":"#DIV/0!"},0,null,null,null,null,null,null,0,0,0,null,0,{"$f":"IFERROR(VLOOKUP(Z4965,有效性!$D$2:$E$6,2,0),0)","v":0},0,0,0,0,0,null,0,null,0,0,0,0,0,null,0,0,null,0,"不涉及",0,0,0,0,0,0,0,"","否","正确","正确"]
[null,null,null,null,null,null,null,null,null,null,null,null,null,null,null,null,0,null,{"$error":"#DIV/0!"},{"$error":"#DIV/0!"},0,{"$error":"#DIV/0!"},{"$error":"#DIV/0!"},0,null,null,null,null,null,null,0,0,0,null,0,{"$f":"IFERROR(VLOOKUP(Z4966,有效性!$D$2:$E$6,2,0),0)","v":0},0,0,0,0,0,null,0,null,0,0,0,0,0,null,0,0,null,0,"不涉及",0,0,0,0,0,0,0,"","否","正确","正确"]
[null,null,null,null,null,null,null,null,null,null,null,null,null,null,null,null,0,null,{"$error":"#DIV/0!"},{"$error":"#DIV/0!"},0,{"$error":"#DIV/0!"},{"$error":"#DIV/0!"},0,null,null,null,null,null,null,0,0,0,null,0,{"$f":"IFERROR(VLOOKUP(Z4967,有效性!$D$2:$E$6,2,0),0)","v":0},0,0,0,0,0,null,0,null,0,0,0,0,0,null,0,0,null,0,"不涉及",0,0,0,0,0,0,0,"","否","正确","正确"]
[null,null,null,null,null,null,null,null,null,null,null,null,null,null,null,null,0,null,{"$error":"#DIV/0!"},{"$error":"#DIV/0!"},0,{"$error":"#DIV/0!"},{"$error":"#DIV/0!"},0,null,null,null,null,null,null,0,0,0,null,0,{"$f":"IFERROR(VLOOKUP(Z4968,有效性!$D$2:$E$6,2,0),0)","v":0},0,0,0,0,0,null,0,null,0,0,0,0,0,null,0,0,null,0,"不涉及",0,0,0,0,0,0,0,"","否","正确","正确"]
[null,null,null,null,null,null,null,null,null,null,null,null,null,null,null,null,0,null,{"$error":"#DIV/0!"},{"$error":"#DIV/0!"},0,{"$error":"#DIV/0!"},{"$error":"#DIV/0!"},0,null,null,null,null,null,null,0,0,0,null,0,{"$f":"IFERROR(VLOOKUP(Z4969,有效性!$D$2:$E$6,2,0),0)","v":0},0,0,0,0,0,null,0,null,0,0,0,0,0,null,0,0,null,0,"不涉及",0,0,0,0,0,0,0,"","否","正确","正确"]
[null,null,null,null,null,null,null,null,null,null,null,null,null,null,null,null,0,null,{"$error":"#DIV/0!"},{"$error":"#DIV/0!"},0,{"$error":"#DIV/0!"},{"$error":"#DIV/0!"},0,null,null,null,null,null,null,0,0,0,null,0,{"$f":"IFERROR(VLOOKUP(Z4970,有效性!$D$2:$E$6,2,0),0)","v":0},0,0,0,0,0,null,0,null,0,0,0,0,0,null,0,0,null,0,"不涉及",0,0,0,0,0,0,0,"","否","正确","正确"]
[null,null,null,null,null,null,null,null,null,null,null,null,null,null,null,null,0,null,{"$error":"#DIV/0!"},{"$error":"#DIV/0!"},0,{"$error":"#DIV/0!"},{"$error":"#DIV/0!"},0,null,null,null,null,null,null,0,0,0,null,0,{"$f":"IFERROR(VLOOKUP(Z4971,有效性!$D$2:$E$6,2,0),0)","v":0},0,0,0,0,0,null,0,null,0,0,0,0,0,null,0,0,null,0,"不涉及",0,0,0,0,0,0,0,"","否","正确","正确"]
[null,null,null,null,null,null,null,null,null,null,null,null,null,null,null,null,0,null,{"$error":"#DIV/0!"},{"$error":"#DIV/0!"},0,{"$error":"#DIV/0!"},{"$error":"#DIV/0!"},0,null,null,null,null,null,null,0,0,0,null,0,{"$f":"IFERROR(VLOOKUP(Z4972,有效性!$D$2:$E$6,2,0),0)","v":0},0,0,0,0,0,null,0,null,0,0,0,0,0,null,0,0,null,0,"不涉及",0,0,0,0,0,0,0,"","否","正确","正确"]
[null,null,null,null,null,null,null,null,null,null,null,null,null,null,null,null,0,null,{"$error":"#DIV/0!"},{"$error":"#DIV/0!"},0,{"$error":"#DIV/0!"},{"$error":"#DIV/0!"},0,null,null,null,null,null,null,0,0,0,null,0,{"$f":"IFERROR(VLOOKUP(Z4973,有效性!$D$2:$E$6,2,0),0)","v":0},0,0,0,0,0,null,0,null,0,0,0,0,0,null,0,0,null,0,"不涉及",0,0,0,0,0,0,0,"","否","正确","正确"]
[null,null,null,null,null,null,null,null,null,null,null,null,null,null,null,null,0,null,{"$error":"#DIV/0!"},{"$error":"#DIV/0!"},0,{"$error":"#DIV/0!"},{"$error":"#DIV/0!"},0,null,null,null,null,null,null,0,0,0,null,0,{"$f":"IFERROR(VLOOKUP(Z4974,有效性!$D$2:$E$6,2,0),0)","v":0},0,0,0,0,0,null,0,null,0,0,0,0,0,null,0,0,null,0,"不涉及",0,0,0,0,0,0,0,"","否","正确","正确"]
[null,null,null,null,null,null,null,null,null,null,null,null,null,null,null,null,0,null,{"$error":"#DIV/0!"},{"$error":"#DIV/0!"},0,{"$error":"#DIV/0!"},{"$error":"#DIV/0!"},0,null,null,null,null,null,null,0,0,0,null,0,{"$f":"IFERROR(VLOOKUP(Z4975,有效性!$D$2:$E$6,2,0),0)","v":0},0,0,0,0,0,null,0,null,0,0,0,0,0,null,0,0,null,0,"不涉及",0,0,0,0,0,0,0,"","否","正确","正确"]
[null,null,null,null,null,null,null,null,null,null,null,null,null,null,null,null,0,null,{"$error":"#DIV/0!"},{"$error":"#DIV/0!"},0,{"$error":"#DIV/0!"},{"$error":"#DIV/0!"},0,null,null,null,null,null,null,0,0,0,null,0,{"$f":"IFERROR(VLOOKUP(Z4976,有效性!$D$2:$E$6,2,0),0)","v":0},0,0,0,0,0,null,0,null,0,0,0,0,0,null,0,0,null,0,"不涉及",0,0,0,0,0,0,0,"","否","正确","正确"]
[null,null,null,null,null,null,null,null,null,null,null,null,null,null,null,null,0,null,{"$error":"#DIV/0!"},{"$error":"#DIV/0!"},0,{"$error":"#DIV/0!"},{"$error":"#DIV/0!"},0,null,null,null,null,null,null,0,0,0,null,0,{"$f":"IFERROR(VLOOKUP(Z4977,有效性!$D$2:$E$6,2,0),0)","v":0},0,0,0,0,0,null,0,null,0,0,0,0,0,null,0,0,null,0,"不涉及",0,0,0,0,0,0,0,"","否","正确","正确"]
[null,null,null,null,null,null,null,null,null,null,null,null,null,null,null,null,0,null,{"$error":"#DIV/0!"},{"$error":"#DIV/0!"},0,{"$error":"#DIV/0!"},{"$error":"#DIV/0!"},0,null,null,null,null,null,null,0,0,0,null,0,{"$f":"IFERROR(VLOOKUP(Z4978,有效性!$D$2:$E$6,2,0),0)","v":0},0,0,0,0,0,null,0,null,0,0,0,0,0,null,0,0,null,0,"不涉及",0,0,0,0,0,0,0,"","否","正确","正确"]
[null,null,null,null,null,null,null,null,null,null,null,null,null,null,null,null,0,null,{"$error":"#DIV/0!"},{"$error":"#DIV/0!"},0,{"$error":"#DIV/0!"},{"$error":"#DIV/0!"},0,null,null,null,null,null,null,0,0,0,null,0,{"$f":"IFERROR(VLOOKUP(Z4979,有效性!$D$2:$E$6,2,0),0)","v":0},0,0,0,0,0,null,0,null,0,0,0,0,0,null,0,0,null,0,"不涉及",0,0,0,0,0,0,0,"","否","正确","正确"]
[null,null,null,null,null,null,null,null,null,null,null,null,null,null,null,null,0,null,{"$error":"#DIV/0!"},{"$error":"#DIV/0!"},0,{"$error":"#DIV/0!"},{"$error":"#DIV/0!"},0,null,null,null,null,null,null,0,0,0,null,0,{"$f":"IFERROR(VLOOKUP(Z4980,有效性!$D$2:$E$6,2,0),0)","v":0},0,0,0,0,0,null,0,null,0,0,0,0,0,null,0,0,null,0,"不涉及",0,0,0,0,0,0,0,"","否","正确","正确"]
[null,null,null,null,null,null,null,null,null,null,null,null,null,null,null,null,0,null,{"$error":"#DIV/0!"},{"$error":"#DIV/0!"},0,{"$error":"#DIV/0!"},{"$error":"#DIV/0!"},0,null,null,null,null,null,null,0,0,0,null,0,{"$f":"IFERROR(VLOOKUP(Z4981,有效性!$D$2:$E$6,2,0),0)","v":0},0,0,0,0,0,null,0,null,0,0,0,0,0,null,0,0,null,0,"不涉及",0,0,0,0,0,0,0,"","否","正确","正确"]
[null,null,null,null,null,null,null,null,null,null,null,null,null,null,null,null,0,null,{"$error":"#DIV/0!"},{"$error":"#DIV/0!"},0,{"$error":"#DIV/0!"},{"$error":"#DIV/0!"},0,null,null,null,null,null,null,0,0,0,null,0,{"$f":"IFERROR(VLOOKUP(Z4982,有效性!$D$2:$E$6,2,0),0)","v":0},0,0,0,0,0,null,0,null,0,0,0,0,0,null,0,0,null,0,"不涉及",0,0,0,0,0,0,0,"","否","正确","正确"]
[null,null,null,null,null,null,null,null,null,null,null,null,null,null,null,null,0,null,{"$error":"#DIV/0!"},{"$error":"#DIV/0!"},0,{"$error":"#DIV/0!"},{"$error":"#DIV/0!"},0,null,null,null,null,null,null,0,0,0,null,0,{"$f":"IFERROR(VLOOKUP(Z4983,有效性!$D$2:$E$6,2,0),0)","v":0},0,0,0,0,0,null,0,null,0,0,0,0,0,null,0,0,null,0,"不涉及",0,0,0,0,0,0,0,"","否","正确","正确"]
[null,null,null,null,null,null,null,null,null,null,null,null,null,null,null,null,0,null,{"$error":"#DIV/0!"},{"$error":"#DIV/0!"},0,{"$error":"#DIV/0!"},{"$error":"#DIV/0!"},0,null,null,null,null,null,null,0,0,0,null,0,{"$f":"IFERROR(VLOOKUP(Z4984,有效性!$D$2:$E$6,2,0),0)","v":0},0,0,0,0,0,null,0,null,0,0,0,0,0,null,0,0,null,0,"不涉及",0,0,0,0,0,0,0,"","否","正确","正确"]
[null,null,null,null,null,null,null,null,null,null,null,null,null,null,null,null,0,null,{"$error":"#DIV/0!"},{"$error":"#DIV/0!"},0,{"$error":"#DIV/0!"},{"$error":"#DIV/0!"},0,null,null,null,null,null,null,0,0,0,null,0,{"$f":"IFERROR(VLOOKUP(Z4985,有效性!$D$2:$E$6,2,0),0)","v":0},0,0,0,0,0,null,0,null,0,0,0,0,0,null,0,0,null,0,"不涉及",0,0,0,0,0,0,0,"","否","正确","正确"]
[null,null,null,null,null,null,null,null,null,null,null,null,null,null,null,null,0,null,{"$error":"#DIV/0!"},{"$error":"#DIV/0!"},0,{"$error":"#DIV/0!"},{"$error":"#DIV/0!"},0,null,null,null,null,null,null,0,0,0,null,0,{"$f":"IFERROR(VLOOKUP(Z4986,有效性!$D$2:$E$6,2,0),0)","v":0},0,0,0,0,0,null,0,null,0,0,0,0,0,null,0,0,null,0,"不涉及",0,0,0,0,0,0,0,"","否","正确","正确"]
[null,null,null,null,null,null,null,null,null,null,null,null,null,null,null,null,0,null,{"$error":"#DIV/0!"},{"$error":"#DIV/0!"},0,{"$error":"#DIV/0!"},{"$error":"#DIV/0!"},0,null,null,null,null,null,null,0,0,0,null,0,{"$f":"IFERROR(VLOOKUP(Z4987,有效性!$D$2:$E$6,2,0),0)","v":0},0,0,0,0,0,null,0,null,0,0,0,0,0,null,0,0,null,0,"不涉及",0,0,0,0,0,0,0,"","否","正确","正确"]
[null,null,null,null,null,null,null,null,null,null,null,null,null,null,null,null,0,null,{"$error":"#DIV/0!"},{"$error":"#DIV/0!"},0,{"$error":"#DIV/0!"},{"$error":"#DIV/0!"},0,null,null,null,null,null,null,0,0,0,null,0,{"$f":"IFERROR(VLOOKUP(Z4988,有效性!$D$2:$E$6,2,0),0)","v":0},0,0,0,0,0,null,0,null,0,0,0,0,0,null,0,0,null,0,"不涉及",0,0,0,0,0,0,0,"","否","正确","正确"]
[null,null,null,null,null,null,null,null,null,null,null,null,null,null,null,null,0,null,{"$error":"#DIV/0!"},{"$error":"#DIV/0!"},0,{"$error":"#DIV/0!"},{"$error":"#DIV/0!"},0,null,null,null,null,null,null,0,0,0,null,0,{"$f":"IFERROR(VLOOKUP(Z4989,有效性!$D$2:$E$6,2,0),0)","v":0},0,0,0,0,0,null,0,null,0,0,0,0,0,null,0,0,null,0,"不涉及",0,0,0,0,0,0,0,"","否","正确","正确"]
[null,null,null,null,null,null,null,null,null,null,null,null,null,null,null,null,0,null,{"$error":"#DIV/0!"},{"$error":"#DIV/0!"},0,{"$error":"#DIV/0!"},{"$error":"#DIV/0!"},0,null,null,null,null,null,null,0,0,0,null,0,{"$f":"IFERROR(VLOOKUP(Z4990,有效性!$D$2:$E$6,2,0),0)","v":0},0,0,0,0,0,null,0,null,0,0,0,0,0,null,0,0,null,0,"不涉及",0,0,0,0,0,0,0,"","否","正确","正确"]
[null,null,null,null,null,null,null,null,null,null,null,null,null,null,null,null,0,null,{"$error":"#DIV/0!"},{"$error":"#DIV/0!"},0,{"$error":"#DIV/0!"},{"$error":"#DIV/0!"},0,null,null,null,null,null,null,0,0,0,null,0,{"$f":"IFERROR(VLOOKUP(Z4991,有效性!$D$2:$E$6,2,0),0)","v":0},0,0,0,0,0,null,0,null,0,0,0,0,0,null,0,0,null,0,"不涉及",0,0,0,0,0,0,0,"","否","正确","正确"]
[null,null,null,null,null,null,null,null,null,null,null,null,null,null,null,null,0,null,{"$error":"#DIV/0!"},{"$error":"#DIV/0!"},0,{"$error":"#DIV/0!"},{"$error":"#DIV/0!"},0,null,null,null,null,null,null,0,0,0,null,0,{"$f":"IFERROR(VLOOKUP(Z4992,有效性!$D$2:$E$6,2,0),0)","v":0},0,0,0,0,0,null,0,null,0,0,0,0,0,null,0,0,null,0,"不涉及",0,0,0,0,0,0,0,"","否","正确","正确"]
[null,null,null,null,null,null,null,null,null,null,null,null,null,null,null,null,0,null,{"$error":"#DIV/0!"},{"$error":"#DIV/0!"},0,{"$error":"#DIV/0!"},{"$error":"#DIV/0!"},0,null,null,null,null,null,null,0,0,0,null,0,{"$f":"IFERROR(VLOOKUP(Z4993,有效性!$D$2:$E$6,2,0),0)","v":0},0,0,0,0,0,null,0,null,0,0,0,0,0,null,0,0,null,0,"不涉及",0,0,0,0,0,0,0,"","否","正确","正确"]
[null,null,null,null,null,null,null,null,null,null,null,null,null,null,null,null,0,null,{"$error":"#DIV/0!"},{"$error":"#DIV/0!"},0,{"$error":"#DIV/0!"},{"$error":"#DIV/0!"},0,null,null,null,null,null,null,0,0,0,null,0,{"$f":"IFERROR(VLOOKUP(Z4994,有效性!$D$2:$E$6,2,0),0)","v":0},0,0,0,0,0,null,0,null,0,0,0,0,0,null,0,0,null,0,"不涉及",0,0,0,0,0,0,0,"","否","正确","正确"]
[null,null,null,null,null,null,null,null,null,null,null,null,null,null,null,null,0,null,{"$error":"#DIV/0!"},{"$error":"#DIV/0!"},0,{"$error":"#DIV/0!"},{"$error":"#DIV/0!"},0,null,null,null,null,null,null,0,0,0,null,0,{"$f":"IFERROR(VLOOKUP(Z4995,有效性!$D$2:$E$6,2,0),0)","v":0},0,0,0,0,0,null,0,null,0,0,0,0,0,null,0,0,null,0,"不涉及",0,0,0,0,0,0,0,"","否","正确","正确"]
[null,null,null,null,null,null,null,null,null,null,null,null,null,null,null,null,0,null,{"$f":"(1-I4996)/(K4996*12)","v":{"$error":"#DIV/0!"}},{"$f":"ROUND(G4996*S4996,2)","v":{"$error":"#DIV/0!"}},{"$f":"IF($T$2<YEAR(J4996),0,IF($T$2=YEAR(J4996),MAX($V$2-MONTH(J4996),0),IF($T$2>YEAR(J4996)+K4996,0,IF($T$2=YEAR(J4996)+K4996,MIN(MONTH($J4996),$V$2),$V$2))))","v":0},{"$f":"T4996*U4996","v":{"$error":"#DIV/0!"}},{"$f":"IF(ABS(Q4996-V4996)<=$X$2,0,Q4996-V4996)","v":{"$error":"#DIV/0!"}},{"$f":"IFERROR(IF((W4996/V4996)<$Y$2,0,W4996/V4996),0)","v":0},null,null,null,null,null,null,{"$f":"G4996-AD4996","v":0},{"$f":"IF(ISNUMBER(FIND(\"计税基础差异\",AA4996)),IF(YEAR(J4996)+K4996=$T$2,Q4996-((G4996-AD4996)*(1-I4996)-AH4996),AD4996*S4996*U4996),0)","v":0},{"$f":"IF(ISNUMBER(FIND(\"计税基础差异\",AA4996)),IF(AB4996=\"是\",Q4996-AF4996,0),0)","v":0},null,{"$f":"ROUND(AH4996+AG4996,2)","v":0},{"$f":"IFERROR(VLOOKUP(Z4996,有效性!$D$2:$E$6,2,0),0)","v":0},{"$f":"IFERROR((1-I4996)/(AJ4996*12),0)","v":0},{"$f":"G4996*AK4996","v":0},{"$f":"IF($T$2<YEAR(J4996),0,IF($T$2=YEAR(J4996),MAX($V$2-MONTH(J4996),0),IF($T$2>YEAR(J4996)+AJ4996,0,IF($T$2=YEAR(J4996)+AJ4996,MIN(MONTH($J4996),$V$2),$V$2))))","v":0},{"$f":"IF(ISNUMBER(FIND(\"折旧年限差异\",AA4996)),IF(YEAR(J4996)+AJ4996=$T$2,AP4996,AL4996*AM4996),0)","v":0},{"$f":"ROUND(IF(ISNUMBER(FIND(\"折旧年限差异\",AA4996)),IF(AB4996=\"是\",Q4996-AN4996,0),0),2)","v":0},null,{"$f":"ROUND(AO4996+AP4996,2)","v":0},null,{"$f":"IF(ISNUMBER(FIND(\"缩短年限60%\",AA4996)),IFERROR((1-I4996)/(AR4996*12),0),0)","v":0},{"$f":"G4996*AS4996","v":0},{"$f":"IF($T$2<YEAR(J4996),0,IF($T$2=YEAR(J4996),MAX($V$2-MONTH(J4996),0),IF($T$2>YEAR(J4996)+AR4996,0,IF($T$2=YEAR(J4996)+AR4996,MIN(MONTH($J4996),$V$2),$V$2))))","v":0},{"$f":"ROUND(IF(ISNUMBER(FIND(\"加速折旧\",AA4996)),IF(OR(ISNUMBER(FIND(\"500万元以下一次性扣除\",AA4996)),ISNUMBER(FIND(\"5000元以下一次性扣除\",AA4996))),IF(OR(AND(YEAR(J4996)=$T$2,MONTH(J4996)<>12),AND(YEAR(J4996)=$T$2-1,MONTH(J4996)=12)),G4996,0),IF(ISNUMBER(FIND(\"缩短年限60%\",AA4996)),IF(YEAR(J4996)+AR4996=$T$2,G4996*(1-I4996)-(O4996-AX4996),AT4996*AU4996),0)),0),2)","v":0},{"$f":"ROUND(IF(ISNUMBER(FIND(\"加速折旧\",AA4996)),IF(AB4996=\"是\",Q4996-AV4996,0),0),2)","v":0},null,{"$f":"ROUND(AX4996+AW4996,20)","v":0},{"$f":"IFERROR(IF(ISNUMBER(FIND(\"不得扣除折旧资产\",AA4996)),IF(AB4996=\"是\",Q4996,0),0),0)","v":0},null,{"$f":"BA4996+AZ4996","v":0},"不涉及",{"$f":"IF(OR(AC4996=\"否\",BC4996=\"不涉及\"),0,Q4996-AG4996-AO4996-AW4996)","v":0},{"$f":"IF(BC4996=\"不涉及\",0,IF(BC4996=\"是\",BD4996-Q4996,BD4996))","v":0},{"$f":"AH4996+AP4996+AX4996+BA4996","v":0},{"$f":"MAX(0,BJ4996)","v":0},{"$f":"MIN(0,BJ4996)","v":0},{"$f":"AI4996+AQ4996+AY4996+BB4996","v":0},{"$f":"AG4996+AO4996+AW4996+AZ4996","v":0},{"$f":"_xlfn.IFS(BJ4996>0,\"本年调增\",BJ4996<0,\"本年调减\",BJ4996=0,\"\")","v":""},"否",{"$f":"IF(AND(BL4996=\"是\",BI4996<>0),\"请检查\",\"正确\")","v":"正确"},{"$f":"IF(Q4996-BJ4996<0,\"错误\",\"正确\")","v":"正确"}]
[null,null,null,null,null,null,null,null,null,null,null,null,null,null,null,null,{"$f":"P4997-O4997","v":0},null,{"$f":"(1-I4997)/(K4997*12)","v":{"$error":"#DIV/0!"}},{"$f":"ROUND(G4997*S4997,2)","v":{"$error":"#DIV/0!"}},{"$f":"IF($T$2<YEAR(J4997),0,IF($T$2=YEAR(J4997),MAX($V$2-MONTH(J4997),0),IF($T$2>YEAR(J4997)+K4997,0,IF($T$2=YEAR(J4997)+K4997,MIN(MONTH($J4997),$V$2),$V$2))))","v":0},{"$f":"T4997*U4997","v":{"$error":"#DIV/0!"}},{"$f":"IF(ABS(Q4997-V4997)<=$X$2,0,Q4997-V4997)","v":{"$error":"#DIV/0!"}},{"$f":"IFERROR(IF((W4997/V4997)<$Y$2,0,W4997/V4997),0)","v":0},null,null,null,null,null,null,{"$f":"G4997-AD4997","v":0},{"$f":"IF(ISNUMBER(FIND(\"计税基础差异\",AA4997)),IF(YEAR(J4997)+K4997=$T$2,Q4997-((G4997-AD4997)*(1-I4997)-AH4997),AD4997*S4997*U4997),0)","v":0},{"$f":"IF(ISNUMBER(FIND(\"计税基础差异\",AA4997)),IF(AB4997=\"是\",Q4997-AF4997,0),0)","v":0},null,{"$f":"ROUND(AH4997+AG4997,2)","v":0},{"$f":"IFERROR(VLOOKUP(Z4997,有效性!$D$2:$E$6,2,0),0)","v":0},{"$f":"IFERROR((1-I4997)/(AJ4997*12),0)","v":0},{"$f":"G4997*AK4997","v":0},{"$f":"IF($T$2<YEAR(J4997),0,IF($T$2=YEAR(J4997),MAX($V$2-MONTH(J4997),0),IF($T$2>YEAR(J4997)+AJ4997,0,IF($T$2=YEAR(J4997)+AJ4997,MIN(MONTH($J4997),$V$2),$V$2))))","v":0},{"$f":"IF(ISNUMBER(FIND(\"折旧年限差异\",AA4997)),IF(YEAR(J4997)+AJ4997=$T$2,AP4997,AL4997*AM4997),0)","v":0},{"$f":"ROUND(IF(ISNUMBER(FIND(\"折旧年限差异\",AA4997)),IF(AB4997=\"是\",Q4997-AN4997,0),0),2)","v":0},null,{"$f":"ROUND(AO4997+AP4997,2)","v":0},null,{"$f":"IF(ISNUMBER(FIND(\"缩短年限60%\",AA4997)),IFERROR((1-I4997)/(AR4997*12),0),0)","v":0},{"$f":"G4997*AS4997","v":0},{"$f":"IF($T$2<YEAR(J4997),0,IF($T$2=YEAR(J4997),MAX($V$2-MONTH(J4997),0),IF($T$2>YEAR(J4997)+AR4997,0,IF($T$2=YEAR(J4997)+AR4997,MIN(MONTH($J4997),$V$2),$V$2))))","v":0},{"$f":"ROUND(IF(ISNUMBER(FIND(\"加速折旧\",AA4997)),IF(OR(ISNUMBER(FIND(\"500万元以下一次性扣除\",AA4997)),ISNUMBER(FIND(\"5000元以下一次性扣除\",AA4997))),IF(OR(AND(YEAR(J4997)=$T$2,MONTH(J4997)<>12),AND(YEAR(J4997)=$T$2-1,MONTH(J4997)=12)),G4997,0),IF(ISNUMBER(FIND(\"缩短年限60%\",AA4997)),IF(YEAR(J4997)+AR4997=$T$2,G4997*(1-I4997)-(O4997-AX4997),AT4997*AU4997),0)),0),2)","v":0},{"$f":"ROUND(IF(ISNUMBER(FIND(\"加速折旧\",AA4997)),IF(AB4997=\"是\",Q4997-AV4997,0),0),2)","v":0},null,{"$f":"ROUND(AX4997+AW4997,20)","v":0},{"$f":"IFERROR(IF(ISNUMBER(FIND(\"不得扣除折旧资产\",AA4997)),IF(AB4997=\"是\",Q4997,0),0),0)","v":0},null,{"$f":"BA4997+AZ4997","v":0},"不涉及",{"$f":"IF(OR(AC4997=\"否\",BC4997=\"不涉及\"),0,Q4997-AG4997-AO4997-AW4997)","v":0},{"$f":"IF(BC4997=\"不涉及\",0,IF(BC4997=\"是\",BD4997-Q4997,BD4997))","v":0},{"$f":"AH4997+AP4997+AX4997+BA4997","v":0},{"$f":"MAX(0,BJ4997)","v":0},{"$f":"MIN(0,BJ4997)","v":0},{"$f":"AI4997+AQ4997+AY4997+BB4997","v":0},{"$f":"AG4997+AO4997+AW4997+AZ4997","v":0},{"$f":"_xlfn.IFS(BJ4997>0,\"本年调增\",BJ4997<0,\"本年调减\",BJ4997=0,\"\")","v":""},"否",{"$f":"IF(AND(BL4997=\"是\",BI4997<>0),\"请检查\",\"正确\")","v":"正确"},{"$f":"IF(Q4997-BJ4997<0,\"错误\",\"正确\")","v":"正确"}]
[null,null,null,null,null,null,null,null,null,null,null,null,null,null,null,null,{"$f":"P4998-O4998","v":0},null,{"$f":"(1-I4998)/(K4998*12)","v":{"$error":"#DIV/0!"}},{"$f":"ROUND(G4998*S4998,2)","v":{"$error":"#DIV/0!"}},{"$f":"IF($T$2<YEAR(J4998),0,IF($T$2=YEAR(J4998),MAX($V$2-MONTH(J4998),0),IF($T$2>YEAR(J4998)+K4998,0,IF($T$2=YEAR(J4998)+K4998,MIN(MONTH($J4998),$V$2),$V$2))))","v":0},{"$f":"T4998*U4998","v":{"$error":"#DIV/0!"}},{"$f":"IF(ABS(Q4998-V4998)<=$X$2,0,Q4998-V4998)","v":{"$error":"#DIV/0!"}},{"$f":"IFERROR(IF((W4998/V4998)<$Y$2,0,W4998/V4998),0)","v":0},null,null,null,null,null,null,{"$f":"G4998-AD4998","v":0},{"$f":"IF(ISNUMBER(FIND(\"计税基础差异\",AA4998)),IF(YEAR(J4998)+K4998=$T$2,Q4998-((G4998-AD4998)*(1-I4998)-AH4998),AD4998*S4998*U4998),0)","v":0},{"$f":"IF(ISNUMBER(FIND(\"计税基础差异\",AA4998)),IF(AB4998=\"是\",Q4998-AF4998,0),0)","v":0},null,{"$f":"ROUND(AH4998+AG4998,2)","v":0},{"$f":"IFERROR(VLOOKUP(Z4998,有效性!$D$2:$E$6,2,0),0)","v":0},{"$f":"IFERROR((1-I4998)/(AJ4998*12),0)","v":0},{"$f":"G4998*AK4998","v":0},{"$f":"IF($T$2<YEAR(J4998),0,IF($T$2=YEAR(J4998),MAX($V$2-MONTH(J4998),0),IF($T$2>YEAR(J4998)+AJ4998,0,IF($T$2=YEAR(J4998)+AJ4998,MIN(MONTH($J4998),$V$2),$V$2))))","v":0},{"$f":"IF(ISNUMBER(FIND(\"折旧年限差异\",AA4998)),IF(YEAR(J4998)+AJ4998=$T$2,AP4998,AL4998*AM4998),0)","v":0},{"$f":"ROUND(IF(ISNUMBER(FIND(\"折旧年限差异\",AA4998)),IF(AB4998=\"是\",Q4998-AN4998,0),0),2)","v":0},null,{"$f":"ROUND(AO4998+AP4998,2)","v":0},null,{"$f":"IF(ISNUMBER(FIND(\"缩短年限60%\",AA4998)),IFERROR((1-I4998)/(AR4998*12),0),0)","v":0},{"$f":"G4998*AS4998","v":0},{"$f":"IF($T$2<YEAR(J4998),0,IF($T$2=YEAR(J4998),MAX($V$2-MONTH(J4998),0),IF($T$2>YEAR(J4998)+AR4998,0,IF($T$2=YEAR(J4998)+AR4998,MIN(MONTH($J4998),$V$2),$V$2))))","v":0},{"$f":"ROUND(IF(ISNUMBER(FIND(\"加速折旧\",AA4998)),IF(OR(ISNUMBER(FIND(\"500万元以下一次性扣除\",AA4998)),ISNUMBER(FIND(\"5000元以下一次性扣除\",AA4998))),IF(OR(AND(YEAR(J4998)=$T$2,MONTH(J4998)<>12),AND(YEAR(J4998)=$T$2-1,MONTH(J4998)=12)),G4998,0),IF(ISNUMBER(FIND(\"缩短年限60%\",AA4998)),IF(YEAR(J4998)+AR4998=$T$2,G4998*(1-I4998)-(O4998-AX4998),AT4998*AU4998),0)),0),2)","v":0},{"$f":"ROUND(IF(ISNUMBER(FIND(\"加速折旧\",AA4998)),IF(AB4998=\"是\",Q4998-AV4998,0),0),2)","v":0},null,{"$f":"ROUND(AX4998+AW4998,20)","v":0},{"$f":"IFERROR(IF(ISNUMBER(FIND(\"不得扣除折旧资产\",AA4998)),IF(AB4998=\"是\",Q4998,0),0),0)","v":0},null,{"$f":"BA4998+AZ4998","v":0},"不涉及",{"$f":"IF(OR(AC4998=\"否\",BC4998=\"不涉及\"),0,Q4998-AG4998-AO4998-AW4998)","v":0},{"$f":"IF(BC4998=\"不涉及\",0,IF(BC4998=\"是\",BD4998-Q4998,BD4998))","v":0},{"$f":"AH4998+AP4998+AX4998+BA4998","v":0},{"$f":"MAX(0,BJ4998)","v":0},{"$f":"MIN(0,BJ4998)","v":0},{"$f":"AI4998+AQ4998+AY4998+BB4998","v":0},{"$f":"AG4998+AO4998+AW4998+AZ4998","v":0},{"$f":"_xlfn.IFS(BJ4998>0,\"本年调增\",BJ4998<0,\"本年调减\",BJ4998=0,\"\")","v":""},"否",{"$f":"IF(AND(BL4998=\"是\",BI4998<>0),\"请检查\",\"正确\")","v":"正确"},{"$f":"IF(Q4998-BJ4998<0,\"错误\",\"正确\")","v":"正确"}]
[null,null,null,null,null,null,null,null,null,null,null,null,null,null,null,null,{"$f":"P4999-O4999","v":0},null,{"$f":"(1-I4999)/(K4999*12)","v":{"$error":"#DIV/0!"}},{"$f":"ROUND(G4999*S4999,2)","v":{"$error":"#DIV/0!"}},{"$f":"IF($T$2<YEAR(J4999),0,IF($T$2=YEAR(J4999),MAX($V$2-MONTH(J4999),0),IF($T$2>YEAR(J4999)+K4999,0,IF($T$2=YEAR(J4999)+K4999,MIN(MONTH($J4999),$V$2),$V$2))))","v":0},{"$f":"T4999*U4999","v":{"$error":"#DIV/0!"}},{"$f":"IF(ABS(Q4999-V4999)<=$X$2,0,Q4999-V4999)","v":{"$error":"#DIV/0!"}},{"$f":"IFERROR(IF((W4999/V4999)<$Y$2,0,W4999/V4999),0)","v":0},null,null,null,null,null,null,{"$f":"G4999-AD4999","v":0},{"$f":"IF(ISNUMBER(FIND(\"计税基础差异\",AA4999)),IF(YEAR(J4999)+K4999=$T$2,Q4999-((G4999-AD4999)*(1-I4999)-AH4999),AD4999*S4999*U4999),0)","v":0},{"$f":"IF(ISNUMBER(FIND(\"计税基础差异\",AA4999)),IF(AB4999=\"是\",Q4999-AF4999,0),0)","v":0},null,{"$f":"ROUND(AH4999+AG4999,2)","v":0},{"$f":"IFERROR(VLOOKUP(Z4999,有效性!$D$2:$E$6,2,0),0)","v":0},{"$f":"IFERROR((1-I4999)/(AJ4999*12),0)","v":0},{"$f":"G4999*AK4999","v":0},{"$f":"IF($T$2<YEAR(J4999),0,IF($T$2=YEAR(J4999),MAX($V$2-MONTH(J4999),0),IF($T$2>YEAR(J4999)+AJ4999,0,IF($T$2=YEAR(J4999)+AJ4999,MIN(MONTH($J4999),$V$2),$V$2))))","v":0},{"$f":"IF(ISNUMBER(FIND(\"折旧年限差异\",AA4999)),IF(YEAR(J4999)+AJ4999=$T$2,AP4999,AL4999*AM4999),0)","v":0},{"$f":"ROUND(IF(ISNUMBER(FIND(\"折旧年限差异\",AA4999)),IF(AB4999=\"是\",Q4999-AN4999,0),0),2)","v":0},null,{"$f":"ROUND(AO4999+AP4999,2)","v":0},null,{"$f":"IF(ISNUMBER(FIND(\"缩短年限60%\",AA4999)),IFERROR((1-I4999)/(AR4999*12),0),0)","v":0},{"$f":"G4999*AS4999","v":0},{"$f":"IF($T$2<YEAR(J4999),0,IF($T$2=YEAR(J4999),MAX($V$2-MONTH(J4999),0),IF($T$2>YEAR(J4999)+AR4999,0,IF($T$2=YEAR(J4999)+AR4999,MIN(MONTH($J4999),$V$2),$V$2))))","v":0},{"$f":"ROUND(IF(ISNUMBER(FIND(\"加速折旧\",AA4999)),IF(OR(ISNUMBER(FIND(\"500万元以下一次性扣除\",AA4999)),ISNUMBER(FIND(\"5000元以下一次性扣除\",AA4999))),IF(OR(AND(YEAR(J4999)=$T$2,MONTH(J4999)<>12),AND(YEAR(J4999)=$T$2-1,MONTH(J4999)=12)),G4999,0),IF(ISNUMBER(FIND(\"缩短年限60%\",AA4999)),IF(YEAR(J4999)+AR4999=$T$2,G4999*(1-I4999)-(O4999-AX4999),AT4999*AU4999),0)),0),2)","v":0},{"$f":"ROUND(IF(ISNUMBER(FIND(\"加速折旧\",AA4999)),IF(AB4999=\"是\",Q4999-AV4999,0),0),2)","v":0},null,{"$f":"ROUND(AX4999+AW4999,20)","v":0},{"$f":"IFERROR(IF(ISNUMBER(FIND(\"不得扣除折旧资产\",AA4999)),IF(AB4999=\"是\",Q4999,0),0),0)","v":0},null,{"$f":"BA4999+AZ4999","v":0},"不涉及",{"$f":"IF(OR(AC4999=\"否\",BC4999=\"不涉及\"),0,Q4999-AG4999-AO4999-AW4999)","v":0},{"$f":"IF(BC4999=\"不涉及\",0,IF(BC4999=\"是\",BD4999-Q4999,BD4999))","v":0},{"$f":"AH4999+AP4999+AX4999+BA4999","v":0},{"$f":"MAX(0,BJ4999)","v":0},{"$f":"MIN(0,BJ4999)","v":0},{"$f":"AI4999+AQ4999+AY4999+BB4999","v":0},{"$f":"AG4999+AO4999+AW4999+AZ4999","v":0},{"$f":"_xlfn.IFS(BJ4999>0,\"本年调增\",BJ4999<0,\"本年调减\",BJ4999=0,\"\")","v":""},"否",{"$f":"IF(AND(BL4999=\"是\",BI4999<>0),\"请检查\",\"正确\")","v":"正确"},{"$f":"IF(Q4999-BJ4999<0,\"错误\",\"正确\")","v":"正确"}]
[null,null,null,null,null,null,null,null,null,null,null,null,null,null,null,null,{"$f":"P5000-O5000","v":0},null,{"$f":"(1-I5000)/(K5000*12)","v":{"$error":"#DIV/0!"}},{"$f":"ROUND(G5000*S5000,2)","v":{"$error":"#DIV/0!"}},{"$f":"IF($T$2<YEAR(J5000),0,IF($T$2=YEAR(J5000),MAX($V$2-MONTH(J5000),0),IF($T$2>YEAR(J5000)+K5000,0,IF($T$2=YEAR(J5000)+K5000,MIN(MONTH($J5000),$V$2),$V$2))))","v":0},{"$f":"T5000*U5000","v":{"$error":"#DIV/0!"}},{"$f":"IF(ABS(Q5000-V5000)<=$X$2,0,Q5000-V5000)","v":{"$error":"#DIV/0!"}},{"$f":"IFERROR(IF((W5000/V5000)<$Y$2,0,W5000/V5000),0)","v":0},null,null,null,null,null,null,{"$f":"G5000-AD5000","v":0},{"$f":"IF(ISNUMBER(FIND(\"计税基础差异\",AA5000)),IF(YEAR(J5000)+K5000=$T$2,Q5000-((G5000-AD5000)*(1-I5000)-AH5000),AD5000*S5000*U5000),0)","v":0},{"$f":"IF(ISNUMBER(FIND(\"计税基础差异\",AA5000)),IF(AB5000=\"是\",Q5000-AF5000,0),0)","v":0},null,{"$f":"ROUND(AH5000+AG5000,2)","v":0},{"$f":"IFERROR(VLOOKUP(Z5000,有效性!$D$2:$E$6,2,0),0)","v":0},{"$f":"IFERROR((1-I5000)/(AJ5000*12),0)","v":0},{"$f":"G5000*AK5000","v":0},{"$f":"IF($T$2<YEAR(J5000),0,IF($T$2=YEAR(J5000),MAX($V$2-MONTH(J5000),0),IF($T$2>YEAR(J5000)+AJ5000,0,IF($T$2=YEAR(J5000)+AJ5000,MIN(MONTH($J5000),$V$2),$V$2))))","v":0},{"$f":"IF(ISNUMBER(FIND(\"折旧年限差异\",AA5000)),IF(YEAR(J5000)+AJ5000=$T$2,AP5000,AL5000*AM5000),0)","v":0},{"$f":"ROUND(IF(ISNUMBER(FIND(\"折旧年限差异\",AA5000)),IF(AB5000=\"是\",Q5000-AN5000,0),0),2)","v":0},null,{"$f":"ROUND(AO5000+AP5000,2)","v":0},null,{"$f":"IF(ISNUMBER(FIND(\"缩短年限60%\",AA5000)),IFERROR((1-I5000)/(AR5000*12),0),0)","v":0},{"$f":"G5000*AS5000","v":0},{"$f":"IF($T$2<YEAR(J5000),0,IF($T$2=YEAR(J5000),MAX($V$2-MONTH(J5000),0),IF($T$2>YEAR(J5000)+AR5000,0,IF($T$2=YEAR(J5000)+AR5000,MIN(MONTH($J5000),$V$2),$V$2))))","v":0},{"$f":"ROUND(IF(ISNUMBER(FIND(\"加速折旧\",AA5000)),IF(OR(ISNUMBER(FIND(\"500万元以下一次性扣除\",AA5000)),ISNUMBER(FIND(\"5000元以下一次性扣除\",AA5000))),IF(OR(AND(YEAR(J5000)=$T$2,MONTH(J5000)<>12),AND(YEAR(J5000)=$T$2-1,MONTH(J5000)=12)),G5000,0),IF(ISNUMBER(FIND(\"缩短年限60%\",AA5000)),IF(YEAR(J5000)+AR5000=$T$2,G5000*(1-I5000)-(O5000-AX5000),AT5000*AU5000),0)),0),2)","v":0},{"$f":"ROUND(IF(ISNUMBER(FIND(\"加速折旧\",AA5000)),IF(AB5000=\"是\",Q5000-AV5000,0),0),2)","v":0},null,{"$f":"ROUND(AX5000+AW5000,20)","v":0},{"$f":"IFERROR(IF(ISNUMBER(FIND(\"不得扣除折旧资产\",AA5000)),IF(AB5000=\"是\",Q5000,0),0),0)","v":0},null,{"$f":"BA5000+AZ5000","v":0},"不涉及",{"$f":"IF(OR(AC5000=\"否\",BC5000=\"不涉及\"),0,Q5000-AG5000-AO5000-AW5000)","v":0},{"$f":"IF(BC5000=\"不涉及\",0,IF(BC5000=\"是\",BD5000-Q5000,BD5000))","v":0},{"$f":"AH5000+AP5000+AX5000+BA5000","v":0},{"$f":"MAX(0,BJ5000)","v":0},{"$f":"MIN(0,BJ5000)","v":0},{"$f":"AI5000+AQ5000+AY5000+BB5000","v":0},{"$f":"AG5000+AO5000+AW5000+AZ5000","v":0},{"$f":"_xlfn.IFS(BJ5000>0,\"本年调增\",BJ5000<0,\"本年调减\",BJ5000=0,\"\")","v":""},"否",{"$f":"IF(AND(BL5000=\"是\",BI5000<>0),\"请检查\",\"正确\")","v":"正确"},{"$f":"IF(Q5000-BJ5000<0,\"错误\",\"正确\")","v":"正确"}]

{"sheet":"资产原值核对表","index":9,"n_rows":47,"n_cols":10,"rows_kept":47,"cut":false,"hidden":false,"merged":[[0,0,0,8],[22,0,22,8],[35,0,35,7]]}
["资产原值-科目余额表",null,null,null,null,null,null,null,null,"2020-12-31"]
["科目编号","科目名称","方向","期初余额","借方","贷方","余额","方向","科目级次/备注"]
[null,"固定资产","借",null,null,null,null,"借",1]
[]
[]
[]
[]
[]
[]
[]
[]
[]
[]
[]
[]
[]
[]
[]
[]
[]
[]
[]
["固定资产审核明细表"]
[null,"合计",null,{"$f":"SUM(D25:D34)","v":0},{"$f":"SUM(E25:E34)","v":0},{"$f":"SUM(F25:F34)","v":0},{"$f":"SUM(G25:G34)","v":0},{"$f":"SUM(H25:H34)","v":0}]
[null,"办公设备",{"$f":"C3","v":"借"},{"$f":"SUMIFS(固定资产审核明细表!$G:$G,固定资产审核明细表!$F:$F,$B25,固定资产审核明细表!$J:$J,\"<\"&($J$1+1))","v":0},{"$f":"SUMIFS(固定资产审核明细表!$G:$G,固定资产审核明细表!$F:$F,$B25,固定资产审核明细表!$J:$J,\">\"&$J$1)","v":0},null,{"$f":"D25+E25-F25","v":0},{"$f":"H3","v":"借"}]
[null,"房屋",{"$f":"C4","v":0},{"$f":"SUMIFS(固定资产审核明细表!$G:$G,固定资产审核明细表!$F:$F,$B26,固定资产审核明细表!$J:$J,\"<\"&($J$1+1))","v":0},{"$f":"SUMIFS(固定资产审核明细表!$G:$G,固定资产审核明细表!$F:$F,$B26,固定资产审核明细表!$J:$J,\">\"&$J$1)","v":0},null,{"$f":"D26+E26-F26","v":0},{"$f":"H4","v":0}]
[null,"地面建筑物",{"$f":"C5","v":0},{"$f":"SUMIFS(固定资产审核明细表!$G:$G,固定资产审核明细表!$F:$F,$B27,固定资产审核明细表!$J:$J,\"<\"&($J$1+1))","v":0},{"$f":"SUMIFS(固定资产审核明细表!$G:$G,固定资产审核明细表!$F:$F,$B27,固定资产审核明细表!$J:$J,\">\"&$J$1)","v":0},null,0,{"$f":"H5","v":0}]
[null,"矿井建筑物",{"$f":"C14","v":0},{"$f":"SUMIFS(固定资产审核明细表!$G:$G,固定资产审核明细表!$F:$F,$B28,固定资产审核明细表!$J:$J,\"<\"&($J$1+1))","v":0},{"$f":"SUMIFS(固定资产审核明细表!$G:$G,固定资产审核明细表!$F:$F,$B28,固定资产审核明细表!$J:$J,\">\"&$J$1)","v":0},null,0,{"$f":"H14","v":0}]
[null,"专用设备",0,{"$f":"SUMIFS(固定资产审核明细表!$G:$G,固定资产审核明细表!$F:$F,$B29,固定资产审核明细表!$J:$J,\"<\"&($J$1+1))","v":0},{"$f":"SUMIFS(固定资产审核明细表!$G:$G,固定资产审核明细表!$F:$F,$B29,固定资产审核明细表!$J:$J,\">\"&$J$1)","v":0},null,0,0]
[null,"其他",0,{"$f":"SUMIFS(固定资产审核明细表!$G:$G,固定资产审核明细表!$F:$F,$B30,固定资产审核明细表!$J:$J,\"<\"&($J$1+1))","v":0},{"$f":"SUMIFS(固定资产审核明细表!$G:$G,固定资产审核明细表!$F:$F,$B30,固定资产审核明细表!$J:$J,\">\"&$J$1)","v":0},null,0,0]
[null,"通用设备",0,{"$f":"SUMIFS(固定资产审核明细表!$G:$G,固定资产审核明细表!$F:$F,$B31,固定资产审核明细表!$J:$J,\"<\"&($J$1+1))","v":0},{"$f":"SUMIFS(固定资产审核明细表!$G:$G,固定资产审核明细表!$F:$F,$B31,固定资产审核明细表!$J:$J,\">\"&$J$1)","v":0},null,0,0]
[null,"交通运输设备",0,{"$f":"SUMIFS(固定资产审核明细表!$G:$G,固定资产审核明细表!$F:$F,$B32,固定资产审核明细表!$J:$J,\"<\"&($J$1+1))","v":0},{"$f":"SUMIFS(固定资产审核明细表!$G:$G,固定资产审核明细表!$F:$F,$B32,固定资产审核明细表!$J:$J,\">\"&$J$1)","v":0},null,0,0]
[null,"电子设备",0,{"$f":"SUMIFS(固定资产审核明细表!$G:$G,固定资产审核明细表!$F:$F,$B33,固定资产审核明细表!$J:$J,\"<\"&($J$1+1))","v":0},{"$f":"SUMIFS(固定资产审核明细表!$G:$G,固定资产审核明细表!$F:$F,$B33,固定资产审核明细表!$J:$J,\">\"&$J$1)","v":0},null,0,0]
[null,"电器设备",0,{"$f":"SUMIFS(固定资产审核明细表!$G:$G,固定资产审核明细表!$F:$F,$B34,固定资产审核明细表!$J:$J,\"<\"&($J$1+1))","v":0},{"$f":"SUMIFS(固定资产审核明细表!$G:$G,固定资产审核明细表!$F:$F,$B34,固定资产审核明细表!$J:$J,\">\"&$J$1)","v":0},null,0,0]
[]
["余额表与审核明细表差异",null,null,null,null,null,null,null,"备注"]
[null,"固定资产差异合计",null,{"$f":"SUM(D38:D48)","v":0},0,0,0]
[null,"办公设备",null,{"$f":"D4-D25","v":0},0,0,0]
[null,"房屋",null,{"$f":"D5-D26","v":0},0,0,0]
[null,"地面建筑物",null,{"$f":"D6-D27","v":0},0,0,0]
[null,"矿井建筑物",null,{"$f":"D7-D28","v":0},0,0,0]
[null,"专用设备",null,{"$f":"D8-D29","v":0},0,0,0]
[null,"其他",null,{"$f":"D9-D30","v":0},0,0,0]
[null,"通用设备",null,{"$f":"D10-D31","v":0},0,0,0]
[null,"交通运输设备",null,{"$f":"D11-D32","v":0},0,0,0]
[null,"电子设备",null,{"$f":"D12-D33","v":0},0,0,0]
[null,"电器设备",null,{"$f":"D13-D34","v":0},0,0,0]

{"sheet":"累计折旧核对表","index":10,"n_rows":48,"n_cols":9,"rows_kept":48,"cut":false,"hidden":false,"merged":[[0,0,0,8],[22,0,22,8],[36,0,36,7]]}
["累计折旧-科目余额表"]
["科目编号","科目名称","方向","期初金额","借方","贷方","余额","方向","科目级次/备注"]
[null,"累计折旧","贷",null,null,null,null,"贷",1]
[]
[]
[]
[]
[]
[]
[]
[]
[]
[]
[]
[]
[]
[]
[]
[]
[]
[]
[]
["固定资产审核明细表"]
["科目编号","科目名称","方向","期初金额","借方","贷方","余额","方向"]
[null,"合计",null,{"$f":"SUM(D26:D35)","v":0},{"$f":"SUM(E26:E34)","v":0},{"$f":"SUM(F26:F35)","v":0},{"$f":"SUM(G26:G35)","v":0}]
[null,"办公设备",null,{"$f":"SUMIFS(固定资产审核明细表!$O:$O,固定资产审核明细表!$F:$F,$B26)","v":0},null,{"$f":"SUMIFS(固定资产审核明细表!$Q:$Q,固定资产审核明细表!$F:$F,$B26)","v":0},{"$f":"D26+F26-E26","v":0}]
[null,"房屋",null,{"$f":"SUMIFS(固定资产审核明细表!$O:$O,固定资产审核明细表!$F:$F,$B27)","v":0},null,{"$f":"SUMIFS(固定资产审核明细表!$Q:$Q,固定资产审核明细表!$F:$F,$B27)","v":0},{"$f":"D27+F27-E27","v":0}]
[null,"地面建筑物",null,{"$f":"SUMIFS(固定资产审核明细表!$O:$O,固定资产审核明细表!$F:$F,$B28)","v":0},null,{"$f":"SUMIFS(固定资产审核明细表!$Q:$Q,固定资产审核明细表!$F:$F,$B28)","v":0},0]
[null,"矿井建筑物",null,{"$f":"SUMIFS(固定资产审核明细表!$O:$O,固定资产审核明细表!$F:$F,$B29)","v":0},null,{"$f":"SUMIFS(固定资产审核明细表!$Q:$Q,固定资产审核明细表!$F:$F,$B29)","v":0},0]
[null,"专用设备",null,{"$f":"SUMIFS(固定资产审核明细表!$O:$O,固定资产审核明细表!$F:$F,$B30)","v":0},null,{"$f":"SUMIFS(固定资产审核明细表!$Q:$Q,固定资产审核明细表!$F:$F,$B30)","v":0},0]
[null,"其他",null,{"$f":"SUMIFS(固定资产审核明细表!$O:$O,固定资产审核明细表!$F:$F,$B31)","v":0},null,{"$f":"SUMIFS(固定资产审核明细表!$Q:$Q,固定资产审核明细表!$F:$F,$B31)","v":0},0]
[null,"通用设备",null,{"$f":"SUMIFS(固定资产审核明细表!$O:$O,固定资产审核明细表!$F:$F,$B32)","v":0},null,{"$f":"SUMIFS(固定资产审核明细表!$Q:$Q,固定资产审核明细表!$F:$F,$B32)","v":0},0]
[null,"交通运输设备",null,{"$f":"SUMIFS(固定资产审核明细表!$O:$O,固定资产审核明细表!$F:$F,$B33)","v":0},null,{"$f":"SUMIFS(固定资产审核明细表!$Q:$Q,固定资产审核明细表!$F:$F,$B33)","v":0},0]
[null,"电子设备",null,{"$f":"SUMIFS(固定资产审核明细表!$O:$O,固定资产审核明细表!$F:$F,$B34)","v":0},null,{"$f":"SUMIFS(固定资产审核明细表!$Q:$Q,固定资产审核明细表!$F:$F,$B34)","v":0},0]
[null,"电器设备",null,{"$f":"SUMIFS(固定资产审核明细表!$O:$O,固定资产审核明细表!$F:$F,$B35)","v":0},null,{"$f":"SUMIFS(固定资产审核明细表!$Q:$Q,固定资产审核明细表!$F:$F,$B35)","v":0},0]
[]
["余额表与审核明细表差异",null,null,null,null,null,null,null,"备注"]
[null,"合计",null,{"$f":"SUM(D39:D49)","v":0},0,0,0]
[null,"办公设备",null,{"$f":"D4-D26","v":0},0,0,0]
[null,"房屋",null,{"$f":"D5-D27","v":0},0,0,0]
[null,"地面建筑物",null,{"$f":"D6-D28","v":0},0,0,0]
[null,"矿井建筑物",null,{"$f":"D7-D29","v":0},0,0,0]
[null,"专用设备",null,{"$f":"D8-D30","v":0},0,0,0]
[null,"其他",null,{"$f":"D9-D31","v":0},0,0,0]
[null,"通用设备",null,{"$f":"D10-D32","v":0},0,0,0]
[null,"交通运输设备",null,{"$f":"D11-D33","v":0},0,0,0]
[null,"电子设备",null,{"$f":"D12-D34","v":0},0,0,0]
[null,"电器设备",null,{"$f":"D13-D35","v":0},0,0,0]

{"sheet":"累计折旧费用分配表","index":11,"n_rows":36,"n_cols":9,"rows_kept":36,"cut":false,"hidden":false,"merged":[[0,0,0,8],[22,0,22,8],[23,6,23,8],[24,6,24,8],[25,6,25,8],[26,6,26,8],[27,6,27,8],[28,6,28,8],[29,6,29,8],[30,6,30,8],[31,2,31,3],[32,2,32,3],[33,2,33,3],[34,2,34,3],[35,2,35,3],[35,4,35,5]]}
["科目余额表-累计折旧"]
["科目编号","科目名称","方向","期初金额","借方","贷方","余额","方向","科目级次"]
[{"$f":"累计折旧核对表!A3","v":0},{"$f":"累计折旧核对表!B3","v":"累计折旧"},{"$f":"累计折旧核对表!C3","v":"贷"},{"$f":"累计折旧核对表!D3","v":0},{"$f":"累计折旧核对表!E3","v":0},{"$f":"累计折旧核对表!F3","v":0},{"$f":"累计折旧核对表!G3","v":0},{"$f":"累计折旧核对表!H3","v":"贷"},{"$f":"累计折旧核对表!I3","v":1}]
[{"$f":"累计折旧核对表!A4","v":0},{"$f":"累计折旧核对表!B4","v":0},{"$f":"累计折旧核对表!C4","v":0},{"$f":"累计折旧核对表!D4","v":0},{"$f":"累计折旧核对表!E4","v":0},{"$f":"累计折旧核对表!F4","v":0},{"$f":"累计折旧核对表!G4","v":0},{"$f":"累计折旧核对表!H4","v":0},{"$f":"累计折旧核对表!I4","v":0}]
[{"$f":"累计折旧核对表!A5","v":0},{"$f":"累计折旧核对表!B5","v":0},{"$f":"累计折旧核对表!C5","v":0},{"$f":"累计折旧核对表!D5","v":0},{"$f":"累计折旧核对表!E5","v":0},{"$f":"累计折旧核对表!F5","v":0},{"$f":"累计折旧核对表!G5","v":0},{"$f":"累计折旧核对表!H5","v":0},{"$f":"累计折旧核对表!I5","v":0}]
[{"$f":"累计折旧核对表!A6","v":0},{"$f":"累计折旧核对表!B6","v":0},{"$f":"累计折旧核对表!C6","v":0},{"$f":"累计折旧核对表!D6","v":0},{"$f":"累计折旧核对表!E6","v":0},{"$f":"累计折旧核对表!F6","v":0},{"$f":"累计折旧核对表!G6","v":0},{"$f":"累计折旧核对表!H6","v":0},{"$f":"累计折旧核对表!I6","v":0}]
[{"$f":"累计折旧核对表!A7","v":0},{"$f":"累计折旧核对表!B7","v":0},{"$f":"累计折旧核对表!C7","v":0},{"$f":"累计折旧核对表!D7","v":0},{"$f":"累计折旧核对表!E7","v":0},{"$f":"累计折旧核对表!F7","v":0},{"$f":"累计折旧核对表!G7","v":0},{"$f":"累计折旧核对表!H7","v":0},{"$f":"累计折旧核对表!I7","v":0}]
[{"$f":"累计折旧核对表!A8","v":0},{"$f":"累计折旧核对表!B8","v":0},{"$f":"累计折旧核对表!C8","v":0},{"$f":"累计折旧核对表!D8","v":0},{"$f":"累计折旧核对表!E8","v":0},{"$f":"累计折旧核对表!F8","v":0},{"$f":"累计折旧核对表!G8","v":0},{"$f":"累计折旧核对表!H8","v":0},{"$f":"累计折旧核对表!I8","v":0}]
[{"$f":"累计折旧核对表!A9","v":0},{"$f":"累计折旧核对表!B9","v":0},{"$f":"累计折旧核对表!C9","v":0},{"$f":"累计折旧核对表!D9","v":0},{"$f":"累计折旧核对表!E9","v":0},{"$f":"累计折旧核对表!F9","v":0},{"$f":"累计折旧核对表!G9","v":0},{"$f":"累计折旧核对表!H9","v":0},{"$f":"累计折旧核对表!I9","v":0}]
[{"$f":"累计折旧核对表!A10","v":0},{"$f":"累计折旧核对表!B10","v":0},{"$f":"累计折旧核对表!C10","v":0},{"$f":"累计折旧核对表!D10","v":0},{"$f":"累计折旧核对表!E10","v":0},{"$f":"累计折旧核对表!F10","v":0},{"$f":"累计折旧核对表!G10","v":0},{"$f":"累计折旧核对表!H10","v":0},{"$f":"累计折旧核对表!I10","v":0}]
[{"$f":"累计折旧核对表!A11","v":0},{"$f":"累计折旧核对表!B11","v":0},{"$f":"累计折旧核对表!C11","v":0},{"$f":"累计折旧核对表!D11","v":0},{"$f":"累计折旧核对表!E11","v":0},{"$f":"累计折旧核对表!F11","v":0},{"$f":"累计折旧核对表!G11","v":0},{"$f":"累计折旧核对表!H11","v":0},{"$f":"累计折旧核对表!I11","v":0}]
[{"$f":"累计折旧核对表!A12","v":0},{"$f":"累计折旧核对表!B12","v":0},{"$f":"累计折旧核对表!C12","v":0},{"$f":"累计折旧核对表!D12","v":0},{"$f":"累计折旧核对表!E12","v":0},{"$f":"累计折旧核对表!F12","v":0},{"$f":"累计折旧核对表!G12","v":0},{"$f":"累计折旧核对表!H12","v":0},{"$f":"累计折旧核对表!I12","v":0}]
[{"$f":"累计折旧核对表!A13","v":0},{"$f":"累计折旧核对表!B13","v":0},{"$f":"累计折旧核对表!C13","v":0},{"$f":"累计折旧核对表!D13","v":0},{"$f":"累计折旧核对表!E13","v":0},{"$f":"累计折旧核对表!F13","v":0},{"$f":"累计折旧核对表!G13","v":0},{"$f":"累计折旧核对表!H13","v":0},{"$f":"累计折旧核对表!I13","v":0}]
[{"$f":"累计折旧核对表!A14","v":0},{"$f":"累计折旧核对表!B14","v":0},{"$f":"累计折旧核对表!C14","v":0},{"$f":"累计折旧核对表!D14","v":0},{"$f":"累计折旧核对表!E14","v":0},{"$f":"累计折旧核对表!F14","v":0},{"$f":"累计折旧核对表!G14","v":0},{"$f":"累计折旧核对表!H14","v":0},{"$f":"累计折旧核对表!I14","v":0}]
[{"$f":"累计折旧核对表!A15","v":0},{"$f":"累计折旧核对表!B15","v":0},{"$f":"累计折旧核对表!C15","v":0},{"$f":"累计折旧核对表!D15","v":0},{"$f":"累计折旧核对表!E15","v":0},{"$f":"累计折旧核对表!F15","v":0},{"$f":"累计折旧核对表!G15","v":0},{"$f":"累计折旧核对表!H15","v":0},{"$f":"累计折旧核对表!I15","v":0}]
[{"$f":"累计折旧核对表!A16","v":0},{"$f":"累计折旧核对表!B16","v":0},{"$f":"累计折旧核对表!C16","v":0},{"$f":"累计折旧核对表!D16","v":0},{"$f":"累计折旧核对表!E16","v":0},{"$f":"累计折旧核对表!F16","v":0},{"$f":"累计折旧核对表!G16","v":0},{"$f":"累计折旧核对表!H16","v":0},{"$f":"累计折旧核对表!I16","v":0}]
[{"$f":"累计折旧核对表!A17","v":0},{"$f":"累计折旧核对表!B17","v":0},{"$f":"累计折旧核对表!C17","v":0},{"$f":"累计折旧核对表!D17","v":0},{"$f":"累计折旧核对表!E17","v":0},{"$f":"累计折旧核对表!F17","v":0},{"$f":"累计折旧核对表!G17","v":0},{"$f":"累计折旧核对表!H17","v":0},{"$f":"累计折旧核对表!I17","v":0}]
[{"$f":"累计折旧核对表!A18","v":0},{"$f":"累计折旧核对表!B18","v":0},{"$f":"累计折旧核对表!C18","v":0},{"$f":"累计折旧核对表!D18","v":0},{"$f":"累计折旧核对表!E18","v":0},{"$f":"累计折旧核对表!F18","v":0},{"$f":"累计折旧核对表!G18","v":0},{"$f":"累计折旧核对表!H18","v":0},{"$f":"累计折旧核对表!I18","v":0}]
[{"$f":"累计折旧核对表!A19","v":0},{"$f":"累计折旧核对表!B19","v":0},{"$f":"累计折旧核对表!C19","v":0},{"$f":"累计折旧核对表!D19","v":0},{"$f":"累计折旧核对表!E19","v":0},{"$f":"累计折旧核对表!F19","v":0},{"$f":"累计折旧核对表!G19","v":0},{"$f":"累计折旧核对表!H19","v":0},{"$f":"累计折旧核对表!I19","v":0}]
[{"$f":"累计折旧核对表!A20","v":0},{"$f":"累计折旧核对表!B20","v":0},{"$f":"累计折旧核对表!C20","v":0},{"$f":"累计折旧核对表!D20","v":0},{"$f":"累计折旧核对表!E20","v":0},{"$f":"累计折旧核对表!F20","v":0},{"$f":"累计折旧核对表!G20","v":0},{"$f":"累计折旧核对表!H20","v":0},{"$f":"累计折旧核对表!I20","v":0}]
[{"$f":"累计折旧核对表!A21","v":0},{"$f":"累计折旧核对表!B21","v":0},{"$f":"累计折旧核对表!C21","v":0},{"$f":"累计折旧核对表!D21","v":0},{"$f":"累计折旧核对表!E21","v":0},{"$f":"累计折旧核对表!F21","v":0},{"$f":"累计折旧核对表!G21","v":0},{"$f":"累计折旧核对表!H21","v":0},{"$f":"累计折旧核对表!I21","v":0}]
[]
["成本费用折旧科目"]
["科目编号","科目名称","方向","期初金额","借方","取数来源","备注"]
[null,null,"——","——"]
[null,null,"——","——"]
[null,null,"——","——"]
[null,null,"——","——"]
[null,null,"——","——"]
[null,null,"——","——"]
[null,null,"——","——"]
[null,null,"成本费用折旧科目合计",null,{"$f":"SUM(E25:E31)","v":0},0]
[null,null,"成本费用调整",null,{"$f":"SUM(累计折旧费用分配差异明细表!M:M)","v":0},0]
[null,null,"累计折旧调整",null,0,{"$f":"SUM(累计折旧费用分配差异明细表!N:N)","v":0}]
[null,null,"调整后",null,{"$f":"E32+E33","v":0},{"$f":"F3+F34","v":0}]
[null,null,"差异",null,{"$f":"E35-F35","v":0}]

{"sheet":"累计折旧费用分配差异明细表","index":12,"n_rows":11,"n_cols":14,"rows_kept":11,"cut":false,"hidden":false,"merged":[]}
["序号","核算单位","次级核算单位","年","月","日","凭证号","摘要","借方科目","贷方科目","凭证金额","差异原因描述","成本费用调整","累计折旧调整"]
[{"$f":"ROW()-1","v":1}]
[{"$f":"ROW()-1","v":2}]
[3]
[4]
[5]
[6]
[7]
[8]
[9]
[10]

{"sheet":"累计调整数衔接核对表","index":13,"n_rows":13,"n_cols":4,"rows_kept":13,"cut":false,"hidden":false,"merged":[[1,0,4,0],[5,0,7,0],[8,0,12,0]]}
["年度","各个文件","金额","差异"]
["2022年期末累调数","固定资产测算表",0,{"$f":"C2-$C$6","v":0}]
[null,"2-3-1资产类专项底稿（1）",null,{"$f":"C3-$C$6","v":0}]
[null,"审核说明",null,{"$f":"C4-$C$6","v":0}]
[null,"备查类底稿",null,{"$f":"C5-$C$6","v":0}]
["2023年期初累调数","固定资产测算汇总表",{"$f":"ROUND(SUMIFS(汇总表!G:G,汇总表!C:C,\"固定资产\"),2)","v":0},{"$f":"C6-C7","v":0}]
[null,"固定资产测算表",{"$f":"ROUND(SUM(固定资产审核明细表!BF:BF),2)","v":0},{"$f":"C7-C6","v":0}]
[null,"填入底稿的期初数据",{"$f":"ROUND(底稿调整数据!$B$8,2)","v":0},{"$f":"C8-C7","v":0}]
["2023年期末累调数","固定资产测算汇总表",{"$f":"SUM(汇总表!K:K)","v":0},{"$f":"$C$9-C9","v":0}]
[null,"固定资产测算表",{"$f":"SUM(固定资产审核明细表!BJ:BJ)","v":0},{"$f":"$C$9-C10","v":0}]
[null,"2-3-1资产类专项底稿（1）",null,{"$f":"$C$9-C11","v":0}]
[null,"审核说明",null,0]
[null,"备查类底稿",null,0]

{"sheet":"原值变动核对表","index":14,"n_rows":4202,"n_cols":11,"rows_kept":4202,"cut":false,"hidden":false,"merged":[[0,0,0,2],[0,4,0,6]]}
["2021年台账原值",null,null,null,"2020年台账原值"]
["资产编号","资产名称","资产原值",null,"资产编号","资产名称","12月份资产原值","V21年原值","差异","原值是否增加"]
[null,null,null,null,null,null,null,{"$f":"VLOOKUP(E3,A:C,3,FALSE)","v":{"$error":"#N/A"}},{"$f":"G3-H3","v":{"$error":"#N/A"}},"否"]
[null,null,null,null,null,null,null,{"$f":"VLOOKUP(E4,A:C,3,FALSE)","v":{"$error":"#N/A"}},{"$f":"G4-H4","v":{"$error":"#N/A"}},"否"]
[]
[]
[]
[]
[]
[]
[]
[]
[]
[]
[]
[]
[]
[]
[]
[]
[]
[]
[]
[]
[]
[]
[]
[]
[]
[]
[]
[]
[]
[]
[]
[]
[]
[]
[]
[]
[]
[]
[]
[]
[]
[]
[]
[]
[]
[]
[]
[]
[]
[]
[]
[]
[]
[]
[]
[]
[]
[]
[]
[]
[]
[]
[]
[]
[]
[]
[]
[]
[]
[]
[]
[]
[]
[]
[]
[]
[]
[]
[]
[]
[]
[]
[]
[]
[]
[]
[]
[]
[]
[]
[]
[]
[]
[]
[]
[]
[]
[]
[]
[]
[]
[]
[]
[]
[]
[]
[]
[]
[]
[]
[]
[]
[]
[]
[]
[]
[]
[]
[]
[]
[]
[]
[]
[]
[]
[]
[]
[]
[]
[]
[]
[]
[]
[]
[]
[]
[]
[]
[]
[]
[]
[]
[]
[]
[]
[]
[]
[]
[]
[]
[]
[]
[]
[]
[]
[]
[]
[]
[]
[]
[]
[]
[]
[]
[]
[]
[]
[]
[]
[]
[]
[]
[]
[]
[]
[]
[]
[]
[]
[]
[]
[]
[]
[]
[]
[]
[]
[]
[]
[]
[]
[]
[]
[]
[]
[]
[]
[]
[]
[]
[]
[]
[]
[]
[]
[]
[]
[]
[]
[]
[]
[]
[]
[]
[]
[]
[]
[]
[]
[]
[]
[]
[]
[]
[]
[]
[]
[]
[]
[]
[]
[]
[]
[]
[]
[]
[]
[]
[]
[]
[]
[]
[]
[]
[]
[]
[]
[]
[]
[]
[]
[]
[]
[]
[]
[]
[]
[]
[]
[]
[]
[]
[]
[]
[]
[]
[]
[]
[]
[]
[]
[]
[]
[]
[]
[]
[]
[]
[]
[]
[]
[]
[]
[]
[]
[]
[]
[]
[]
[]
[]
[]
[]
[]
[]
[]
[]
[]
[]
[]
[]
[]
[]
[]
[]
[]
[]
[]
[]
[]
[]
[]
[]
[]
[]
[]
[]
[]
[]
[]
[]
[]
[]
[]
[]
[]
[]
[]
[]
[]
[]
[]
[]
[]
[]
[]
[]
[]
[]
[]
[]
[]
[]
[]
[]
[]
[]
[]
[]
[]
[]
[]
[]
[]
[]
[]
[]
[]
[]
[]
[]
[]
[]
[]
[]
[]
[]
[]
[]
[]
[]
[]
[]
[]
[]
[]
[]
[]
[]
[]
[]
[]
[]
[]
[]
[]
[]
[]
[]
[]
[]
[]
[]
[]
[]
[]
[]
[]
[]
[]
[]
[]
[]
[]
[]
[]
[]
[]
[]
[]
[]
[]
[]
[]
[]
[]
[]
[]
[]
[]
[]
[]
[]
[]
[]
[]
[]
[]
[]
[]
[]
[]
[]
[]
[]
[]
[]
[]
[]
[]
[]
[]
[]
[]
[]
[]
[]
[]
[]
[]
[]
[]
[]
[]
[]
[]
[]
[]
[]
[]
[]
[]
[]
[]
[]
[]
[]
[]
[]
[]
[]
[]
[]
[]
[]
[]
[]
[]
[]
[]
[]
[]
[]
[]
[]
[]
[]
[]
[]
[]
[]
[]
[]
[]
[]
[]
[]
[]
[]
[]
[]
[]
[]
[]
[]
[]
[]
[]
[]
[]
[]
[]
[]
[]
[]
[]
[]
[]
[]
[]
[]
[]
[]
[]
[]
[]
[]
[]
[]
[]
[]
[]
[]
[]
[]
[]
[]
[]
[]
[]
[]
[]
[]
[]
[]
[]
[]
[]
[]
[]
[]
[]
[]
[]
[]
[]
[]
[]
[]
[]
[]
[]
[]
[]
[]
[]
[]
[]
[]
[]
[]
[]
[]
[]
[]
[]
[]
[]
[]
[]
[]
[]
[]
[]
[]
[]
[]
[]
[]
[]
[]
[]
[]
[]
[]
[]
[]
[]
[]
[]
[]
[]
[]
[]
[]
[]
[]
[]
[]
[]
[]
[]
[]
[]
[]
[]
[]
[]
[]
[]
[]
[]
[]
[]
[]
[]
[]
[]
[]
[]
[]
[]
[]
[]
[]
[]
[]
[]
[]
[]
[]
[]
[]
[]
[]
[]
[]
[]
[]
[]
[]
[]
[]
[]
[]
[]
[]
[]
[]
[]
[]
[]
[]
[]
[]
[]
[]
[]
[]
[]
[]
[]
[]
[]
[]
[]
[]
[]
[]
[]
[]
[]
[]
[]
[]
[]
[]
[]
[]
[]
[]
[]
[]
[]
[]
[]
[]
[]
[]
[]
[]
[]
[]
[]
[]
[]
[]
[]
[]
[]
[]
[]
[]
[]
[]
[]
[]
[]
[]
[]
[]
[]
[]
[]
[]
[]
[]
[]
[]
[]
[]
[]
[]
[]
[]
[]
[]
[]
[]
[]
[]
[]
[]
[]
[]
[]
[]
[]
[]
[]
[]
[]
[]
[]
[]
[]
[]
[]
[]
[]
[]
[]
[]
[]
[]
[]
[]
[]
[]
[]
[]
[]
[]
[]
[]
[]
[]
[]
[]
[]
[]
[]
[]
[]
[]
[]
[]
[]
[]
[]
[]
[]
[]
[]
[]
[]
[]
[]
[]
[]
[]
[]
[]
[]
[]
[]
[]
[]
[]
[]
[]
[]
[]
[]
[]
[]
[]
[]
[]
[]
[]
[]
[]
[]
[]
[]
[]
[]
[]
[]
[]
[]
[]
[]
[]
[]
[]
[]
[]
[]
[]
[]
[]
[]
[]
[]
[]
[]
[]
[]
[]
[]
[]
[]
[]
[]
[]
[]
[]
[]
[]
[]
[]
[]
[]
[]
[]
[]
[]
[]
[]
[]
[]
[]
[]
[]
[]
[]
[]
[]
[]
[]
[]
[]
[]
[]
[]
[]
[]
[]
[]
[]
[]
[]
[]
[]
[]
[]
[]
[]
[]
[]
[]
[]
[]
[]
[]
[]
[]
[]
[]
[]
[]
[]
[]
[]
[]
[]
[]
[]
[]
[]
[]
[]
[]
[]
[]
[]
[]
[]
[]
[]
[]
[]
[]
[]
[]
[]
[]
[]
[]
[]
[]
[]
[]
[]
[]
[]
[]
[]
[]
[]
[]
[]
[]
[]
[]
[]
[]
[]
[]
[]
[]
[]
[]
[]
[]
[]
[]
[]
[]
[]
[]
[]
[]
[]
[]
[]
[]
[]
[]
[]
[]
[]
[]
[]
[]
[]
[]
[]
[]
[]
[]
[]
[]
[]
[]
[]
[]
[]
[]
[]
[]
[]
[]
[]
[]
[]
[]
[]
[]
[]
[]
[]
[]
[]
[]
[]
[]
[]
[]
[]
[]
[]
[]
[]
[]
[]
[]
[]
[]
[]
[]
[]
[]
[]
[]
[]
[]
[]
[]
[]
[]
[]
[]
[]
[]
[]
[]
[]
[]
[]
[]
[]
[]
[]
[]
[]
[]
[]
[]
[]
[]
[]
[]
[]
[]
[]
[]
[]
[]
[]
[]
[]
[]
[]
[]
[]
[]
[]
[]
[]
[]
[]
[]
[]
[]
[]
[]
[]
[]
[]
[]
[]
[]
[]
[]
[]
[]
[]
[]
[]
[]
[]
[]
[]
[]
[]
[]
[]
[]
[]
[]
[]
[]
[]
[]
[]
[]
[]
[]
[]
[]
[]
[]
[]
[]
[]
[]
[]
[]
[]
[]
[]
[]
[]
[]
[]
[]
[]
[]
[]
[]
[]
[]
[]
[]
[]
[]
[]
[]
[]
[]
[]
[]
[]
[]
[]
[]
[]
[]
[]
[]
[]
[]
[]
[]
[]
[]
[]
[]
[]
[]
[]
[]
[]
[]
[]
[]
[]
[]
[]
[]
[]
[]
[]
[]
[]
[]
[]
[]
[]
[]
[]
[]
[]
[]
[]
[]
[]
[]
[]
[]
[]
[]
[]
[]
[]
[]
[]
[]
[]
[]
[]
[]
[]
[]
[]
[]
[]
[]
[]
[]
[]
[]
[]
[]
[]
[]
[]
[]
[]
[]
[]
[]
[]
[]
[]
[]
[]
[]
[]
[]
[]
[]
[]
[]
[]
[]
[]
[]
[]
[]
[]
[]
[]
[]
[]
[]
[]
[]
[]
[]
[]
[]
[]
[]
[]
[]
[]
[]
[]
[]
[]
[]
[]
[]
[]
[]
[]
[]
[]
[]
[]
[]
[]
[]
[]
[]
[]
[]
[]
[]
[]
[]
[]
[]
[]
[]
[]
[]
[]
[]
[]
[]
[]
[]
[]
[]
[]
[]
[]
[]
[]
[]
[]
[]
[]
[]
[]
[]
[]
[]
[]
[]
[]
[]
[]
[]
[]
[]
[]
[]
[]
[]
[]
[]
[]
[]
[]
[]
[]
[]
[]
[]
[]
[]
[]
[]
[]
[]
[]
[]
[]
[]
[]
[]
[]
[]
[]
[]
[]
[]
[]
[]
[]
[]
[]
[]
[]
[]
[]
[]
[]
[]
[]
[]
[]
[]
[]
[]
[]
[]
[]
[]
[]
[]
[]
[]
[]
[]
[]
[]
[]
[]
[]
[]
[]
[]
[]
[]
[]
[]
[]
[]
[]
[]
[]
[]
[]
[]
[]
[]
[]
[]
[]
[]
[]
[]
[]
[]
[]
[]
[]
[]
[]
[]
[]
[]
[]
[]
[]
[]
[]
[]
[]
[]
[]
[]
[]
[]
[]
[]
[]
[]
[]
[]
[]
[]
[]
[]
[]
[]
[]
[]
[]
[]
[]
[]
[]
[]
[]
[]
[]
[]
[]
[]
[]
[]
[]
[]
[]
[]
[]
[]
[]
[]
[]
[]
[]
[]
[]
[]
[]
[]
[]
[]
[]
[]
[]
[]
[]
[]
[]
[]
[]
[]
[]
[]
[]
[]
[]
[]
[]
[]
[]
[]
[]
[]
[]
[]
[]
[]
[]
[]
[]
[]
[]
[]
[]
[]
[]
[]
[]
[]
[]
[]
[]
[]
[]
[]
[]
[]
[]
[]
[]
[]
[]
[]
[]
[]
[]
[]
[]
[]
[]
[]
[]
[]
[]
[]
[]
[]
[]
[]
[]
[]
[]
[]
[]
[]
[]
[]
[]
[]
[]
[]
[]
[]
[]
[]
[]
[]
[]
[]
[]
[]
[]
[]
[]
[]
[]
[]
[]
[]
[]
[]
[]
[]
[]
[]
[]
[]
[]
[]
[]
[]
[]
[]
[]
[]
[]
[]
[]
[]
[]
[]
[]
[]
[]
[]
[]
[]
[]
[]
[]
[]
[]
[]
[]
[]
[]
[]
[]
[]
[]
[]
[]
[]
[]
[]
[]
[]
[]
[]
[]
[]
[]
[]
[]
[]
[]
[]
[]
[]
[]
[]
[]
[]
[]
[]
[]
[]
[]
[]
[]
[]
[]
[]
[]
[]
[]
[]
[]
[]
[]
[]
[]
[]
[]
[]
[]
[]
[]
[]
[]
[]
[]
[]
[]
[]
[]
[]
[]
[]
[]
[]
[]
[]
[]
[]
[]
[]
[]
[]
[]
[]
[]
[]
[]
[]
[]
[]
[]
[]
[]
[]
[]
[]
[]
[]
[]
[]
[]
[]
[]
[]
[]
[]
[]
[]
[]
[]
[]
[]
[]
[]
[]
[]
[]
[]
[]
[]
[]
[]
[]
[]
[]
[]
[]
[]
[]
[]
[]
[]
[]
[]
[]
[]
[]
[]
[]
[]
[]
[]
[]
[]
[]
[]
[]
[]
[]
[]
[]
[]
[]
[]
[]
[]
[]
[]
[]
[]
[]
[]
[]
[]
[]
[]
[]
[]
[]
[]
[]
[]
[]
[]
[]
[]
[]
[]
[]
[]
[]
[]
[]
[]
[]
[]
[]
[]
[]
[]
[]
[]
[]
[]
[]
[]
[]
[]
[]
[]
[]
[]
[]
[]
[]
[]
[]
[]
[]
[]
[]
[]
[]
[]
[]
[]
[]
[]
[]
[]
[]
[]
[]
[]
[]
[]
[]
[]
[]
[]
[]
[]
[]
[]
[]
[]
[]
[]
[]
[]
[]
[]
[]
[]
[]
[]
[]
[]
[]
[]
[]
[]
[]
[]
[]
[]
[]
[]
[]
[]
[]
[]
[]
[]
[]
[]
[]
[]
[]
[]
[]
[]
[]
[]
[]
[]
[]
[]
[]
[]
[]
[]
[]
[]
[]
[]
[]
[]
[]
[]
[]
[]
[]
[]
[]
[]
[]
[]
[]
[]
[]
[]
[]
[]
[]
[]
[]
[]
[]
[]
[]
[]
[]
[]
[]
[]
[]
[]
[]
[]
[]
[]
[]
[]
[]
[]
[]
[]
[]
[]
[]
[]
[]
[]
[]
[]
[]
[]
[]
[]
[]
[]
[]
[]
[]
[]
[]
[]
[]
[]
[]
[]
[]
[]
[]
[]
[]
[]
[]
[]
[]
[]
[]
[]
[]
[]
[]
[]
[]
[]
[]
[]
[]
[]
[]
[]
[]
[]
[]
[]
[]
[]
[]
[]
[]
[]
[]
[]
[]
[]
[]
[]
[]
[]
[]
[]
[]
[]
[]
[]
[]
[]
[]
[]
[]
[]
[]
[]
[]
[]
[]
[]
[]
[]
[]
[]
[]
[]
[]
[]
[]
[]
[]
[]
[]
[]
[]
[]
[]
[]
[]
[]
[]
[]
[]
[]
[]
[]
[]
[]
[]
[]
[]
[]
[]
[]
[]
[]
[]
[]
[]
[]
[]
[]
[]
[]
[]
[null,null,null,null,null,null,null,null,null,null,"固定资产清理"]
[]
[]
[null,null,null,null,null,null,null,null,null,null,"固定资产清理"]
[]
[]
[]
[]
[]
[]
[]
[]
[null,null,null,null,null,null,null,null,null,null,"固定资产清理"]
[null,null,null,null,null,null,null,null,null,null,"固定资产清理"]
[]
[]
[]
[]
[]
[]
[]
[]
[]
[]
[]
[]
[]
[]
[]
[]
[]
[]
[]
[]
[]
[]
[]
[]
[]
[]
[]
[]
[]
[]
[]
[]
[]
[]
[]
[]
[]
[]
[]
[]
[]
[]
[]
[]
[]
[]
[]
[]
[]
[]
[]
[]
[]
[]
[]
[]
[]
[]
[]
[]
[]
[]
[]
[]
[]
[]
[]
[]
[]
[]
[]
[]
[]
[]
[]
[]
[]
[]
[]
[]
[]
[]
[]
[]
[]
[]
[]
[]
[]
[]
[]
[]
[]
[]
[]
[]
[]
[]
[]
[]
[]
[]
[]
[]
[]
[]
[]
[]
[]
[]
[]
[]
[]
[]
[]
[]
[]
[]
[]
[]
[]
[]
[]
[]
[]
[]
[]
[]
[]
[]
[]
[]
[]
[]
[]
[]
[]
[]
[]
[]
[]
[]
[]
[]
[]
[]
[]
[]
[]
[]
[]
[]
[]
[]
[]
[]
[]
[]
[]
[]
[]
[]
[]
[]
[]
[]
[]
[]
[]
[]
[]
[]
[]
[]
[]
[]
[]
[]
[]
[]
[]
[]
[]
[]
[]
[]
[]
[]
[]
[]
[]
[]
[]
[]
[]
[]
[]
[]
[]
[]
[]
[]
[]
[]
[]
[]
[]
[]
[]
[]
[]
[]
[]
[]
[]
[]
[]
[]
[]
[]
[]
[]
[]
[]
[]
[]
[]
[]
[]
[]
[]
[]
[]
[]
[]
[]
[]
[]
[]
[]
[]
[]
[]
[]
[]
[]
[]
[]
[]
[]
[]
[]
[]
[]
[]
[]
[]
[]
[]
[]
[]
[]
[]
[]
[]
[]
[]
[]
[]
[]
[]
[]
[]
[]
[]
[]
[]
[]
[]
[]
[]
[]
[]
[]
[]
[]
[]
[]
[]
[]
[]
[]
[]
[]
[]
[]
[]
[]
[]
[]
[]
[]
[]
[]
[]
[]
[]
[]
[]
[]
[]
[]
[]
[]
[]
[]
[]
[]
[]
[]
[]
[]
[]
[]
[]
[]
[]
[]
[]
[]
[]
[]
[]
[]
[]
[]
[]
[]
[]
[]
[]
[]
[]
[]
[]
[]
[]
[]
[]
[]
[]
[]
[]
[]
[]
[]
[]
[]
[]
[]
[]
[]
[]
[]
[]
[]
[]
[]
[]
[]
[]
[]
[]
[]
[]
[]
[]
[]
[]
[]
[]
[]
[]
[]
[]
[]
[]
[]
[]
[]
[]
[]
[]
[]
[]
[]
[]
[]
[]
[]
[]
[]
[]
[]
[]
[]
[]
[]
[]
[]
[]
[]
[]
[]
[]
[]
[]
[]
[]
[]
[]
[]
[]
[]
[]
[]
[]
[]
[]
[]
[]
[]
[]
[]
[]
[]
[]
[]
[]
[]
[]
[]
[]
[]
[]
[]
[]
[]
[]
[]
[]
[]
[]
[]
[]
[]
[]
[]
[]
[]
[]
[]
[]
[]
[]
[]
[]
[]
[]
[]
[]
[]
[]
[]
[]
[]
[]
[]
[]
[]
[]
[]
[]
[]
[]
[]
[]
[]
[]
[]
[]
[]
[]
[]
[]
[]
[]
[]
[]
[]
[]
[]
[]
[]
[]
[]
[]
[]
[]
[]
[]
[]
[]
[]
[]
[]
[]
[]
[]
[]
[]
[]
[]
[]
[]
[]
[]
[]
[]
[]
[]
[]
[]
[]
[]
[]
[]
[]
[]
[]
[]
[]
[]
[]
[]
[]
[]
[]
[]
[]
[]
[]
[]
[]
[]
[]
[]
[]
[]
[]
[]
[]
[]
[]
[]
[]
[]
[]
[]
[]
[]
[]
[]
[]
[]
[]
[]
[]
[]
[]
[]
[]
[]
[]
[]
[]
[]
[]
[]
[]
[]
[]
[]
[]
[]
[]
[]
[]
[]
[]
[]
[]
[]
[]
[]
[]
[]
[]
[]
[]
[]
[]
[]
[]
[]
[]
[]
[]
[]
[]
[]
[]
[]
[]
[]
[]
[]
[]
[]
[]
[]
[]
[]
[]
[]
[]
[]
[]
[]
[]
[]
[]
[]
[]
[]
[]
[]
[]
[]
[]
[]
[]
[]
[]
[]
[]
[]
[]
[]
[]
[]
[]
[]
[]
[]
[]
[]
[]
[]
[]
[]
[]
[]
[]
[]
[]
[]
[]
[]
[]
[]
[]
[]
[]
[]
[]
[]
[]
[]
[]
[]
[]
[]
[]
[]
[]
[]
[]
[]
[]
[]
[]
[]
[]
[]
[]
[]
[]
[]
[]
[]
[]
[]
[]
[]
[]
[]
[]
[]
[]
[]
[]
[]
[]
[]
[]
[]
[]
[]
[]
[]
[]
[]
[]
[]
[]
[]
[]
[]
[]
[]
[]
[]
[]
[]
[]
[]
[]
[]
[]
[]
[]
[]
[]
[]
[]
[]
[]
[]
[]
[]
[]
[]
[]
[]
[]
[]
[]
[]
[]
[]
[]
[]
[]
[]
[]
[]
[]
[]
[]
[]
[]
[]
[]
[]
[]
[]
[]
[]
[]
[]
[]
[]
[]
[]
[]
[]
[]
[]
[]
[]
[]
[]
[]
[]
[]
[]
[]
[]
[]
[]
[]
[]
[]
[]
[]
[]
[]
[]
[]
[]
[]
[]
[]
[]
[]
[]
[]
[]
[]
[]
[]
[]
[]
[]
[]
[]
[]
[]
[]
[]
[]
[]
[]
[]
[]
[]
[]
[]
[]
[]
[]
[]
[]
[]
[]
[]
[]
[]
[]
[]
[]
[]
[]
[]
[]
[]
[]
[]
[]
[]
[]
[]
[]
[]
[]
[]
[]
[]
[]
[]
[]
[]
[]
[]
[]
[]
[]
[]
[]
[]
[]
[]
[]
[]
[]
[]
[]
[]
[]
[]
[]
[]
[]
[]
[]
[]
[]
[]
[]
[]
[]
[]
[]
[]
[]
[]
[]
[]
[]
[]
[]
[]
[]
[]
[]
[]
[]
[]
[]
[]
[]
[]
[]
[]
[]
[]
[]
[]
[]
[]
[]
[]
[]
[]
[]
[]
[]
[]
[]
[]
[]
[]
[]
[]
[]
[]
[]
[]
[]
[]
[]
[]
[]
[]
[]
[]
[]
[]
[]
[]
[]
[]
[]
[]
[]
[]
[]
[]
[]
[]
[]
[]
[]
[]
[]
[]
[]
[]
[]
[]
[]
[]
[]
[]
[]
[]
[]
[]
[]
[]
[]
[]
[]
[]
[]
[]
[]
[]
[]
[]
[]
[]
[]
[]
[]
[]
[]
[]
[]
[]
[]
[]
[]
[]
[]
[]
[]
[]
[]
[]
[]
[]
[]
[]
[]
[]
[]
[]
[]
[]
[]
[]
[]
[]
[]
[]
[]
[]
[]
[]
[]
[]
[]
[]
[]
[]
[]
[]
[]
[]
[]
[]
[]
[]
[]
[]
[]
[]
[]
[]
[]
[]
[]
[]
[]
[]
[]
[]
[]
[]
[]
[]
[]
[]
[]
[]
[]
[]
[]
[]
[]
[]
[]
[]
[]
[]
[]
[]
[]
[]
[]
[]
[]
[]
[]
[]
[]
[]
[]
[]
[]
[]
[]
[]
[]
[]
[]
[]
[]
[]
[]
[]
[]
[]
[]
[]
[]
[]
[]
[]
[]
[]
[]
[]
[]
[]
[]
[]
[]
[]
[]
[]
[]
[]
[]
[]
[]
[]
[]
[]
[]
[]
[]
[]
[]
[]
[]
[]
[]
[]
[]
[]
[]
[]
[]
[]
[]
[]
[]
[]
[]
[]
[]
[]
[]
[]
[]
[]
[]
[]
[]
[]
[]
[]
[]
[]
[]
[]
[]
[]
[]
[]
[]
[]
[]
[]
[]
[]
[]
[]
[]
[]
[]
[]
[]
[]
[]
[]
[]
[]
[]
[]
[]
[]
[]
[]
[]
[]
[]
[]
[]
[]
[]
[]
[]
[]
[]
[]
[]
[]
[]
[]
[]
[]
[]
[]
[]
[]
[]
[]
[]
[]
[]
[]
[]
[]
[]
[]
[]
[]
[]
[]
[]
[]
[]
[]
[]
[]
[]
[]
[]
[]
[]
[]
[]
[]
[]
[]
[]
[]
[]
[]
[]
[]
[]
[]
[]
[]
[]
[]
[]
[]
[]
[]
[]
[]
[]
[]
[]
[]
[]
[]
[]
[]
[]
[]
[]
[]
[]
[]
[]
[]
[]
[]
[]
[]
[]
[]
[]
[]
[]
[]
[]
[]
[]
[]
[]
[]
[]
[]
[]
[]
[]
[]
[]
[]
[]
[]
[]
[]
[]
[]
[]
[]
[]
[]
[]
[]
[]
[]
[]
[]
[]
[]
[]
[]
[]
[]
[]
[]
[]
[]
[]
[]
[]
[]
[]
[]
[]
[]
[]
[]
[]
[]
[]
[]
[]
[]
[]
[]
[]
[]
[]
[]
[]
[]
[]
[]
[]
[]
[]
[]
[]
[]
[]
[]
[]
[]
[]
[]
[]
[]
[]
[]
[]
[]
[]
[]
[]
[]
[]
[]
[]
[]
[]
[]
[]
[]
[]
[]
[]
[]
[]
[]
[]
[]
[]
[]
[]
[]
[]
[]
[]
[]
[]
[]
[]
[]
[]
[]
[]
[]
[]
[]
[]
[]
[]
[]
[]
[]
[]
[]
[]
[]
[]
[]
[]
[]
[]
[]
[]
[]
[]
[]
[]
[]
[]
[]
[]
[]
[]
[]
[]
[]
[]
[]
[]
[]
[]
[]
[]
[]
[]
[]
[]
[]
[]
[]
[]
[]
[]
[]
[]
[]
[]
[]
[]
[]
[]
[]
[]
[]
[]
[]
[]
[]
[]
[]
[]
[]
[]
[]
[]
[]
[]
[]
[]
[]
[]
[]
[]
[]
[]
[]
[]
[]
[]
[]
[]
[]
[]
[]
[]
[]
[]
[]
[]
[]
[]
[]
[]
[]
[]
[]
[]
[]
[]
[]
[]
[]
[]
[]
[]
[]
[]
[]
[]
[]
[]
[]
[]
[]
[]
[]
[]
[]
[]
[]
[]
[]
[]
[]
[]
[]
[]
[]
[]
[]
[]
[]
[]
[]
[]
[]
[]
[]
[]
[]
[]
[]
[]
[]
[]
[]
[]
[]
[]
[]
[]
[]
[]
[]
[]
[]
[]
[]
[]
[]
[]
[]
[]
[]
[]
[]
[]
[]
[]
[]
[]
[]
[]
[]
[]
[]
[]
[]
[]
[]
[]
[]
[]
[]
[]
[]
[]
[]
[]
[]
[]
[]
[]
[]
[]
[]
[]
[]
[]
[]
[]
[]
[]
[]
[]
[]
[]
[]
[]
[]
[]
[]
[]
[]
[]
[]
[]
[]
[]
[]
[]
[]
[]
[]
[]
[]
[]
[]
[]
[]
[]
[]
[]
[]
[]
[]
[]
[]
[]
[]
[]
[]
[]
[]
[]
[]
[]
[]
[]
[]
[]
[]
[]
[]
[]
[]
[]
[]
[]
[]
[]
[]
[]
[]
[]
[]
[]
[]
[]
[]
[]
[]
[]
[]
[]
[]
[]
[]
[]
[]
[]
[]
[]
[]
[]
[]
[]
[]
[]
[]
[]
[]
[]
[]
[]
[]
[]
[]
[]
[]
[]
[]
[]
[]
[]
[]
[]
[]
[]
[]
[]
[]
[]
[]
[]
[]
[]
[]
[]
[]
[]
[]
[]
[]
[]
[]
[]
[]
[]
[]
[]
[]
[]
[]
[]
[]
[]
[]
[]
[]
[]
[]
[]
[]
[]
[]
[]
[]
[]
[]
[]
[]
[]
[]
[]
[]
[]
[]
[]
[null,null,null,null,null,null,null,null,null,"21年新增"]
[null,null,null,null,null,null,null,null,null,"21年新增"]
[null,null,null,null,null,null,null,null,null,"21年新增"]
[null,null,null,null,null,null,null,null,null,"21年新增"]
[null,null,null,null,null,null,null,null,null,"21年新增"]
[null,null,null,null,null,null,null,null,null,"21年新增"]
[null,null,null,null,null,null,null,null,null,"21年新增"]
[null,null,null,null,null,null,null,null,null,"21年新增"]
[null,null,null,null,null,null,null,null,null,"21年新增"]
[null,null,null,null,null,null,null,null,null,"21年新增"]
[null,null,null,null,null,null,null,null,null,"21年新增"]
[null,null,null,null,null,null,null,null,null,"21年新增"]
[null,null,null,null,null,null,null,null,null,"21年新增"]
[null,null,null,null,null,null,null,null,null,"21年新增"]
[null,null,null,null,null,null,null,null,null,"21年新增"]
[null,null,null,null,null,null,null,null,null,"21年新增"]
[null,null,null,null,null,null,null,null,null,"21年新增"]
[null,null,null,null,null,null,null,null,null,"21年新增"]
[null,null,null,null,null,null,null,null,null,"21年新增"]
[null,null,null,null,null,null,null,null,null,"21年新增"]
[null,null,null,null,null,null,null,null,null,"21年新增"]
[null,null,null,null,null,null,null,null,null,"21年新增"]
[null,null,null,null,null,null,null,null,null,"21年新增"]
[null,null,null,null,null,null,null,null,null,"21年新增"]
[null,null,null,null,null,null,null,null,null,"21年新增"]
[null,null,null,null,null,null,null,null,null,"21年新增"]
[null,null,null,null,null,null,null,null,null,"21年新增"]
[null,null,null,null,null,null,null,null,null,"21年新增"]
[null,null,null,null,null,null,null,null,null,"21年新增"]
[null,null,null,null,null,null,null,null,null,"21年新增"]
[null,null,null,null,null,null,null,null,null,"21年新增"]
[null,null,null,null,null,null,null,null,null,"21年新增"]
[null,null,null,null,null,null,null,null,null,"21年新增"]
[null,null,null,null,null,null,null,null,null,"21年新增"]
[null,null,null,null,null,null,null,null,null,"21年新增"]
[null,null,null,null,null,null,null,null,null,"21年新增"]
[null,null,null,null,null,null,null,null,null,"21年新增"]
[null,null,null,null,null,null,null,null,null,"21年新增"]
[null,null,null,null,null,null,null,null,null,"21年新增"]
[null,null,null,null,null,null,null,null,null,"21年新增"]
[null,null,null,null,null,null,null,null,null,"21年新增"]
[null,null,null,null,null,null,null,null,null,"21年新增"]
[null,null,null,null,null,null,null,null,null,"21年新增"]
[null,null,null,null,null,null,null,null,null,"21年新增"]
[null,null,null,null,null,null,null,null,null,"21年新增"]
[null,null,null,null,null,null,null,null,null,"21年新增"]
[null,null,null,null,null,null,null,null,null,"21年新增"]
[null,null,null,null,null,null,null,null,null,"21年新增"]
[null,null,null,null,null,null,null,null,null,"21年新增"]
[null,null,null,null,null,null,null,null,null,"21年新增"]
[null,null,null,null,null,null,null,null,null,"21年新增"]
[null,null,null,null,null,null,null,null,null,"21年新增"]
[null,null,null,null,null,null,null,null,null,"21年新增"]
[null,null,null,null,null,null,null,null,null,"21年新增"]
[null,null,null,null,null,null,null,null,null,"21年新增"]
[null,null,null,null,null,null,null,null,null,"21年新增"]
[null,null,null,null,null,null,null,null,null,"21年新增"]
[null,null,null,null,null,null,null,null,null,"21年新增"]
[null,null,null,null,null,null,null,null,null,"21年新增"]
[null,null,null,null,null,null,null,null,null,"21年新增"]
[null,null,null,null,null,null,null,null,null,"21年新增"]
[null,null,null,null,null,null,null,null,null,"21年新增"]
[null,null,null,null,null,null,null,null,null,"21年新增"]
[null,null,null,null,null,null,null,null,null,"21年新增"]
[null,null,null,null,null,null,null,null,null,"21年新增"]
[null,null,null,null,null,null,null,null,null,"21年新增"]
[null,null,null,null,null,null,null,null,null,"21年新增"]
[null,null,null,null,null,null,null,null,null,"21年新增"]
[null,null,null,null,null,null,null,null,null,"21年新增"]
[null,null,null,null,null,null,null,null,null,"21年新增"]
[null,null,null,null,null,null,null,null,null,"21年新增"]
[null,null,null,null,null,null,null,null,null,"21年新增"]
[null,null,null,null,null,null,null,null,null,"21年新增"]
[null,null,null,null,null,null,null,null,null,"21年新增"]
[null,null,null,null,null,null,null,null,null,"21年新增"]
[null,null,null,null,null,null,null,null,null,"21年新增"]
[null,null,null,null,null,null,null,null,null,"21年新增"]
[null,null,null,null,null,null,null,null,null,"21年新增"]
[null,null,null,null,null,null,null,null,null,"21年新增"]
[null,null,null,null,null,null,null,null,null,"21年新增"]
[null,null,null,null,null,null,null,null,null,"21年新增"]
[null,null,null,null,null,null,null,null,null,"21年新增"]
[null,null,null,null,null,null,null,null,null,"21年新增"]
[null,null,null,null,null,null,null,null,null,"21年新增"]
[null,null,null,null,null,null,null,null,null,"21年新增"]
[null,null,null,null,null,null,null,null,null,"21年新增"]
[null,null,null,null,null,null,null,null,null,"21年新增"]
[null,null,null,null,null,null,null,null,null,"21年新增"]
[null,null,null,null,null,null,null,null,null,"21年新增"]
[null,null,null,null,null,null,null,null,null,"21年新增"]
[null,null,null,null,null,null,null,null,null,"21年新增"]
[null,null,null,null,null,null,null,null,null,"21年新增"]
[null,null,null,null,null,null,null,null,null,"21年新增"]
[null,null,null,null,null,null,null,null,null,"21年新增"]
[null,null,null,null,null,null,null,null,null,"21年新增"]
[null,null,null,null,null,null,null,null,null,"21年新增"]
[null,null,null,null,null,null,null,null,null,"21年新增"]
[null,null,null,null,null,null,null,null,null,"21年新增"]
[null,null,null,null,null,null,null,null,null,"21年新增"]
[null,null,null,null,null,null,null,null,null,"21年新增"]
[null,null,null,null,null,null,null,null,null,"21年新增"]
[null,null,null,null,null,null,null,null,null,"21年新增"]
[null,null,null,null,null,null,null,null,null,"21年新增"]
[null,null,null,null,null,null,null,null,null,"21年新增"]
[null,null,null,null,null,null,null,null,null,"21年新增"]
[null,null,null,null,null,null,null,null,null,"21年新增"]
[null,null,null,null,null,null,null,null,null,"21年新增"]
[null,null,null,null,null,null,null,null,null,"21年新增"]
[null,null,null,null,null,null,null,null,null,"21年新增"]
[null,null,null,null,null,null,null,null,null,"21年新增"]
[null,null,null,null,null,null,null,null,null,"21年新增"]
[null,null,null,null,null,null,null,null,null,"21年新增"]
[null,null,null,null,null,null,null,null,null,"21年新增"]
[null,null,null,null,null,null,null,null,null,"21年新增"]
[null,null,null,null,null,null,null,null,null,"21年新增"]
[null,null,null,null,null,null,null,null,null,"21年新增"]
[null,null,null,null,null,null,null,null,null,"21年新增"]
[null,null,null,null,null,null,null,null,null,"21年新增"]
[null,null,null,null,null,null,null,null,null,"21年新增"]
[null,null,null,null,null,null,null,null,null,"21年新增"]
[null,null,null,null,null,null,null,null,null,"21年新增"]
[null,null,null,null,null,null,null,null,null,"21年新增"]
[null,null,null,null,null,null,null,null,null,"21年新增"]
[null,null,null,null,null,null,null,null,null,"21年新增"]
[null,null,null,null,null,null,null,null,null,"21年新增"]
[null,null,null,null,null,null,null,null,null,"21年新增"]
[null,null,null,null,null,null,null,null,null,"21年新增"]
[null,null,null,null,null,null,null,null,null,"21年新增"]
[null,null,null,null,null,null,null,null,null,"21年新增"]
[null,null,null,null,null,null,null,null,null,"21年新增"]
[null,null,null,null,null,null,null,null,null,"21年新增"]
[null,null,null,null,null,null,null,null,null,"21年新增"]
[null,null,null,null,null,null,null,null,null,"21年新增"]
[null,null,null,null,null,null,null,null,null,"21年新增"]
[null,null,null,null,null,null,null,null,null,"21年新增"]
[null,null,null,null,null,null,null,null,null,"21年新增"]
[null,null,null,null,null,null,null,null,null,"21年新增"]
[null,null,null,null,null,null,null,null,null,"21年新增"]
[null,null,null,null,null,null,null,null,null,"21年新增"]
[null,null,null,null,null,null,null,null,null,"21年新增"]
[null,null,null,null,null,null,null,null,null,"21年新增"]
[null,null,null,null,null,null,null,null,null,"21年新增"]
[null,null,null,null,null,null,null,null,null,"21年新增"]
[null,null,null,null,null,null,null,null,null,"21年新增"]
[null,null,null,null,null,null,null,null,null,"21年新增"]
[null,null,null,null,null,null,null,null,null,"21年新增"]
[null,null,null,null,null,null,null,null,null,"21年新增"]
[null,null,null,null,null,null,null,null,null,"21年新增"]
[null,null,null,null,null,null,null,null,null,"21年新增"]
[null,null,null,null,null,null,null,null,null,"21年新增"]
[null,null,null,null,null,null,null,null,null,"21年新增"]
[null,null,null,null,null,null,null,null,null,"21年新增"]
[null,null,null,null,null,null,null,null,null,"21年新增"]
[null,null,null,null,null,null,null,null,null,"21年新增"]
[null,null,null,null,null,null,null,null,null,"21年新增"]
[null,null,null,null,null,null,null,null,null,"21年新增"]
[null,null,null,null,null,null,null,null,null,"21年新增"]
[null,null,null,null,null,null,null,null,null,"21年新增"]
[null,null,null,null,null,null,null,null,null,"21年新增"]
[null,null,null,null,null,null,null,null,null,"21年新增"]
[null,null,null,null,null,null,null,null,null,"21年新增"]
[null,null,null,null,null,null,null,null,null,"21年新增"]
[null,null,null,null,null,null,null,null,null,"21年新增"]
[null,null,null,null,null,null,null,null,null,"21年新增"]
[null,null,null,null,null,null,null,null,null,"21年新增"]
[null,null,null,null,null,null,null,null,null,"21年新增"]
[null,null,null,null,null,null,null,null,null,"21年新增"]
[null,null,null,null,null,null,null,null,null,"21年新增"]
[null,null,null,null,null,null,null,null,null,"21年新增"]
[null,null,null,null,null,null,null,null,null,"21年新增"]
[null,null,null,null,null,null,null,null,null,"21年新增"]
[null,null,null,null,null,null,null,null,null,"21年新增"]
[null,null,null,null,null,null,null,null,null,"21年新增"]
[null,null,null,null,null,null,null,null,null,"21年新增"]
[null,null,null,null,null,null,null,null,null,"21年新增"]
[null,null,null,null,null,null,null,null,null,"21年新增"]
[null,null,null,null,null,null,null,null,null,"21年新增"]
[null,null,null,null,null,null,null,null,null,"21年新增"]
[null,null,null,null,null,null,null,null,null,"21年新增"]
[null,null,null,null,null,null,null,null,null,"21年新增"]
[null,null,null,null,null,null,null,null,null,"21年新增"]
[null,null,null,null,null,null,null,null,null,"21年新增"]
[null,null,null,null,null,null,null,null,null,"21年新增"]
[null,null,null,null,null,null,null,null,null,"21年新增"]
[null,null,null,null,null,null,null,null,null,"21年新增"]
[null,null,null,null,null,null,null,null,null,"21年新增"]
[null,null,null,null,null,null,null,null,null,"21年新增"]
[null,null,null,null,null,null,null,null,null,"21年新增"]
[null,null,null,null,null,null,null,null,null,"21年新增"]
[null,null,null,null,null,null,null,null,null,"21年新增"]
[null,null,null,null,null,null,null,null,null,"21年新增"]
[null,null,null,null,null,null,null,null,null,"21年新增"]
[null,null,null,null,null,null,null,null,null,"21年新增"]
[null,null,null,null,null,null,null,null,null,"21年新增"]
[null,null,null,null,null,null,null,null,null,"21年新增"]
[null,null,null,null,null,null,null,null,null,"21年新增"]
[null,null,null,null,null,null,null,null,null,"21年新增"]
[null,null,null,null,null,null,null,null,null,"21年新增"]
[null,null,null,null,null,null,null,null,null,"21年新增"]
[null,null,null,null,null,null,null,null,null,"21年新增"]
[null,null,null,null,null,null,null,null,null,"21年新增"]
[null,null,null,null,null,null,null,null,null,"21年新增"]
[null,null,null,null,null,null,null,null,null,"21年新增"]
[null,null,null,null,null,null,null,null,null,"21年新增"]
[null,null,null,null,null,null,null,null,null,"21年新增"]
[null,null,null,null,null,null,null,null,null,"21年新增"]
[null,null,null,null,null,null,null,null,null,"21年新增"]
[null,null,null,null,null,null,null,null,null,"21年新增"]
[null,null,null,null,null,null,null,null,null,"21年新增"]
[null,null,null,null,null,null,null,null,null,"21年新增"]
[null,null,null,null,null,null,null,null,null,"21年新增"]
[null,null,null,null,null,null,null,null,null,"21年新增"]
[null,null,null,null,null,null,null,null,null,"21年新增"]
[null,null,null,null,null,null,null,null,null,"21年新增"]
[null,null,null,null,null,null,null,null,null,"21年新增"]
[null,null,null,null,null,null,null,null,null,"21年新增"]
[null,null,null,null,null,null,null,null,null,"21年新增"]
[null,null,null,null,null,null,null,null,null,"21年新增"]
[null,null,null,null,null,null,null,null,null,"21年新增"]
[null,null,null,null,null,null,null,null,null,"21年新增"]
[null,null,null,null,null,null,null,null,null,"21年新增"]
[null,null,null,null,null,null,null,null,null,"21年新增"]
[null,null,null,null,null,null,null,null,null,"21年新增"]
[null,null,null,null,null,null,null,null,null,"21年新增"]
[null,null,null,null,null,null,null,null,null,"21年新增"]
[null,null,null,null,null,null,null,null,null,"21年新增"]
[null,null,null,null,null,null,null,null,null,"21年新增"]
[null,null,null,null,null,null,null,null,null,"21年新增"]
[null,null,null,null,null,null,null,null,null,"21年新增"]
[null,null,null,null,null,null,null,null,null,"21年新增"]
[null,null,null,null,null,null,null,null,null,"21年新增"]
[null,null,null,null,null,null,null,null,null,"21年新增"]
[null,null,null,null,null,null,null,null,null,"21年新增"]
[null,null,null,null,null,null,null,null,null,"21年新增"]
[null,null,null,null,null,null,null,null,null,"21年新增"]
[null,null,null,null,null,null,null,null,null,"21年新增"]
[null,null,null,null,null,null,null,null,null,"21年新增"]
[null,null,null,null,null,null,null,null,null,"21年新增"]
[null,null,null,null,null,null,null,null,null,"21年新增"]
[null,null,null,null,null,null,null,null,null,"21年新增"]
[null,null,null,null,null,null,null,null,null,"21年新增"]
[null,null,null,null,null,null,null,null,null,"21年新增"]
[null,null,null,null,null,null,null,null,null,"21年新增"]
[null,null,null,null,null,null,null,null,null,"21年新增"]
[null,null,null,null,null,null,null,null,null,"21年新增"]
[null,null,null,null,null,null,null,null,null,"21年新增"]
[null,null,null,null,null,null,null,null,null,"21年新增"]
[null,null,null,null,null,null,null,null,null,"21年新增"]
[null,null,null,null,null,null,null,null,null,"21年新增"]
[null,null,null,null,null,null,null,null,null,"21年新增"]
[null,null,null,null,null,null,null,null,null,"21年新增"]
[null,null,null,null,null,null,null,null,null,"21年新增"]
[null,null,null,null,null,null,null,null,null,"21年新增"]
[null,null,null,null,null,null,null,null,null,"21年新增"]
[null,null,null,null,null,null,null,null,null,"21年新增"]
[null,null,null,null,null,null,null,null,null,"21年新增"]
[null,null,null,null,null,null,null,null,null,"21年新增"]
[null,null,null,null,null,null,null,null,null,"21年新增"]
[null,null,null,null,null,null,null,null,null,"21年新增"]
[null,null,null,null,null,null,null,null,null,"21年新增"]
[null,null,null,null,null,null,null,null,null,"21年新增"]
[null,null,null,null,null,null,null,null,null,"21年新增"]
[null,null,null,null,null,null,null,null,null,"21年新增"]
[null,null,null,null,null,null,null,null,null,"21年新增"]
[null,null,null,null,null,null,null,null,null,"21年新增"]
[null,null,null,null,null,null,null,null,null,"21年新增"]
[null,null,null,null,null,null,null,null,null,"21年新增"]
[null,null,null,null,null,null,null,null,null,"21年新增"]
[null,null,null,null,null,null,null,null,null,"21年新增"]
[null,null,null,null,null,null,null,null,null,"21年新增"]
[null,null,null,null,null,null,null,null,null,"21年新增"]
[null,null,null,null,null,null,null,null,null,"21年新增"]
[null,null,null,null,null,null,null,null,null,"21年新增"]
[null,null,null,null,null,null,null,null,null,"21年新增"]
[null,null,null,null,null,null,null,null,null,"21年新增"]
[null,null,null,null,null,null,null,null,null,"21年新增"]
[null,null,null,null,null,null,null,null,null,"21年新增"]
[null,null,null,null,null,null,null,null,null,"21年新增"]
[null,null,null,null,null,null,null,null,null,"21年新增"]
[null,null,null,null,null,null,null,null,null,"21年新增"]
[null,null,null,null,null,null,null,null,null,"21年新增"]
[null,null,null,null,null,null,null,null,null,"21年新增"]
[null,null,null,null,null,null,null,null,null,"21年新增"]
[null,null,null,null,null,null,null,null,null,"21年新增"]
[null,null,null,null,null,null,null,null,null,"21年新增"]
[null,null,null,null,null,null,null,null,null,"21年新增"]
[null,null,null,null,null,null,null,null,null,"21年新增"]
[null,null,null,null,null,null,null,null,null,"21年新增"]
[null,null,null,null,null,null,null,null,null,"21年新增"]
[null,null,null,null,null,null,null,null,null,"21年新增"]
[null,null,null,null,null,null,null,null,null,"21年新增"]
[null,null,null,null,null,null,null,null,null,"21年新增"]
[null,null,null,null,null,null,null,null,null,"21年新增"]
[null,null,null,null,null,null,null,null,null,"21年新增"]
[null,null,null,null,null,null,null,null,null,"21年新增"]
[null,null,null,null,null,null,null,null,null,"21年新增"]
[null,null,null,null,null,null,null,null,null,"21年新增"]
[null,null,null,null,null,null,null,null,null,"21年新增"]
[null,null,null,null,null,null,null,null,null,"21年新增"]
[null,null,null,null,null,null,null,null,null,"21年新增"]
[null,null,null,null,null,null,null,null,null,"21年新增"]
[null,null,null,null,null,null,null,null,null,"21年新增"]
[null,null,null,null,null,null,null,null,null,"21年新增"]
[null,null,null,null,null,null,null,null,null,"21年新增"]
[null,null,null,null,null,null,null,null,null,"21年新增"]
[null,null,null,null,null,null,null,null,null,"21年新增"]
[null,null,null,null,null,null,null,null,null,"21年新增"]
[null,null,null,null,null,null,null,null,null,"21年新增"]
[null,null,null,null,null,null,null,null,null,"21年新增"]
[null,null,null,null,null,null,null,null,null,"21年新增"]
[null,null,null,null,null,null,null,null,null,"21年新增"]
[null,null,null,null,null,null,null,null,null,"21年新增"]
[null,null,null,null,null,null,null,null,null,"21年新增"]
[null,null,null,null,null,null,null,null,null,"21年新增"]
[null,null,null,null,null,null,null,null,null,"21年新增"]
[null,null,null,null,null,null,null,null,null,"21年新增"]

{"sheet":"资产变动台账","index":15,"n_rows":1,"n_cols":4,"rows_kept":1,"cut":false,"hidden":false,"merged":[]}
["变动单类型","资产编码","资产名称","变动部分"]

{"sheet":"未投入使用资产折旧明细","index":16,"n_rows":0,"n_cols":0,"rows_kept":0,"cut":false,"hidden":false,"merged":[]}

{"sheet":"未启用非建筑固定资产","index":17,"n_rows":1,"n_cols":2,"rows_kept":1,"cut":false,"hidden":false,"merged":[]}
["资产编码","求和项:本月折旧"]

{"sheet":"福利费折旧入账凭证","index":18,"n_rows":11,"n_cols":11,"rows_kept":11,"cut":false,"hidden":false,"merged":[]}
["序号","核算单位","次级核算单位","年","月","日","凭证号","摘要","借方科目","贷方科目","凭证金额"]
[{"$f":"ROW()-1","v":1}]
[2]
[3]
[4]
[5]
[6]
[7]
[8]
[9]
[10]

{"sheet":"研发支出折旧入账凭证","index":19,"n_rows":11,"n_cols":11,"rows_kept":11,"cut":false,"hidden":false,"merged":[]}
["序号","核算单位","次级核算单位","年","月","日","凭证号","摘要","借方科目","贷方科目","凭证金额"]
[{"$f":"ROW()-1","v":1}]
[2]
[3]
[4]
[5]
[6]
[7]
[8]
[9]
[10]

{"sheet":"固定资产清理分录","index":20,"n_rows":11,"n_cols":11,"rows_kept":11,"cut":false,"hidden":false,"merged":[]}
["序号","核算单位","次级核算单位","年","月","日","凭证号","摘要","借方科目","贷方科目","凭证金额"]
[{"$f":"ROW()-1","v":1}]
[2]
[3]
[4]
[5]
[6]
[7]
[8]
[9]
[10]

{"sheet":"无形资产审核明细表","index":21,"n_rows":27,"n_cols":55,"rows_kept":27,"cut":false,"hidden":true,"merged":[[0,13,0,18],[0,19,0,49],[1,19,1,21],[1,22,1,27],[1,28,1,35],[1,36,1,43],[1,44,1,46],[1,47,2,47],[1,48,2,48],[1,49,2,49],[0,54,2,54],[0,0,1,12],[0,50,1,53]]}
["卡片信息",null,null,null,null,null,null,null,null,null,null,null,null,"会计摊销测算",null,null,null,null,null,"税务审核",null,null,null,null,null,null,null,null,null,null,null,null,null,null,null,null,null,null,null,null,null,null,null,null,null,null,null,null,null,null,"其他卡片信息",null,null,null,"审核记录"]
[null,null,null,null,null,null,null,null,null,null,null,null,null,"测算年度：",2021,"测算月份：",10,"忽略尾差：",0.1,"审核分类",null,null,"计税基础差异",null,null,null,null,null,"摊销年限差异",null,null,null,null,null,null,null,"加速摊销",null,null,null,null,null,null,null,"不得扣除摊销资产",null,null,"福利性资产摊销","本期调整合计","累计调整合计"]
["序号","核算单位","资产编码","资产名称","资产类别","资产原值","资产减值","净残值率","开始使用日期","摊销年限","年初累计摊销","期末累计摊销","本年摊销","月摊销率","月摊销额","本年摊销月数","测算本年摊销","本年摊销差异","差异原因说明","无形资产税法类别","无形资产","是否为福利性资产","计税基础","计税基础差异","本期税法摊销","本期摊销差异","年初累计调整金额","年末累计调整金额","税法最低摊销年限","税法月摊销率","税法月摊销额","税法本年摊销月数","本期税法摊销","本期摊销差异","年初累计调整金额","期末累计调整金额","加速后摊销年限","税法月摊销率","税法月摊销额","税法本年摊销月数","本期税法摊销","本年纳税调整金额","年初累计调整金额","期末累计调整金额","本期纳税调整金额","年初累计调整金额","期末累计调整金额"]
[{"$f":"ROW()-3","v":1},null,null,null,null,null,null,null,null,null,null,null,{"$f":"L4-K4","v":0},{"$f":"(1-H4)/(J4*12)","v":{"$error":"#DIV/0!"}},{"$f":"ROUND(F4*N4,2)","v":{"$error":"#DIV/0!"}},{"$f":"IF($O$2<YEAR(I4),0,IF($O$2=YEAR(I4),MAX($Q$2-MONTH(I4)+1,0),IF($O$2>YEAR(I4)+J4,0,IF($O$2=YEAR(I4)+J4,MIN(MONTH($I4)-1,$Q$2),$Q$2))))","v":0},{"$f":"O4*P4","v":{"$error":"#DIV/0!"}},{"$f":"IF(ABS(M4-Q4)<=$S$2,0,M4-Q4)","v":{"$error":"#DIV/0!"}},null,null,null,null,null,{"$f":"F4-W4","v":0},{"$f":"IF(ISNUMBER(FIND(\"计税基础差异\",U4)),IF(YEAR(I4)+J4=$O$2,M4-((F4-W4)*(1-H4)-AA4),W4*N4*P4),0)","v":0},{"$f":"IF(ISNUMBER(FIND(\"计税基础差异\",U4)),M4-Y4,0)","v":0},null,{"$f":"AA4+Z4","v":0},{"$f":"IFERROR(VLOOKUP(T4,有效性!$D$2:$E$674,2,0),0)","v":0},{"$f":"IFERROR((1-H4)/(AC4*12),0)","v":0},{"$f":"F4*AD4","v":0},{"$f":"IF($O$2<YEAR(I4),0,IF($O$2=YEAR(I4),MAX($Q$2-MONTH(I4)+1,0),IF($O$2>YEAR(I4)+AC4,0,IF($O$2=YEAR(I4)+AC4,MIN(MONTH($I4)-1,$Q$2),$Q$2))))","v":0},{"$f":"IF(ISNUMBER(FIND(\"摊销年限差异\",U4)),IF(YEAR(I4)+AC4=$O$2,AI4,AE4*AF4),0)","v":0},{"$f":"IF(ISNUMBER(FIND(\"摊销年限差异\",U4)),M4-AG4,0)","v":0},null,{"$f":"AH4+AI4","v":0},null,{"$f":"IF(ISNUMBER(FIND(\"企业外购软件加速摊销\",U4)),IFERROR((1-H4)/(AK4*12),0),0)","v":0},{"$f":"F4*AL4","v":0},{"$f":"IF($O$2<YEAR(I4),0,IF($O$2=YEAR(I4),MAX($Q$2-MONTH(I4)+1,0),IF($O$2>YEAR(I4)+AK4,0,IF($O$2=YEAR(I4)+AK4,MIN(MONTH($I4)-1,$Q$2),$Q$2))))","v":0},{"$f":"IF(ISNUMBER(FIND(\"企业外购软件加速摊销\",U4)),IF(YEAR(I4)+AK4=$O$2,F4*(1-H4)-(K4-AQ4),AM4*AN4))","v":false},{"$f":"IF(ISNUMBER(FIND(\"加速折旧\",U4)),M4-AO4,0)","v":0},null,{"$f":"AQ4+AP4","v":0},{"$f":"IFERROR(IF(ISNUMBER(FIND(\"不得扣除摊销资产\",U4)),M4,0),0)","v":0},null,{"$f":"AT4+AS4","v":0},{"$f":"IF(W4=\"是\",N4+AA4+AI4+AQ4,0)","v":0},{"$f":"Z4+AH4+AP4+AS4","v":0},{"$f":"AB4+AJ4+AR4+AU4","v":0}]
[{"$f":"ROW()-3","v":2},null,null,null,null,null,null,null,null,null,null,null,0,{"$error":"#DIV/0!"},{"$error":"#DIV/0!"},{"$f":"IF($O$2<YEAR(I5),0,IF($O$2=YEAR(I5),MAX($Q$2-MONTH(I5)+1,0),IF($O$2>YEAR(I5)+J5,0,IF($O$2=YEAR(I5)+J5,MIN(MONTH($I5)-1,$Q$2),$Q$2))))","v":0},{"$error":"#DIV/0!"},{"$f":"IF(ABS(M5-Q5)<=$S$2,0,M5-Q5)","v":{"$error":"#DIV/0!"}},null,null,null,null,null,{"$f":"F5-W5","v":0},{"$f":"IF(ISNUMBER(FIND(\"计税基础差异\",U5)),IF(YEAR(I5)+J5=$O$2,M5-((F5-W5)*(1-H5)-AA5),W5*N5*P5),0)","v":0},0,null,0,{"$f":"IFERROR(VLOOKUP(T5,有效性!$D$2:$E$674,2,0),0)","v":0},0,0,{"$f":"IF($O$2<YEAR(I5),0,IF($O$2=YEAR(I5),MAX($Q$2-MONTH(I5)+1,0),IF($O$2>YEAR(I5)+AC5,0,IF($O$2=YEAR(I5)+AC5,MIN(MONTH($I5)-1,$Q$2),$Q$2))))","v":0},{"$f":"IF(ISNUMBER(FIND(\"摊销年限差异\",U5)),IF(YEAR(I5)+AC5=$O$2,AI5,AE5*AF5),0)","v":0},{"$f":"IF(ISNUMBER(FIND(\"摊销年限差异\",U5)),M5-AG5,0)","v":0},null,0,null,{"$f":"IF(ISNUMBER(FIND(\"企业外购软件加速摊销\",U5)),IFERROR((1-H5)/(AK5*12),0),0)","v":0},0,{"$f":"IF($O$2<YEAR(I5),0,IF($O$2=YEAR(I5),MAX($Q$2-MONTH(I5),0),IF($O$2>YEAR(I5)+AK5,0,IF($O$2=YEAR(I5)+AK5,MIN(MONTH($I5),$Q$2),$Q$2))))","v":0},{"$f":"IF(ISNUMBER(FIND(\"加速折旧\",U5)),IF(OR(ISNUMBER(FIND(\"500万元以下一次性扣除\",U5)),ISNUMBER(FIND(\"5000元以下一次性扣除\",U5))),IF(OR(AND(YEAR(I5)=$O$2,MONTH(I5)<>12),AND(YEAR(I5)=$O$2-1,MONTH(I5)=12)),F5,0),IF(ISNUMBER(FIND(\"缩短年限60%\",U5)),IF(YEAR(I5)+AK5=$O$2,F5*(1-H5)-(K5-AQ5),AM5*AN5),0)),0)","v":0},0,null,0,{"$f":"IFERROR(IF(ISNUMBER(FIND(\"不得扣除摊销资产\",U5)),M5,0),0)","v":0},null,0,{"$f":"IF(W5=\"是\",N5+AA5+AI5+AQ5,0)","v":0},{"$f":"Z5+AH5+AP5+AS5","v":0},{"$f":"AB5+AJ5+AR5+AU5","v":0}]
[3,null,null,null,null,null,null,null,null,null,null,null,0,{"$error":"#DIV/0!"},{"$error":"#DIV/0!"},0,{"$error":"#DIV/0!"},{"$f":"IF(ABS(M6-Q6)<=$S$2,0,M6-Q6)","v":{"$error":"#DIV/0!"}},null,null,null,null,null,0,{"$f":"IF(ISNUMBER(FIND(\"计税基础差异\",U6)),IF(YEAR(I6)+J6=$O$2,M6-((F6-W6)*(1-H6)-AA6),W6*N6*P6),0)","v":0},0,null,0,{"$f":"IFERROR(VLOOKUP(T6,有效性!$D$2:$E$674,2,0),0)","v":0},0,0,0,0,0,null,0,null,0,0,{"$f":"IF($O$2<YEAR(I6),0,IF($O$2=YEAR(I6),MAX($Q$2-MONTH(I6),0),IF($O$2>YEAR(I6)+AK6,0,IF($O$2=YEAR(I6)+AK6,MIN(MONTH($I6),$Q$2),$Q$2))))","v":0},{"$f":"IF(ISNUMBER(FIND(\"加速折旧\",U6)),IF(OR(ISNUMBER(FIND(\"500万元以下一次性扣除\",U6)),ISNUMBER(FIND(\"5000元以下一次性扣除\",U6))),IF(OR(AND(YEAR(I6)=$O$2,MONTH(I6)<>12),AND(YEAR(I6)=$O$2-1,MONTH(I6)=12)),F6,0),IF(ISNUMBER(FIND(\"缩短年限60%\",U6)),IF(YEAR(I6)+AK6=$O$2,F6*(1-H6)-(K6-AQ6),AM6*AN6),0)),0)","v":0},0,null,0,0,null,0,0,0,0]
[4,null,null,null,null,null,null,null,null,null,null,null,0,{"$error":"#DIV/0!"},{"$error":"#DIV/0!"},0,{"$error":"#DIV/0!"},{"$f":"IF(ABS(M7-Q7)<=$S$2,0,M7-Q7)","v":{"$error":"#DIV/0!"}},null,null,null,null,null,0,{"$f":"IF(ISNUMBER(FIND(\"计税基础差异\",U7)),IF(YEAR(I7)+J7=$O$2,M7-((F7-W7)*(1-H7)-AA7),W7*N7*P7),0)","v":0},0,null,0,{"$f":"IFERROR(VLOOKUP(T7,有效性!$D$2:$E$674,2,0),0)","v":0},0,0,0,0,0,null,0,null,0,0,{"$f":"IF($O$2<YEAR(I7),0,IF($O$2=YEAR(I7),MAX($Q$2-MONTH(I7),0),IF($O$2>YEAR(I7)+AK7,0,IF($O$2=YEAR(I7)+AK7,MIN(MONTH($I7),$Q$2),$Q$2))))","v":0},{"$f":"IF(ISNUMBER(FIND(\"加速折旧\",U7)),IF(OR(ISNUMBER(FIND(\"500万元以下一次性扣除\",U7)),ISNUMBER(FIND(\"5000元以下一次性扣除\",U7))),IF(OR(AND(YEAR(I7)=$O$2,MONTH(I7)<>12),AND(YEAR(I7)=$O$2-1,MONTH(I7)=12)),F7,0),IF(ISNUMBER(FIND(\"缩短年限60%\",U7)),IF(YEAR(I7)+AK7=$O$2,F7*(1-H7)-(K7-AQ7),AM7*AN7),0)),0)","v":0},0,null,0,0,null,0,0,0,0]
[5,null,null,null,null,null,null,null,null,null,null,null,0,{"$error":"#DIV/0!"},{"$error":"#DIV/0!"},0,{"$error":"#DIV/0!"},{"$f":"IF(ABS(M8-Q8)<=$S$2,0,M8-Q8)","v":{"$error":"#DIV/0!"}},null,null,null,null,null,0,{"$f":"IF(ISNUMBER(FIND(\"计税基础差异\",U8)),IF(YEAR(I8)+J8=$O$2,M8-((F8-W8)*(1-H8)-AA8),W8*N8*P8),0)","v":0},0,null,0,{"$f":"IFERROR(VLOOKUP(T8,有效性!$D$2:$E$674,2,0),0)","v":0},0,0,0,0,0,null,0,null,0,0,{"$f":"IF($O$2<YEAR(I8),0,IF($O$2=YEAR(I8),MAX($Q$2-MONTH(I8),0),IF($O$2>YEAR(I8)+AK8,0,IF($O$2=YEAR(I8)+AK8,MIN(MONTH($I8),$Q$2),$Q$2))))","v":0},{"$f":"IF(ISNUMBER(FIND(\"加速折旧\",U8)),IF(OR(ISNUMBER(FIND(\"500万元以下一次性扣除\",U8)),ISNUMBER(FIND(\"5000元以下一次性扣除\",U8))),IF(OR(AND(YEAR(I8)=$O$2,MONTH(I8)<>12),AND(YEAR(I8)=$O$2-1,MONTH(I8)=12)),F8,0),IF(ISNUMBER(FIND(\"缩短年限60%\",U8)),IF(YEAR(I8)+AK8=$O$2,F8*(1-H8)-(K8-AQ8),AM8*AN8),0)),0)","v":0},0,null,0,0,null,0,0,0,0]
[6,null,null,null,null,null,null,null,null,null,null,null,0,{"$error":"#DIV/0!"},{"$error":"#DIV/0!"},0,{"$error":"#DIV/0!"},{"$f":"IF(ABS(M9-Q9)<=$S$2,0,M9-Q9)","v":{"$error":"#DIV/0!"}},null,null,null,null,null,0,{"$f":"IF(ISNUMBER(FIND(\"计税基础差异\",U9)),IF(YEAR(I9)+J9=$O$2,M9-((F9-W9)*(1-H9)-AA9),W9*N9*P9),0)","v":0},0,null,0,{"$f":"IFERROR(VLOOKUP(T9,有效性!$D$2:$E$674,2,0),0)","v":0},0,0,0,0,0,null,0,null,0,0,{"$f":"IF($O$2<YEAR(I9),0,IF($O$2=YEAR(I9),MAX($Q$2-MONTH(I9),0),IF($O$2>YEAR(I9)+AK9,0,IF($O$2=YEAR(I9)+AK9,MIN(MONTH($I9),$Q$2),$Q$2))))","v":0},{"$f":"IF(ISNUMBER(FIND(\"加速折旧\",U9)),IF(OR(ISNUMBER(FIND(\"500万元以下一次性扣除\",U9)),ISNUMBER(FIND(\"5000元以下一次性扣除\",U9))),IF(OR(AND(YEAR(I9)=$O$2,MONTH(I9)<>12),AND(YEAR(I9)=$O$2-1,MONTH(I9)=12)),F9,0),IF(ISNUMBER(FIND(\"缩短年限60%\",U9)),IF(YEAR(I9)+AK9=$O$2,F9*(1-H9)-(K9-AQ9),AM9*AN9),0)),0)","v":0},0,null,0,0,null,0,0,0,0]
[7,null,null,null,null,null,null,null,null,null,null,null,0,{"$error":"#DIV/0!"},{"$error":"#DIV/0!"},0,{"$error":"#DIV/0!"},{"$f":"IF(ABS(M10-Q10)<=$S$2,0,M10-Q10)","v":{"$error":"#DIV/0!"}},null,null,null,null,null,0,{"$f":"IF(ISNUMBER(FIND(\"计税基础差异\",U10)),IF(YEAR(I10)+J10=$O$2,M10-((F10-W10)*(1-H10)-AA10),W10*N10*P10),0)","v":0},0,null,0,{"$f":"IFERROR(VLOOKUP(T10,有效性!$D$2:$E$674,2,0),0)","v":0},0,0,0,0,0,null,0,null,0,0,{"$f":"IF($O$2<YEAR(I10),0,IF($O$2=YEAR(I10),MAX($Q$2-MONTH(I10),0),IF($O$2>YEAR(I10)+AK10,0,IF($O$2=YEAR(I10)+AK10,MIN(MONTH($I10),$Q$2),$Q$2))))","v":0},{"$f":"IF(ISNUMBER(FIND(\"加速折旧\",U10)),IF(OR(ISNUMBER(FIND(\"500万元以下一次性扣除\",U10)),ISNUMBER(FIND(\"5000元以下一次性扣除\",U10))),IF(OR(AND(YEAR(I10)=$O$2,MONTH(I10)<>12),AND(YEAR(I10)=$O$2-1,MONTH(I10)=12)),F10,0),IF(ISNUMBER(FIND(\"缩短年限60%\",U10)),IF(YEAR(I10)+AK10=$O$2,F10*(1-H10)-(K10-AQ10),AM10*AN10),0)),0)","v":0},0,null,0,0,null,0,0,0,0]
[8,null,null,null,null,null,null,null,null,null,null,null,0,{"$error":"#DIV/0!"},{"$error":"#DIV/0!"},0,{"$error":"#DIV/0!"},{"$f":"IF(ABS(M11-Q11)<=$S$2,0,M11-Q11)","v":{"$error":"#DIV/0!"}},null,null,null,null,null,0,{"$f":"IF(ISNUMBER(FIND(\"计税基础差异\",U11)),IF(YEAR(I11)+J11=$O$2,M11-((F11-W11)*(1-H11)-AA11),W11*N11*P11),0)","v":0},0,null,0,{"$f":"IFERROR(VLOOKUP(T11,有效性!$D$2:$E$674,2,0),0)","v":0},0,0,0,0,0,null,0,null,0,0,{"$f":"IF($O$2<YEAR(I11),0,IF($O$2=YEAR(I11),MAX($Q$2-MONTH(I11),0),IF($O$2>YEAR(I11)+AK11,0,IF($O$2=YEAR(I11)+AK11,MIN(MONTH($I11),$Q$2),$Q$2))))","v":0},{"$f":"IF(ISNUMBER(FIND(\"加速折旧\",U11)),IF(OR(ISNUMBER(FIND(\"500万元以下一次性扣除\",U11)),ISNUMBER(FIND(\"5000元以下一次性扣除\",U11))),IF(OR(AND(YEAR(I11)=$O$2,MONTH(I11)<>12),AND(YEAR(I11)=$O$2-1,MONTH(I11)=12)),F11,0),IF(ISNUMBER(FIND(\"缩短年限60%\",U11)),IF(YEAR(I11)+AK11=$O$2,F11*(1-H11)-(K11-AQ11),AM11*AN11),0)),0)","v":0},0,null,0,0,null,0,0,0,0]
[9,null,null,null,null,null,null,null,null,null,null,null,0,{"$error":"#DIV/0!"},{"$error":"#DIV/0!"},0,{"$error":"#DIV/0!"},{"$f":"IF(ABS(M12-Q12)<=$S$2,0,M12-Q12)","v":{"$error":"#DIV/0!"}},null,null,null,null,null,0,{"$f":"IF(ISNUMBER(FIND(\"计税基础差异\",U12)),IF(YEAR(I12)+J12=$O$2,M12-((F12-W12)*(1-H12)-AA12),W12*N12*P12),0)","v":0},0,null,0,{"$f":"IFERROR(VLOOKUP(T12,有效性!$D$2:$E$674,2,0),0)","v":0},0,0,0,0,0,null,0,null,0,0,{"$f":"IF($O$2<YEAR(I12),0,IF($O$2=YEAR(I12),MAX($Q$2-MONTH(I12),0),IF($O$2>YEAR(I12)+AK12,0,IF($O$2=YEAR(I12)+AK12,MIN(MONTH($I12),$Q$2),$Q$2))))","v":0},{"$f":"IF(ISNUMBER(FIND(\"加速折旧\",U12)),IF(OR(ISNUMBER(FIND(\"500万元以下一次性扣除\",U12)),ISNUMBER(FIND(\"5000元以下一次性扣除\",U12))),IF(OR(AND(YEAR(I12)=$O$2,MONTH(I12)<>12),AND(YEAR(I12)=$O$2-1,MONTH(I12)=12)),F12,0),IF(ISNUMBER(FIND(\"缩短年限60%\",U12)),IF(YEAR(I12)+AK12=$O$2,F12*(1-H12)-(K12-AQ12),AM12*AN12),0)),0)","v":0},0,null,0,0,null,0,0,0,0]
[10,null,null,null,null,null,null,null,null,null,null,null,0,{"$error":"#DIV/0!"},{"$error":"#DIV/0!"},0,{"$error":"#DIV/0!"},{"$f":"IF(ABS(M13-Q13)<=$S$2,0,M13-Q13)","v":{"$error":"#DIV/0!"}},null,null,null,null,null,0,{"$f":"IF(ISNUMBER(FIND(\"计税基础差异\",U13)),IF(YEAR(I13)+J13=$O$2,M13-((F13-W13)*(1-H13)-AA13),W13*N13*P13),0)","v":0},0,null,0,{"$f":"IFERROR(VLOOKUP(T13,有效性!$D$2:$E$674,2,0),0)","v":0},0,0,0,0,0,null,0,null,0,0,{"$f":"IF($O$2<YEAR(I13),0,IF($O$2=YEAR(I13),MAX($Q$2-MONTH(I13),0),IF($O$2>YEAR(I13)+AK13,0,IF($O$2=YEAR(I13)+AK13,MIN(MONTH($I13),$Q$2),$Q$2))))","v":0},{"$f":"IF(ISNUMBER(FIND(\"加速折旧\",U13)),IF(OR(ISNUMBER(FIND(\"500万元以下一次性扣除\",U13)),ISNUMBER(FIND(\"5000元以下一次性扣除\",U13))),IF(OR(AND(YEAR(I13)=$O$2,MONTH(I13)<>12),AND(YEAR(I13)=$O$2-1,MONTH(I13)=12)),F13,0),IF(ISNUMBER(FIND(\"缩短年限60%\",U13)),IF(YEAR(I13)+AK13=$O$2,F13*(1-H13)-(K13-AQ13),AM13*AN13),0)),0)","v":0},0,null,0,0,null,0,0,0,0]
[11,null,null,null,null,null,null,null,null,null,null,null,0,{"$error":"#DIV/0!"},{"$error":"#DIV/0!"},0,{"$error":"#DIV/0!"},{"$f":"IF(ABS(M14-Q14)<=$S$2,0,M14-Q14)","v":{"$error":"#DIV/0!"}},null,null,null,null,null,0,{"$f":"IF(ISNUMBER(FIND(\"计税基础差异\",U14)),IF(YEAR(I14)+J14=$O$2,M14-((F14-W14)*(1-H14)-AA14),W14*N14*P14),0)","v":0},0,null,0,{"$f":"IFERROR(VLOOKUP(T14,有效性!$D$2:$E$674,2,0),0)","v":0},0,0,0,0,0,null,0,null,0,0,{"$f":"IF($O$2<YEAR(I14),0,IF($O$2=YEAR(I14),MAX($Q$2-MONTH(I14),0),IF($O$2>YEAR(I14)+AK14,0,IF($O$2=YEAR(I14)+AK14,MIN(MONTH($I14),$Q$2),$Q$2))))","v":0},{"$f":"IF(ISNUMBER(FIND(\"加速折旧\",U14)),IF(OR(ISNUMBER(FIND(\"500万元以下一次性扣除\",U14)),ISNUMBER(FIND(\"5000元以下一次性扣除\",U14))),IF(OR(AND(YEAR(I14)=$O$2,MONTH(I14)<>12),AND(YEAR(I14)=$O$2-1,MONTH(I14)=12)),F14,0),IF(ISNUMBER(FIND(\"缩短年限60%\",U14)),IF(YEAR(I14)+AK14=$O$2,F14*(1-H14)-(K14-AQ14),AM14*AN14),0)),0)","v":0},0,null,0,0,null,0,0,0,0]
[{"$f":"ROW()-3","v":12},null,null,null,null,null,null,null,null,null,null,null,0,{"$error":"#DIV/0!"},{"$error":"#DIV/0!"},0,{"$error":"#DIV/0!"},{"$f":"IF(ABS(M15-Q15)<=$S$2,0,M15-Q15)","v":{"$error":"#DIV/0!"}},null,null,null,null,null,0,{"$f":"IF(ISNUMBER(FIND(\"计税基础差异\",U15)),IF(YEAR(I15)+J15=$O$2,M15-((F15-W15)*(1-H15)-AA15),W15*N15*P15),0)","v":0},0,null,0,{"$f":"IFERROR(VLOOKUP(T15,有效性!$D$2:$E$674,2,0),0)","v":0},0,0,0,0,0,null,0,null,0,0,{"$f":"IF($O$2<YEAR(I15),0,IF($O$2=YEAR(I15),MAX($Q$2-MONTH(I15),0),IF($O$2>YEAR(I15)+AK15,0,IF($O$2=YEAR(I15)+AK15,MIN(MONTH($I15),$Q$2),$Q$2))))","v":0},{"$f":"IF(ISNUMBER(FIND(\"加速折旧\",U15)),IF(OR(ISNUMBER(FIND(\"500万元以下一次性扣除\",U15)),ISNUMBER(FIND(\"5000元以下一次性扣除\",U15))),IF(OR(AND(YEAR(I15)=$O$2,MONTH(I15)<>12),AND(YEAR(I15)=$O$2-1,MONTH(I15)=12)),F15,0),IF(ISNUMBER(FIND(\"缩短年限60%\",U15)),IF(YEAR(I15)+AK15=$O$2,F15*(1-H15)-(K15-AQ15),AM15*AN15),0)),0)","v":0},0,null,0,0,null,0,0,0,0]
[13,null,null,null,null,null,null,null,null,null,null,null,0,{"$error":"#DIV/0!"},{"$error":"#DIV/0!"},0,{"$error":"#DIV/0!"},{"$f":"IF(ABS(M16-Q16)<=$S$2,0,M16-Q16)","v":{"$error":"#DIV/0!"}},null,null,null,null,null,0,{"$f":"IF(ISNUMBER(FIND(\"计税基础差异\",U16)),IF(YEAR(I16)+J16=$O$2,M16-((F16-W16)*(1-H16)-AA16),W16*N16*P16),0)","v":0},0,null,0,{"$f":"IFERROR(VLOOKUP(T16,有效性!$D$2:$E$674,2,0),0)","v":0},0,0,0,0,0,null,0,null,0,0,{"$f":"IF($O$2<YEAR(I16),0,IF($O$2=YEAR(I16),MAX($Q$2-MONTH(I16),0),IF($O$2>YEAR(I16)+AK16,0,IF($O$2=YEAR(I16)+AK16,MIN(MONTH($I16),$Q$2),$Q$2))))","v":0},{"$f":"IF(ISNUMBER(FIND(\"加速折旧\",U16)),IF(OR(ISNUMBER(FIND(\"500万元以下一次性扣除\",U16)),ISNUMBER(FIND(\"5000元以下一次性扣除\",U16))),IF(OR(AND(YEAR(I16)=$O$2,MONTH(I16)<>12),AND(YEAR(I16)=$O$2-1,MONTH(I16)=12)),F16,0),IF(ISNUMBER(FIND(\"缩短年限60%\",U16)),IF(YEAR(I16)+AK16=$O$2,F16*(1-H16)-(K16-AQ16),AM16*AN16),0)),0)","v":0},0,null,0,0,null,0,0,0,0]
[14,null,null,null,null,null,null,null,null,null,null,null,0,{"$error":"#DIV/0!"},{"$error":"#DIV/0!"},0,{"$error":"#DIV/0!"},{"$f":"IF(ABS(M17-Q17)<=$S$2,0,M17-Q17)","v":{"$error":"#DIV/0!"}},null,null,null,null,null,0,{"$f":"IF(ISNUMBER(FIND(\"计税基础差异\",U17)),IF(YEAR(I17)+J17=$O$2,M17-((F17-W17)*(1-H17)-AA17),W17*N17*P17),0)","v":0},0,null,0,{"$f":"IFERROR(VLOOKUP(T17,有效性!$D$2:$E$674,2,0),0)","v":0},0,0,0,0,0,null,0,null,0,0,{"$f":"IF($O$2<YEAR(I17),0,IF($O$2=YEAR(I17),MAX($Q$2-MONTH(I17),0),IF($O$2>YEAR(I17)+AK17,0,IF($O$2=YEAR(I17)+AK17,MIN(MONTH($I17),$Q$2),$Q$2))))","v":0},{"$f":"IF(ISNUMBER(FIND(\"加速折旧\",U17)),IF(OR(ISNUMBER(FIND(\"500万元以下一次性扣除\",U17)),ISNUMBER(FIND(\"5000元以下一次性扣除\",U17))),IF(OR(AND(YEAR(I17)=$O$2,MONTH(I17)<>12),AND(YEAR(I17)=$O$2-1,MONTH(I17)=12)),F17,0),IF(ISNUMBER(FIND(\"缩短年限60%\",U17)),IF(YEAR(I17)+AK17=$O$2,F17*(1-H17)-(K17-AQ17),AM17*AN17),0)),0)","v":0},0,null,0,0,null,0,0,0,0]
[15,null,null,null,null,null,null,null,null,null,null,null,0,{"$error":"#DIV/0!"},{"$error":"#DIV/0!"},0,{"$error":"#DIV/0!"},{"$f":"IF(ABS(M18-Q18)<=$S$2,0,M18-Q18)","v":{"$error":"#DIV/0!"}},null,null,null,null,null,0,{"$f":"IF(ISNUMBER(FIND(\"计税基础差异\",U18)),IF(YEAR(I18)+J18=$O$2,M18-((F18-W18)*(1-H18)-AA18),W18*N18*P18),0)","v":0},0,null,0,{"$f":"IFERROR(VLOOKUP(T18,有效性!$D$2:$E$674,2,0),0)","v":0},0,0,0,0,0,null,0,null,0,0,{"$f":"IF($O$2<YEAR(I18),0,IF($O$2=YEAR(I18),MAX($Q$2-MONTH(I18),0),IF($O$2>YEAR(I18)+AK18,0,IF($O$2=YEAR(I18)+AK18,MIN(MONTH($I18),$Q$2),$Q$2))))","v":0},{"$f":"IF(ISNUMBER(FIND(\"加速折旧\",U18)),IF(OR(ISNUMBER(FIND(\"500万元以下一次性扣除\",U18)),ISNUMBER(FIND(\"5000元以下一次性扣除\",U18))),IF(OR(AND(YEAR(I18)=$O$2,MONTH(I18)<>12),AND(YEAR(I18)=$O$2-1,MONTH(I18)=12)),F18,0),IF(ISNUMBER(FIND(\"缩短年限60%\",U18)),IF(YEAR(I18)+AK18=$O$2,F18*(1-H18)-(K18-AQ18),AM18*AN18),0)),0)","v":0},0,null,0,0,null,0,0,0,0]
[16,null,null,null,null,null,null,null,null,null,null,null,0,{"$error":"#DIV/0!"},{"$error":"#DIV/0!"},0,{"$error":"#DIV/0!"},{"$f":"IF(ABS(M19-Q19)<=$S$2,0,M19-Q19)","v":{"$error":"#DIV/0!"}},null,null,null,null,null,0,{"$f":"IF(ISNUMBER(FIND(\"计税基础差异\",U19)),IF(YEAR(I19)+J19=$O$2,M19-((F19-W19)*(1-H19)-AA19),W19*N19*P19),0)","v":0},0,null,0,{"$f":"IFERROR(VLOOKUP(T19,有效性!$D$2:$E$674,2,0),0)","v":0},0,0,0,0,0,null,0,null,0,0,{"$f":"IF($O$2<YEAR(I19),0,IF($O$2=YEAR(I19),MAX($Q$2-MONTH(I19),0),IF($O$2>YEAR(I19)+AK19,0,IF($O$2=YEAR(I19)+AK19,MIN(MONTH($I19),$Q$2),$Q$2))))","v":0},{"$f":"IF(ISNUMBER(FIND(\"加速折旧\",U19)),IF(OR(ISNUMBER(FIND(\"500万元以下一次性扣除\",U19)),ISNUMBER(FIND(\"5000元以下一次性扣除\",U19))),IF(OR(AND(YEAR(I19)=$O$2,MONTH(I19)<>12),AND(YEAR(I19)=$O$2-1,MONTH(I19)=12)),F19,0),IF(ISNUMBER(FIND(\"缩短年限60%\",U19)),IF(YEAR(I19)+AK19=$O$2,F19*(1-H19)-(K19-AQ19),AM19*AN19),0)),0)","v":0},0,null,0,0,null,0,0,0,0]
[17,null,null,null,null,null,null,null,null,null,null,null,0,{"$error":"#DIV/0!"},{"$error":"#DIV/0!"},0,{"$error":"#DIV/0!"},{"$f":"IF(ABS(M20-Q20)<=$S$2,0,M20-Q20)","v":{"$error":"#DIV/0!"}},null,null,null,null,null,0,{"$f":"IF(ISNUMBER(FIND(\"计税基础差异\",U20)),IF(YEAR(I20)+J20=$O$2,M20-((F20-W20)*(1-H20)-AA20),W20*N20*P20),0)","v":0},0,null,0,{"$f":"IFERROR(VLOOKUP(T20,有效性!$D$2:$E$674,2,0),0)","v":0},0,0,0,0,0,null,0,null,0,0,{"$f":"IF($O$2<YEAR(I20),0,IF($O$2=YEAR(I20),MAX($Q$2-MONTH(I20),0),IF($O$2>YEAR(I20)+AK20,0,IF($O$2=YEAR(I20)+AK20,MIN(MONTH($I20),$Q$2),$Q$2))))","v":0},{"$f":"IF(ISNUMBER(FIND(\"加速折旧\",U20)),IF(OR(ISNUMBER(FIND(\"500万元以下一次性扣除\",U20)),ISNUMBER(FIND(\"5000元以下一次性扣除\",U20))),IF(OR(AND(YEAR(I20)=$O$2,MONTH(I20)<>12),AND(YEAR(I20)=$O$2-1,MONTH(I20)=12)),F20,0),IF(ISNUMBER(FIND(\"缩短年限60%\",U20)),IF(YEAR(I20)+AK20=$O$2,F20*(1-H20)-(K20-AQ20),AM20*AN20),0)),0)","v":0},0,null,0,0,null,0,0,0,0]
[18,null,null,null,null,null,null,null,null,null,null,null,0,{"$error":"#DIV/0!"},{"$error":"#DIV/0!"},0,{"$error":"#DIV/0!"},{"$f":"IF(ABS(M21-Q21)<=$S$2,0,M21-Q21)","v":{"$error":"#DIV/0!"}},null,null,null,null,null,0,{"$f":"IF(ISNUMBER(FIND(\"计税基础差异\",U21)),IF(YEAR(I21)+J21=$O$2,M21-((F21-W21)*(1-H21)-AA21),W21*N21*P21),0)","v":0},0,null,0,{"$f":"IFERROR(VLOOKUP(T21,有效性!$D$2:$E$674,2,0),0)","v":0},0,0,0,0,0,null,0,null,0,0,{"$f":"IF($O$2<YEAR(I21),0,IF($O$2=YEAR(I21),MAX($Q$2-MONTH(I21),0),IF($O$2>YEAR(I21)+AK21,0,IF($O$2=YEAR(I21)+AK21,MIN(MONTH($I21),$Q$2),$Q$2))))","v":0},{"$f":"IF(ISNUMBER(FIND(\"加速折旧\",U21)),IF(OR(ISNUMBER(FIND(\"500万元以下一次性扣除\",U21)),ISNUMBER(FIND(\"5000元以下一次性扣除\",U21))),IF(OR(AND(YEAR(I21)=$O$2,MONTH(I21)<>12),AND(YEAR(I21)=$O$2-1,MONTH(I21)=12)),F21,0),IF(ISNUMBER(FIND(\"缩短年限60%\",U21)),IF(YEAR(I21)+AK21=$O$2,F21*(1-H21)-(K21-AQ21),AM21*AN21),0)),0)","v":0},0,null,0,0,null,0,0,0,0]
[19,null,null,null,null,null,null,null,null,null,null,null,0,{"$error":"#DIV/0!"},{"$error":"#DIV/0!"},0,{"$error":"#DIV/0!"},{"$f":"IF(ABS(M22-Q22)<=$S$2,0,M22-Q22)","v":{"$error":"#DIV/0!"}},null,null,null,null,null,0,{"$f":"IF(ISNUMBER(FIND(\"计税基础差异\",U22)),IF(YEAR(I22)+J22=$O$2,M22-((F22-W22)*(1-H22)-AA22),W22*N22*P22),0)","v":0},0,null,0,{"$f":"IFERROR(VLOOKUP(T22,有效性!$D$2:$E$674,2,0),0)","v":0},0,0,0,0,0,null,0,null,0,0,{"$f":"IF($O$2<YEAR(I22),0,IF($O$2=YEAR(I22),MAX($Q$2-MONTH(I22),0),IF($O$2>YEAR(I22)+AK22,0,IF($O$2=YEAR(I22)+AK22,MIN(MONTH($I22),$Q$2),$Q$2))))","v":0},{"$f":"IF(ISNUMBER(FIND(\"加速折旧\",U22)),IF(OR(ISNUMBER(FIND(\"500万元以下一次性扣除\",U22)),ISNUMBER(FIND(\"5000元以下一次性扣除\",U22))),IF(OR(AND(YEAR(I22)=$O$2,MONTH(I22)<>12),AND(YEAR(I22)=$O$2-1,MONTH(I22)=12)),F22,0),IF(ISNUMBER(FIND(\"缩短年限60%\",U22)),IF(YEAR(I22)+AK22=$O$2,F22*(1-H22)-(K22-AQ22),AM22*AN22),0)),0)","v":0},0,null,0,0,null,0,0,0,0]
[20,null,null,null,null,null,null,null,null,null,null,null,0,{"$error":"#DIV/0!"},{"$error":"#DIV/0!"},0,{"$error":"#DIV/0!"},{"$f":"IF(ABS(M23-Q23)<=$S$2,0,M23-Q23)","v":{"$error":"#DIV/0!"}},null,null,null,null,null,0,{"$f":"IF(ISNUMBER(FIND(\"计税基础差异\",U23)),IF(YEAR(I23)+J23=$O$2,M23-((F23-W23)*(1-H23)-AA23),W23*N23*P23),0)","v":0},0,null,0,{"$f":"IFERROR(VLOOKUP(T23,有效性!$D$2:$E$674,2,0),0)","v":0},0,0,0,0,0,null,0,null,0,0,{"$f":"IF($O$2<YEAR(I23),0,IF($O$2=YEAR(I23),MAX($Q$2-MONTH(I23),0),IF($O$2>YEAR(I23)+AK23,0,IF($O$2=YEAR(I23)+AK23,MIN(MONTH($I23),$Q$2),$Q$2))))","v":0},{"$f":"IF(ISNUMBER(FIND(\"加速折旧\",U23)),IF(OR(ISNUMBER(FIND(\"500万元以下一次性扣除\",U23)),ISNUMBER(FIND(\"5000元以下一次性扣除\",U23))),IF(OR(AND(YEAR(I23)=$O$2,MONTH(I23)<>12),AND(YEAR(I23)=$O$2-1,MONTH(I23)=12)),F23,0),IF(ISNUMBER(FIND(\"缩短年限60%\",U23)),IF(YEAR(I23)+AK23=$O$2,F23*(1-H23)-(K23-AQ23),AM23*AN23),0)),0)","v":0},0,null,0,0,null,0,0,0,0]
[21,null,null,null,null,null,null,null,null,null,null,null,0,{"$error":"#DIV/0!"},{"$error":"#DIV/0!"},0,{"$error":"#DIV/0!"},{"$f":"IF(ABS(M24-Q24)<=$S$2,0,M24-Q24)","v":{"$error":"#DIV/0!"}},null,null,null,null,null,0,{"$f":"IF(ISNUMBER(FIND(\"计税基础差异\",U24)),IF(YEAR(I24)+J24=$O$2,M24-((F24-W24)*(1-H24)-AA24),W24*N24*P24),0)","v":0},0,null,0,{"$f":"IFERROR(VLOOKUP(T24,有效性!$D$2:$E$674,2,0),0)","v":0},0,0,0,0,0,null,0,null,0,0,{"$f":"IF($O$2<YEAR(I24),0,IF($O$2=YEAR(I24),MAX($Q$2-MONTH(I24),0),IF($O$2>YEAR(I24)+AK24,0,IF($O$2=YEAR(I24)+AK24,MIN(MONTH($I24),$Q$2),$Q$2))))","v":0},{"$f":"IF(ISNUMBER(FIND(\"加速折旧\",U24)),IF(OR(ISNUMBER(FIND(\"500万元以下一次性扣除\",U24)),ISNUMBER(FIND(\"5000元以下一次性扣除\",U24))),IF(OR(AND(YEAR(I24)=$O$2,MONTH(I24)<>12),AND(YEAR(I24)=$O$2-1,MONTH(I24)=12)),F24,0),IF(ISNUMBER(FIND(\"缩短年限60%\",U24)),IF(YEAR(I24)+AK24=$O$2,F24*(1-H24)-(K24-AQ24),AM24*AN24),0)),0)","v":0},0,null,0,0,null,0,0,0,0]
[22,null,null,null,null,null,null,null,null,null,null,null,0,{"$error":"#DIV/0!"},{"$error":"#DIV/0!"},0,{"$error":"#DIV/0!"},{"$f":"IF(ABS(M25-Q25)<=$S$2,0,M25-Q25)","v":{"$error":"#DIV/0!"}},null,null,null,null,null,0,{"$f":"IF(ISNUMBER(FIND(\"计税基础差异\",U25)),IF(YEAR(I25)+J25=$O$2,M25-((F25-W25)*(1-H25)-AA25),W25*N25*P25),0)","v":0},0,null,0,{"$f":"IFERROR(VLOOKUP(T25,有效性!$D$2:$E$674,2,0),0)","v":0},0,0,0,0,0,null,0,null,0,0,{"$f":"IF($O$2<YEAR(I25),0,IF($O$2=YEAR(I25),MAX($Q$2-MONTH(I25),0),IF($O$2>YEAR(I25)+AK25,0,IF($O$2=YEAR(I25)+AK25,MIN(MONTH($I25),$Q$2),$Q$2))))","v":0},{"$f":"IF(ISNUMBER(FIND(\"加速折旧\",U25)),IF(OR(ISNUMBER(FIND(\"500万元以下一次性扣除\",U25)),ISNUMBER(FIND(\"5000元以下一次性扣除\",U25))),IF(OR(AND(YEAR(I25)=$O$2,MONTH(I25)<>12),AND(YEAR(I25)=$O$2-1,MONTH(I25)=12)),F25,0),IF(ISNUMBER(FIND(\"缩短年限60%\",U25)),IF(YEAR(I25)+AK25=$O$2,F25*(1-H25)-(K25-AQ25),AM25*AN25),0)),0)","v":0},0,null,0,0,null,0,0,0,0]
[23,null,null,null,null,null,null,null,null,null,null,null,0,{"$error":"#DIV/0!"},{"$error":"#DIV/0!"},0,{"$error":"#DIV/0!"},{"$f":"IF(ABS(M26-Q26)<=$S$2,0,M26-Q26)","v":{"$error":"#DIV/0!"}},null,null,null,null,null,0,{"$f":"IF(ISNUMBER(FIND(\"计税基础差异\",U26)),IF(YEAR(I26)+J26=$O$2,M26-((F26-W26)*(1-H26)-AA26),W26*N26*P26),0)","v":0},0,null,0,{"$f":"IFERROR(VLOOKUP(T26,有效性!$D$2:$E$674,2,0),0)","v":0},0,0,0,0,0,null,0,null,0,0,{"$f":"IF($O$2<YEAR(I26),0,IF($O$2=YEAR(I26),MAX($Q$2-MONTH(I26),0),IF($O$2>YEAR(I26)+AK26,0,IF($O$2=YEAR(I26)+AK26,MIN(MONTH($I26),$Q$2),$Q$2))))","v":0},{"$f":"IF(ISNUMBER(FIND(\"加速折旧\",U26)),IF(OR(ISNUMBER(FIND(\"500万元以下一次性扣除\",U26)),ISNUMBER(FIND(\"5000元以下一次性扣除\",U26))),IF(OR(AND(YEAR(I26)=$O$2,MONTH(I26)<>12),AND(YEAR(I26)=$O$2-1,MONTH(I26)=12)),F26,0),IF(ISNUMBER(FIND(\"缩短年限60%\",U26)),IF(YEAR(I26)+AK26=$O$2,F26*(1-H26)-(K26-AQ26),AM26*AN26),0)),0)","v":0},0,null,0,0,null,0,0,0,0]
[24,null,null,null,null,null,null,null,null,null,null,null,0,{"$error":"#DIV/0!"},{"$error":"#DIV/0!"},0,{"$error":"#DIV/0!"},{"$f":"IF(ABS(M27-Q27)<=$S$2,0,M27-Q27)","v":{"$error":"#DIV/0!"}},null,null,null,null,null,0,{"$f":"IF(ISNUMBER(FIND(\"计税基础差异\",U27)),IF(YEAR(I27)+J27=$O$2,M27-((F27-W27)*(1-H27)-AA27),W27*N27*P27),0)","v":0},0,null,0,{"$f":"IFERROR(VLOOKUP(T27,有效性!$D$2:$E$674,2,0),0)","v":0},0,0,0,0,0,null,0,null,0,0,{"$f":"IF($O$2<YEAR(I27),0,IF($O$2=YEAR(I27),MAX($Q$2-MONTH(I27),0),IF($O$2>YEAR(I27)+AK27,0,IF($O$2=YEAR(I27)+AK27,MIN(MONTH($I27),$Q$2),$Q$2))))","v":0},{"$f":"IF(ISNUMBER(FIND(\"加速折旧\",U27)),IF(OR(ISNUMBER(FIND(\"500万元以下一次性扣除\",U27)),ISNUMBER(FIND(\"5000元以下一次性扣除\",U27))),IF(OR(AND(YEAR(I27)=$O$2,MONTH(I27)<>12),AND(YEAR(I27)=$O$2-1,MONTH(I27)=12)),F27,0),IF(ISNUMBER(FIND(\"缩短年限60%\",U27)),IF(YEAR(I27)+AK27=$O$2,F27*(1-H27)-(K27-AQ27),AM27*AN27),0)),0)","v":0},0,null,0,0,null,0,0,0,0]

{"sheet":"长期待摊费用审核明细表","index":22,"n_rows":27,"n_cols":47,"rows_kept":27,"cut":false,"hidden":true,"merged":[[0,13,0,18],[0,19,0,41],[1,19,1,21],[1,22,1,27],[1,28,1,35],[1,36,1,38],[1,40,2,40],[1,41,2,41],[0,46,2,46],[0,0,1,12],[0,42,1,45]]}
["卡片信息",null,null,null,null,null,null,null,null,null,null,null,null,"会计摊销测算",null,null,null,null,null,"税务审核",null,null,null,null,null,null,null,null,null,null,null,null,null,null,null,null,null,null,null,null,null,null,"其他卡片信息",null,null,null,"审核记录"]
[null,null,null,null,null,null,null,null,null,null,null,null,null,"测算年度：",2021,"测算月份：",10,"忽略尾差：",0.1,"审核分类",null,null,"计税基础差异",null,null,null,null,null,"摊销年限差异",null,null,null,null,null,null,null,"不得扣除摊销资产",null,null,"福利性资产摊销","本期调整合计","累计调整合计"]
["序号","核算单位","资产编码","资产名称","资产类别","资产原值","资产减值","净残值率","开始使用日期","摊销年限","年初累计摊销","期末累计摊销","本年摊销","月摊销率","月摊销额","本年摊销月数","测算本年摊销","本年摊销差异","差异原因说明","长期待摊费用税法类别","长期待摊费用","是否为福利性资产","计税基础","计税基础差异","本期税法摊销","本期摊销差异","年初累计调整金额","年末累计调整金额","税法最低摊销年限","税法月摊销率","税法月摊销额","税法本年摊销月数","本期税法摊销","本期摊销差异","年初累计调整金额","期末累计调整金额","本期纳税调整金额","年初累计调整金额","期末累计调整金额","本年税法摊销"]
[{"$f":"ROW()-3","v":1},null,null,null,null,null,null,null,null,null,null,null,{"$f":"L4-K4","v":0},{"$f":"(1-H4)/(J4*12)","v":{"$error":"#DIV/0!"}},{"$f":"ROUND(F4*N4,2)","v":{"$error":"#DIV/0!"}},{"$f":"IF($O$2<YEAR(I4),0,IF($O$2=YEAR(I4),MAX($Q$2-MONTH(I4)+1,0),IF($O$2>YEAR(I4)+J4,0,IF($O$2=YEAR(I4)+J4,MIN(MONTH($I4)-1,$Q$2),$Q$2))))","v":0},{"$f":"O4*P4","v":{"$error":"#DIV/0!"}},{"$f":"IF(ABS(M4-Q4)<=$S$2,0,M4-Q4)","v":{"$error":"#DIV/0!"}},null,null,null,null,null,{"$f":"F4-W4","v":0},{"$f":"IF(ISNUMBER(FIND(\"计税基础差异\",U4)),IF(YEAR(I4)+J4=$O$2,M4-((F4-W4)*(1-H4)-AA4),W4*N4*P4),0)","v":0},{"$f":"IF(ISNUMBER(FIND(\"计税基础差异\",U4)),M4-Y4,0)","v":0},null,{"$f":"AA4+Z4","v":0},{"$f":"IFERROR(VLOOKUP(T4,有效性!$D$2:$E$674,2,0),0)","v":0},{"$f":"IFERROR((1-H4)/(AC4*12),0)","v":0},{"$f":"F4*AD4","v":0},{"$f":"IF($O$2<YEAR(I4),0,IF($O$2=YEAR(I4),MAX($Q$2-MONTH(I4)+1,0),IF($O$2>YEAR(I4)+AC4,0,IF($O$2=YEAR(I4)+AC4,MIN(MONTH($I4)-1,$Q$2),$Q$2))))","v":0},{"$f":"IF(ISNUMBER(FIND(\"摊销年限差异\",U4)),IF(YEAR(I4)+AC4=$O$2,AI4,AE4*AF4),0)","v":0},{"$f":"IF(ISNUMBER(FIND(\"摊销年限差异\",U4)),M4-AG4,0)","v":0},null,{"$f":"AH4+AI4","v":0},{"$f":"IFERROR(IF(ISNUMBER(FIND(\"不得扣除摊销资产\",U4)),M4,0),0)","v":0},null,{"$f":"AL4+AK4","v":0},{"$f":"IF(V4=\"是\",M4+Z4+AH4,0)","v":0},{"$f":"Z4+AH4+AK4","v":0},{"$f":"AB4+AJ4+AM4","v":0}]
[{"$f":"ROW()-3","v":2},null,null,null,null,null,null,null,null,null,null,null,0,{"$error":"#DIV/0!"},{"$error":"#DIV/0!"},{"$f":"IF($O$2<YEAR(I5),0,IF($O$2=YEAR(I5),MAX($Q$2-MONTH(I5)+1,0),IF($O$2>YEAR(I5)+J5,0,IF($O$2=YEAR(I5)+J5,MIN(MONTH($I5)-1,$Q$2),$Q$2))))","v":0},{"$error":"#DIV/0!"},{"$f":"IF(ABS(M5-Q5)<=$S$2,0,M5-Q5)","v":{"$error":"#DIV/0!"}},null,null,null,null,null,{"$f":"F5-W5","v":0},{"$f":"IF(ISNUMBER(FIND(\"计税基础差异\",U5)),IF(YEAR(I5)+J5=$O$2,M5-((F5-W5)*(1-H5)-AA5),W5*N5*P5),0)","v":0},0,null,0,{"$f":"IFERROR(VLOOKUP(T5,有效性!$D$2:$E$674,2,0),0)","v":0},0,0,{"$f":"IF($O$2<YEAR(I5),0,IF($O$2=YEAR(I5),MAX($Q$2-MONTH(I5)+1,0),IF($O$2>YEAR(I5)+AC5,0,IF($O$2=YEAR(I5)+AC5,MIN(MONTH($I5)-1,$Q$2),$Q$2))))","v":0},{"$f":"IF(ISNUMBER(FIND(\"摊销年限差异\",U5)),IF(YEAR(I5)+AC5=$O$2,AI5,AE5*AF5),0)","v":0},0,null,0,{"$f":"IFERROR(IF(ISNUMBER(FIND(\"不得扣除摊销资产\",U5)),M5,0),0)","v":0},null,0,{"$f":"IF(V5=\"是\",M5+Z5+AH5,0)","v":0},{"$f":"Z5+AH5+AK5","v":0},{"$f":"AB5+AJ5+AM5","v":0}]
[3,null,null,null,null,null,null,null,null,null,null,null,0,{"$error":"#DIV/0!"},{"$error":"#DIV/0!"},{"$f":"IF($O$2<YEAR(I6),0,IF($O$2=YEAR(I6),MAX($Q$2-MONTH(I6)+1,0),IF($O$2>YEAR(I6)+J6,0,IF($O$2=YEAR(I6)+J6,MIN(MONTH($I6)-1,$Q$2),$Q$2))))","v":0},{"$error":"#DIV/0!"},{"$f":"IF(ABS(M6-Q6)<=$S$2,0,M6-Q6)","v":{"$error":"#DIV/0!"}},null,null,null,null,null,0,{"$f":"IF(ISNUMBER(FIND(\"计税基础差异\",U6)),IF(YEAR(I6)+J6=$O$2,M6-((F6-W6)*(1-H6)-AA6),W6*N6*P6),0)","v":0},0,null,0,{"$f":"IFERROR(VLOOKUP(T6,有效性!$D$2:$E$674,2,0),0)","v":0},0,0,{"$f":"IF($O$2<YEAR(I6),0,IF($O$2=YEAR(I6),MAX($Q$2-MONTH(I6)+1,0),IF($O$2>YEAR(I6)+AC6,0,IF($O$2=YEAR(I6)+AC6,MIN(MONTH($I6)-1,$Q$2),$Q$2))))","v":0},{"$f":"IF(ISNUMBER(FIND(\"摊销年限差异\",U6)),IF(YEAR(I6)+AC6=$O$2,AI6,AE6*AF6),0)","v":0},0,null,0,0,null,0,0,0,0]
[4,null,null,null,null,null,null,null,null,null,null,null,0,{"$error":"#DIV/0!"},{"$error":"#DIV/0!"},{"$f":"IF($O$2<YEAR(I7),0,IF($O$2=YEAR(I7),MAX($Q$2-MONTH(I7)+1,0),IF($O$2>YEAR(I7)+J7,0,IF($O$2=YEAR(I7)+J7,MIN(MONTH($I7)-1,$Q$2),$Q$2))))","v":0},{"$error":"#DIV/0!"},{"$f":"IF(ABS(M7-Q7)<=$S$2,0,M7-Q7)","v":{"$error":"#DIV/0!"}},null,null,null,null,null,0,{"$f":"IF(ISNUMBER(FIND(\"计税基础差异\",U7)),IF(YEAR(I7)+J7=$O$2,M7-((F7-W7)*(1-H7)-AA7),W7*N7*P7),0)","v":0},0,null,0,{"$f":"IFERROR(VLOOKUP(T7,有效性!$D$2:$E$674,2,0),0)","v":0},0,0,{"$f":"IF($O$2<YEAR(I7),0,IF($O$2=YEAR(I7),MAX($Q$2-MONTH(I7)+1,0),IF($O$2>YEAR(I7)+AC7,0,IF($O$2=YEAR(I7)+AC7,MIN(MONTH($I7)-1,$Q$2),$Q$2))))","v":0},{"$f":"IF(ISNUMBER(FIND(\"摊销年限差异\",U7)),IF(YEAR(I7)+AC7=$O$2,AI7,AE7*AF7),0)","v":0},0,null,0,0,null,0,0,0,0]
[5,null,null,null,null,null,null,null,null,null,null,null,0,{"$error":"#DIV/0!"},{"$error":"#DIV/0!"},{"$f":"IF($O$2<YEAR(I8),0,IF($O$2=YEAR(I8),MAX($Q$2-MONTH(I8)+1,0),IF($O$2>YEAR(I8)+J8,0,IF($O$2=YEAR(I8)+J8,MIN(MONTH($I8)-1,$Q$2),$Q$2))))","v":0},{"$error":"#DIV/0!"},{"$f":"IF(ABS(M8-Q8)<=$S$2,0,M8-Q8)","v":{"$error":"#DIV/0!"}},null,null,null,null,null,0,{"$f":"IF(ISNUMBER(FIND(\"计税基础差异\",U8)),IF(YEAR(I8)+J8=$O$2,M8-((F8-W8)*(1-H8)-AA8),W8*N8*P8),0)","v":0},0,null,0,{"$f":"IFERROR(VLOOKUP(T8,有效性!$D$2:$E$674,2,0),0)","v":0},0,0,{"$f":"IF($O$2<YEAR(I8),0,IF($O$2=YEAR(I8),MAX($Q$2-MONTH(I8)+1,0),IF($O$2>YEAR(I8)+AC8,0,IF($O$2=YEAR(I8)+AC8,MIN(MONTH($I8)-1,$Q$2),$Q$2))))","v":0},{"$f":"IF(ISNUMBER(FIND(\"摊销年限差异\",U8)),IF(YEAR(I8)+AC8=$O$2,AI8,AE8*AF8),0)","v":0},0,null,0,0,null,0,0,0,0]
[6,null,null,null,null,null,null,null,null,null,null,null,0,{"$error":"#DIV/0!"},{"$error":"#DIV/0!"},{"$f":"IF($O$2<YEAR(I9),0,IF($O$2=YEAR(I9),MAX($Q$2-MONTH(I9)+1,0),IF($O$2>YEAR(I9)+J9,0,IF($O$2=YEAR(I9)+J9,MIN(MONTH($I9)-1,$Q$2),$Q$2))))","v":0},{"$error":"#DIV/0!"},{"$f":"IF(ABS(M9-Q9)<=$S$2,0,M9-Q9)","v":{"$error":"#DIV/0!"}},null,null,null,null,null,0,{"$f":"IF(ISNUMBER(FIND(\"计税基础差异\",U9)),IF(YEAR(I9)+J9=$O$2,M9-((F9-W9)*(1-H9)-AA9),W9*N9*P9),0)","v":0},0,null,0,{"$f":"IFERROR(VLOOKUP(T9,有效性!$D$2:$E$674,2,0),0)","v":0},0,0,{"$f":"IF($O$2<YEAR(I9),0,IF($O$2=YEAR(I9),MAX($Q$2-MONTH(I9)+1,0),IF($O$2>YEAR(I9)+AC9,0,IF($O$2=YEAR(I9)+AC9,MIN(MONTH($I9)-1,$Q$2),$Q$2))))","v":0},{"$f":"IF(ISNUMBER(FIND(\"摊销年限差异\",U9)),IF(YEAR(I9)+AC9=$O$2,AI9,AE9*AF9),0)","v":0},0,null,0,0,null,0,0,0,0]
[7,null,null,null,null,null,null,null,null,null,null,null,0,{"$error":"#DIV/0!"},{"$error":"#DIV/0!"},{"$f":"IF($O$2<YEAR(I10),0,IF($O$2=YEAR(I10),MAX($Q$2-MONTH(I10)+1,0),IF($O$2>YEAR(I10)+J10,0,IF($O$2=YEAR(I10)+J10,MIN(MONTH($I10)-1,$Q$2),$Q$2))))","v":0},{"$error":"#DIV/0!"},{"$f":"IF(ABS(M10-Q10)<=$S$2,0,M10-Q10)","v":{"$error":"#DIV/0!"}},null,null,null,null,null,0,{"$f":"IF(ISNUMBER(FIND(\"计税基础差异\",U10)),IF(YEAR(I10)+J10=$O$2,M10-((F10-W10)*(1-H10)-AA10),W10*N10*P10),0)","v":0},0,null,0,{"$f":"IFERROR(VLOOKUP(T10,有效性!$D$2:$E$674,2,0),0)","v":0},0,0,{"$f":"IF($O$2<YEAR(I10),0,IF($O$2=YEAR(I10),MAX($Q$2-MONTH(I10)+1,0),IF($O$2>YEAR(I10)+AC10,0,IF($O$2=YEAR(I10)+AC10,MIN(MONTH($I10)-1,$Q$2),$Q$2))))","v":0},{"$f":"IF(ISNUMBER(FIND(\"摊销年限差异\",U10)),IF(YEAR(I10)+AC10=$O$2,AI10,AE10*AF10),0)","v":0},0,null,0,0,null,0,0,0,0]
[8,null,null,null,null,null,null,null,null,null,null,null,0,{"$error":"#DIV/0!"},{"$error":"#DIV/0!"},{"$f":"IF($O$2<YEAR(I11),0,IF($O$2=YEAR(I11),MAX($Q$2-MONTH(I11)+1,0),IF($O$2>YEAR(I11)+J11,0,IF($O$2=YEAR(I11)+J11,MIN(MONTH($I11)-1,$Q$2),$Q$2))))","v":0},{"$error":"#DIV/0!"},{"$f":"IF(ABS(M11-Q11)<=$S$2,0,M11-Q11)","v":{"$error":"#DIV/0!"}},null,null,null,null,null,0,{"$f":"IF(ISNUMBER(FIND(\"计税基础差异\",U11)),IF(YEAR(I11)+J11=$O$2,M11-((F11-W11)*(1-H11)-AA11),W11*N11*P11),0)","v":0},0,null,0,{"$f":"IFERROR(VLOOKUP(T11,有效性!$D$2:$E$674,2,0),0)","v":0},0,0,{"$f":"IF($O$2<YEAR(I11),0,IF($O$2=YEAR(I11),MAX($Q$2-MONTH(I11)+1,0),IF($O$2>YEAR(I11)+AC11,0,IF($O$2=YEAR(I11)+AC11,MIN(MONTH($I11)-1,$Q$2),$Q$2))))","v":0},{"$f":"IF(ISNUMBER(FIND(\"摊销年限差异\",U11)),IF(YEAR(I11)+AC11=$O$2,AI11,AE11*AF11),0)","v":0},0,null,0,0,null,0,0,0,0]
[9,null,null,null,null,null,null,null,null,null,null,null,0,{"$error":"#DIV/0!"},{"$error":"#DIV/0!"},{"$f":"IF($O$2<YEAR(I12),0,IF($O$2=YEAR(I12),MAX($Q$2-MONTH(I12)+1,0),IF($O$2>YEAR(I12)+J12,0,IF($O$2=YEAR(I12)+J12,MIN(MONTH($I12)-1,$Q$2),$Q$2))))","v":0},{"$error":"#DIV/0!"},{"$f":"IF(ABS(M12-Q12)<=$S$2,0,M12-Q12)","v":{"$error":"#DIV/0!"}},null,null,null,null,null,0,{"$f":"IF(ISNUMBER(FIND(\"计税基础差异\",U12)),IF(YEAR(I12)+J12=$O$2,M12-((F12-W12)*(1-H12)-AA12),W12*N12*P12),0)","v":0},0,null,0,{"$f":"IFERROR(VLOOKUP(T12,有效性!$D$2:$E$674,2,0),0)","v":0},0,0,{"$f":"IF($O$2<YEAR(I12),0,IF($O$2=YEAR(I12),MAX($Q$2-MONTH(I12)+1,0),IF($O$2>YEAR(I12)+AC12,0,IF($O$2=YEAR(I12)+AC12,MIN(MONTH($I12)-1,$Q$2),$Q$2))))","v":0},{"$f":"IF(ISNUMBER(FIND(\"摊销年限差异\",U12)),IF(YEAR(I12)+AC12=$O$2,AI12,AE12*AF12),0)","v":0},0,null,0,0,null,0,0,0,0]
[10,null,null,null,null,null,null,null,null,null,null,null,0,{"$error":"#DIV/0!"},{"$error":"#DIV/0!"},{"$f":"IF($O$2<YEAR(I13),0,IF($O$2=YEAR(I13),MAX($Q$2-MONTH(I13)+1,0),IF($O$2>YEAR(I13)+J13,0,IF($O$2=YEAR(I13)+J13,MIN(MONTH($I13)-1,$Q$2),$Q$2))))","v":0},{"$error":"#DIV/0!"},{"$f":"IF(ABS(M13-Q13)<=$S$2,0,M13-Q13)","v":{"$error":"#DIV/0!"}},null,null,null,null,null,0,{"$f":"IF(ISNUMBER(FIND(\"计税基础差异\",U13)),IF(YEAR(I13)+J13=$O$2,M13-((F13-W13)*(1-H13)-AA13),W13*N13*P13),0)","v":0},0,null,0,{"$f":"IFERROR(VLOOKUP(T13,有效性!$D$2:$E$674,2,0),0)","v":0},0,0,{"$f":"IF($O$2<YEAR(I13),0,IF($O$2=YEAR(I13),MAX($Q$2-MONTH(I13)+1,0),IF($O$2>YEAR(I13)+AC13,0,IF($O$2=YEAR(I13)+AC13,MIN(MONTH($I13)-1,$Q$2),$Q$2))))","v":0},{"$f":"IF(ISNUMBER(FIND(\"摊销年限差异\",U13)),IF(YEAR(I13)+AC13=$O$2,AI13,AE13*AF13),0)","v":0},0,null,0,0,null,0,0,0,0]
[11,null,null,null,null,null,null,null,null,null,null,null,0,{"$error":"#DIV/0!"},{"$error":"#DIV/0!"},{"$f":"IF($O$2<YEAR(I14),0,IF($O$2=YEAR(I14),MAX($Q$2-MONTH(I14)+1,0),IF($O$2>YEAR(I14)+J14,0,IF($O$2=YEAR(I14)+J14,MIN(MONTH($I14)-1,$Q$2),$Q$2))))","v":0},{"$error":"#DIV/0!"},{"$f":"IF(ABS(M14-Q14)<=$S$2,0,M14-Q14)","v":{"$error":"#DIV/0!"}},null,null,null,null,null,0,{"$f":"IF(ISNUMBER(FIND(\"计税基础差异\",U14)),IF(YEAR(I14)+J14=$O$2,M14-((F14-W14)*(1-H14)-AA14),W14*N14*P14),0)","v":0},0,null,0,{"$f":"IFERROR(VLOOKUP(T14,有效性!$D$2:$E$674,2,0),0)","v":0},0,0,{"$f":"IF($O$2<YEAR(I14),0,IF($O$2=YEAR(I14),MAX($Q$2-MONTH(I14)+1,0),IF($O$2>YEAR(I14)+AC14,0,IF($O$2=YEAR(I14)+AC14,MIN(MONTH($I14)-1,$Q$2),$Q$2))))","v":0},{"$f":"IF(ISNUMBER(FIND(\"摊销年限差异\",U14)),IF(YEAR(I14)+AC14=$O$2,AI14,AE14*AF14),0)","v":0},0,null,0,0,null,0,0,0,0]
[{"$f":"ROW()-3","v":12},null,null,null,null,null,null,null,null,null,null,null,0,{"$error":"#DIV/0!"},{"$error":"#DIV/0!"},{"$f":"IF($O$2<YEAR(I15),0,IF($O$2=YEAR(I15),MAX($Q$2-MONTH(I15)+1,0),IF($O$2>YEAR(I15)+J15,0,IF($O$2=YEAR(I15)+J15,MIN(MONTH($I15)-1,$Q$2),$Q$2))))","v":0},{"$error":"#DIV/0!"},{"$f":"IF(ABS(M15-Q15)<=$S$2,0,M15-Q15)","v":{"$error":"#DIV/0!"}},null,null,null,null,null,0,{"$f":"IF(ISNUMBER(FIND(\"计税基础差异\",U15)),IF(YEAR(I15)+J15=$O$2,M15-((F15-W15)*(1-H15)-AA15),W15*N15*P15),0)","v":0},0,null,0,{"$f":"IFERROR(VLOOKUP(T15,有效性!$D$2:$E$674,2,0),0)","v":0},0,0,{"$f":"IF($O$2<YEAR(I15),0,IF($O$2=YEAR(I15),MAX($Q$2-MONTH(I15)+1,0),IF($O$2>YEAR(I15)+AC15,0,IF($O$2=YEAR(I15)+AC15,MIN(MONTH($I15)-1,$Q$2),$Q$2))))","v":0},{"$f":"IF(ISNUMBER(FIND(\"摊销年限差异\",U15)),IF(YEAR(I15)+AC15=$O$2,AI15,AE15*AF15),0)","v":0},0,null,0,0,null,0,0,0,0]
[13,null,null,null,null,null,null,null,null,null,null,null,0,{"$error":"#DIV/0!"},{"$error":"#DIV/0!"},{"$f":"IF($O$2<YEAR(I16),0,IF($O$2=YEAR(I16),MAX($Q$2-MONTH(I16)+1,0),IF($O$2>YEAR(I16)+J16,0,IF($O$2=YEAR(I16)+J16,MIN(MONTH($I16)-1,$Q$2),$Q$2))))","v":0},{"$error":"#DIV/0!"},{"$f":"IF(ABS(M16-Q16)<=$S$2,0,M16-Q16)","v":{"$error":"#DIV/0!"}},null,null,null,null,null,0,{"$f":"IF(ISNUMBER(FIND(\"计税基础差异\",U16)),IF(YEAR(I16)+J16=$O$2,M16-((F16-W16)*(1-H16)-AA16),W16*N16*P16),0)","v":0},0,null,0,{"$f":"IFERROR(VLOOKUP(T16,有效性!$D$2:$E$674,2,0),0)","v":0},0,0,{"$f":"IF($O$2<YEAR(I16),0,IF($O$2=YEAR(I16),MAX($Q$2-MONTH(I16)+1,0),IF($O$2>YEAR(I16)+AC16,0,IF($O$2=YEAR(I16)+AC16,MIN(MONTH($I16)-1,$Q$2),$Q$2))))","v":0},{"$f":"IF(ISNUMBER(FIND(\"摊销年限差异\",U16)),IF(YEAR(I16)+AC16=$O$2,AI16,AE16*AF16),0)","v":0},0,null,0,0,null,0,0,0,0]
[14,null,null,null,null,null,null,null,null,null,null,null,0,{"$error":"#DIV/0!"},{"$error":"#DIV/0!"},{"$f":"IF($O$2<YEAR(I17),0,IF($O$2=YEAR(I17),MAX($Q$2-MONTH(I17)+1,0),IF($O$2>YEAR(I17)+J17,0,IF($O$2=YEAR(I17)+J17,MIN(MONTH($I17)-1,$Q$2),$Q$2))))","v":0},{"$error":"#DIV/0!"},{"$f":"IF(ABS(M17-Q17)<=$S$2,0,M17-Q17)","v":{"$error":"#DIV/0!"}},null,null,null,null,null,0,{"$f":"IF(ISNUMBER(FIND(\"计税基础差异\",U17)),IF(YEAR(I17)+J17=$O$2,M17-((F17-W17)*(1-H17)-AA17),W17*N17*P17),0)","v":0},0,null,0,{"$f":"IFERROR(VLOOKUP(T17,有效性!$D$2:$E$674,2,0),0)","v":0},0,0,{"$f":"IF($O$2<YEAR(I17),0,IF($O$2=YEAR(I17),MAX($Q$2-MONTH(I17)+1,0),IF($O$2>YEAR(I17)+AC17,0,IF($O$2=YEAR(I17)+AC17,MIN(MONTH($I17)-1,$Q$2),$Q$2))))","v":0},{"$f":"IF(ISNUMBER(FIND(\"摊销年限差异\",U17)),IF(YEAR(I17)+AC17=$O$2,AI17,AE17*AF17),0)","v":0},0,null,0,0,null,0,0,0,0]
[15,null,null,null,null,null,null,null,null,null,null,null,0,{"$error":"#DIV/0!"},{"$error":"#DIV/0!"},{"$f":"IF($O$2<YEAR(I18),0,IF($O$2=YEAR(I18),MAX($Q$2-MONTH(I18)+1,0),IF($O$2>YEAR(I18)+J18,0,IF($O$2=YEAR(I18)+J18,MIN(MONTH($I18)-1,$Q$2),$Q$2))))","v":0},{"$error":"#DIV/0!"},{"$f":"IF(ABS(M18-Q18)<=$S$2,0,M18-Q18)","v":{"$error":"#DIV/0!"}},null,null,null,null,null,0,{"$f":"IF(ISNUMBER(FIND(\"计税基础差异\",U18)),IF(YEAR(I18)+J18=$O$2,M18-((F18-W18)*(1-H18)-AA18),W18*N18*P18),0)","v":0},0,null,0,{"$f":"IFERROR(VLOOKUP(T18,有效性!$D$2:$E$674,2,0),0)","v":0},0,0,{"$f":"IF($O$2<YEAR(I18),0,IF($O$2=YEAR(I18),MAX($Q$2-MONTH(I18)+1,0),IF($O$2>YEAR(I18)+AC18,0,IF($O$2=YEAR(I18)+AC18,MIN(MONTH($I18)-1,$Q$2),$Q$2))))","v":0},{"$f":"IF(ISNUMBER(FIND(\"摊销年限差异\",U18)),IF(YEAR(I18)+AC18=$O$2,AI18,AE18*AF18),0)","v":0},0,null,0,0,null,0,0,0,0]
[16,null,null,null,null,null,null,null,null,null,null,null,0,{"$error":"#DIV/0!"},{"$error":"#DIV/0!"},{"$f":"IF($O$2<YEAR(I19),0,IF($O$2=YEAR(I19),MAX($Q$2-MONTH(I19)+1,0),IF($O$2>YEAR(I19)+J19,0,IF($O$2=YEAR(I19)+J19,MIN(MONTH($I19)-1,$Q$2),$Q$2))))","v":0},{"$error":"#DIV/0!"},{"$f":"IF(ABS(M19-Q19)<=$S$2,0,M19-Q19)","v":{"$error":"#DIV/0!"}},null,null,null,null,null,0,{"$f":"IF(ISNUMBER(FIND(\"计税基础差异\",U19)),IF(YEAR(I19)+J19=$O$2,M19-((F19-W19)*(1-H19)-AA19),W19*N19*P19),0)","v":0},0,null,0,{"$f":"IFERROR(VLOOKUP(T19,有效性!$D$2:$E$674,2,0),0)","v":0},0,0,{"$f":"IF($O$2<YEAR(I19),0,IF($O$2=YEAR(I19),MAX($Q$2-MONTH(I19)+1,0),IF($O$2>YEAR(I19)+AC19,0,IF($O$2=YEAR(I19)+AC19,MIN(MONTH($I19)-1,$Q$2),$Q$2))))","v":0},{"$f":"IF(ISNUMBER(FIND(\"摊销年限差异\",U19)),IF(YEAR(I19)+AC19=$O$2,AI19,AE19*AF19),0)","v":0},0,null,0,0,null,0,0,0,0]
[17,null,null,null,null,null,null,null,null,null,null,null,0,{"$error":"#DIV/0!"},{"$error":"#DIV/0!"},{"$f":"IF($O$2<YEAR(I20),0,IF($O$2=YEAR(I20),MAX($Q$2-MONTH(I20)+1,0),IF($O$2>YEAR(I20)+J20,0,IF($O$2=YEAR(I20)+J20,MIN(MONTH($I20)-1,$Q$2),$Q$2))))","v":0},{"$error":"#DIV/0!"},{"$f":"IF(ABS(M20-Q20)<=$S$2,0,M20-Q20)","v":{"$error":"#DIV/0!"}},null,null,null,null,null,0,{"$f":"IF(ISNUMBER(FIND(\"计税基础差异\",U20)),IF(YEAR(I20)+J20=$O$2,M20-((F20-W20)*(1-H20)-AA20),W20*N20*P20),0)","v":0},0,null,0,{"$f":"IFERROR(VLOOKUP(T20,有效性!$D$2:$E$674,2,0),0)","v":0},0,0,{"$f":"IF($O$2<YEAR(I20),0,IF($O$2=YEAR(I20),MAX($Q$2-MONTH(I20)+1,0),IF($O$2>YEAR(I20)+AC20,0,IF($O$2=YEAR(I20)+AC20,MIN(MONTH($I20)-1,$Q$2),$Q$2))))","v":0},{"$f":"IF(ISNUMBER(FIND(\"摊销年限差异\",U20)),IF(YEAR(I20)+AC20=$O$2,AI20,AE20*AF20),0)","v":0},0,null,0,0,null,0,0,0,0]
[18,null,null,null,null,null,null,null,null,null,null,null,0,{"$error":"#DIV/0!"},{"$error":"#DIV/0!"},{"$f":"IF($O$2<YEAR(I21),0,IF($O$2=YEAR(I21),MAX($Q$2-MONTH(I21)+1,0),IF($O$2>YEAR(I21)+J21,0,IF($O$2=YEAR(I21)+J21,MIN(MONTH($I21)-1,$Q$2),$Q$2))))","v":0},{"$error":"#DIV/0!"},{"$f":"IF(ABS(M21-Q21)<=$S$2,0,M21-Q21)","v":{"$error":"#DIV/0!"}},null,null,null,null,null,0,{"$f":"IF(ISNUMBER(FIND(\"计税基础差异\",U21)),IF(YEAR(I21)+J21=$O$2,M21-((F21-W21)*(1-H21)-AA21),W21*N21*P21),0)","v":0},0,null,0,{"$f":"IFERROR(VLOOKUP(T21,有效性!$D$2:$E$674,2,0),0)","v":0},0,0,{"$f":"IF($O$2<YEAR(I21),0,IF($O$2=YEAR(I21),MAX($Q$2-MONTH(I21)+1,0),IF($O$2>YEAR(I21)+AC21,0,IF($O$2=YEAR(I21)+AC21,MIN(MONTH($I21)-1,$Q$2),$Q$2))))","v":0},{"$f":"IF(ISNUMBER(FIND(\"摊销年限差异\",U21)),IF(YEAR(I21)+AC21=$O$2,AI21,AE21*AF21),0)","v":0},0,null,0,0,null,0,0,0,0]
[19,null,null,null,null,null,null,null,null,null,null,null,0,{"$error":"#DIV/0!"},{"$error":"#DIV/0!"},{"$f":"IF($O$2<YEAR(I22),0,IF($O$2=YEAR(I22),MAX($Q$2-MONTH(I22)+1,0),IF($O$2>YEAR(I22)+J22,0,IF($O$2=YEAR(I22)+J22,MIN(MONTH($I22)-1,$Q$2),$Q$2))))","v":0},{"$error":"#DIV/0!"},{"$f":"IF(ABS(M22-Q22)<=$S$2,0,M22-Q22)","v":{"$error":"#DIV/0!"}},null,null,null,null,null,0,{"$f":"IF(ISNUMBER(FIND(\"计税基础差异\",U22)),IF(YEAR(I22)+J22=$O$2,M22-((F22-W22)*(1-H22)-AA22),W22*N22*P22),0)","v":0},0,null,0,{"$f":"IFERROR(VLOOKUP(T22,有效性!$D$2:$E$674,2,0),0)","v":0},0,0,{"$f":"IF($O$2<YEAR(I22),0,IF($O$2=YEAR(I22),MAX($Q$2-MONTH(I22)+1,0),IF($O$2>YEAR(I22)+AC22,0,IF($O$2=YEAR(I22)+AC22,MIN(MONTH($I22)-1,$Q$2),$Q$2))))","v":0},{"$f":"IF(ISNUMBER(FIND(\"摊销年限差异\",U22)),IF(YEAR(I22)+AC22=$O$2,AI22,AE22*AF22),0)","v":0},0,null,0,0,null,0,0,0,0]
[20,null,null,null,null,null,null,null,null,null,null,null,0,{"$error":"#DIV/0!"},{"$error":"#DIV/0!"},{"$f":"IF($O$2<YEAR(I23),0,IF($O$2=YEAR(I23),MAX($Q$2-MONTH(I23)+1,0),IF($O$2>YEAR(I23)+J23,0,IF($O$2=YEAR(I23)+J23,MIN(MONTH($I23)-1,$Q$2),$Q$2))))","v":0},{"$error":"#DIV/0!"},{"$f":"IF(ABS(M23-Q23)<=$S$2,0,M23-Q23)","v":{"$error":"#DIV/0!"}},null,null,null,null,null,0,{"$f":"IF(ISNUMBER(FIND(\"计税基础差异\",U23)),IF(YEAR(I23)+J23=$O$2,M23-((F23-W23)*(1-H23)-AA23),W23*N23*P23),0)","v":0},0,null,0,{"$f":"IFERROR(VLOOKUP(T23,有效性!$D$2:$E$674,2,0),0)","v":0},0,0,{"$f":"IF($O$2<YEAR(I23),0,IF($O$2=YEAR(I23),MAX($Q$2-MONTH(I23)+1,0),IF($O$2>YEAR(I23)+AC23,0,IF($O$2=YEAR(I23)+AC23,MIN(MONTH($I23)-1,$Q$2),$Q$2))))","v":0},{"$f":"IF(ISNUMBER(FIND(\"摊销年限差异\",U23)),IF(YEAR(I23)+AC23=$O$2,AI23,AE23*AF23),0)","v":0},0,null,0,0,null,0,0,0,0]
[21,null,null,null,null,null,null,null,null,null,null,null,0,{"$error":"#DIV/0!"},{"$error":"#DIV/0!"},{"$f":"IF($O$2<YEAR(I24),0,IF($O$2=YEAR(I24),MAX($Q$2-MONTH(I24)+1,0),IF($O$2>YEAR(I24)+J24,0,IF($O$2=YEAR(I24)+J24,MIN(MONTH($I24)-1,$Q$2),$Q$2))))","v":0},{"$error":"#DIV/0!"},{"$f":"IF(ABS(M24-Q24)<=$S$2,0,M24-Q24)","v":{"$error":"#DIV/0!"}},null,null,null,null,null,0,{"$f":"IF(ISNUMBER(FIND(\"计税基础差异\",U24)),IF(YEAR(I24)+J24=$O$2,M24-((F24-W24)*(1-H24)-AA24),W24*N24*P24),0)","v":0},0,null,0,{"$f":"IFERROR(VLOOKUP(T24,有效性!$D$2:$E$674,2,0),0)","v":0},0,0,{"$f":"IF($O$2<YEAR(I24),0,IF($O$2=YEAR(I24),MAX($Q$2-MONTH(I24)+1,0),IF($O$2>YEAR(I24)+AC24,0,IF($O$2=YEAR(I24)+AC24,MIN(MONTH($I24)-1,$Q$2),$Q$2))))","v":0},{"$f":"IF(ISNUMBER(FIND(\"摊销年限差异\",U24)),IF(YEAR(I24)+AC24=$O$2,AI24,AE24*AF24),0)","v":0},0,null,0,0,null,0,0,0,0]
[22,null,null,null,null,null,null,null,null,null,null,null,0,{"$error":"#DIV/0!"},{"$error":"#DIV/0!"},{"$f":"IF($O$2<YEAR(I25),0,IF($O$2=YEAR(I25),MAX($Q$2-MONTH(I25)+1,0),IF($O$2>YEAR(I25)+J25,0,IF($O$2=YEAR(I25)+J25,MIN(MONTH($I25)-1,$Q$2),$Q$2))))","v":0},{"$error":"#DIV/0!"},{"$f":"IF(ABS(M25-Q25)<=$S$2,0,M25-Q25)","v":{"$error":"#DIV/0!"}},null,null,null,null,null,0,{"$f":"IF(ISNUMBER(FIND(\"计税基础差异\",U25)),IF(YEAR(I25)+J25=$O$2,M25-((F25-W25)*(1-H25)-AA25),W25*N25*P25),0)","v":0},0,null,0,{"$f":"IFERROR(VLOOKUP(T25,有效性!$D$2:$E$674,2,0),0)","v":0},0,0,{"$f":"IF($O$2<YEAR(I25),0,IF($O$2=YEAR(I25),MAX($Q$2-MONTH(I25)+1,0),IF($O$2>YEAR(I25)+AC25,0,IF($O$2=YEAR(I25)+AC25,MIN(MONTH($I25)-1,$Q$2),$Q$2))))","v":0},{"$f":"IF(ISNUMBER(FIND(\"摊销年限差异\",U25)),IF(YEAR(I25)+AC25=$O$2,AI25,AE25*AF25),0)","v":0},0,null,0,0,null,0,0,0,0]
[23,null,null,null,null,null,null,null,null,null,null,null,0,{"$error":"#DIV/0!"},{"$error":"#DIV/0!"},{"$f":"IF($O$2<YEAR(I26),0,IF($O$2=YEAR(I26),MAX($Q$2-MONTH(I26)+1,0),IF($O$2>YEAR(I26)+J26,0,IF($O$2=YEAR(I26)+J26,MIN(MONTH($I26)-1,$Q$2),$Q$2))))","v":0},{"$error":"#DIV/0!"},{"$f":"IF(ABS(M26-Q26)<=$S$2,0,M26-Q26)","v":{"$error":"#DIV/0!"}},null,null,null,null,null,0,{"$f":"IF(ISNUMBER(FIND(\"计税基础差异\",U26)),IF(YEAR(I26)+J26=$O$2,M26-((F26-W26)*(1-H26)-AA26),W26*N26*P26),0)","v":0},0,null,0,{"$f":"IFERROR(VLOOKUP(T26,有效性!$D$2:$E$674,2,0),0)","v":0},0,0,{"$f":"IF($O$2<YEAR(I26),0,IF($O$2=YEAR(I26),MAX($Q$2-MONTH(I26)+1,0),IF($O$2>YEAR(I26)+AC26,0,IF($O$2=YEAR(I26)+AC26,MIN(MONTH($I26)-1,$Q$2),$Q$2))))","v":0},{"$f":"IF(ISNUMBER(FIND(\"摊销年限差异\",U26)),IF(YEAR(I26)+AC26=$O$2,AI26,AE26*AF26),0)","v":0},0,null,0,0,null,0,0,0,0]
[24,null,null,null,null,null,null,null,null,null,null,null,0,{"$error":"#DIV/0!"},{"$error":"#DIV/0!"},{"$f":"IF($O$2<YEAR(I27),0,IF($O$2=YEAR(I27),MAX($Q$2-MONTH(I27)+1,0),IF($O$2>YEAR(I27)+J27,0,IF($O$2=YEAR(I27)+J27,MIN(MONTH($I27)-1,$Q$2),$Q$2))))","v":0},{"$error":"#DIV/0!"},{"$f":"IF(ABS(M27-Q27)<=$S$2,0,M27-Q27)","v":{"$error":"#DIV/0!"}},null,null,null,null,null,0,{"$f":"IF(ISNUMBER(FIND(\"计税基础差异\",U27)),IF(YEAR(I27)+J27=$O$2,M27-((F27-W27)*(1-H27)-AA27),W27*N27*P27),0)","v":0},0,null,0,{"$f":"IFERROR(VLOOKUP(T27,有效性!$D$2:$E$674,2,0),0)","v":0},0,0,{"$f":"IF($O$2<YEAR(I27),0,IF($O$2=YEAR(I27),MAX($Q$2-MONTH(I27)+1,0),IF($O$2>YEAR(I27)+AC27,0,IF($O$2=YEAR(I27)+AC27,MIN(MONTH($I27)-1,$Q$2),$Q$2))))","v":0},{"$f":"IF(ISNUMBER(FIND(\"摊销年限差异\",U27)),IF(YEAR(I27)+AC27=$O$2,AI27,AE27*AF27),0)","v":0},0,null,0,0,null,0,0,0,0]

{"sheet":"使用权资产审核明细表","index":23,"n_rows":13,"n_cols":45,"rows_kept":13,"cut":false,"hidden":true,"merged":[[0,0,0,19],[0,20,0,36],[0,38,0,44],[1,20,1,22],[1,23,1,30],[1,31,1,33],[1,34,2,34],[1,35,2,35],[1,36,2,36],[0,37,2,37]]}
["税务审核",null,null,null,null,null,null,null,null,null,null,null,null,null,null,null,null,null,null,null,"税务审核",null,null,null,null,null,null,null,null,null,null,null,null,null,null,null,null,"备注","自选填列"]
[null,null,null,null,null,null,null,null,null,"上年末",{"$f":"DATE(YEAR(M2)-1,12,31)","v":"2021-12-31"},"本期末","2022-12-31",null,null,null,null,null,null,null,"审核分类",null,null,"计税基础差异",null,null,null,null,null,null,null,"不得扣除折旧资产",null,null,"福利性资产折旧","本期调整合计","累计调整合计"]
["序号","核算单位","资产编码","资产名称","资产类别","资产原值","资产减值","净残值率","使用权资产租赁开始日","使用权资产租赁结束日","租赁月数","本期租赁月数","年初累计折旧","期末累计折旧","本期折旧","本期折旧测算","折旧差异","年初未确认融资费用","年末未确认融资费用摊销","本期未确认融资费用摊销","使用权资产税法类别","使用权资产","是否为福利性资产","租赁合同总付款额","计税基础","计税基础差异","本期租赁月数","本期税法折旧","本期纳税调整金额","年初累计调整金额","年末累计调整金额","本期纳税调整金额","年初累计调整金额","期末累计调整金额",null,null,null,null,"年","月","日","凭证号","摘    要","借方科目","贷方科目"]
[{"$f":"ROW()-3","v":1},null,null,null,null,null,null,null,null,null,{"$f":"DATEDIF(I4,J4,\"m\")+1","v":1},{"$f":"IF(I4=\"\",0,MIN(MAX((YEAR($M$2)-YEAR(I4))*12+(MONTH($M$2)-MONTH(I4))+1,0),K4)-MIN(MAX((YEAR($K$2)-YEAR(I4))*12+(MONTH($K$2)-MONTH(I4))+1,0),K4))","v":0},null,null,{"$f":"N4-M4","v":0},{"$f":"F4*(1-H4)/K4*L4","v":0},{"$f":"O4-P4","v":0},null,null,{"$f":"R4-S4","v":0},null,null,null,null,0,{"$f":"F4-Y4","v":0},{"$f":"L4","v":0},{"$f":"Y4/K4*AA4","v":0},{"$f":"O4+T4-AB4","v":0},null,{"$f":"AC4+AD4","v":0},{"$f":"IFERROR(IF(ISNUMBER(FIND(\"不得扣除折旧资产\",V4)),(O4+T4),0),0)","v":0},null,{"$f":"AF4+AG4","v":0},{"$f":"IF(W4=\"是\",AB4,0)","v":0},{"$f":"AC4+AF4","v":0},{"$f":"AE4+AH4","v":0}]
[{"$f":"ROW()-3","v":2},null,null,null,null,null,null,null,null,null,{"$f":"DATEDIF(I5,J5,\"m\")+1","v":1},{"$f":"IF(I5=\"\",0,MIN(MAX((YEAR($M$2)-YEAR(I5))*12+(MONTH($M$2)-MONTH(I5))+1,0),K5)-MIN(MAX((YEAR($K$2)-YEAR(I5))*12+(MONTH($K$2)-MONTH(I5))+1,0),K5))","v":0},null,null,{"$f":"N5-M5","v":0},{"$f":"F5*(1-H5)/K5*L5","v":0},{"$f":"O5-P5","v":0},null,null,{"$f":"R5-S5","v":0},null,null,null,null,0,{"$f":"F5-Y5","v":0},{"$f":"L5","v":0},0,{"$f":"O5+T5-AB5","v":0},null,0,{"$f":"IFERROR(IF(ISNUMBER(FIND(\"不得扣除折旧资产\",V5)),(O5+T5),0),0)","v":0},null,{"$f":"AF5+AG5","v":0},{"$f":"IF(W5=\"是\",AB5,0)","v":0},{"$f":"AC5+AF5","v":0},{"$f":"AE5+AH5","v":0}]
[3,null,null,null,null,null,null,null,null,null,1,0,null,null,0,0,0,null,null,0,null,null,null,null,0,0,0,0,0,null,0,0,null,0,0,0,0]
[4,null,null,null,null,null,null,null,null,null,1,0,null,null,0,0,0,null,null,0,null,null,null,null,0,0,0,0,0,null,0,0,null,0,0,0,0]
[5,null,null,null,null,null,null,null,null,null,1,0,null,null,0,0,0,null,null,0,null,null,null,null,null,0,0,0,0,null,0,0,null,0,0,0,0]
[6,null,null,null,null,null,null,null,null,null,1,0,null,null,0,0,0,null,null,0,null,null,null,null,null,0,0,0,0,null,0,0,null,0,0,0,0]
[7,null,null,null,null,null,null,null,null,null,1,0,null,null,0,0,0,null,null,0,null,null,null,null,null,0,0,0,0,null,0,0,null,0,0,0,0]
[8,null,null,null,null,null,null,null,null,null,1,0,null,null,0,0,0,null,null,0,null,null,null,null,null,0,0,0,0,null,0,0,null,0,0,0,0]
[9,null,null,null,null,null,null,null,null,null,1,0,null,null,0,0,0,null,null,0,null,null,null,null,null,0,0,0,0,null,0,0,null,0,0,0,0]
[10,null,null,null,null,null,null,null,null,null,1,0,null,null,0,0,0,null,null,0,null,null,null,null,null,0,0,0,0,null,0,0,null,0,0,0,0]

{"sheet":"资产信息变动单卡片折旧测算分析表","index":24,"n_rows":16,"n_cols":12,"rows_kept":16,"cut":false,"hidden":true,"merged":[[0,0,0,11]]}
["资产信息变动单卡片折旧测算分析表"]
["资产编号",null,"资产名称",null,"资产类别",null,"资产原值",null,"折旧年限",null,"残值率"]
["次数","日期","变更内容","变更金额","变更后原值","变更后残值率","变更后折旧年限","变更后减值","折旧期数","月折旧额","本阶段折旧","累计折旧"]
["首次入账",null,null,null,{"$f":"H2","v":0},{"$f":"L2","v":0},{"$f":"J2","v":0},0,{"$f":"IF(B4=\"\",\"\",IF(B5=\"\",DATEDIF(B4,$C$15,\"m\")+1,DATEDIF(B4,B5,\"m\")+1))","v":""},{"$f":"IF(B4=\"\",\"\",E4*(1-F4)/G4/12)","v":""},{"$f":"I4*J4","v":{"$error":"#VALUE!"}},{"$f":"K4","v":{"$error":"#VALUE!"}}]
["第1次",null,null,null,{"$f":"IF(B5=\"\",\"\",IF(C5=\"原值\",E4+D5,E4))","v":""},{"$f":"F4","v":0},{"$f":"IF(B5=\"\",\"\",IF(E5=\"折旧年限\",G4+D5,G4))","v":""},{"$f":"IF(B5=\"\",\"\",IF(C5=\"计提减值准备\",H4+D5,H4))","v":""},{"$f":"IF(B5=\"\",\"\",IF(B6=\"\",DATEDIF(B5,$C$15,\"m\")+1,DATEDIF(B5,B6,\"m\")+1))","v":""},{"$f":"IF(B5=\"\",\"\",(E5*(1-F5)-H5-L4)/(G5*12-SUM($I$4:I4)))","v":""},{"$f":"IF(B5=\"\",\"\",I5*J5)","v":""},{"$f":"IF(B5=\"\",\"\",K5+L4)","v":""}]
["第2次",null,null,null,{"$f":"IF(B6=\"\",\"\",IF(C6=\"原值\",E5+D6,E5))","v":""},{"$f":"F5","v":0},{"$f":"IF(B6=\"\",\"\",IF(E6=\"折旧年限\",G5+D6,G5))","v":""},{"$f":"IF(B6=\"\",\"\",IF(C6=\"计提减值准备\",H5+D6,H5))","v":""},"",{"$f":"IF(B6=\"\",\"\",(E6*(1-F6)-H6-L5)/(G6*12-SUM($I$4:I5)))","v":""},{"$f":"IF(B6=\"\",\"\",I6*J6)","v":""},{"$f":"IF(B6=\"\",\"\",K6+L5)","v":""}]
["第3次",null,null,null,"",0,"","","",{"$f":"IF(B7=\"\",\"\",(E7*(1-F7)-H7-L6)/(G7*12-SUM($I$4:I6)))","v":""},"",""]
["第4次",null,null,null,"",0,"","","",{"$f":"IF(B8=\"\",\"\",(E8*(1-F8)-H8-L7)/(G8*12-SUM($I$4:I7)))","v":""},"",""]
["第5次",null,null,null,"",0,"","","",{"$f":"IF(B9=\"\",\"\",(E9*(1-F9)-H9-L8)/(G9*12-SUM($I$4:I8)))","v":""},"",""]
["第6次",null,null,null,"",0,"","","",{"$f":"IF(B10=\"\",\"\",(E10*(1-F10)-H10-L9)/(G10*12-SUM($I$4:I9)))","v":""},"",""]
["第7次",null,null,null,"",0,"","","",{"$f":"IF(B11=\"\",\"\",(E11*(1-F11)-H11-L10)/(G11*12-SUM($I$4:I10)))","v":""},"",""]
["第8次",null,null,null,"",0,"","","",{"$f":"IF(B12=\"\",\"\",(E12*(1-F12)-H12-L11)/(G12*12-SUM($I$4:I11)))","v":""},"",""]
["第9次",null,null,null,"",0,"","","",{"$f":"IF(B13=\"\",\"\",(E13*(1-F13)-H13-L12)/(G13*12-SUM($I$4:I12)))","v":""},"",""]
["第10次",null,null,null,"",0,"","","",{"$f":"IF(B14=\"\",\"\",(E14*(1-F14)-H14-L13)/(G14*12-SUM($I$4:I13)))","v":""},"",""]
["测算日",null,"2021-12-31",null,null,null,null,null,{"$f":"SUM(I4:I14)","v":0}]
["注意:折旧期数列合计应小于等于最后一次变更后折旧年限乘以12。"]